{"text_format":"1","workbook":"xlsx","n_sheets":6,"sheets":["HELP","Holdings","FUND CLOSURE","Market Closure","Close for Dealingsettlement","HOLIDAYS NF"],"not_rendered":{"charts":0,"images":2,"macros":1,"external_links":1,"defined_names":3,"comments":1,"pivot_tables":0},"unopened":[],"bounds":{"document_bytes":16777216,"sheet_cells":100000,"rows_first":2000,"rows_last":500,"rows_between":2000,"halvings":0,"cell_chars":16384,"cell_head_chars":4096},"cells_cut":0,"cells_raw":0,"read":"whole","date_system":"1900"}

{"sheet":"HELP","index":0,"n_rows":9,"n_cols":2,"rows_kept":9,"cut":false,"hidden":false,"merged":[[0,0,0,1],[2,0,2,1]]}
["MACRO HELP TAB"]
["Development Team","GS EMEA Ireland - FA Dublin "]
[]
["Macro Name\n(The name of the macro)","DB_x-trackers_Dealing_Calendar_2015"]
["Completed\n(Date Completed)","2018-05-02T11:08:54"]
["Version\n(Macro Version)",1]
["Description\nDescription of the Macro and its purpose","Quarterly Dealing Calendar- Client DB"]
["Setup steps\n(Setup requirements / prerequisites (ideally listed as easy to follow steps))"]
["Run steps\n(Steps required to run the macro)","Job Aid Available"]

{"sheet":"Holdings","index":1,"n_rows":19400,"n_cols":8,"rows_kept":4500,"cut":true,"hidden":false,"merged":[],"bounds":{"rows_first":2000,"rows_last":500,"rows_between":2000,"halvings":0}}
["Fund ","DLAD","Trade Country Code","Incorporated Country Code","Base Market Value","CNTY- TRD","Fund Country","Base Market Value %"]
["ICEC",null,"US",null,100,{"$f":"IF($C2=\"XU\",$D2,$C2)","v":"US"},{"$f":"CONCATENATE(A2,\"-\",F2)","v":"ICEC-US"},{"$f":"$E2/SUMIF(A:A,A2,E:E)","v":0.16666666666666666}]
["ICEC",null,"SG",null,100,"SG","ICEC-SG",0.16666666666666666]
["ICEC",null,"CN",null,100,"CN","ICEC-CN",0.16666666666666666]
["ICEC",null,"GB",null,100,"GB","ICEC-GB",0.16666666666666666]
["ICEC",null,"LU",null,100,"LU","ICEC-LU",0.16666666666666666]
["ICEC",null,"HK",null,100,"HK","ICEC-HK",0.16666666666666666]
[null,null,null,null,null,0,"-0",{"$error":"#DIV/0!"}]
[null,null,null,null,null,0,"-0",{"$error":"#DIV/0!"}]
[null,null,null,null,null,0,"-0",{"$error":"#DIV/0!"}]
[null,null,null,null,null,0,"-0",{"$error":"#DIV/0!"}]
[null,null,null,null,null,0,"-0",{"$error":"#DIV/0!"}]
[null,null,null,null,null,0,"-0",{"$error":"#DIV/0!"}]
[null,null,null,null,null,0,"-0",{"$error":"#DIV/0!"}]
[null,null,null,null,null,0,"-0",{"$error":"#DIV/0!"}]
[null,null,null,null,null,0,"-0",{"$error":"#DIV/0!"}]
[null,null,null,null,null,0,"-0",{"$error":"#DIV/0!"}]
[null,null,null,null,null,0,"-0",{"$error":"#DIV/0!"}]
[null,null,null,null,null,0,"-0",{"$error":"#DIV/0!"}]
[null,null,null,null,null,0,"-0",{"$error":"#DIV/0!"}]
[null,null,null,null,null,0,"-0",{"$error":"#DIV/0!"}]
[null,null,null,null,null,0,"-0",{"$error":"#DIV/0!"}]
[null,null,null,null,null,0,"-0",{"$error":"#DIV/0!"}]
[null,null,null,null,null,0,"-0",{"$error":"#DIV/0!"}]
[null,null,null,null,null,0,"-0",{"$error":"#DIV/0!"}]
[null,null,null,null,null,0,"-0",{"$error":"#DIV/0!"}]
[null,null,null,null,null,0,"-0",{"$error":"#DIV/0!"}]
[null,null,null,null,null,0,"-0",{"$error":"#DIV/0!"}]
[null,null,null,null,null,0,"-0",{"$error":"#DIV/0!"}]
[null,null,null,null,null,0,"-0",{"$error":"#DIV/0!"}]
[null,null,null,null,null,0,"-0",{"$error":"#DIV/0!"}]
[null,null,null,null,null,0,"-0",{"$error":"#DIV/0!"}]
[null,null,null,null,null,0,"-0",{"$error":"#DIV/0!"}]
[null,null,null,null,null,0,"-0",{"$error":"#DIV/0!"}]
[null,null,null,null,null,0,"-0",{"$error":"#DIV/0!"}]
[null,null,null,null,null,0,"-0",{"$error":"#DIV/0!"}]
[null,null,null,null,null,0,"-0",{"$error":"#DIV/0!"}]
[null,null,null,null,null,0,"-0",{"$error":"#DIV/0!"}]
[null,null,null,null,null,0,"-0",{"$error":"#DIV/0!"}]
[null,null,null,null,null,0,"-0",{"$error":"#DIV/0!"}]
[null,null,null,null,null,0,"-0",{"$error":"#DIV/0!"}]
[null,null,null,null,null,0,"-0",{"$error":"#DIV/0!"}]
[null,null,null,null,null,0,"-0",{"$error":"#DIV/0!"}]
[null,null,null,null,null,0,"-0",{"$error":"#DIV/0!"}]
[null,null,null,null,null,0,"-0",{"$error":"#DIV/0!"}]
[null,null,null,null,null,0,"-0",{"$error":"#DIV/0!"}]
[null,null,null,null,null,0,"-0",{"$error":"#DIV/0!"}]
[null,null,null,null,null,0,"-0",{"$error":"#DIV/0!"}]
[null,null,null,null,null,0,"-0",{"$error":"#DIV/0!"}]
[null,null,null,null,null,0,"-0",{"$error":"#DIV/0!"}]
[null,null,null,null,null,0,"-0",{"$error":"#DIV/0!"}]
[null,null,null,null,null,0,"-0",{"$error":"#DIV/0!"}]
[null,null,null,null,null,0,"-0",{"$error":"#DIV/0!"}]
[null,null,null,null,null,0,"-0",{"$error":"#DIV/0!"}]
[null,null,null,null,null,0,"-0",{"$error":"#DIV/0!"}]
[null,null,null,null,null,0,"-0",{"$error":"#DIV/0!"}]
[null,null,null,null,null,0,"-0",{"$error":"#DIV/0!"}]
[null,null,null,null,null,0,"-0",{"$error":"#DIV/0!"}]
[null,null,null,null,null,0,"-0",{"$error":"#DIV/0!"}]
[null,null,null,null,null,0,"-0",{"$error":"#DIV/0!"}]
[null,null,null,null,null,0,"-0",{"$error":"#DIV/0!"}]
[null,null,null,null,null,0,"-0",{"$error":"#DIV/0!"}]
[null,null,null,null,null,0,"-0",{"$error":"#DIV/0!"}]
[null,null,null,null,null,0,"-0",{"$error":"#DIV/0!"}]
[null,null,null,null,null,0,"-0",{"$error":"#DIV/0!"}]
[null,null,null,null,null,{"$f":"IF($C66=\"XU\",$D66,$C66)","v":0},{"$f":"CONCATENATE(A66,\"-\",F66)","v":"-0"},{"$f":"$E66/SUMIF(A:A,A66,E:E)","v":{"$error":"#DIV/0!"}}]
[null,null,null,null,null,0,"-0",{"$error":"#DIV/0!"}]
[null,null,null,null,null,0,"-0",{"$error":"#DIV/0!"}]
[null,null,null,null,null,0,"-0",{"$error":"#DIV/0!"}]
[null,null,null,null,null,0,"-0",{"$error":"#DIV/0!"}]
[null,null,null,null,null,0,"-0",{"$error":"#DIV/0!"}]
[null,null,null,null,null,0,"-0",{"$error":"#DIV/0!"}]
[null,null,null,null,null,0,"-0",{"$error":"#DIV/0!"}]
[null,null,null,null,null,0,"-0",{"$error":"#DIV/0!"}]
[null,null,null,null,null,0,"-0",{"$error":"#DIV/0!"}]
[null,null,null,null,null,0,"-0",{"$error":"#DIV/0!"}]
[null,null,null,null,null,0,"-0",{"$error":"#DIV/0!"}]
[null,null,null,null,null,0,"-0",{"$error":"#DIV/0!"}]
[null,null,null,null,null,0,"-0",{"$error":"#DIV/0!"}]
[null,null,null,null,null,0,"-0",{"$error":"#DIV/0!"}]
[null,null,null,null,null,0,"-0",{"$error":"#DIV/0!"}]
[null,null,null,null,null,0,"-0",{"$error":"#DIV/0!"}]
[null,null,null,null,null,0,"-0",{"$error":"#DIV/0!"}]
[null,null,null,null,null,0,"-0",{"$error":"#DIV/0!"}]
[null,null,null,null,null,0,"-0",{"$error":"#DIV/0!"}]
[null,null,null,null,null,0,"-0",{"$error":"#DIV/0!"}]
[null,null,null,null,null,0,"-0",{"$error":"#DIV/0!"}]
[null,null,null,null,null,0,"-0",{"$error":"#DIV/0!"}]
[null,null,null,null,null,0,"-0",{"$error":"#DIV/0!"}]
[null,null,null,null,null,0,"-0",{"$error":"#DIV/0!"}]
[null,null,null,null,null,0,"-0",{"$error":"#DIV/0!"}]
[null,null,null,null,null,0,"-0",{"$error":"#DIV/0!"}]
[null,null,null,null,null,0,"-0",{"$error":"#DIV/0!"}]
[null,null,null,null,null,0,"-0",{"$error":"#DIV/0!"}]
[null,null,null,null,null,0,"-0",{"$error":"#DIV/0!"}]
[null,null,null,null,null,0,"-0",{"$error":"#DIV/0!"}]
[null,null,null,null,null,0,"-0",{"$error":"#DIV/0!"}]
[null,null,null,null,null,0,"-0",{"$error":"#DIV/0!"}]
[null,null,null,null,null,0,"-0",{"$error":"#DIV/0!"}]
[null,null,null,null,null,0,"-0",{"$error":"#DIV/0!"}]
[null,null,null,null,null,0,"-0",{"$error":"#DIV/0!"}]
[null,null,null,null,null,0,"-0",{"$error":"#DIV/0!"}]
[null,null,null,null,null,0,"-0",{"$error":"#DIV/0!"}]
[null,null,null,null,null,0,"-0",{"$error":"#DIV/0!"}]
[null,null,null,null,null,0,"-0",{"$error":"#DIV/0!"}]
[null,null,null,null,null,0,"-0",{"$error":"#DIV/0!"}]
[null,null,null,null,null,0,"-0",{"$error":"#DIV/0!"}]
[null,null,null,null,null,0,"-0",{"$error":"#DIV/0!"}]
[null,null,null,null,null,0,"-0",{"$error":"#DIV/0!"}]
[null,null,null,null,null,0,"-0",{"$error":"#DIV/0!"}]
[null,null,null,null,null,0,"-0",{"$error":"#DIV/0!"}]
[null,null,null,null,null,0,"-0",{"$error":"#DIV/0!"}]
[null,null,null,null,null,0,"-0",{"$error":"#DIV/0!"}]
[null,null,null,null,null,0,"-0",{"$error":"#DIV/0!"}]
[null,null,null,null,null,0,"-0",{"$error":"#DIV/0!"}]
[null,null,null,null,null,0,"-0",{"$error":"#DIV/0!"}]
[null,null,null,null,null,0,"-0",{"$error":"#DIV/0!"}]
[null,null,null,null,null,0,"-0",{"$error":"#DIV/0!"}]
[null,null,null,null,null,0,"-0",{"$error":"#DIV/0!"}]
[null,null,null,null,null,0,"-0",{"$error":"#DIV/0!"}]
[null,null,null,null,null,0,"-0",{"$error":"#DIV/0!"}]
[null,null,null,null,null,0,"-0",{"$error":"#DIV/0!"}]
[null,null,null,null,null,0,"-0",{"$error":"#DIV/0!"}]
[null,null,null,null,null,0,"-0",{"$error":"#DIV/0!"}]
[null,null,null,null,null,0,"-0",{"$error":"#DIV/0!"}]
[null,null,null,null,null,0,"-0",{"$error":"#DIV/0!"}]
[null,null,null,null,null,0,"-0",{"$error":"#DIV/0!"}]
[null,null,null,null,null,0,"-0",{"$error":"#DIV/0!"}]
[null,null,null,null,null,0,"-0",{"$error":"#DIV/0!"}]
[null,null,null,null,null,{"$f":"IF($C130=\"XU\",$D130,$C130)","v":0},{"$f":"CONCATENATE(A130,\"-\",F130)","v":"-0"},{"$f":"$E130/SUMIF(A:A,A130,E:E)","v":{"$error":"#DIV/0!"}}]
[null,null,null,null,null,0,"-0",{"$error":"#DIV/0!"}]
[null,null,null,null,null,0,"-0",{"$error":"#DIV/0!"}]
[null,null,null,null,null,0,"-0",{"$error":"#DIV/0!"}]
[null,null,null,null,null,0,"-0",{"$error":"#DIV/0!"}]
[null,null,null,null,null,0,"-0",{"$error":"#DIV/0!"}]
[null,null,null,null,null,0,"-0",{"$error":"#DIV/0!"}]
[null,null,null,null,null,0,"-0",{"$error":"#DIV/0!"}]
[null,null,null,null,null,0,"-0",{"$error":"#DIV/0!"}]
[null,null,null,null,null,0,"-0",{"$error":"#DIV/0!"}]
[null,null,null,null,null,0,"-0",{"$error":"#DIV/0!"}]
[null,null,null,null,null,0,"-0",{"$error":"#DIV/0!"}]
[null,null,null,null,null,0,"-0",{"$error":"#DIV/0!"}]
[null,null,null,null,null,0,"-0",{"$error":"#DIV/0!"}]
[null,null,null,null,null,0,"-0",{"$error":"#DIV/0!"}]
[null,null,null,null,null,0,"-0",{"$error":"#DIV/0!"}]
[null,null,null,null,null,0,"-0",{"$error":"#DIV/0!"}]
[null,null,null,null,null,0,"-0",{"$error":"#DIV/0!"}]
[null,null,null,null,null,0,"-0",{"$error":"#DIV/0!"}]
[null,null,null,null,null,0,"-0",{"$error":"#DIV/0!"}]
[null,null,null,null,null,0,"-0",{"$error":"#DIV/0!"}]
[null,null,null,null,null,0,"-0",{"$error":"#DIV/0!"}]
[null,null,null,null,null,0,"-0",{"$error":"#DIV/0!"}]
[null,null,null,null,null,0,"-0",{"$error":"#DIV/0!"}]
[null,null,null,null,null,0,"-0",{"$error":"#DIV/0!"}]
[null,null,null,null,null,0,"-0",{"$error":"#DIV/0!"}]
[null,null,null,null,null,0,"-0",{"$error":"#DIV/0!"}]
[null,null,null,null,null,0,"-0",{"$error":"#DIV/0!"}]
[null,null,null,null,null,0,"-0",{"$error":"#DIV/0!"}]
[null,null,null,null,null,0,"-0",{"$error":"#DIV/0!"}]
[null,null,null,null,null,0,"-0",{"$error":"#DIV/0!"}]
[null,null,null,null,null,0,"-0",{"$error":"#DIV/0!"}]
[null,null,null,null,null,0,"-0",{"$error":"#DIV/0!"}]
[null,null,null,null,null,0,"-0",{"$error":"#DIV/0!"}]
[null,null,null,null,null,0,"-0",{"$error":"#DIV/0!"}]
[null,null,null,null,null,0,"-0",{"$error":"#DIV/0!"}]
[null,null,null,null,null,0,"-0",{"$error":"#DIV/0!"}]
[null,null,null,null,null,0,"-0",{"$error":"#DIV/0!"}]
[null,null,null,null,null,0,"-0",{"$error":"#DIV/0!"}]
[null,null,null,null,null,0,"-0",{"$error":"#DIV/0!"}]
[null,null,null,null,null,0,"-0",{"$error":"#DIV/0!"}]
[null,null,null,null,null,0,"-0",{"$error":"#DIV/0!"}]
[null,null,null,null,null,0,"-0",{"$error":"#DIV/0!"}]
[null,null,null,null,null,0,"-0",{"$error":"#DIV/0!"}]
[null,null,null,null,null,0,"-0",{"$error":"#DIV/0!"}]
[null,null,null,null,null,0,"-0",{"$error":"#DIV/0!"}]
[null,null,null,null,null,0,"-0",{"$error":"#DIV/0!"}]
[null,null,null,null,null,0,"-0",{"$error":"#DIV/0!"}]
[null,null,null,null,null,0,"-0",{"$error":"#DIV/0!"}]
[null,null,null,null,null,0,"-0",{"$error":"#DIV/0!"}]
[null,null,null,null,null,0,"-0",{"$error":"#DIV/0!"}]
[null,null,null,null,null,0,"-0",{"$error":"#DIV/0!"}]
[null,null,null,null,null,0,"-0",{"$error":"#DIV/0!"}]
[null,null,null,null,null,0,"-0",{"$error":"#DIV/0!"}]
[null,null,null,null,null,0,"-0",{"$error":"#DIV/0!"}]
[null,null,null,null,null,0,"-0",{"$error":"#DIV/0!"}]
[null,null,null,null,null,0,"-0",{"$error":"#DIV/0!"}]
[null,null,null,null,null,0,"-0",{"$error":"#DIV/0!"}]
[null,null,null,null,null,0,"-0",{"$error":"#DIV/0!"}]
[null,null,null,null,null,0,"-0",{"$error":"#DIV/0!"}]
[null,null,null,null,null,0,"-0",{"$error":"#DIV/0!"}]
[null,null,null,null,null,0,"-0",{"$error":"#DIV/0!"}]
[null,null,null,null,null,0,"-0",{"$error":"#DIV/0!"}]
[null,null,null,null,null,0,"-0",{"$error":"#DIV/0!"}]
[null,null,null,null,null,{"$f":"IF($C194=\"XU\",$D194,$C194)","v":0},{"$f":"CONCATENATE(A194,\"-\",F194)","v":"-0"},{"$f":"$E194/SUMIF(A:A,A194,E:E)","v":{"$error":"#DIV/0!"}}]
[null,null,null,null,null,0,"-0",{"$error":"#DIV/0!"}]
[null,null,null,null,null,0,"-0",{"$error":"#DIV/0!"}]
[null,null,null,null,null,0,"-0",{"$error":"#DIV/0!"}]
[null,null,null,null,null,0,"-0",{"$error":"#DIV/0!"}]
[null,null,null,null,null,0,"-0",{"$error":"#DIV/0!"}]
[null,null,null,null,null,0,"-0",{"$error":"#DIV/0!"}]
[null,null,null,null,null,0,"-0",{"$error":"#DIV/0!"}]
[null,null,null,null,null,0,"-0",{"$error":"#DIV/0!"}]
[null,null,null,null,null,0,"-0",{"$error":"#DIV/0!"}]
[null,null,null,null,null,0,"-0",{"$error":"#DIV/0!"}]
[null,null,null,null,null,0,"-0",{"$error":"#DIV/0!"}]
[null,null,null,null,null,0,"-0",{"$error":"#DIV/0!"}]
[null,null,null,null,null,0,"-0",{"$error":"#DIV/0!"}]
[null,null,null,null,null,0,"-0",{"$error":"#DIV/0!"}]
[null,null,null,null,null,0,"-0",{"$error":"#DIV/0!"}]
[null,null,null,null,null,0,"-0",{"$error":"#DIV/0!"}]
[null,null,null,null,null,0,"-0",{"$error":"#DIV/0!"}]
[null,null,null,null,null,0,"-0",{"$error":"#DIV/0!"}]
[null,null,null,null,null,0,"-0",{"$error":"#DIV/0!"}]
[null,null,null,null,null,0,"-0",{"$error":"#DIV/0!"}]
[null,null,null,null,null,0,"-0",{"$error":"#DIV/0!"}]
[null,null,null,null,null,0,"-0",{"$error":"#DIV/0!"}]
[null,null,null,null,null,0,"-0",{"$error":"#DIV/0!"}]
[null,null,null,null,null,0,"-0",{"$error":"#DIV/0!"}]
[null,null,null,null,null,0,"-0",{"$error":"#DIV/0!"}]
[null,null,null,null,null,0,"-0",{"$error":"#DIV/0!"}]
[null,null,null,null,null,0,"-0",{"$error":"#DIV/0!"}]
[null,null,null,null,null,0,"-0",{"$error":"#DIV/0!"}]
[null,null,null,null,null,0,"-0",{"$error":"#DIV/0!"}]
[null,null,null,null,null,0,"-0",{"$error":"#DIV/0!"}]
[null,null,null,null,null,0,"-0",{"$error":"#DIV/0!"}]
[null,null,null,null,null,0,"-0",{"$error":"#DIV/0!"}]
[null,null,null,null,null,0,"-0",{"$error":"#DIV/0!"}]
[null,null,null,null,null,0,"-0",{"$error":"#DIV/0!"}]
[null,null,null,null,null,0,"-0",{"$error":"#DIV/0!"}]
[null,null,null,null,null,0,"-0",{"$error":"#DIV/0!"}]
[null,null,null,null,null,0,"-0",{"$error":"#DIV/0!"}]
[null,null,null,null,null,0,"-0",{"$error":"#DIV/0!"}]
[null,null,null,null,null,0,"-0",{"$error":"#DIV/0!"}]
[null,null,null,null,null,0,"-0",{"$error":"#DIV/0!"}]
[null,null,null,null,null,0,"-0",{"$error":"#DIV/0!"}]
[null,null,null,null,null,0,"-0",{"$error":"#DIV/0!"}]
[null,null,null,null,null,0,"-0",{"$error":"#DIV/0!"}]
[null,null,null,null,null,0,"-0",{"$error":"#DIV/0!"}]
[null,null,null,null,null,0,"-0",{"$error":"#DIV/0!"}]
[null,null,null,null,null,0,"-0",{"$error":"#DIV/0!"}]
[null,null,null,null,null,0,"-0",{"$error":"#DIV/0!"}]
[null,null,null,null,null,0,"-0",{"$error":"#DIV/0!"}]
[null,null,null,null,null,0,"-0",{"$error":"#DIV/0!"}]
[null,null,null,null,null,0,"-0",{"$error":"#DIV/0!"}]
[null,null,null,null,null,0,"-0",{"$error":"#DIV/0!"}]
[null,null,null,null,null,0,"-0",{"$error":"#DIV/0!"}]
[null,null,null,null,null,0,"-0",{"$error":"#DIV/0!"}]
[null,null,null,null,null,0,"-0",{"$error":"#DIV/0!"}]
[null,null,null,null,null,0,"-0",{"$error":"#DIV/0!"}]
[null,null,null,null,null,0,"-0",{"$error":"#DIV/0!"}]
[null,null,null,null,null,0,"-0",{"$error":"#DIV/0!"}]
[null,null,null,null,null,0,"-0",{"$error":"#DIV/0!"}]
[null,null,null,null,null,0,"-0",{"$error":"#DIV/0!"}]
[null,null,null,null,null,0,"-0",{"$error":"#DIV/0!"}]
[null,null,null,null,null,0,"-0",{"$error":"#DIV/0!"}]
[null,null,null,null,null,0,"-0",{"$error":"#DIV/0!"}]
[null,null,null,null,null,0,"-0",{"$error":"#DIV/0!"}]
[null,null,null,null,null,{"$f":"IF($C258=\"XU\",$D258,$C258)","v":0},{"$f":"CONCATENATE(A258,\"-\",F258)","v":"-0"},{"$f":"$E258/SUMIF(A:A,A258,E:E)","v":{"$error":"#DIV/0!"}}]
[null,null,null,null,null,0,"-0",{"$error":"#DIV/0!"}]
[null,null,null,null,null,0,"-0",{"$error":"#DIV/0!"}]
[null,null,null,null,null,0,"-0",{"$error":"#DIV/0!"}]
[null,null,null,null,null,0,"-0",{"$error":"#DIV/0!"}]
[null,null,null,null,null,0,"-0",{"$error":"#DIV/0!"}]
[null,null,null,null,null,0,"-0",{"$error":"#DIV/0!"}]
[null,null,null,null,null,0,"-0",{"$error":"#DIV/0!"}]
[null,null,null,null,null,0,"-0",{"$error":"#DIV/0!"}]
[null,null,null,null,null,0,"-0",{"$error":"#DIV/0!"}]
[null,null,null,null,null,0,"-0",{"$error":"#DIV/0!"}]
[null,null,null,null,null,0,"-0",{"$error":"#DIV/0!"}]
[null,null,null,null,null,0,"-0",{"$error":"#DIV/0!"}]
[null,null,null,null,null,0,"-0",{"$error":"#DIV/0!"}]
[null,null,null,null,null,0,"-0",{"$error":"#DIV/0!"}]
[null,null,null,null,null,0,"-0",{"$error":"#DIV/0!"}]
[null,null,null,null,null,0,"-0",{"$error":"#DIV/0!"}]
[null,null,null,null,null,0,"-0",{"$error":"#DIV/0!"}]
[null,null,null,null,null,0,"-0",{"$error":"#DIV/0!"}]
[null,null,null,null,null,0,"-0",{"$error":"#DIV/0!"}]
[null,null,null,null,null,0,"-0",{"$error":"#DIV/0!"}]
[null,null,null,null,null,0,"-0",{"$error":"#DIV/0!"}]
[null,null,null,null,null,0,"-0",{"$error":"#DIV/0!"}]
[null,null,null,null,null,0,"-0",{"$error":"#DIV/0!"}]
[null,null,null,null,null,0,"-0",{"$error":"#DIV/0!"}]
[null,null,null,null,null,0,"-0",{"$error":"#DIV/0!"}]
[null,null,null,null,null,0,"-0",{"$error":"#DIV/0!"}]
[null,null,null,null,null,0,"-0",{"$error":"#DIV/0!"}]
[null,null,null,null,null,0,"-0",{"$error":"#DIV/0!"}]
[null,null,null,null,null,0,"-0",{"$error":"#DIV/0!"}]
[null,null,null,null,null,0,"-0",{"$error":"#DIV/0!"}]
[null,null,null,null,null,0,"-0",{"$error":"#DIV/0!"}]
[null,null,null,null,null,0,"-0",{"$error":"#DIV/0!"}]
[null,null,null,null,null,0,"-0",{"$error":"#DIV/0!"}]
[null,null,null,null,null,0,"-0",{"$error":"#DIV/0!"}]
[null,null,null,null,null,0,"-0",{"$error":"#DIV/0!"}]
[null,null,null,null,null,0,"-0",{"$error":"#DIV/0!"}]
[null,null,null,null,null,0,"-0",{"$error":"#DIV/0!"}]
[null,null,null,null,null,0,"-0",{"$error":"#DIV/0!"}]
[null,null,null,null,null,0,"-0",{"$error":"#DIV/0!"}]
[null,null,null,null,null,0,"-0",{"$error":"#DIV/0!"}]
[null,null,null,null,null,0,"-0",{"$error":"#DIV/0!"}]
[null,null,null,null,null,0,"-0",{"$error":"#DIV/0!"}]
[null,null,null,null,null,0,"-0",{"$error":"#DIV/0!"}]
[null,null,null,null,null,0,"-0",{"$error":"#DIV/0!"}]
[null,null,null,null,null,0,"-0",{"$error":"#DIV/0!"}]
[null,null,null,null,null,0,"-0",{"$error":"#DIV/0!"}]
[null,null,null,null,null,0,"-0",{"$error":"#DIV/0!"}]
[null,null,null,null,null,0,"-0",{"$error":"#DIV/0!"}]
[null,null,null,null,null,0,"-0",{"$error":"#DIV/0!"}]
[null,null,null,null,null,0,"-0",{"$error":"#DIV/0!"}]
[null,null,null,null,null,0,"-0",{"$error":"#DIV/0!"}]
[null,null,null,null,null,0,"-0",{"$error":"#DIV/0!"}]
[null,null,null,null,null,0,"-0",{"$error":"#DIV/0!"}]
[null,null,null,null,null,0,"-0",{"$error":"#DIV/0!"}]
[null,null,null,null,null,0,"-0",{"$error":"#DIV/0!"}]
[null,null,null,null,null,0,"-0",{"$error":"#DIV/0!"}]
[null,null,null,null,null,0,"-0",{"$error":"#DIV/0!"}]
[null,null,null,null,null,0,"-0",{"$error":"#DIV/0!"}]
[null,null,null,null,null,0,"-0",{"$error":"#DIV/0!"}]
[null,null,null,null,null,0,"-0",{"$error":"#DIV/0!"}]
[null,null,null,null,null,0,"-0",{"$error":"#DIV/0!"}]
[null,null,null,null,null,0,"-0",{"$error":"#DIV/0!"}]
[null,null,null,null,null,0,"-0",{"$error":"#DIV/0!"}]
[null,null,null,null,null,{"$f":"IF($C322=\"XU\",$D322,$C322)","v":0},{"$f":"CONCATENATE(A322,\"-\",F322)","v":"-0"},{"$f":"$E322/SUMIF(A:A,A322,E:E)","v":{"$error":"#DIV/0!"}}]
[null,null,null,null,null,0,"-0",{"$error":"#DIV/0!"}]
[null,null,null,null,null,0,"-0",{"$error":"#DIV/0!"}]
[null,null,null,null,null,0,"-0",{"$error":"#DIV/0!"}]
[null,null,null,null,null,0,"-0",{"$error":"#DIV/0!"}]
[null,null,null,null,null,0,"-0",{"$error":"#DIV/0!"}]
[null,null,null,null,null,0,"-0",{"$error":"#DIV/0!"}]
[null,null,null,null,null,0,"-0",{"$error":"#DIV/0!"}]
[null,null,null,null,null,0,"-0",{"$error":"#DIV/0!"}]
[null,null,null,null,null,0,"-0",{"$error":"#DIV/0!"}]
[null,null,null,null,null,0,"-0",{"$error":"#DIV/0!"}]
[null,null,null,null,null,0,"-0",{"$error":"#DIV/0!"}]
[null,null,null,null,null,0,"-0",{"$error":"#DIV/0!"}]
[null,null,null,null,null,0,"-0",{"$error":"#DIV/0!"}]
[null,null,null,null,null,0,"-0",{"$error":"#DIV/0!"}]
[null,null,null,null,null,0,"-0",{"$error":"#DIV/0!"}]
[null,null,null,null,null,0,"-0",{"$error":"#DIV/0!"}]
[null,null,null,null,null,0,"-0",{"$error":"#DIV/0!"}]
[null,null,null,null,null,0,"-0",{"$error":"#DIV/0!"}]
[null,null,null,null,null,0,"-0",{"$error":"#DIV/0!"}]
[null,null,null,null,null,0,"-0",{"$error":"#DIV/0!"}]
[null,null,null,null,null,0,"-0",{"$error":"#DIV/0!"}]
[null,null,null,null,null,0,"-0",{"$error":"#DIV/0!"}]
[null,null,null,null,null,0,"-0",{"$error":"#DIV/0!"}]
[null,null,null,null,null,0,"-0",{"$error":"#DIV/0!"}]
[null,null,null,null,null,0,"-0",{"$error":"#DIV/0!"}]
[null,null,null,null,null,0,"-0",{"$error":"#DIV/0!"}]
[null,null,null,null,null,0,"-0",{"$error":"#DIV/0!"}]
[null,null,null,null,null,0,"-0",{"$error":"#DIV/0!"}]
[null,null,null,null,null,0,"-0",{"$error":"#DIV/0!"}]
[null,null,null,null,null,0,"-0",{"$error":"#DIV/0!"}]
[null,null,null,null,null,0,"-0",{"$error":"#DIV/0!"}]
[null,null,null,null,null,0,"-0",{"$error":"#DIV/0!"}]
[null,null,null,null,null,0,"-0",{"$error":"#DIV/0!"}]
[null,null,null,null,null,0,"-0",{"$error":"#DIV/0!"}]
[null,null,null,null,null,0,"-0",{"$error":"#DIV/0!"}]
[null,null,null,null,null,0,"-0",{"$error":"#DIV/0!"}]
[null,null,null,null,null,0,"-0",{"$error":"#DIV/0!"}]
[null,null,null,null,null,0,"-0",{"$error":"#DIV/0!"}]
[null,null,null,null,null,0,"-0",{"$error":"#DIV/0!"}]
[null,null,null,null,null,0,"-0",{"$error":"#DIV/0!"}]
[null,null,null,null,null,0,"-0",{"$error":"#DIV/0!"}]
[null,null,null,null,null,0,"-0",{"$error":"#DIV/0!"}]
[null,null,null,null,null,0,"-0",{"$error":"#DIV/0!"}]
[null,null,null,null,null,0,"-0",{"$error":"#DIV/0!"}]
[null,null,null,null,null,0,"-0",{"$error":"#DIV/0!"}]
[null,null,null,null,null,0,"-0",{"$error":"#DIV/0!"}]
[null,null,null,null,null,0,"-0",{"$error":"#DIV/0!"}]
[null,null,null,null,null,0,"-0",{"$error":"#DIV/0!"}]
[null,null,null,null,null,0,"-0",{"$error":"#DIV/0!"}]
[null,null,null,null,null,0,"-0",{"$error":"#DIV/0!"}]
[null,null,null,null,null,0,"-0",{"$error":"#DIV/0!"}]
[null,null,null,null,null,0,"-0",{"$error":"#DIV/0!"}]
[null,null,null,null,null,0,"-0",{"$error":"#DIV/0!"}]
[null,null,null,null,null,0,"-0",{"$error":"#DIV/0!"}]
[null,null,null,null,null,0,"-0",{"$error":"#DIV/0!"}]
[null,null,null,null,null,0,"-0",{"$error":"#DIV/0!"}]
[null,null,null,null,null,0,"-0",{"$error":"#DIV/0!"}]
[null,null,null,null,null,0,"-0",{"$error":"#DIV/0!"}]
[null,null,null,null,null,0,"-0",{"$error":"#DIV/0!"}]
[null,null,null,null,null,0,"-0",{"$error":"#DIV/0!"}]
[null,null,null,null,null,0,"-0",{"$error":"#DIV/0!"}]
[null,null,null,null,null,0,"-0",{"$error":"#DIV/0!"}]
[null,null,null,null,null,0,"-0",{"$error":"#DIV/0!"}]
[null,null,null,null,null,{"$f":"IF($C386=\"XU\",$D386,$C386)","v":0},{"$f":"CONCATENATE(A386,\"-\",F386)","v":"-0"},{"$f":"$E386/SUMIF(A:A,A386,E:E)","v":{"$error":"#DIV/0!"}}]
[null,null,null,null,null,0,"-0",{"$error":"#DIV/0!"}]
[null,null,null,null,null,0,"-0",{"$error":"#DIV/0!"}]
[null,null,null,null,null,0,"-0",{"$error":"#DIV/0!"}]
[null,null,null,null,null,0,"-0",{"$error":"#DIV/0!"}]
[null,null,null,null,null,0,"-0",{"$error":"#DIV/0!"}]
[null,null,null,null,null,0,"-0",{"$error":"#DIV/0!"}]
[null,null,null,null,null,0,"-0",{"$error":"#DIV/0!"}]
[null,null,null,null,null,0,"-0",{"$error":"#DIV/0!"}]
[null,null,null,null,null,0,"-0",{"$error":"#DIV/0!"}]
[null,null,null,null,null,0,"-0",{"$error":"#DIV/0!"}]
[null,null,null,null,null,0,"-0",{"$error":"#DIV/0!"}]
[null,null,null,null,null,0,"-0",{"$error":"#DIV/0!"}]
[null,null,null,null,null,0,"-0",{"$error":"#DIV/0!"}]
[null,null,null,null,null,0,"-0",{"$error":"#DIV/0!"}]
[null,null,null,null,null,0,"-0",{"$error":"#DIV/0!"}]
[null,null,null,null,null,0,"-0",{"$error":"#DIV/0!"}]
[null,null,null,null,null,0,"-0",{"$error":"#DIV/0!"}]
[null,null,null,null,null,0,"-0",{"$error":"#DIV/0!"}]
[null,null,null,null,null,0,"-0",{"$error":"#DIV/0!"}]
[null,null,null,null,null,0,"-0",{"$error":"#DIV/0!"}]
[null,null,null,null,null,0,"-0",{"$error":"#DIV/0!"}]
[null,null,null,null,null,0,"-0",{"$error":"#DIV/0!"}]
[null,null,null,null,null,0,"-0",{"$error":"#DIV/0!"}]
[null,null,null,null,null,0,"-0",{"$error":"#DIV/0!"}]
[null,null,null,null,null,0,"-0",{"$error":"#DIV/0!"}]
[null,null,null,null,null,0,"-0",{"$error":"#DIV/0!"}]
[null,null,null,null,null,0,"-0",{"$error":"#DIV/0!"}]
[null,null,null,null,null,0,"-0",{"$error":"#DIV/0!"}]
[null,null,null,null,null,0,"-0",{"$error":"#DIV/0!"}]
[null,null,null,null,null,0,"-0",{"$error":"#DIV/0!"}]
[null,null,null,null,null,0,"-0",{"$error":"#DIV/0!"}]
[null,null,null,null,null,0,"-0",{"$error":"#DIV/0!"}]
[null,null,null,null,null,0,"-0",{"$error":"#DIV/0!"}]
[null,null,null,null,null,0,"-0",{"$error":"#DIV/0!"}]
[null,null,null,null,null,0,"-0",{"$error":"#DIV/0!"}]
[null,null,null,null,null,0,"-0",{"$error":"#DIV/0!"}]
[null,null,null,null,null,0,"-0",{"$error":"#DIV/0!"}]
[null,null,null,null,null,0,"-0",{"$error":"#DIV/0!"}]
[null,null,null,null,null,0,"-0",{"$error":"#DIV/0!"}]
[null,null,null,null,null,0,"-0",{"$error":"#DIV/0!"}]
[null,null,null,null,null,0,"-0",{"$error":"#DIV/0!"}]
[null,null,null,null,null,0,"-0",{"$error":"#DIV/0!"}]
[null,null,null,null,null,0,"-0",{"$error":"#DIV/0!"}]
[null,null,null,null,null,0,"-0",{"$error":"#DIV/0!"}]
[null,null,null,null,null,0,"-0",{"$error":"#DIV/0!"}]
[null,null,null,null,null,0,"-0",{"$error":"#DIV/0!"}]
[null,null,null,null,null,0,"-0",{"$error":"#DIV/0!"}]
[null,null,null,null,null,0,"-0",{"$error":"#DIV/0!"}]
[null,null,null,null,null,0,"-0",{"$error":"#DIV/0!"}]
[null,null,null,null,null,0,"-0",{"$error":"#DIV/0!"}]
[null,null,null,null,null,0,"-0",{"$error":"#DIV/0!"}]
[null,null,null,null,null,0,"-0",{"$error":"#DIV/0!"}]
[null,null,null,null,null,0,"-0",{"$error":"#DIV/0!"}]
[null,null,null,null,null,0,"-0",{"$error":"#DIV/0!"}]
[null,null,null,null,null,0,"-0",{"$error":"#DIV/0!"}]
[null,null,null,null,null,0,"-0",{"$error":"#DIV/0!"}]
[null,null,null,null,null,0,"-0",{"$error":"#DIV/0!"}]
[null,null,null,null,null,0,"-0",{"$error":"#DIV/0!"}]
[null,null,null,null,null,0,"-0",{"$error":"#DIV/0!"}]
[null,null,null,null,null,0,"-0",{"$error":"#DIV/0!"}]
[null,null,null,null,null,0,"-0",{"$error":"#DIV/0!"}]
[null,null,null,null,null,0,"-0",{"$error":"#DIV/0!"}]
[null,null,null,null,null,0,"-0",{"$error":"#DIV/0!"}]
[null,null,null,null,null,{"$f":"IF($C450=\"XU\",$D450,$C450)","v":0},{"$f":"CONCATENATE(A450,\"-\",F450)","v":"-0"},{"$f":"$E450/SUMIF(A:A,A450,E:E)","v":{"$error":"#DIV/0!"}}]
[null,null,null,null,null,0,"-0",{"$error":"#DIV/0!"}]
[null,null,null,null,null,0,"-0",{"$error":"#DIV/0!"}]
[null,null,null,null,null,0,"-0",{"$error":"#DIV/0!"}]
[null,null,null,null,null,0,"-0",{"$error":"#DIV/0!"}]
[null,null,null,null,null,0,"-0",{"$error":"#DIV/0!"}]
[null,null,null,null,null,0,"-0",{"$error":"#DIV/0!"}]
[null,null,null,null,null,0,"-0",{"$error":"#DIV/0!"}]
[null,null,null,null,null,0,"-0",{"$error":"#DIV/0!"}]
[null,null,null,null,null,0,"-0",{"$error":"#DIV/0!"}]
[null,null,null,null,null,0,"-0",{"$error":"#DIV/0!"}]
[null,null,null,null,null,0,"-0",{"$error":"#DIV/0!"}]
[null,null,null,null,null,0,"-0",{"$error":"#DIV/0!"}]
[null,null,null,null,null,0,"-0",{"$error":"#DIV/0!"}]
[null,null,null,null,null,0,"-0",{"$error":"#DIV/0!"}]
[null,null,null,null,null,0,"-0",{"$error":"#DIV/0!"}]
[null,null,null,null,null,0,"-0",{"$error":"#DIV/0!"}]
[null,null,null,null,null,0,"-0",{"$error":"#DIV/0!"}]
[null,null,null,null,null,0,"-0",{"$error":"#DIV/0!"}]
[null,null,null,null,null,0,"-0",{"$error":"#DIV/0!"}]
[null,null,null,null,null,0,"-0",{"$error":"#DIV/0!"}]
[null,null,null,null,null,0,"-0",{"$error":"#DIV/0!"}]
[null,null,null,null,null,0,"-0",{"$error":"#DIV/0!"}]
[null,null,null,null,null,0,"-0",{"$error":"#DIV/0!"}]
[null,null,null,null,null,0,"-0",{"$error":"#DIV/0!"}]
[null,null,null,null,null,0,"-0",{"$error":"#DIV/0!"}]
[null,null,null,null,null,0,"-0",{"$error":"#DIV/0!"}]
[null,null,null,null,null,0,"-0",{"$error":"#DIV/0!"}]
[null,null,null,null,null,0,"-0",{"$error":"#DIV/0!"}]
[null,null,null,null,null,0,"-0",{"$error":"#DIV/0!"}]
[null,null,null,null,null,0,"-0",{"$error":"#DIV/0!"}]
[null,null,null,null,null,0,"-0",{"$error":"#DIV/0!"}]
[null,null,null,null,null,0,"-0",{"$error":"#DIV/0!"}]
[null,null,null,null,null,0,"-0",{"$error":"#DIV/0!"}]
[null,null,null,null,null,0,"-0",{"$error":"#DIV/0!"}]
[null,null,null,null,null,0,"-0",{"$error":"#DIV/0!"}]
[null,null,null,null,null,0,"-0",{"$error":"#DIV/0!"}]
[null,null,null,null,null,0,"-0",{"$error":"#DIV/0!"}]
[null,null,null,null,null,0,"-0",{"$error":"#DIV/0!"}]
[null,null,null,null,null,0,"-0",{"$error":"#DIV/0!"}]
[null,null,null,null,null,0,"-0",{"$error":"#DIV/0!"}]
[null,null,null,null,null,0,"-0",{"$error":"#DIV/0!"}]
[null,null,null,null,null,0,"-0",{"$error":"#DIV/0!"}]
[null,null,null,null,null,0,"-0",{"$error":"#DIV/0!"}]
[null,null,null,null,null,0,"-0",{"$error":"#DIV/0!"}]
[null,null,null,null,null,0,"-0",{"$error":"#DIV/0!"}]
[null,null,null,null,null,0,"-0",{"$error":"#DIV/0!"}]
[null,null,null,null,null,0,"-0",{"$error":"#DIV/0!"}]
[null,null,null,null,null,0,"-0",{"$error":"#DIV/0!"}]
[null,null,null,null,null,0,"-0",{"$error":"#DIV/0!"}]
[null,null,null,null,null,0,"-0",{"$error":"#DIV/0!"}]
[null,null,null,null,null,0,"-0",{"$error":"#DIV/0!"}]
[null,null,null,null,null,0,"-0",{"$error":"#DIV/0!"}]
[null,null,null,null,null,0,"-0",{"$error":"#DIV/0!"}]
[null,null,null,null,null,0,"-0",{"$error":"#DIV/0!"}]
[null,null,null,null,null,0,"-0",{"$error":"#DIV/0!"}]
[null,null,null,null,null,0,"-0",{"$error":"#DIV/0!"}]
[null,null,null,null,null,0,"-0",{"$error":"#DIV/0!"}]
[null,null,null,null,null,0,"-0",{"$error":"#DIV/0!"}]
[null,null,null,null,null,0,"-0",{"$error":"#DIV/0!"}]
[null,null,null,null,null,0,"-0",{"$error":"#DIV/0!"}]
[null,null,null,null,null,0,"-0",{"$error":"#DIV/0!"}]
[null,null,null,null,null,0,"-0",{"$error":"#DIV/0!"}]
[null,null,null,null,null,0,"-0",{"$error":"#DIV/0!"}]
[null,null,null,null,null,{"$f":"IF($C514=\"XU\",$D514,$C514)","v":0},{"$f":"CONCATENATE(A514,\"-\",F514)","v":"-0"},{"$f":"$E514/SUMIF(A:A,A514,E:E)","v":{"$error":"#DIV/0!"}}]
[null,null,null,null,null,0,"-0",{"$error":"#DIV/0!"}]
[null,null,null,null,null,0,"-0",{"$error":"#DIV/0!"}]
[null,null,null,null,null,0,"-0",{"$error":"#DIV/0!"}]
[null,null,null,null,null,0,"-0",{"$error":"#DIV/0!"}]
[null,null,null,null,null,0,"-0",{"$error":"#DIV/0!"}]
[null,null,null,null,null,0,"-0",{"$error":"#DIV/0!"}]
[null,null,null,null,null,0,"-0",{"$error":"#DIV/0!"}]
[null,null,null,null,null,0,"-0",{"$error":"#DIV/0!"}]
[null,null,null,null,null,0,"-0",{"$error":"#DIV/0!"}]
[null,null,null,null,null,0,"-0",{"$error":"#DIV/0!"}]
[null,null,null,null,null,0,"-0",{"$error":"#DIV/0!"}]
[null,null,null,null,null,0,"-0",{"$error":"#DIV/0!"}]
[null,null,null,null,null,0,"-0",{"$error":"#DIV/0!"}]
[null,null,null,null,null,0,"-0",{"$error":"#DIV/0!"}]
[null,null,null,null,null,0,"-0",{"$error":"#DIV/0!"}]
[null,null,null,null,null,0,"-0",{"$error":"#DIV/0!"}]
[null,null,null,null,null,0,"-0",{"$error":"#DIV/0!"}]
[null,null,null,null,null,0,"-0",{"$error":"#DIV/0!"}]
[null,null,null,null,null,0,"-0",{"$error":"#DIV/0!"}]
[null,null,null,null,null,0,"-0",{"$error":"#DIV/0!"}]
[null,null,null,null,null,0,"-0",{"$error":"#DIV/0!"}]
[null,null,null,null,null,0,"-0",{"$error":"#DIV/0!"}]
[null,null,null,null,null,0,"-0",{"$error":"#DIV/0!"}]
[null,null,null,null,null,0,"-0",{"$error":"#DIV/0!"}]
[null,null,null,null,null,0,"-0",{"$error":"#DIV/0!"}]
[null,null,null,null,null,0,"-0",{"$error":"#DIV/0!"}]
[null,null,null,null,null,0,"-0",{"$error":"#DIV/0!"}]
[null,null,null,null,null,0,"-0",{"$error":"#DIV/0!"}]
[null,null,null,null,null,0,"-0",{"$error":"#DIV/0!"}]
[null,null,null,null,null,0,"-0",{"$error":"#DIV/0!"}]
[null,null,null,null,null,0,"-0",{"$error":"#DIV/0!"}]
[null,null,null,null,null,0,"-0",{"$error":"#DIV/0!"}]
[null,null,null,null,null,0,"-0",{"$error":"#DIV/0!"}]
[null,null,null,null,null,0,"-0",{"$error":"#DIV/0!"}]
[null,null,null,null,null,0,"-0",{"$error":"#DIV/0!"}]
[null,null,null,null,null,0,"-0",{"$error":"#DIV/0!"}]
[null,null,null,null,null,0,"-0",{"$error":"#DIV/0!"}]
[null,null,null,null,null,0,"-0",{"$error":"#DIV/0!"}]
[null,null,null,null,null,0,"-0",{"$error":"#DIV/0!"}]
[null,null,null,null,null,0,"-0",{"$error":"#DIV/0!"}]
[null,null,null,null,null,0,"-0",{"$error":"#DIV/0!"}]
[null,null,null,null,null,0,"-0",{"$error":"#DIV/0!"}]
[null,null,null,null,null,0,"-0",{"$error":"#DIV/0!"}]
[null,null,null,null,null,0,"-0",{"$error":"#DIV/0!"}]
[null,null,null,null,null,0,"-0",{"$error":"#DIV/0!"}]
[null,null,null,null,null,0,"-0",{"$error":"#DIV/0!"}]
[null,null,null,null,null,0,"-0",{"$error":"#DIV/0!"}]
[null,null,null,null,null,0,"-0",{"$error":"#DIV/0!"}]
[null,null,null,null,null,0,"-0",{"$error":"#DIV/0!"}]
[null,null,null,null,null,0,"-0",{"$error":"#DIV/0!"}]
[null,null,null,null,null,0,"-0",{"$error":"#DIV/0!"}]
[null,null,null,null,null,0,"-0",{"$error":"#DIV/0!"}]
[null,null,null,null,null,0,"-0",{"$error":"#DIV/0!"}]
[null,null,null,null,null,0,"-0",{"$error":"#DIV/0!"}]
[null,null,null,null,null,0,"-0",{"$error":"#DIV/0!"}]
[null,null,null,null,null,0,"-0",{"$error":"#DIV/0!"}]
[null,null,null,null,null,0,"-0",{"$error":"#DIV/0!"}]
[null,null,null,null,null,0,"-0",{"$error":"#DIV/0!"}]
[null,null,null,null,null,0,"-0",{"$error":"#DIV/0!"}]
[null,null,null,null,null,0,"-0",{"$error":"#DIV/0!"}]
[null,null,null,null,null,0,"-0",{"$error":"#DIV/0!"}]
[null,null,null,null,null,0,"-0",{"$error":"#DIV/0!"}]
[null,null,null,null,null,0,"-0",{"$error":"#DIV/0!"}]
[null,null,null,null,null,{"$f":"IF($C578=\"XU\",$D578,$C578)","v":0},{"$f":"CONCATENATE(A578,\"-\",F578)","v":"-0"},{"$f":"$E578/SUMIF(A:A,A578,E:E)","v":{"$error":"#DIV/0!"}}]
[null,null,null,null,null,0,"-0",{"$error":"#DIV/0!"}]
[null,null,null,null,null,0,"-0",{"$error":"#DIV/0!"}]
[null,null,null,null,null,0,"-0",{"$error":"#DIV/0!"}]
[null,null,null,null,null,0,"-0",{"$error":"#DIV/0!"}]
[null,null,null,null,null,0,"-0",{"$error":"#DIV/0!"}]
[null,null,null,null,null,0,"-0",{"$error":"#DIV/0!"}]
[null,null,null,null,null,0,"-0",{"$error":"#DIV/0!"}]
[null,null,null,null,null,0,"-0",{"$error":"#DIV/0!"}]
[null,null,null,null,null,0,"-0",{"$error":"#DIV/0!"}]
[null,null,null,null,null,0,"-0",{"$error":"#DIV/0!"}]
[null,null,null,null,null,0,"-0",{"$error":"#DIV/0!"}]
[null,null,null,null,null,0,"-0",{"$error":"#DIV/0!"}]
[null,null,null,null,null,0,"-0",{"$error":"#DIV/0!"}]
[null,null,null,null,null,0,"-0",{"$error":"#DIV/0!"}]
[null,null,null,null,null,0,"-0",{"$error":"#DIV/0!"}]
[null,null,null,null,null,0,"-0",{"$error":"#DIV/0!"}]
[null,null,null,null,null,0,"-0",{"$error":"#DIV/0!"}]
[null,null,null,null,null,0,"-0",{"$error":"#DIV/0!"}]
[null,null,null,null,null,0,"-0",{"$error":"#DIV/0!"}]
[null,null,null,null,null,0,"-0",{"$error":"#DIV/0!"}]
[null,null,null,null,null,0,"-0",{"$error":"#DIV/0!"}]
[null,null,null,null,null,0,"-0",{"$error":"#DIV/0!"}]
[null,null,null,null,null,0,"-0",{"$error":"#DIV/0!"}]
[null,null,null,null,null,0,"-0",{"$error":"#DIV/0!"}]
[null,null,null,null,null,0,"-0",{"$error":"#DIV/0!"}]
[null,null,null,null,null,0,"-0",{"$error":"#DIV/0!"}]
[null,null,null,null,null,0,"-0",{"$error":"#DIV/0!"}]
[null,null,null,null,null,0,"-0",{"$error":"#DIV/0!"}]
[null,null,null,null,null,0,"-0",{"$error":"#DIV/0!"}]
[null,null,null,null,null,0,"-0",{"$error":"#DIV/0!"}]
[null,null,null,null,null,0,"-0",{"$error":"#DIV/0!"}]
[null,null,null,null,null,0,"-0",{"$error":"#DIV/0!"}]
[null,null,null,null,null,0,"-0",{"$error":"#DIV/0!"}]
[null,null,null,null,null,0,"-0",{"$error":"#DIV/0!"}]
[null,null,null,null,null,0,"-0",{"$error":"#DIV/0!"}]
[null,null,null,null,null,0,"-0",{"$error":"#DIV/0!"}]
[null,null,null,null,null,0,"-0",{"$error":"#DIV/0!"}]
[null,null,null,null,null,0,"-0",{"$error":"#DIV/0!"}]
[null,null,null,null,null,0,"-0",{"$error":"#DIV/0!"}]
[null,null,null,null,null,0,"-0",{"$error":"#DIV/0!"}]
[null,null,null,null,null,0,"-0",{"$error":"#DIV/0!"}]
[null,null,null,null,null,0,"-0",{"$error":"#DIV/0!"}]
[null,null,null,null,null,0,"-0",{"$error":"#DIV/0!"}]
[null,null,null,null,null,0,"-0",{"$error":"#DIV/0!"}]
[null,null,null,null,null,0,"-0",{"$error":"#DIV/0!"}]
[null,null,null,null,null,0,"-0",{"$error":"#DIV/0!"}]
[null,null,null,null,null,0,"-0",{"$error":"#DIV/0!"}]
[null,null,null,null,null,0,"-0",{"$error":"#DIV/0!"}]
[null,null,null,null,null,0,"-0",{"$error":"#DIV/0!"}]
[null,null,null,null,null,0,"-0",{"$error":"#DIV/0!"}]
[null,null,null,null,null,0,"-0",{"$error":"#DIV/0!"}]
[null,null,null,null,null,0,"-0",{"$error":"#DIV/0!"}]
[null,null,null,null,null,0,"-0",{"$error":"#DIV/0!"}]
[null,null,null,null,null,0,"-0",{"$error":"#DIV/0!"}]
[null,null,null,null,null,0,"-0",{"$error":"#DIV/0!"}]
[null,null,null,null,null,0,"-0",{"$error":"#DIV/0!"}]
[null,null,null,null,null,0,"-0",{"$error":"#DIV/0!"}]
[null,null,null,null,null,0,"-0",{"$error":"#DIV/0!"}]
[null,null,null,null,null,0,"-0",{"$error":"#DIV/0!"}]
[null,null,null,null,null,0,"-0",{"$error":"#DIV/0!"}]
[null,null,null,null,null,0,"-0",{"$error":"#DIV/0!"}]
[null,null,null,null,null,0,"-0",{"$error":"#DIV/0!"}]
[null,null,null,null,null,0,"-0",{"$error":"#DIV/0!"}]
[null,null,null,null,null,{"$f":"IF($C642=\"XU\",$D642,$C642)","v":0},{"$f":"CONCATENATE(A642,\"-\",F642)","v":"-0"},{"$f":"$E642/SUMIF(A:A,A642,E:E)","v":{"$error":"#DIV/0!"}}]
[null,null,null,null,null,0,"-0",{"$error":"#DIV/0!"}]
[null,null,null,null,null,0,"-0",{"$error":"#DIV/0!"}]
[null,null,null,null,null,0,"-0",{"$error":"#DIV/0!"}]
[null,null,null,null,null,0,"-0",{"$error":"#DIV/0!"}]
[null,null,null,null,null,0,"-0",{"$error":"#DIV/0!"}]
[null,null,null,null,null,0,"-0",{"$error":"#DIV/0!"}]
[null,null,null,null,null,0,"-0",{"$error":"#DIV/0!"}]
[null,null,null,null,null,0,"-0",{"$error":"#DIV/0!"}]
[null,null,null,null,null,0,"-0",{"$error":"#DIV/0!"}]
[null,null,null,null,null,0,"-0",{"$error":"#DIV/0!"}]
[null,null,null,null,null,0,"-0",{"$error":"#DIV/0!"}]
[null,null,null,null,null,0,"-0",{"$error":"#DIV/0!"}]
[null,null,null,null,null,0,"-0",{"$error":"#DIV/0!"}]
[null,null,null,null,null,0,"-0",{"$error":"#DIV/0!"}]
[null,null,null,null,null,0,"-0",{"$error":"#DIV/0!"}]
[null,null,null,null,null,0,"-0",{"$error":"#DIV/0!"}]
[null,null,null,null,null,0,"-0",{"$error":"#DIV/0!"}]
[null,null,null,null,null,0,"-0",{"$error":"#DIV/0!"}]
[null,null,null,null,null,0,"-0",{"$error":"#DIV/0!"}]
[null,null,null,null,null,0,"-0",{"$error":"#DIV/0!"}]
[null,null,null,null,null,0,"-0",{"$error":"#DIV/0!"}]
[null,null,null,null,null,0,"-0",{"$error":"#DIV/0!"}]
[null,null,null,null,null,0,"-0",{"$error":"#DIV/0!"}]
[null,null,null,null,null,0,"-0",{"$error":"#DIV/0!"}]
[null,null,null,null,null,0,"-0",{"$error":"#DIV/0!"}]
[null,null,null,null,null,0,"-0",{"$error":"#DIV/0!"}]
[null,null,null,null,null,0,"-0",{"$error":"#DIV/0!"}]
[null,null,null,null,null,0,"-0",{"$error":"#DIV/0!"}]
[null,null,null,null,null,0,"-0",{"$error":"#DIV/0!"}]
[null,null,null,null,null,0,"-0",{"$error":"#DIV/0!"}]
[null,null,null,null,null,0,"-0",{"$error":"#DIV/0!"}]
[null,null,null,null,null,0,"-0",{"$error":"#DIV/0!"}]
[null,null,null,null,null,0,"-0",{"$error":"#DIV/0!"}]
[null,null,null,null,null,0,"-0",{"$error":"#DIV/0!"}]
[null,null,null,null,null,0,"-0",{"$error":"#DIV/0!"}]
[null,null,null,null,null,0,"-0",{"$error":"#DIV/0!"}]
[null,null,null,null,null,0,"-0",{"$error":"#DIV/0!"}]
[null,null,null,null,null,0,"-0",{"$error":"#DIV/0!"}]
[null,null,null,null,null,0,"-0",{"$error":"#DIV/0!"}]
[null,null,null,null,null,0,"-0",{"$error":"#DIV/0!"}]
[null,null,null,null,null,0,"-0",{"$error":"#DIV/0!"}]
[null,null,null,null,null,0,"-0",{"$error":"#DIV/0!"}]
[null,null,null,null,null,0,"-0",{"$error":"#DIV/0!"}]
[null,null,null,null,null,0,"-0",{"$error":"#DIV/0!"}]
[null,null,null,null,null,0,"-0",{"$error":"#DIV/0!"}]
[null,null,null,null,null,0,"-0",{"$error":"#DIV/0!"}]
[null,null,null,null,null,0,"-0",{"$error":"#DIV/0!"}]
[null,null,null,null,null,0,"-0",{"$error":"#DIV/0!"}]
[null,null,null,null,null,0,"-0",{"$error":"#DIV/0!"}]
[null,null,null,null,null,0,"-0",{"$error":"#DIV/0!"}]
[null,null,null,null,null,0,"-0",{"$error":"#DIV/0!"}]
[null,null,null,null,null,0,"-0",{"$error":"#DIV/0!"}]
[null,null,null,null,null,0,"-0",{"$error":"#DIV/0!"}]
[null,null,null,null,null,0,"-0",{"$error":"#DIV/0!"}]
[null,null,null,null,null,0,"-0",{"$error":"#DIV/0!"}]
[null,null,null,null,null,0,"-0",{"$error":"#DIV/0!"}]
[null,null,null,null,null,0,"-0",{"$error":"#DIV/0!"}]
[null,null,null,null,null,0,"-0",{"$error":"#DIV/0!"}]
[null,null,null,null,null,0,"-0",{"$error":"#DIV/0!"}]
[null,null,null,null,null,0,"-0",{"$error":"#DIV/0!"}]
[null,null,null,null,null,0,"-0",{"$error":"#DIV/0!"}]
[null,null,null,null,null,0,"-0",{"$error":"#DIV/0!"}]
[null,null,null,null,null,0,"-0",{"$error":"#DIV/0!"}]
[null,null,null,null,null,{"$f":"IF($C706=\"XU\",$D706,$C706)","v":0},{"$f":"CONCATENATE(A706,\"-\",F706)","v":"-0"},{"$f":"$E706/SUMIF(A:A,A706,E:E)","v":{"$error":"#DIV/0!"}}]
[null,null,null,null,null,0,"-0",{"$error":"#DIV/0!"}]
[null,null,null,null,null,0,"-0",{"$error":"#DIV/0!"}]
[null,null,null,null,null,0,"-0",{"$error":"#DIV/0!"}]
[null,null,null,null,null,0,"-0",{"$error":"#DIV/0!"}]
[null,null,null,null,null,0,"-0",{"$error":"#DIV/0!"}]
[null,null,null,null,null,0,"-0",{"$error":"#DIV/0!"}]
[null,null,null,null,null,0,"-0",{"$error":"#DIV/0!"}]
[null,null,null,null,null,0,"-0",{"$error":"#DIV/0!"}]
[null,null,null,null,null,0,"-0",{"$error":"#DIV/0!"}]
[null,null,null,null,null,0,"-0",{"$error":"#DIV/0!"}]
[null,null,null,null,null,0,"-0",{"$error":"#DIV/0!"}]
[null,null,null,null,null,0,"-0",{"$error":"#DIV/0!"}]
[null,null,null,null,null,0,"-0",{"$error":"#DIV/0!"}]
[null,null,null,null,null,0,"-0",{"$error":"#DIV/0!"}]
[null,null,null,null,null,0,"-0",{"$error":"#DIV/0!"}]
[null,null,null,null,null,0,"-0",{"$error":"#DIV/0!"}]
[null,null,null,null,null,0,"-0",{"$error":"#DIV/0!"}]
[null,null,null,null,null,0,"-0",{"$error":"#DIV/0!"}]
[null,null,null,null,null,0,"-0",{"$error":"#DIV/0!"}]
[null,null,null,null,null,0,"-0",{"$error":"#DIV/0!"}]
[null,null,null,null,null,0,"-0",{"$error":"#DIV/0!"}]
[null,null,null,null,null,0,"-0",{"$error":"#DIV/0!"}]
[null,null,null,null,null,0,"-0",{"$error":"#DIV/0!"}]
[null,null,null,null,null,0,"-0",{"$error":"#DIV/0!"}]
[null,null,null,null,null,0,"-0",{"$error":"#DIV/0!"}]
[null,null,null,null,null,0,"-0",{"$error":"#DIV/0!"}]
[null,null,null,null,null,0,"-0",{"$error":"#DIV/0!"}]
[null,null,null,null,null,0,"-0",{"$error":"#DIV/0!"}]
[null,null,null,null,null,0,"-0",{"$error":"#DIV/0!"}]
[null,null,null,null,null,0,"-0",{"$error":"#DIV/0!"}]
[null,null,null,null,null,0,"-0",{"$error":"#DIV/0!"}]
[null,null,null,null,null,0,"-0",{"$error":"#DIV/0!"}]
[null,null,null,null,null,0,"-0",{"$error":"#DIV/0!"}]
[null,null,null,null,null,0,"-0",{"$error":"#DIV/0!"}]
[null,null,null,null,null,0,"-0",{"$error":"#DIV/0!"}]
[null,null,null,null,null,0,"-0",{"$error":"#DIV/0!"}]
[null,null,null,null,null,0,"-0",{"$error":"#DIV/0!"}]
[null,null,null,null,null,0,"-0",{"$error":"#DIV/0!"}]
[null,null,null,null,null,0,"-0",{"$error":"#DIV/0!"}]
[null,null,null,null,null,0,"-0",{"$error":"#DIV/0!"}]
[null,null,null,null,null,0,"-0",{"$error":"#DIV/0!"}]
[null,null,null,null,null,0,"-0",{"$error":"#DIV/0!"}]
[null,null,null,null,null,0,"-0",{"$error":"#DIV/0!"}]
[null,null,null,null,null,0,"-0",{"$error":"#DIV/0!"}]
[null,null,null,null,null,0,"-0",{"$error":"#DIV/0!"}]
[null,null,null,null,null,0,"-0",{"$error":"#DIV/0!"}]
[null,null,null,null,null,0,"-0",{"$error":"#DIV/0!"}]
[null,null,null,null,null,0,"-0",{"$error":"#DIV/0!"}]
[null,null,null,null,null,0,"-0",{"$error":"#DIV/0!"}]
[null,null,null,null,null,0,"-0",{"$error":"#DIV/0!"}]
[null,null,null,null,null,0,"-0",{"$error":"#DIV/0!"}]
[null,null,null,null,null,0,"-0",{"$error":"#DIV/0!"}]
[null,null,null,null,null,0,"-0",{"$error":"#DIV/0!"}]
[null,null,null,null,null,0,"-0",{"$error":"#DIV/0!"}]
[null,null,null,null,null,0,"-0",{"$error":"#DIV/0!"}]
[null,null,null,null,null,0,"-0",{"$error":"#DIV/0!"}]
[null,null,null,null,null,0,"-0",{"$error":"#DIV/0!"}]
[null,null,null,null,null,0,"-0",{"$error":"#DIV/0!"}]
[null,null,null,null,null,0,"-0",{"$error":"#DIV/0!"}]
[null,null,null,null,null,0,"-0",{"$error":"#DIV/0!"}]
[null,null,null,null,null,0,"-0",{"$error":"#DIV/0!"}]
[null,null,null,null,null,0,"-0",{"$error":"#DIV/0!"}]
[null,null,null,null,null,0,"-0",{"$error":"#DIV/0!"}]
[null,null,null,null,null,{"$f":"IF($C770=\"XU\",$D770,$C770)","v":0},{"$f":"CONCATENATE(A770,\"-\",F770)","v":"-0"},{"$f":"$E770/SUMIF(A:A,A770,E:E)","v":{"$error":"#DIV/0!"}}]
[null,null,null,null,null,0,"-0",{"$error":"#DIV/0!"}]
[null,null,null,null,null,0,"-0",{"$error":"#DIV/0!"}]
[null,null,null,null,null,0,"-0",{"$error":"#DIV/0!"}]
[null,null,null,null,null,0,"-0",{"$error":"#DIV/0!"}]
[null,null,null,null,null,0,"-0",{"$error":"#DIV/0!"}]
[null,null,null,null,null,0,"-0",{"$error":"#DIV/0!"}]
[null,null,null,null,null,0,"-0",{"$error":"#DIV/0!"}]
[null,null,null,null,null,0,"-0",{"$error":"#DIV/0!"}]
[null,null,null,null,null,0,"-0",{"$error":"#DIV/0!"}]
[null,null,null,null,null,0,"-0",{"$error":"#DIV/0!"}]
[null,null,null,null,null,0,"-0",{"$error":"#DIV/0!"}]
[null,null,null,null,null,0,"-0",{"$error":"#DIV/0!"}]
[null,null,null,null,null,0,"-0",{"$error":"#DIV/0!"}]
[null,null,null,null,null,0,"-0",{"$error":"#DIV/0!"}]
[null,null,null,null,null,0,"-0",{"$error":"#DIV/0!"}]
[null,null,null,null,null,0,"-0",{"$error":"#DIV/0!"}]
[null,null,null,null,null,0,"-0",{"$error":"#DIV/0!"}]
[null,null,null,null,null,0,"-0",{"$error":"#DIV/0!"}]
[null,null,null,null,null,0,"-0",{"$error":"#DIV/0!"}]
[null,null,null,null,null,0,"-0",{"$error":"#DIV/0!"}]
[null,null,null,null,null,0,"-0",{"$error":"#DIV/0!"}]
[null,null,null,null,null,0,"-0",{"$error":"#DIV/0!"}]
[null,null,null,null,null,0,"-0",{"$error":"#DIV/0!"}]
[null,null,null,null,null,0,"-0",{"$error":"#DIV/0!"}]
[null,null,null,null,null,0,"-0",{"$error":"#DIV/0!"}]
[null,null,null,null,null,0,"-0",{"$error":"#DIV/0!"}]
[null,null,null,null,null,0,"-0",{"$error":"#DIV/0!"}]
[null,null,null,null,null,0,"-0",{"$error":"#DIV/0!"}]
[null,null,null,null,null,0,"-0",{"$error":"#DIV/0!"}]
[null,null,null,null,null,0,"-0",{"$error":"#DIV/0!"}]
[null,null,null,null,null,0,"-0",{"$error":"#DIV/0!"}]
[null,null,null,null,null,0,"-0",{"$error":"#DIV/0!"}]
[null,null,null,null,null,0,"-0",{"$error":"#DIV/0!"}]
[null,null,null,null,null,0,"-0",{"$error":"#DIV/0!"}]
[null,null,null,null,null,0,"-0",{"$error":"#DIV/0!"}]
[null,null,null,null,null,0,"-0",{"$error":"#DIV/0!"}]
[null,null,null,null,null,0,"-0",{"$error":"#DIV/0!"}]
[null,null,null,null,null,0,"-0",{"$error":"#DIV/0!"}]
[null,null,null,null,null,0,"-0",{"$error":"#DIV/0!"}]
[null,null,null,null,null,0,"-0",{"$error":"#DIV/0!"}]
[null,null,null,null,null,0,"-0",{"$error":"#DIV/0!"}]
[null,null,null,null,null,0,"-0",{"$error":"#DIV/0!"}]
[null,null,null,null,null,0,"-0",{"$error":"#DIV/0!"}]
[null,null,null,null,null,0,"-0",{"$error":"#DIV/0!"}]
[null,null,null,null,null,0,"-0",{"$error":"#DIV/0!"}]
[null,null,null,null,null,0,"-0",{"$error":"#DIV/0!"}]
[null,null,null,null,null,0,"-0",{"$error":"#DIV/0!"}]
[null,null,null,null,null,0,"-0",{"$error":"#DIV/0!"}]
[null,null,null,null,null,0,"-0",{"$error":"#DIV/0!"}]
[null,null,null,null,null,0,"-0",{"$error":"#DIV/0!"}]
[null,null,null,null,null,0,"-0",{"$error":"#DIV/0!"}]
[null,null,null,null,null,0,"-0",{"$error":"#DIV/0!"}]
[null,null,null,null,null,0,"-0",{"$error":"#DIV/0!"}]
[null,null,null,null,null,0,"-0",{"$error":"#DIV/0!"}]
[null,null,null,null,null,0,"-0",{"$error":"#DIV/0!"}]
[null,null,null,null,null,0,"-0",{"$error":"#DIV/0!"}]
[null,null,null,null,null,0,"-0",{"$error":"#DIV/0!"}]
[null,null,null,null,null,0,"-0",{"$error":"#DIV/0!"}]
[null,null,null,null,null,0,"-0",{"$error":"#DIV/0!"}]
[null,null,null,null,null,0,"-0",{"$error":"#DIV/0!"}]
[null,null,null,null,null,0,"-0",{"$error":"#DIV/0!"}]
[null,null,null,null,null,0,"-0",{"$error":"#DIV/0!"}]
[null,null,null,null,null,0,"-0",{"$error":"#DIV/0!"}]
[null,null,null,null,null,{"$f":"IF($C834=\"XU\",$D834,$C834)","v":0},{"$f":"CONCATENATE(A834,\"-\",F834)","v":"-0"},{"$f":"$E834/SUMIF(A:A,A834,E:E)","v":{"$error":"#DIV/0!"}}]
[null,null,null,null,null,0,"-0",{"$error":"#DIV/0!"}]
[null,null,null,null,null,0,"-0",{"$error":"#DIV/0!"}]
[null,null,null,null,null,0,"-0",{"$error":"#DIV/0!"}]
[null,null,null,null,null,0,"-0",{"$error":"#DIV/0!"}]
[null,null,null,null,null,0,"-0",{"$error":"#DIV/0!"}]
[null,null,null,null,null,0,"-0",{"$error":"#DIV/0!"}]
[null,null,null,null,null,0,"-0",{"$error":"#DIV/0!"}]
[null,null,null,null,null,0,"-0",{"$error":"#DIV/0!"}]
[null,null,null,null,null,0,"-0",{"$error":"#DIV/0!"}]
[null,null,null,null,null,0,"-0",{"$error":"#DIV/0!"}]
[null,null,null,null,null,0,"-0",{"$error":"#DIV/0!"}]
[null,null,null,null,null,0,"-0",{"$error":"#DIV/0!"}]
[null,null,null,null,null,0,"-0",{"$error":"#DIV/0!"}]
[null,null,null,null,null,0,"-0",{"$error":"#DIV/0!"}]
[null,null,null,null,null,0,"-0",{"$error":"#DIV/0!"}]
[null,null,null,null,null,0,"-0",{"$error":"#DIV/0!"}]
[null,null,null,null,null,0,"-0",{"$error":"#DIV/0!"}]
[null,null,null,null,null,0,"-0",{"$error":"#DIV/0!"}]
[null,null,null,null,null,0,"-0",{"$error":"#DIV/0!"}]
[null,null,null,null,null,0,"-0",{"$error":"#DIV/0!"}]
[null,null,null,null,null,0,"-0",{"$error":"#DIV/0!"}]
[null,null,null,null,null,0,"-0",{"$error":"#DIV/0!"}]
[null,null,null,null,null,0,"-0",{"$error":"#DIV/0!"}]
[null,null,null,null,null,0,"-0",{"$error":"#DIV/0!"}]
[null,null,null,null,null,0,"-0",{"$error":"#DIV/0!"}]
[null,null,null,null,null,0,"-0",{"$error":"#DIV/0!"}]
[null,null,null,null,null,0,"-0",{"$error":"#DIV/0!"}]
[null,null,null,null,null,0,"-0",{"$error":"#DIV/0!"}]
[null,null,null,null,null,0,"-0",{"$error":"#DIV/0!"}]
[null,null,null,null,null,0,"-0",{"$error":"#DIV/0!"}]
[null,null,null,null,null,0,"-0",{"$error":"#DIV/0!"}]
[null,null,null,null,null,0,"-0",{"$error":"#DIV/0!"}]
[null,null,null,null,null,0,"-0",{"$error":"#DIV/0!"}]
[null,null,null,null,null,0,"-0",{"$error":"#DIV/0!"}]
[null,null,null,null,null,0,"-0",{"$error":"#DIV/0!"}]
[null,null,null,null,null,0,"-0",{"$error":"#DIV/0!"}]
[null,null,null,null,null,0,"-0",{"$error":"#DIV/0!"}]
[null,null,null,null,null,0,"-0",{"$error":"#DIV/0!"}]
[null,null,null,null,null,0,"-0",{"$error":"#DIV/0!"}]
[null,null,null,null,null,0,"-0",{"$error":"#DIV/0!"}]
[null,null,null,null,null,0,"-0",{"$error":"#DIV/0!"}]
[null,null,null,null,null,0,"-0",{"$error":"#DIV/0!"}]
[null,null,null,null,null,0,"-0",{"$error":"#DIV/0!"}]
[null,null,null,null,null,0,"-0",{"$error":"#DIV/0!"}]
[null,null,null,null,null,0,"-0",{"$error":"#DIV/0!"}]
[null,null,null,null,null,0,"-0",{"$error":"#DIV/0!"}]
[null,null,null,null,null,0,"-0",{"$error":"#DIV/0!"}]
[null,null,null,null,null,0,"-0",{"$error":"#DIV/0!"}]
[null,null,null,null,null,0,"-0",{"$error":"#DIV/0!"}]
[null,null,null,null,null,0,"-0",{"$error":"#DIV/0!"}]
[null,null,null,null,null,0,"-0",{"$error":"#DIV/0!"}]
[null,null,null,null,null,0,"-0",{"$error":"#DIV/0!"}]
[null,null,null,null,null,0,"-0",{"$error":"#DIV/0!"}]
[null,null,null,null,null,0,"-0",{"$error":"#DIV/0!"}]
[null,null,null,null,null,0,"-0",{"$error":"#DIV/0!"}]
[null,null,null,null,null,0,"-0",{"$error":"#DIV/0!"}]
[null,null,null,null,null,0,"-0",{"$error":"#DIV/0!"}]
[null,null,null,null,null,0,"-0",{"$error":"#DIV/0!"}]
[null,null,null,null,null,0,"-0",{"$error":"#DIV/0!"}]
[null,null,null,null,null,0,"-0",{"$error":"#DIV/0!"}]
[null,null,null,null,null,0,"-0",{"$error":"#DIV/0!"}]
[null,null,null,null,null,0,"-0",{"$error":"#DIV/0!"}]
[null,null,null,null,null,0,"-0",{"$error":"#DIV/0!"}]
[null,null,null,null,null,{"$f":"IF($C898=\"XU\",$D898,$C898)","v":0},{"$f":"CONCATENATE(A898,\"-\",F898)","v":"-0"},{"$f":"$E898/SUMIF(A:A,A898,E:E)","v":{"$error":"#DIV/0!"}}]
[null,null,null,null,null,0,"-0",{"$error":"#DIV/0!"}]
[null,null,null,null,null,0,"-0",{"$error":"#DIV/0!"}]
[null,null,null,null,null,0,"-0",{"$error":"#DIV/0!"}]
[null,null,null,null,null,0,"-0",{"$error":"#DIV/0!"}]
[null,null,null,null,null,0,"-0",{"$error":"#DIV/0!"}]
[null,null,null,null,null,0,"-0",{"$error":"#DIV/0!"}]
[null,null,null,null,null,0,"-0",{"$error":"#DIV/0!"}]
[null,null,null,null,null,0,"-0",{"$error":"#DIV/0!"}]
[null,null,null,null,null,0,"-0",{"$error":"#DIV/0!"}]
[null,null,null,null,null,0,"-0",{"$error":"#DIV/0!"}]
[null,null,null,null,null,0,"-0",{"$error":"#DIV/0!"}]
[null,null,null,null,null,0,"-0",{"$error":"#DIV/0!"}]
[null,null,null,null,null,0,"-0",{"$error":"#DIV/0!"}]
[null,null,null,null,null,0,"-0",{"$error":"#DIV/0!"}]
[null,null,null,null,null,0,"-0",{"$error":"#DIV/0!"}]
[null,null,null,null,null,0,"-0",{"$error":"#DIV/0!"}]
[null,null,null,null,null,0,"-0",{"$error":"#DIV/0!"}]
[null,null,null,null,null,0,"-0",{"$error":"#DIV/0!"}]
[null,null,null,null,null,0,"-0",{"$error":"#DIV/0!"}]
[null,null,null,null,null,0,"-0",{"$error":"#DIV/0!"}]
[null,null,null,null,null,0,"-0",{"$error":"#DIV/0!"}]
[null,null,null,null,null,0,"-0",{"$error":"#DIV/0!"}]
[null,null,null,null,null,0,"-0",{"$error":"#DIV/0!"}]
[null,null,null,null,null,0,"-0",{"$error":"#DIV/0!"}]
[null,null,null,null,null,0,"-0",{"$error":"#DIV/0!"}]
[null,null,null,null,null,0,"-0",{"$error":"#DIV/0!"}]
[null,null,null,null,null,0,"-0",{"$error":"#DIV/0!"}]
[null,null,null,null,null,0,"-0",{"$error":"#DIV/0!"}]
[null,null,null,null,null,0,"-0",{"$error":"#DIV/0!"}]
[null,null,null,null,null,0,"-0",{"$error":"#DIV/0!"}]
[null,null,null,null,null,0,"-0",{"$error":"#DIV/0!"}]
[null,null,null,null,null,0,"-0",{"$error":"#DIV/0!"}]
[null,null,null,null,null,0,"-0",{"$error":"#DIV/0!"}]
[null,null,null,null,null,0,"-0",{"$error":"#DIV/0!"}]
[null,null,null,null,null,0,"-0",{"$error":"#DIV/0!"}]
[null,null,null,null,null,0,"-0",{"$error":"#DIV/0!"}]
[null,null,null,null,null,0,"-0",{"$error":"#DIV/0!"}]
[null,null,null,null,null,0,"-0",{"$error":"#DIV/0!"}]
[null,null,null,null,null,0,"-0",{"$error":"#DIV/0!"}]
[null,null,null,null,null,0,"-0",{"$error":"#DIV/0!"}]
[null,null,null,null,null,0,"-0",{"$error":"#DIV/0!"}]
[null,null,null,null,null,0,"-0",{"$error":"#DIV/0!"}]
[null,null,null,null,null,0,"-0",{"$error":"#DIV/0!"}]
[null,null,null,null,null,0,"-0",{"$error":"#DIV/0!"}]
[null,null,null,null,null,0,"-0",{"$error":"#DIV/0!"}]
[null,null,null,null,null,0,"-0",{"$error":"#DIV/0!"}]
[null,null,null,null,null,0,"-0",{"$error":"#DIV/0!"}]
[null,null,null,null,null,0,"-0",{"$error":"#DIV/0!"}]
[null,null,null,null,null,0,"-0",{"$error":"#DIV/0!"}]
[null,null,null,null,null,0,"-0",{"$error":"#DIV/0!"}]
[null,null,null,null,null,0,"-0",{"$error":"#DIV/0!"}]
[null,null,null,null,null,0,"-0",{"$error":"#DIV/0!"}]
[null,null,null,null,null,0,"-0",{"$error":"#DIV/0!"}]
[null,null,null,null,null,0,"-0",{"$error":"#DIV/0!"}]
[null,null,null,null,null,0,"-0",{"$error":"#DIV/0!"}]
[null,null,null,null,null,0,"-0",{"$error":"#DIV/0!"}]
[null,null,null,null,null,0,"-0",{"$error":"#DIV/0!"}]
[null,null,null,null,null,0,"-0",{"$error":"#DIV/0!"}]
[null,null,null,null,null,0,"-0",{"$error":"#DIV/0!"}]
[null,null,null,null,null,0,"-0",{"$error":"#DIV/0!"}]
[null,null,null,null,null,0,"-0",{"$error":"#DIV/0!"}]
[null,null,null,null,null,0,"-0",{"$error":"#DIV/0!"}]
[null,null,null,null,null,0,"-0",{"$error":"#DIV/0!"}]
[null,null,null,null,null,{"$f":"IF($C962=\"XU\",$D962,$C962)","v":0},{"$f":"CONCATENATE(A962,\"-\",F962)","v":"-0"},{"$f":"$E962/SUMIF(A:A,A962,E:E)","v":{"$error":"#DIV/0!"}}]
[null,null,null,null,null,0,"-0",{"$error":"#DIV/0!"}]
[null,null,null,null,null,0,"-0",{"$error":"#DIV/0!"}]
[null,null,null,null,null,0,"-0",{"$error":"#DIV/0!"}]
[null,null,null,null,null,0,"-0",{"$error":"#DIV/0!"}]
[null,null,null,null,null,0,"-0",{"$error":"#DIV/0!"}]
[null,null,null,null,null,0,"-0",{"$error":"#DIV/0!"}]
[null,null,null,null,null,0,"-0",{"$error":"#DIV/0!"}]
[null,null,null,null,null,0,"-0",{"$error":"#DIV/0!"}]
[null,null,null,null,null,0,"-0",{"$error":"#DIV/0!"}]
[null,null,null,null,null,0,"-0",{"$error":"#DIV/0!"}]
[null,null,null,null,null,0,"-0",{"$error":"#DIV/0!"}]
[null,null,null,null,null,0,"-0",{"$error":"#DIV/0!"}]
[null,null,null,null,null,0,"-0",{"$error":"#DIV/0!"}]
[null,null,null,null,null,0,"-0",{"$error":"#DIV/0!"}]
[null,null,null,null,null,0,"-0",{"$error":"#DIV/0!"}]
[null,null,null,null,null,0,"-0",{"$error":"#DIV/0!"}]
[null,null,null,null,null,0,"-0",{"$error":"#DIV/0!"}]
[null,null,null,null,null,0,"-0",{"$error":"#DIV/0!"}]
[null,null,null,null,null,0,"-0",{"$error":"#DIV/0!"}]
[null,null,null,null,null,0,"-0",{"$error":"#DIV/0!"}]
[null,null,null,null,null,0,"-0",{"$error":"#DIV/0!"}]
[null,null,null,null,null,0,"-0",{"$error":"#DIV/0!"}]
[null,null,null,null,null,0,"-0",{"$error":"#DIV/0!"}]
[null,null,null,null,null,0,"-0",{"$error":"#DIV/0!"}]
[null,null,null,null,null,0,"-0",{"$error":"#DIV/0!"}]
[null,null,null,null,null,0,"-0",{"$error":"#DIV/0!"}]
[null,null,null,null,null,0,"-0",{"$error":"#DIV/0!"}]
[null,null,null,null,null,0,"-0",{"$error":"#DIV/0!"}]
[null,null,null,null,null,0,"-0",{"$error":"#DIV/0!"}]
[null,null,null,null,null,0,"-0",{"$error":"#DIV/0!"}]
[null,null,null,null,null,0,"-0",{"$error":"#DIV/0!"}]
[null,null,null,null,null,0,"-0",{"$error":"#DIV/0!"}]
[null,null,null,null,null,0,"-0",{"$error":"#DIV/0!"}]
[null,null,null,null,null,0,"-0",{"$error":"#DIV/0!"}]
[null,null,null,null,null,0,"-0",{"$error":"#DIV/0!"}]
[null,null,null,null,null,0,"-0",{"$error":"#DIV/0!"}]
[null,null,null,null,null,0,"-0",{"$error":"#DIV/0!"}]
[null,null,null,null,null,0,"-0",{"$error":"#DIV/0!"}]
[null,null,null,null,null,0,"-0",{"$error":"#DIV/0!"}]
[null,null,null,null,null,0,"-0",{"$error":"#DIV/0!"}]
[null,null,null,null,null,0,"-0",{"$error":"#DIV/0!"}]
[null,null,null,null,null,0,"-0",{"$error":"#DIV/0!"}]
[null,null,null,null,null,0,"-0",{"$error":"#DIV/0!"}]
[null,null,null,null,null,0,"-0",{"$error":"#DIV/0!"}]
[null,null,null,null,null,0,"-0",{"$error":"#DIV/0!"}]
[null,null,null,null,null,0,"-0",{"$error":"#DIV/0!"}]
[null,null,null,null,null,0,"-0",{"$error":"#DIV/0!"}]
[null,null,null,null,null,0,"-0",{"$error":"#DIV/0!"}]
[null,null,null,null,null,0,"-0",{"$error":"#DIV/0!"}]
[null,null,null,null,null,0,"-0",{"$error":"#DIV/0!"}]
[null,null,null,null,null,0,"-0",{"$error":"#DIV/0!"}]
[null,null,null,null,null,0,"-0",{"$error":"#DIV/0!"}]
[null,null,null,null,null,0,"-0",{"$error":"#DIV/0!"}]
[null,null,null,null,null,0,"-0",{"$error":"#DIV/0!"}]
[null,null,null,null,null,0,"-0",{"$error":"#DIV/0!"}]
[null,null,null,null,null,0,"-0",{"$error":"#DIV/0!"}]
[null,null,null,null,null,0,"-0",{"$error":"#DIV/0!"}]
[null,null,null,null,null,0,"-0",{"$error":"#DIV/0!"}]
[null,null,null,null,null,0,"-0",{"$error":"#DIV/0!"}]
[null,null,null,null,null,0,"-0",{"$error":"#DIV/0!"}]
[null,null,null,null,null,0,"-0",{"$error":"#DIV/0!"}]
[null,null,null,null,null,0,"-0",{"$error":"#DIV/0!"}]
[null,null,null,null,null,0,"-0",{"$error":"#DIV/0!"}]
[null,null,null,null,null,{"$f":"IF($C1026=\"XU\",$D1026,$C1026)","v":0},{"$f":"CONCATENATE(A1026,\"-\",F1026)","v":"-0"},{"$f":"$E1026/SUMIF(A:A,A1026,E:E)","v":{"$error":"#DIV/0!"}}]
[null,null,null,null,null,0,"-0",{"$error":"#DIV/0!"}]
[null,null,null,null,null,0,"-0",{"$error":"#DIV/0!"}]
[null,null,null,null,null,0,"-0",{"$error":"#DIV/0!"}]
[null,null,null,null,null,0,"-0",{"$error":"#DIV/0!"}]
[null,null,null,null,null,0,"-0",{"$error":"#DIV/0!"}]
[null,null,null,null,null,0,"-0",{"$error":"#DIV/0!"}]
[null,null,null,null,null,0,"-0",{"$error":"#DIV/0!"}]
[null,null,null,null,null,0,"-0",{"$error":"#DIV/0!"}]
[null,null,null,null,null,0,"-0",{"$error":"#DIV/0!"}]
[null,null,null,null,null,0,"-0",{"$error":"#DIV/0!"}]
[null,null,null,null,null,0,"-0",{"$error":"#DIV/0!"}]
[null,null,null,null,null,0,"-0",{"$error":"#DIV/0!"}]
[null,null,null,null,null,0,"-0",{"$error":"#DIV/0!"}]
[null,null,null,null,null,0,"-0",{"$error":"#DIV/0!"}]
[null,null,null,null,null,0,"-0",{"$error":"#DIV/0!"}]
[null,null,null,null,null,0,"-0",{"$error":"#DIV/0!"}]
[null,null,null,null,null,0,"-0",{"$error":"#DIV/0!"}]
[null,null,null,null,null,0,"-0",{"$error":"#DIV/0!"}]
[null,null,null,null,null,0,"-0",{"$error":"#DIV/0!"}]
[null,null,null,null,null,0,"-0",{"$error":"#DIV/0!"}]
[null,null,null,null,null,0,"-0",{"$error":"#DIV/0!"}]
[null,null,null,null,null,0,"-0",{"$error":"#DIV/0!"}]
[null,null,null,null,null,0,"-0",{"$error":"#DIV/0!"}]
[null,null,null,null,null,0,"-0",{"$error":"#DIV/0!"}]
[null,null,null,null,null,0,"-0",{"$error":"#DIV/0!"}]
[null,null,null,null,null,0,"-0",{"$error":"#DIV/0!"}]
[null,null,null,null,null,0,"-0",{"$error":"#DIV/0!"}]
[null,null,null,null,null,0,"-0",{"$error":"#DIV/0!"}]
[null,null,null,null,null,0,"-0",{"$error":"#DIV/0!"}]
[null,null,null,null,null,0,"-0",{"$error":"#DIV/0!"}]
[null,null,null,null,null,0,"-0",{"$error":"#DIV/0!"}]
[null,null,null,null,null,0,"-0",{"$error":"#DIV/0!"}]
[null,null,null,null,null,0,"-0",{"$error":"#DIV/0!"}]
[null,null,null,null,null,0,"-0",{"$error":"#DIV/0!"}]
[null,null,null,null,null,0,"-0",{"$error":"#DIV/0!"}]
[null,null,null,null,null,0,"-0",{"$error":"#DIV/0!"}]
[null,null,null,null,null,0,"-0",{"$error":"#DIV/0!"}]
[null,null,null,null,null,0,"-0",{"$error":"#DIV/0!"}]
[null,null,null,null,null,0,"-0",{"$error":"#DIV/0!"}]
[null,null,null,null,null,0,"-0",{"$error":"#DIV/0!"}]
[null,null,null,null,null,0,"-0",{"$error":"#DIV/0!"}]
[null,null,null,null,null,0,"-0",{"$error":"#DIV/0!"}]
[null,null,null,null,null,0,"-0",{"$error":"#DIV/0!"}]
[null,null,null,null,null,0,"-0",{"$error":"#DIV/0!"}]
[null,null,null,null,null,0,"-0",{"$error":"#DIV/0!"}]
[null,null,null,null,null,0,"-0",{"$error":"#DIV/0!"}]
[null,null,null,null,null,0,"-0",{"$error":"#DIV/0!"}]
[null,null,null,null,null,0,"-0",{"$error":"#DIV/0!"}]
[null,null,null,null,null,0,"-0",{"$error":"#DIV/0!"}]
[null,null,null,null,null,0,"-0",{"$error":"#DIV/0!"}]
[null,null,null,null,null,0,"-0",{"$error":"#DIV/0!"}]
[null,null,null,null,null,0,"-0",{"$error":"#DIV/0!"}]
[null,null,null,null,null,0,"-0",{"$error":"#DIV/0!"}]
[null,null,null,null,null,0,"-0",{"$error":"#DIV/0!"}]
[null,null,null,null,null,0,"-0",{"$error":"#DIV/0!"}]
[null,null,null,null,null,0,"-0",{"$error":"#DIV/0!"}]
[null,null,null,null,null,0,"-0",{"$error":"#DIV/0!"}]
[null,null,null,null,null,0,"-0",{"$error":"#DIV/0!"}]
[null,null,null,null,null,0,"-0",{"$error":"#DIV/0!"}]
[null,null,null,null,null,0,"-0",{"$error":"#DIV/0!"}]
[null,null,null,null,null,0,"-0",{"$error":"#DIV/0!"}]
[null,null,null,null,null,0,"-0",{"$error":"#DIV/0!"}]
[null,null,null,null,null,0,"-0",{"$error":"#DIV/0!"}]
[null,null,null,null,null,{"$f":"IF($C1090=\"XU\",$D1090,$C1090)","v":0},{"$f":"CONCATENATE(A1090,\"-\",F1090)","v":"-0"},{"$f":"$E1090/SUMIF(A:A,A1090,E:E)","v":{"$error":"#DIV/0!"}}]
[null,null,null,null,null,0,"-0",{"$error":"#DIV/0!"}]
[null,null,null,null,null,0,"-0",{"$error":"#DIV/0!"}]
[null,null,null,null,null,0,"-0",{"$error":"#DIV/0!"}]
[null,null,null,null,null,0,"-0",{"$error":"#DIV/0!"}]
[null,null,null,null,null,0,"-0",{"$error":"#DIV/0!"}]
[null,null,null,null,null,0,"-0",{"$error":"#DIV/0!"}]
[null,null,null,null,null,0,"-0",{"$error":"#DIV/0!"}]
[null,null,null,null,null,0,"-0",{"$error":"#DIV/0!"}]
[null,null,null,null,null,0,"-0",{"$error":"#DIV/0!"}]
[null,null,null,null,null,0,"-0",{"$error":"#DIV/0!"}]
[null,null,null,null,null,0,"-0",{"$error":"#DIV/0!"}]
[null,null,null,null,null,0,"-0",{"$error":"#DIV/0!"}]
[null,null,null,null,null,0,"-0",{"$error":"#DIV/0!"}]
[null,null,null,null,null,0,"-0",{"$error":"#DIV/0!"}]
[null,null,null,null,null,0,"-0",{"$error":"#DIV/0!"}]
[null,null,null,null,null,0,"-0",{"$error":"#DIV/0!"}]
[null,null,null,null,null,0,"-0",{"$error":"#DIV/0!"}]
[null,null,null,null,null,0,"-0",{"$error":"#DIV/0!"}]
[null,null,null,null,null,0,"-0",{"$error":"#DIV/0!"}]
[null,null,null,null,null,0,"-0",{"$error":"#DIV/0!"}]
[null,null,null,null,null,0,"-0",{"$error":"#DIV/0!"}]
[null,null,null,null,null,0,"-0",{"$error":"#DIV/0!"}]
[null,null,null,null,null,0,"-0",{"$error":"#DIV/0!"}]
[null,null,null,null,null,0,"-0",{"$error":"#DIV/0!"}]
[null,null,null,null,null,0,"-0",{"$error":"#DIV/0!"}]
[null,null,null,null,null,0,"-0",{"$error":"#DIV/0!"}]
[null,null,null,null,null,0,"-0",{"$error":"#DIV/0!"}]
[null,null,null,null,null,0,"-0",{"$error":"#DIV/0!"}]
[null,null,null,null,null,0,"-0",{"$error":"#DIV/0!"}]
[null,null,null,null,null,0,"-0",{"$error":"#DIV/0!"}]
[null,null,null,null,null,0,"-0",{"$error":"#DIV/0!"}]
[null,null,null,null,null,0,"-0",{"$error":"#DIV/0!"}]
[null,null,null,null,null,0,"-0",{"$error":"#DIV/0!"}]
[null,null,null,null,null,0,"-0",{"$error":"#DIV/0!"}]
[null,null,null,null,null,0,"-0",{"$error":"#DIV/0!"}]
[null,null,null,null,null,0,"-0",{"$error":"#DIV/0!"}]
[null,null,null,null,null,0,"-0",{"$error":"#DIV/0!"}]
[null,null,null,null,null,0,"-0",{"$error":"#DIV/0!"}]
[null,null,null,null,null,0,"-0",{"$error":"#DIV/0!"}]
[null,null,null,null,null,0,"-0",{"$error":"#DIV/0!"}]
[null,null,null,null,null,0,"-0",{"$error":"#DIV/0!"}]
[null,null,null,null,null,0,"-0",{"$error":"#DIV/0!"}]
[null,null,null,null,null,0,"-0",{"$error":"#DIV/0!"}]
[null,null,null,null,null,0,"-0",{"$error":"#DIV/0!"}]
[null,null,null,null,null,0,"-0",{"$error":"#DIV/0!"}]
[null,null,null,null,null,0,"-0",{"$error":"#DIV/0!"}]
[null,null,null,null,null,0,"-0",{"$error":"#DIV/0!"}]
[null,null,null,null,null,0,"-0",{"$error":"#DIV/0!"}]
[null,null,null,null,null,0,"-0",{"$error":"#DIV/0!"}]
[null,null,null,null,null,0,"-0",{"$error":"#DIV/0!"}]
[null,null,null,null,null,0,"-0",{"$error":"#DIV/0!"}]
[null,null,null,null,null,0,"-0",{"$error":"#DIV/0!"}]
[null,null,null,null,null,0,"-0",{"$error":"#DIV/0!"}]
[null,null,null,null,null,0,"-0",{"$error":"#DIV/0!"}]
[null,null,null,null,null,0,"-0",{"$error":"#DIV/0!"}]
[null,null,null,null,null,0,"-0",{"$error":"#DIV/0!"}]
[null,null,null,null,null,0,"-0",{"$error":"#DIV/0!"}]
[null,null,null,null,null,0,"-0",{"$error":"#DIV/0!"}]
[null,null,null,null,null,0,"-0",{"$error":"#DIV/0!"}]
[null,null,null,null,null,0,"-0",{"$error":"#DIV/0!"}]
[null,null,null,null,null,0,"-0",{"$error":"#DIV/0!"}]
[null,null,null,null,null,0,"-0",{"$error":"#DIV/0!"}]
[null,null,null,null,null,0,"-0",{"$error":"#DIV/0!"}]
[null,null,null,null,null,{"$f":"IF($C1154=\"XU\",$D1154,$C1154)","v":0},{"$f":"CONCATENATE(A1154,\"-\",F1154)","v":"-0"},{"$f":"$E1154/SUMIF(A:A,A1154,E:E)","v":{"$error":"#DIV/0!"}}]
[null,null,null,null,null,0,"-0",{"$error":"#DIV/0!"}]
[null,null,null,null,null,0,"-0",{"$error":"#DIV/0!"}]
[null,null,null,null,null,0,"-0",{"$error":"#DIV/0!"}]
[null,null,null,null,null,0,"-0",{"$error":"#DIV/0!"}]
[null,null,null,null,null,0,"-0",{"$error":"#DIV/0!"}]
[null,null,null,null,null,0,"-0",{"$error":"#DIV/0!"}]
[null,null,null,null,null,0,"-0",{"$error":"#DIV/0!"}]
[null,null,null,null,null,0,"-0",{"$error":"#DIV/0!"}]
[null,null,null,null,null,0,"-0",{"$error":"#DIV/0!"}]
[null,null,null,null,null,0,"-0",{"$error":"#DIV/0!"}]
[null,null,null,null,null,0,"-0",{"$error":"#DIV/0!"}]
[null,null,null,null,null,0,"-0",{"$error":"#DIV/0!"}]
[null,null,null,null,null,0,"-0",{"$error":"#DIV/0!"}]
[null,null,null,null,null,0,"-0",{"$error":"#DIV/0!"}]
[null,null,null,null,null,0,"-0",{"$error":"#DIV/0!"}]
[null,null,null,null,null,0,"-0",{"$error":"#DIV/0!"}]
[null,null,null,null,null,0,"-0",{"$error":"#DIV/0!"}]
[null,null,null,null,null,0,"-0",{"$error":"#DIV/0!"}]
[null,null,null,null,null,0,"-0",{"$error":"#DIV/0!"}]
[null,null,null,null,null,0,"-0",{"$error":"#DIV/0!"}]
[null,null,null,null,null,0,"-0",{"$error":"#DIV/0!"}]
[null,null,null,null,null,0,"-0",{"$error":"#DIV/0!"}]
[null,null,null,null,null,0,"-0",{"$error":"#DIV/0!"}]
[null,null,null,null,null,0,"-0",{"$error":"#DIV/0!"}]
[null,null,null,null,null,0,"-0",{"$error":"#DIV/0!"}]
[null,null,null,null,null,0,"-0",{"$error":"#DIV/0!"}]
[null,null,null,null,null,0,"-0",{"$error":"#DIV/0!"}]
[null,null,null,null,null,0,"-0",{"$error":"#DIV/0!"}]
[null,null,null,null,null,0,"-0",{"$error":"#DIV/0!"}]
[null,null,null,null,null,0,"-0",{"$error":"#DIV/0!"}]
[null,null,null,null,null,0,"-0",{"$error":"#DIV/0!"}]
[null,null,null,null,null,0,"-0",{"$error":"#DIV/0!"}]
[null,null,null,null,null,0,"-0",{"$error":"#DIV/0!"}]
[null,null,null,null,null,0,"-0",{"$error":"#DIV/0!"}]
[null,null,null,null,null,0,"-0",{"$error":"#DIV/0!"}]
[null,null,null,null,null,0,"-0",{"$error":"#DIV/0!"}]
[null,null,null,null,null,0,"-0",{"$error":"#DIV/0!"}]
[null,null,null,null,null,0,"-0",{"$error":"#DIV/0!"}]
[null,null,null,null,null,0,"-0",{"$error":"#DIV/0!"}]
[null,null,null,null,null,0,"-0",{"$error":"#DIV/0!"}]
[null,null,null,null,null,0,"-0",{"$error":"#DIV/0!"}]
[null,null,null,null,null,0,"-0",{"$error":"#DIV/0!"}]
[null,null,null,null,null,0,"-0",{"$error":"#DIV/0!"}]
[null,null,null,null,null,0,"-0",{"$error":"#DIV/0!"}]
[null,null,null,null,null,0,"-0",{"$error":"#DIV/0!"}]
[null,null,null,null,null,0,"-0",{"$error":"#DIV/0!"}]
[null,null,null,null,null,0,"-0",{"$error":"#DIV/0!"}]
[null,null,null,null,null,0,"-0",{"$error":"#DIV/0!"}]
[null,null,null,null,null,0,"-0",{"$error":"#DIV/0!"}]
[null,null,null,null,null,0,"-0",{"$error":"#DIV/0!"}]
[null,null,null,null,null,0,"-0",{"$error":"#DIV/0!"}]
[null,null,null,null,null,0,"-0",{"$error":"#DIV/0!"}]
[null,null,null,null,null,0,"-0",{"$error":"#DIV/0!"}]
[null,null,null,null,null,0,"-0",{"$error":"#DIV/0!"}]
[null,null,null,null,null,0,"-0",{"$error":"#DIV/0!"}]
[null,null,null,null,null,0,"-0",{"$error":"#DIV/0!"}]
[null,null,null,null,null,0,"-0",{"$error":"#DIV/0!"}]
[null,null,null,null,null,0,"-0",{"$error":"#DIV/0!"}]
[null,null,null,null,null,0,"-0",{"$error":"#DIV/0!"}]
[null,null,null,null,null,0,"-0",{"$error":"#DIV/0!"}]
[null,null,null,null,null,0,"-0",{"$error":"#DIV/0!"}]
[null,null,null,null,null,0,"-0",{"$error":"#DIV/0!"}]
[null,null,null,null,null,0,"-0",{"$error":"#DIV/0!"}]
[null,null,null,null,null,{"$f":"IF($C1218=\"XU\",$D1218,$C1218)","v":0},{"$f":"CONCATENATE(A1218,\"-\",F1218)","v":"-0"},{"$f":"$E1218/SUMIF(A:A,A1218,E:E)","v":{"$error":"#DIV/0!"}}]
[null,null,null,null,null,0,"-0",{"$error":"#DIV/0!"}]
[null,null,null,null,null,0,"-0",{"$error":"#DIV/0!"}]
[null,null,null,null,null,0,"-0",{"$error":"#DIV/0!"}]
[null,null,null,null,null,0,"-0",{"$error":"#DIV/0!"}]
[null,null,null,null,null,0,"-0",{"$error":"#DIV/0!"}]
[null,null,null,null,null,0,"-0",{"$error":"#DIV/0!"}]
[null,null,null,null,null,0,"-0",{"$error":"#DIV/0!"}]
[null,null,null,null,null,0,"-0",{"$error":"#DIV/0!"}]
[null,null,null,null,null,0,"-0",{"$error":"#DIV/0!"}]
[null,null,null,null,null,0,"-0",{"$error":"#DIV/0!"}]
[null,null,null,null,null,0,"-0",{"$error":"#DIV/0!"}]
[null,null,null,null,null,0,"-0",{"$error":"#DIV/0!"}]
[null,null,null,null,null,0,"-0",{"$error":"#DIV/0!"}]
[null,null,null,null,null,0,"-0",{"$error":"#DIV/0!"}]
[null,null,null,null,null,0,"-0",{"$error":"#DIV/0!"}]
[null,null,null,null,null,0,"-0",{"$error":"#DIV/0!"}]
[null,null,null,null,null,0,"-0",{"$error":"#DIV/0!"}]
[null,null,null,null,null,0,"-0",{"$error":"#DIV/0!"}]
[null,null,null,null,null,0,"-0",{"$error":"#DIV/0!"}]
[null,null,null,null,null,0,"-0",{"$error":"#DIV/0!"}]
[null,null,null,null,null,0,"-0",{"$error":"#DIV/0!"}]
[null,null,null,null,null,0,"-0",{"$error":"#DIV/0!"}]
[null,null,null,null,null,0,"-0",{"$error":"#DIV/0!"}]
[null,null,null,null,null,0,"-0",{"$error":"#DIV/0!"}]
[null,null,null,null,null,0,"-0",{"$error":"#DIV/0!"}]
[null,null,null,null,null,0,"-0",{"$error":"#DIV/0!"}]
[null,null,null,null,null,0,"-0",{"$error":"#DIV/0!"}]
[null,null,null,null,null,0,"-0",{"$error":"#DIV/0!"}]
[null,null,null,null,null,0,"-0",{"$error":"#DIV/0!"}]
[null,null,null,null,null,0,"-0",{"$error":"#DIV/0!"}]
[null,null,null,null,null,0,"-0",{"$error":"#DIV/0!"}]
[null,null,null,null,null,0,"-0",{"$error":"#DIV/0!"}]
[null,null,null,null,null,0,"-0",{"$error":"#DIV/0!"}]
[null,null,null,null,null,0,"-0",{"$error":"#DIV/0!"}]
[null,null,null,null,null,0,"-0",{"$error":"#DIV/0!"}]
[null,null,null,null,null,0,"-0",{"$error":"#DIV/0!"}]
[null,null,null,null,null,0,"-0",{"$error":"#DIV/0!"}]
[null,null,null,null,null,0,"-0",{"$error":"#DIV/0!"}]
[null,null,null,null,null,0,"-0",{"$error":"#DIV/0!"}]
[null,null,null,null,null,0,"-0",{"$error":"#DIV/0!"}]
[null,null,null,null,null,0,"-0",{"$error":"#DIV/0!"}]
[null,null,null,null,null,0,"-0",{"$error":"#DIV/0!"}]
[null,null,null,null,null,0,"-0",{"$error":"#DIV/0!"}]
[null,null,null,null,null,0,"-0",{"$error":"#DIV/0!"}]
[null,null,null,null,null,0,"-0",{"$error":"#DIV/0!"}]
[null,null,null,null,null,0,"-0",{"$error":"#DIV/0!"}]
[null,null,null,null,null,0,"-0",{"$error":"#DIV/0!"}]
[null,null,null,null,null,0,"-0",{"$error":"#DIV/0!"}]
[null,null,null,null,null,0,"-0",{"$error":"#DIV/0!"}]
[null,null,null,null,null,0,"-0",{"$error":"#DIV/0!"}]
[null,null,null,null,null,0,"-0",{"$error":"#DIV/0!"}]
[null,null,null,null,null,0,"-0",{"$error":"#DIV/0!"}]
[null,null,null,null,null,0,"-0",{"$error":"#DIV/0!"}]
[null,null,null,null,null,0,"-0",{"$error":"#DIV/0!"}]
[null,null,null,null,null,0,"-0",{"$error":"#DIV/0!"}]
[null,null,null,null,null,0,"-0",{"$error":"#DIV/0!"}]
[null,null,null,null,null,0,"-0",{"$error":"#DIV/0!"}]
[null,null,null,null,null,0,"-0",{"$error":"#DIV/0!"}]
[null,null,null,null,null,0,"-0",{"$error":"#DIV/0!"}]
[null,null,null,null,null,0,"-0",{"$error":"#DIV/0!"}]
[null,null,null,null,null,0,"-0",{"$error":"#DIV/0!"}]
[null,null,null,null,null,0,"-0",{"$error":"#DIV/0!"}]
[null,null,null,null,null,0,"-0",{"$error":"#DIV/0!"}]
[null,null,null,null,null,{"$f":"IF($C1282=\"XU\",$D1282,$C1282)","v":0},{"$f":"CONCATENATE(A1282,\"-\",F1282)","v":"-0"},{"$f":"$E1282/SUMIF(A:A,A1282,E:E)","v":{"$error":"#DIV/0!"}}]
[null,null,null,null,null,0,"-0",{"$error":"#DIV/0!"}]
[null,null,null,null,null,0,"-0",{"$error":"#DIV/0!"}]
[null,null,null,null,null,0,"-0",{"$error":"#DIV/0!"}]
[null,null,null,null,null,0,"-0",{"$error":"#DIV/0!"}]
[null,null,null,null,null,0,"-0",{"$error":"#DIV/0!"}]
[null,null,null,null,null,0,"-0",{"$error":"#DIV/0!"}]
[null,null,null,null,null,0,"-0",{"$error":"#DIV/0!"}]
[null,null,null,null,null,0,"-0",{"$error":"#DIV/0!"}]
[null,null,null,null,null,0,"-0",{"$error":"#DIV/0!"}]
[null,null,null,null,null,0,"-0",{"$error":"#DIV/0!"}]
[null,null,null,null,null,0,"-0",{"$error":"#DIV/0!"}]
[null,null,null,null,null,0,"-0",{"$error":"#DIV/0!"}]
[null,null,null,null,null,0,"-0",{"$error":"#DIV/0!"}]
[null,null,null,null,null,0,"-0",{"$error":"#DIV/0!"}]
[null,null,null,null,null,0,"-0",{"$error":"#DIV/0!"}]
[null,null,null,null,null,0,"-0",{"$error":"#DIV/0!"}]
[null,null,null,null,null,0,"-0",{"$error":"#DIV/0!"}]
[null,null,null,null,null,0,"-0",{"$error":"#DIV/0!"}]
[null,null,null,null,null,0,"-0",{"$error":"#DIV/0!"}]
[null,null,null,null,null,0,"-0",{"$error":"#DIV/0!"}]
[null,null,null,null,null,0,"-0",{"$error":"#DIV/0!"}]
[null,null,null,null,null,0,"-0",{"$error":"#DIV/0!"}]
[null,null,null,null,null,0,"-0",{"$error":"#DIV/0!"}]
[null,null,null,null,null,0,"-0",{"$error":"#DIV/0!"}]
[null,null,null,null,null,0,"-0",{"$error":"#DIV/0!"}]
[null,null,null,null,null,0,"-0",{"$error":"#DIV/0!"}]
[null,null,null,null,null,0,"-0",{"$error":"#DIV/0!"}]
[null,null,null,null,null,0,"-0",{"$error":"#DIV/0!"}]
[null,null,null,null,null,0,"-0",{"$error":"#DIV/0!"}]
[null,null,null,null,null,0,"-0",{"$error":"#DIV/0!"}]
[null,null,null,null,null,0,"-0",{"$error":"#DIV/0!"}]
[null,null,null,null,null,0,"-0",{"$error":"#DIV/0!"}]
[null,null,null,null,null,0,"-0",{"$error":"#DIV/0!"}]
[null,null,null,null,null,0,"-0",{"$error":"#DIV/0!"}]
[null,null,null,null,null,0,"-0",{"$error":"#DIV/0!"}]
[null,null,null,null,null,0,"-0",{"$error":"#DIV/0!"}]
[null,null,null,null,null,0,"-0",{"$error":"#DIV/0!"}]
[null,null,null,null,null,0,"-0",{"$error":"#DIV/0!"}]
[null,null,null,null,null,0,"-0",{"$error":"#DIV/0!"}]
[null,null,null,null,null,0,"-0",{"$error":"#DIV/0!"}]
[null,null,null,null,null,0,"-0",{"$error":"#DIV/0!"}]
[null,null,null,null,null,0,"-0",{"$error":"#DIV/0!"}]
[null,null,null,null,null,0,"-0",{"$error":"#DIV/0!"}]
[null,null,null,null,null,0,"-0",{"$error":"#DIV/0!"}]
[null,null,null,null,null,0,"-0",{"$error":"#DIV/0!"}]
[null,null,null,null,null,0,"-0",{"$error":"#DIV/0!"}]
[null,null,null,null,null,0,"-0",{"$error":"#DIV/0!"}]
[null,null,null,null,null,0,"-0",{"$error":"#DIV/0!"}]
[null,null,null,null,null,0,"-0",{"$error":"#DIV/0!"}]
[null,null,null,null,null,0,"-0",{"$error":"#DIV/0!"}]
[null,null,null,null,null,0,"-0",{"$error":"#DIV/0!"}]
[null,null,null,null,null,0,"-0",{"$error":"#DIV/0!"}]
[null,null,null,null,null,0,"-0",{"$error":"#DIV/0!"}]
[null,null,null,null,null,0,"-0",{"$error":"#DIV/0!"}]
[null,null,null,null,null,0,"-0",{"$error":"#DIV/0!"}]
[null,null,null,null,null,0,"-0",{"$error":"#DIV/0!"}]
[null,null,null,null,null,0,"-0",{"$error":"#DIV/0!"}]
[null,null,null,null,null,0,"-0",{"$error":"#DIV/0!"}]
[null,null,null,null,null,0,"-0",{"$error":"#DIV/0!"}]
[null,null,null,null,null,0,"-0",{"$error":"#DIV/0!"}]
[null,null,null,null,null,0,"-0",{"$error":"#DIV/0!"}]
[null,null,null,null,null,0,"-0",{"$error":"#DIV/0!"}]
[null,null,null,null,null,0,"-0",{"$error":"#DIV/0!"}]
[null,null,null,null,null,{"$f":"IF($C1346=\"XU\",$D1346,$C1346)","v":0},{"$f":"CONCATENATE(A1346,\"-\",F1346)","v":"-0"},{"$f":"$E1346/SUMIF(A:A,A1346,E:E)","v":{"$error":"#DIV/0!"}}]
[null,null,null,null,null,0,"-0",{"$error":"#DIV/0!"}]
[null,null,null,null,null,0,"-0",{"$error":"#DIV/0!"}]
[null,null,null,null,null,0,"-0",{"$error":"#DIV/0!"}]
[null,null,null,null,null,0,"-0",{"$error":"#DIV/0!"}]
[null,null,null,null,null,0,"-0",{"$error":"#DIV/0!"}]
[null,null,null,null,null,0,"-0",{"$error":"#DIV/0!"}]
[null,null,null,null,null,0,"-0",{"$error":"#DIV/0!"}]
[null,null,null,null,null,0,"-0",{"$error":"#DIV/0!"}]
[null,null,null,null,null,0,"-0",{"$error":"#DIV/0!"}]
[null,null,null,null,null,0,"-0",{"$error":"#DIV/0!"}]
[null,null,null,null,null,0,"-0",{"$error":"#DIV/0!"}]
[null,null,null,null,null,0,"-0",{"$error":"#DIV/0!"}]
[null,null,null,null,null,0,"-0",{"$error":"#DIV/0!"}]
[null,null,null,null,null,0,"-0",{"$error":"#DIV/0!"}]
[null,null,null,null,null,0,"-0",{"$error":"#DIV/0!"}]
[null,null,null,null,null,0,"-0",{"$error":"#DIV/0!"}]
[null,null,null,null,null,0,"-0",{"$error":"#DIV/0!"}]
[null,null,null,null,null,0,"-0",{"$error":"#DIV/0!"}]
[null,null,null,null,null,0,"-0",{"$error":"#DIV/0!"}]
[null,null,null,null,null,0,"-0",{"$error":"#DIV/0!"}]
[null,null,null,null,null,0,"-0",{"$error":"#DIV/0!"}]
[null,null,null,null,null,0,"-0",{"$error":"#DIV/0!"}]
[null,null,null,null,null,0,"-0",{"$error":"#DIV/0!"}]
[null,null,null,null,null,0,"-0",{"$error":"#DIV/0!"}]
[null,null,null,null,null,0,"-0",{"$error":"#DIV/0!"}]
[null,null,null,null,null,0,"-0",{"$error":"#DIV/0!"}]
[null,null,null,null,null,0,"-0",{"$error":"#DIV/0!"}]
[null,null,null,null,null,0,"-0",{"$error":"#DIV/0!"}]
[null,null,null,null,null,0,"-0",{"$error":"#DIV/0!"}]
[null,null,null,null,null,0,"-0",{"$error":"#DIV/0!"}]
[null,null,null,null,null,0,"-0",{"$error":"#DIV/0!"}]
[null,null,null,null,null,0,"-0",{"$error":"#DIV/0!"}]
[null,null,null,null,null,0,"-0",{"$error":"#DIV/0!"}]
[null,null,null,null,null,0,"-0",{"$error":"#DIV/0!"}]
[null,null,null,null,null,0,"-0",{"$error":"#DIV/0!"}]
[null,null,null,null,null,0,"-0",{"$error":"#DIV/0!"}]
[null,null,null,null,null,0,"-0",{"$error":"#DIV/0!"}]
[null,null,null,null,null,0,"-0",{"$error":"#DIV/0!"}]
[null,null,null,null,null,0,"-0",{"$error":"#DIV/0!"}]
[null,null,null,null,null,0,"-0",{"$error":"#DIV/0!"}]
[null,null,null,null,null,0,"-0",{"$error":"#DIV/0!"}]
[null,null,null,null,null,0,"-0",{"$error":"#DIV/0!"}]
[null,null,null,null,null,0,"-0",{"$error":"#DIV/0!"}]
[null,null,null,null,null,0,"-0",{"$error":"#DIV/0!"}]
[null,null,null,null,null,0,"-0",{"$error":"#DIV/0!"}]
[null,null,null,null,null,0,"-0",{"$error":"#DIV/0!"}]
[null,null,null,null,null,0,"-0",{"$error":"#DIV/0!"}]
[null,null,null,null,null,0,"-0",{"$error":"#DIV/0!"}]
[null,null,null,null,null,0,"-0",{"$error":"#DIV/0!"}]
[null,null,null,null,null,0,"-0",{"$error":"#DIV/0!"}]
[null,null,null,null,null,0,"-0",{"$error":"#DIV/0!"}]
[null,null,null,null,null,0,"-0",{"$error":"#DIV/0!"}]
[null,null,null,null,null,0,"-0",{"$error":"#DIV/0!"}]
[null,null,null,null,null,0,"-0",{"$error":"#DIV/0!"}]
[null,null,null,null,null,0,"-0",{"$error":"#DIV/0!"}]
[null,null,null,null,null,0,"-0",{"$error":"#DIV/0!"}]
[null,null,null,null,null,0,"-0",{"$error":"#DIV/0!"}]
[null,null,null,null,null,0,"-0",{"$error":"#DIV/0!"}]
[null,null,null,null,null,0,"-0",{"$error":"#DIV/0!"}]
[null,null,null,null,null,0,"-0",{"$error":"#DIV/0!"}]
[null,null,null,null,null,0,"-0",{"$error":"#DIV/0!"}]
[null,null,null,null,null,0,"-0",{"$error":"#DIV/0!"}]
[null,null,null,null,null,0,"-0",{"$error":"#DIV/0!"}]
[null,null,null,null,null,{"$f":"IF($C1410=\"XU\",$D1410,$C1410)","v":0},{"$f":"CONCATENATE(A1410,\"-\",F1410)","v":"-0"},{"$f":"$E1410/SUMIF(A:A,A1410,E:E)","v":{"$error":"#DIV/0!"}}]
[null,null,null,null,null,0,"-0",{"$error":"#DIV/0!"}]
[null,null,null,null,null,0,"-0",{"$error":"#DIV/0!"}]
[null,null,null,null,null,0,"-0",{"$error":"#DIV/0!"}]
[null,null,null,null,null,0,"-0",{"$error":"#DIV/0!"}]
[null,null,null,null,null,0,"-0",{"$error":"#DIV/0!"}]
[null,null,null,null,null,0,"-0",{"$error":"#DIV/0!"}]
[null,null,null,null,null,0,"-0",{"$error":"#DIV/0!"}]
[null,null,null,null,null,0,"-0",{"$error":"#DIV/0!"}]
[null,null,null,null,null,0,"-0",{"$error":"#DIV/0!"}]
[null,null,null,null,null,0,"-0",{"$error":"#DIV/0!"}]
[null,null,null,null,null,0,"-0",{"$error":"#DIV/0!"}]
[null,null,null,null,null,0,"-0",{"$error":"#DIV/0!"}]
[null,null,null,null,null,0,"-0",{"$error":"#DIV/0!"}]
[null,null,null,null,null,0,"-0",{"$error":"#DIV/0!"}]
[null,null,null,null,null,0,"-0",{"$error":"#DIV/0!"}]
[null,null,null,null,null,0,"-0",{"$error":"#DIV/0!"}]
[null,null,null,null,null,0,"-0",{"$error":"#DIV/0!"}]
[null,null,null,null,null,0,"-0",{"$error":"#DIV/0!"}]
[null,null,null,null,null,0,"-0",{"$error":"#DIV/0!"}]
[null,null,null,null,null,0,"-0",{"$error":"#DIV/0!"}]
[null,null,null,null,null,0,"-0",{"$error":"#DIV/0!"}]
[null,null,null,null,null,0,"-0",{"$error":"#DIV/0!"}]
[null,null,null,null,null,0,"-0",{"$error":"#DIV/0!"}]
[null,null,null,null,null,0,"-0",{"$error":"#DIV/0!"}]
[null,null,null,null,null,0,"-0",{"$error":"#DIV/0!"}]
[null,null,null,null,null,0,"-0",{"$error":"#DIV/0!"}]
[null,null,null,null,null,0,"-0",{"$error":"#DIV/0!"}]
[null,null,null,null,null,0,"-0",{"$error":"#DIV/0!"}]
[null,null,null,null,null,0,"-0",{"$error":"#DIV/0!"}]
[null,null,null,null,null,0,"-0",{"$error":"#DIV/0!"}]
[null,null,null,null,null,0,"-0",{"$error":"#DIV/0!"}]
[null,null,null,null,null,0,"-0",{"$error":"#DIV/0!"}]
[null,null,null,null,null,0,"-0",{"$error":"#DIV/0!"}]
[null,null,null,null,null,0,"-0",{"$error":"#DIV/0!"}]
[null,null,null,null,null,0,"-0",{"$error":"#DIV/0!"}]
[null,null,null,null,null,0,"-0",{"$error":"#DIV/0!"}]
[null,null,null,null,null,0,"-0",{"$error":"#DIV/0!"}]
[null,null,null,null,null,0,"-0",{"$error":"#DIV/0!"}]
[null,null,null,null,null,0,"-0",{"$error":"#DIV/0!"}]
[null,null,null,null,null,0,"-0",{"$error":"#DIV/0!"}]
[null,null,null,null,null,0,"-0",{"$error":"#DIV/0!"}]
[null,null,null,null,null,0,"-0",{"$error":"#DIV/0!"}]
[null,null,null,null,null,0,"-0",{"$error":"#DIV/0!"}]
[null,null,null,null,null,0,"-0",{"$error":"#DIV/0!"}]
[null,null,null,null,null,0,"-0",{"$error":"#DIV/0!"}]
[null,null,null,null,null,0,"-0",{"$error":"#DIV/0!"}]
[null,null,null,null,null,0,"-0",{"$error":"#DIV/0!"}]
[null,null,null,null,null,0,"-0",{"$error":"#DIV/0!"}]
[null,null,null,null,null,0,"-0",{"$error":"#DIV/0!"}]
[null,null,null,null,null,0,"-0",{"$error":"#DIV/0!"}]
[null,null,null,null,null,0,"-0",{"$error":"#DIV/0!"}]
[null,null,null,null,null,0,"-0",{"$error":"#DIV/0!"}]
[null,null,null,null,null,0,"-0",{"$error":"#DIV/0!"}]
[null,null,null,null,null,0,"-0",{"$error":"#DIV/0!"}]
[null,null,null,null,null,0,"-0",{"$error":"#DIV/0!"}]
[null,null,null,null,null,0,"-0",{"$error":"#DIV/0!"}]
[null,null,null,null,null,0,"-0",{"$error":"#DIV/0!"}]
[null,null,null,null,null,0,"-0",{"$error":"#DIV/0!"}]
[null,null,null,null,null,0,"-0",{"$error":"#DIV/0!"}]
[null,null,null,null,null,0,"-0",{"$error":"#DIV/0!"}]
[null,null,null,null,null,0,"-0",{"$error":"#DIV/0!"}]
[null,null,null,null,null,0,"-0",{"$error":"#DIV/0!"}]
[null,null,null,null,null,0,"-0",{"$error":"#DIV/0!"}]
[null,null,null,null,null,{"$f":"IF($C1474=\"XU\",$D1474,$C1474)","v":0},{"$f":"CONCATENATE(A1474,\"-\",F1474)","v":"-0"},{"$f":"$E1474/SUMIF(A:A,A1474,E:E)","v":{"$error":"#DIV/0!"}}]
[null,null,null,null,null,0,"-0",{"$error":"#DIV/0!"}]
[null,null,null,null,null,0,"-0",{"$error":"#DIV/0!"}]
[null,null,null,null,null,0,"-0",{"$error":"#DIV/0!"}]
[null,null,null,null,null,0,"-0",{"$error":"#DIV/0!"}]
[null,null,null,null,null,0,"-0",{"$error":"#DIV/0!"}]
[null,null,null,null,null,0,"-0",{"$error":"#DIV/0!"}]
[null,null,null,null,null,0,"-0",{"$error":"#DIV/0!"}]
[null,null,null,null,null,0,"-0",{"$error":"#DIV/0!"}]
[null,null,null,null,null,0,"-0",{"$error":"#DIV/0!"}]
[null,null,null,null,null,0,"-0",{"$error":"#DIV/0!"}]
[null,null,null,null,null,0,"-0",{"$error":"#DIV/0!"}]
[null,null,null,null,null,0,"-0",{"$error":"#DIV/0!"}]
[null,null,null,null,null,0,"-0",{"$error":"#DIV/0!"}]
[null,null,null,null,null,0,"-0",{"$error":"#DIV/0!"}]
[null,null,null,null,null,0,"-0",{"$error":"#DIV/0!"}]
[null,null,null,null,null,0,"-0",{"$error":"#DIV/0!"}]
[null,null,null,null,null,0,"-0",{"$error":"#DIV/0!"}]
[null,null,null,null,null,0,"-0",{"$error":"#DIV/0!"}]
[null,null,null,null,null,0,"-0",{"$error":"#DIV/0!"}]
[null,null,null,null,null,0,"-0",{"$error":"#DIV/0!"}]
[null,null,null,null,null,0,"-0",{"$error":"#DIV/0!"}]
[null,null,null,null,null,0,"-0",{"$error":"#DIV/0!"}]
[null,null,null,null,null,0,"-0",{"$error":"#DIV/0!"}]
[null,null,null,null,null,0,"-0",{"$error":"#DIV/0!"}]
[null,null,null,null,null,0,"-0",{"$error":"#DIV/0!"}]
[null,null,null,null,null,0,"-0",{"$error":"#DIV/0!"}]
[null,null,null,null,null,0,"-0",{"$error":"#DIV/0!"}]
[null,null,null,null,null,0,"-0",{"$error":"#DIV/0!"}]
[null,null,null,null,null,0,"-0",{"$error":"#DIV/0!"}]
[null,null,null,null,null,0,"-0",{"$error":"#DIV/0!"}]
[null,null,null,null,null,0,"-0",{"$error":"#DIV/0!"}]
[null,null,null,null,null,0,"-0",{"$error":"#DIV/0!"}]
[null,null,null,null,null,0,"-0",{"$error":"#DIV/0!"}]
[null,null,null,null,null,0,"-0",{"$error":"#DIV/0!"}]
[null,null,null,null,null,0,"-0",{"$error":"#DIV/0!"}]
[null,null,null,null,null,0,"-0",{"$error":"#DIV/0!"}]
[null,null,null,null,null,0,"-0",{"$error":"#DIV/0!"}]
[null,null,null,null,null,0,"-0",{"$error":"#DIV/0!"}]
[null,null,null,null,null,0,"-0",{"$error":"#DIV/0!"}]
[null,null,null,null,null,0,"-0",{"$error":"#DIV/0!"}]
[null,null,null,null,null,0,"-0",{"$error":"#DIV/0!"}]
[null,null,null,null,null,0,"-0",{"$error":"#DIV/0!"}]
[null,null,null,null,null,0,"-0",{"$error":"#DIV/0!"}]
[null,null,null,null,null,0,"-0",{"$error":"#DIV/0!"}]
[null,null,null,null,null,0,"-0",{"$error":"#DIV/0!"}]
[null,null,null,null,null,0,"-0",{"$error":"#DIV/0!"}]
[null,null,null,null,null,0,"-0",{"$error":"#DIV/0!"}]
[null,null,null,null,null,0,"-0",{"$error":"#DIV/0!"}]
[null,null,null,null,null,0,"-0",{"$error":"#DIV/0!"}]
[null,null,null,null,null,0,"-0",{"$error":"#DIV/0!"}]
[null,null,null,null,null,0,"-0",{"$error":"#DIV/0!"}]
[null,null,null,null,null,0,"-0",{"$error":"#DIV/0!"}]
[null,null,null,null,null,0,"-0",{"$error":"#DIV/0!"}]
[null,null,null,null,null,0,"-0",{"$error":"#DIV/0!"}]
[null,null,null,null,null,0,"-0",{"$error":"#DIV/0!"}]
[null,null,null,null,null,0,"-0",{"$error":"#DIV/0!"}]
[null,null,null,null,null,0,"-0",{"$error":"#DIV/0!"}]
[null,null,null,null,null,0,"-0",{"$error":"#DIV/0!"}]
[null,null,null,null,null,0,"-0",{"$error":"#DIV/0!"}]
[null,null,null,null,null,0,"-0",{"$error":"#DIV/0!"}]
[null,null,null,null,null,0,"-0",{"$error":"#DIV/0!"}]
[null,null,null,null,null,0,"-0",{"$error":"#DIV/0!"}]
[null,null,null,null,null,0,"-0",{"$error":"#DIV/0!"}]
[null,null,null,null,null,{"$f":"IF($C1538=\"XU\",$D1538,$C1538)","v":0},{"$f":"CONCATENATE(A1538,\"-\",F1538)","v":"-0"},{"$f":"$E1538/SUMIF(A:A,A1538,E:E)","v":{"$error":"#DIV/0!"}}]
[null,null,null,null,null,0,"-0",{"$error":"#DIV/0!"}]
[null,null,null,null,null,0,"-0",{"$error":"#DIV/0!"}]
[null,null,null,null,null,0,"-0",{"$error":"#DIV/0!"}]
[null,null,null,null,null,0,"-0",{"$error":"#DIV/0!"}]
[null,null,null,null,null,0,"-0",{"$error":"#DIV/0!"}]
[null,null,null,null,null,0,"-0",{"$error":"#DIV/0!"}]
[null,null,null,null,null,0,"-0",{"$error":"#DIV/0!"}]
[null,null,null,null,null,0,"-0",{"$error":"#DIV/0!"}]
[null,null,null,null,null,0,"-0",{"$error":"#DIV/0!"}]
[null,null,null,null,null,0,"-0",{"$error":"#DIV/0!"}]
[null,null,null,null,null,0,"-0",{"$error":"#DIV/0!"}]
[null,null,null,null,null,0,"-0",{"$error":"#DIV/0!"}]
[null,null,null,null,null,0,"-0",{"$error":"#DIV/0!"}]
[null,null,null,null,null,0,"-0",{"$error":"#DIV/0!"}]
[null,null,null,null,null,0,"-0",{"$error":"#DIV/0!"}]
[null,null,null,null,null,0,"-0",{"$error":"#DIV/0!"}]
[null,null,null,null,null,0,"-0",{"$error":"#DIV/0!"}]
[null,null,null,null,null,0,"-0",{"$error":"#DIV/0!"}]
[null,null,null,null,null,0,"-0",{"$error":"#DIV/0!"}]
[null,null,null,null,null,0,"-0",{"$error":"#DIV/0!"}]
[null,null,null,null,null,0,"-0",{"$error":"#DIV/0!"}]
[null,null,null,null,null,0,"-0",{"$error":"#DIV/0!"}]
[null,null,null,null,null,0,"-0",{"$error":"#DIV/0!"}]
[null,null,null,null,null,0,"-0",{"$error":"#DIV/0!"}]
[null,null,null,null,null,0,"-0",{"$error":"#DIV/0!"}]
[null,null,null,null,null,0,"-0",{"$error":"#DIV/0!"}]
[null,null,null,null,null,0,"-0",{"$error":"#DIV/0!"}]
[null,null,null,null,null,0,"-0",{"$error":"#DIV/0!"}]
[null,null,null,null,null,0,"-0",{"$error":"#DIV/0!"}]
[null,null,null,null,null,0,"-0",{"$error":"#DIV/0!"}]
[null,null,null,null,null,0,"-0",{"$error":"#DIV/0!"}]
[null,null,null,null,null,0,"-0",{"$error":"#DIV/0!"}]
[null,null,null,null,null,0,"-0",{"$error":"#DIV/0!"}]
[null,null,null,null,null,0,"-0",{"$error":"#DIV/0!"}]
[null,null,null,null,null,0,"-0",{"$error":"#DIV/0!"}]
[null,null,null,null,null,0,"-0",{"$error":"#DIV/0!"}]
[null,null,null,null,null,0,"-0",{"$error":"#DIV/0!"}]
[null,null,null,null,null,0,"-0",{"$error":"#DIV/0!"}]
[null,null,null,null,null,0,"-0",{"$error":"#DIV/0!"}]
[null,null,null,null,null,0,"-0",{"$error":"#DIV/0!"}]
[null,null,null,null,null,0,"-0",{"$error":"#DIV/0!"}]
[null,null,null,null,null,0,"-0",{"$error":"#DIV/0!"}]
[null,null,null,null,null,0,"-0",{"$error":"#DIV/0!"}]
[null,null,null,null,null,0,"-0",{"$error":"#DIV/0!"}]
[null,null,null,null,null,0,"-0",{"$error":"#DIV/0!"}]
[null,null,null,null,null,0,"-0",{"$error":"#DIV/0!"}]
[null,null,null,null,null,0,"-0",{"$error":"#DIV/0!"}]
[null,null,null,null,null,0,"-0",{"$error":"#DIV/0!"}]
[null,null,null,null,null,0,"-0",{"$error":"#DIV/0!"}]
[null,null,null,null,null,0,"-0",{"$error":"#DIV/0!"}]
[null,null,null,null,null,0,"-0",{"$error":"#DIV/0!"}]
[null,null,null,null,null,0,"-0",{"$error":"#DIV/0!"}]
[null,null,null,null,null,0,"-0",{"$error":"#DIV/0!"}]
[null,null,null,null,null,0,"-0",{"$error":"#DIV/0!"}]
[null,null,null,null,null,0,"-0",{"$error":"#DIV/0!"}]
[null,null,null,null,null,0,"-0",{"$error":"#DIV/0!"}]
[null,null,null,null,null,0,"-0",{"$error":"#DIV/0!"}]
[null,null,null,null,null,0,"-0",{"$error":"#DIV/0!"}]
[null,null,null,null,null,0,"-0",{"$error":"#DIV/0!"}]
[null,null,null,null,null,0,"-0",{"$error":"#DIV/0!"}]
[null,null,null,null,null,0,"-0",{"$error":"#DIV/0!"}]
[null,null,null,null,null,0,"-0",{"$error":"#DIV/0!"}]
[null,null,null,null,null,0,"-0",{"$error":"#DIV/0!"}]
[null,null,null,null,null,{"$f":"IF($C1602=\"XU\",$D1602,$C1602)","v":0},{"$f":"CONCATENATE(A1602,\"-\",F1602)","v":"-0"},{"$f":"$E1602/SUMIF(A:A,A1602,E:E)","v":{"$error":"#DIV/0!"}}]
[null,null,null,null,null,0,"-0",{"$error":"#DIV/0!"}]
[null,null,null,null,null,0,"-0",{"$error":"#DIV/0!"}]
[null,null,null,null,null,0,"-0",{"$error":"#DIV/0!"}]
[null,null,null,null,null,0,"-0",{"$error":"#DIV/0!"}]
[null,null,null,null,null,0,"-0",{"$error":"#DIV/0!"}]
[null,null,null,null,null,0,"-0",{"$error":"#DIV/0!"}]
[null,null,null,null,null,0,"-0",{"$error":"#DIV/0!"}]
[null,null,null,null,null,0,"-0",{"$error":"#DIV/0!"}]
[null,null,null,null,null,0,"-0",{"$error":"#DIV/0!"}]
[null,null,null,null,null,0,"-0",{"$error":"#DIV/0!"}]
[null,null,null,null,null,0,"-0",{"$error":"#DIV/0!"}]
[null,null,null,null,null,0,"-0",{"$error":"#DIV/0!"}]
[null,null,null,null,null,0,"-0",{"$error":"#DIV/0!"}]
[null,null,null,null,null,0,"-0",{"$error":"#DIV/0!"}]
[null,null,null,null,null,0,"-0",{"$error":"#DIV/0!"}]
[null,null,null,null,null,0,"-0",{"$error":"#DIV/0!"}]
[null,null,null,null,null,0,"-0",{"$error":"#DIV/0!"}]
[null,null,null,null,null,0,"-0",{"$error":"#DIV/0!"}]
[null,null,null,null,null,0,"-0",{"$error":"#DIV/0!"}]
[null,null,null,null,null,0,"-0",{"$error":"#DIV/0!"}]
[null,null,null,null,null,0,"-0",{"$error":"#DIV/0!"}]
[null,null,null,null,null,0,"-0",{"$error":"#DIV/0!"}]
[null,null,null,null,null,0,"-0",{"$error":"#DIV/0!"}]
[null,null,null,null,null,0,"-0",{"$error":"#DIV/0!"}]
[null,null,null,null,null,0,"-0",{"$error":"#DIV/0!"}]
[null,null,null,null,null,0,"-0",{"$error":"#DIV/0!"}]
[null,null,null,null,null,0,"-0",{"$error":"#DIV/0!"}]
[null,null,null,null,null,0,"-0",{"$error":"#DIV/0!"}]
[null,null,null,null,null,0,"-0",{"$error":"#DIV/0!"}]
[null,null,null,null,null,0,"-0",{"$error":"#DIV/0!"}]
[null,null,null,null,null,0,"-0",{"$error":"#DIV/0!"}]
[null,null,null,null,null,0,"-0",{"$error":"#DIV/0!"}]
[null,null,null,null,null,0,"-0",{"$error":"#DIV/0!"}]
[null,null,null,null,null,0,"-0",{"$error":"#DIV/0!"}]
[null,null,null,null,null,0,"-0",{"$error":"#DIV/0!"}]
[null,null,null,null,null,0,"-0",{"$error":"#DIV/0!"}]
[null,null,null,null,null,0,"-0",{"$error":"#DIV/0!"}]
[null,null,null,null,null,0,"-0",{"$error":"#DIV/0!"}]
[null,null,null,null,null,0,"-0",{"$error":"#DIV/0!"}]
[null,null,null,null,null,0,"-0",{"$error":"#DIV/0!"}]
[null,null,null,null,null,0,"-0",{"$error":"#DIV/0!"}]
[null,null,null,null,null,0,"-0",{"$error":"#DIV/0!"}]
[null,null,null,null,null,0,"-0",{"$error":"#DIV/0!"}]
[null,null,null,null,null,0,"-0",{"$error":"#DIV/0!"}]
[null,null,null,null,null,0,"-0",{"$error":"#DIV/0!"}]
[null,null,null,null,null,0,"-0",{"$error":"#DIV/0!"}]
[null,null,null,null,null,0,"-0",{"$error":"#DIV/0!"}]
[null,null,null,null,null,0,"-0",{"$error":"#DIV/0!"}]
[null,null,null,null,null,0,"-0",{"$error":"#DIV/0!"}]
[null,null,null,null,null,0,"-0",{"$error":"#DIV/0!"}]
[null,null,null,null,null,0,"-0",{"$error":"#DIV/0!"}]
[null,null,null,null,null,0,"-0",{"$error":"#DIV/0!"}]
[null,null,null,null,null,0,"-0",{"$error":"#DIV/0!"}]
[null,null,null,null,null,0,"-0",{"$error":"#DIV/0!"}]
[null,null,null,null,null,0,"-0",{"$error":"#DIV/0!"}]
[null,null,null,null,null,0,"-0",{"$error":"#DIV/0!"}]
[null,null,null,null,null,0,"-0",{"$error":"#DIV/0!"}]
[null,null,null,null,null,0,"-0",{"$error":"#DIV/0!"}]
[null,null,null,null,null,0,"-0",{"$error":"#DIV/0!"}]
[null,null,null,null,null,0,"-0",{"$error":"#DIV/0!"}]
[null,null,null,null,null,0,"-0",{"$error":"#DIV/0!"}]
[null,null,null,null,null,0,"-0",{"$error":"#DIV/0!"}]
[null,null,null,null,null,0,"-0",{"$error":"#DIV/0!"}]
[null,null,null,null,null,{"$f":"IF($C1666=\"XU\",$D1666,$C1666)","v":0},{"$f":"CONCATENATE(A1666,\"-\",F1666)","v":"-0"},{"$f":"$E1666/SUMIF(A:A,A1666,E:E)","v":{"$error":"#DIV/0!"}}]
[null,null,null,null,null,0,"-0",{"$error":"#DIV/0!"}]
[null,null,null,null,null,0,"-0",{"$error":"#DIV/0!"}]
[null,null,null,null,null,0,"-0",{"$error":"#DIV/0!"}]
[null,null,null,null,null,0,"-0",{"$error":"#DIV/0!"}]
[null,null,null,null,null,0,"-0",{"$error":"#DIV/0!"}]
[null,null,null,null,null,0,"-0",{"$error":"#DIV/0!"}]
[null,null,null,null,null,0,"-0",{"$error":"#DIV/0!"}]
[null,null,null,null,null,0,"-0",{"$error":"#DIV/0!"}]
[null,null,null,null,null,0,"-0",{"$error":"#DIV/0!"}]
[null,null,null,null,null,0,"-0",{"$error":"#DIV/0!"}]
[null,null,null,null,null,0,"-0",{"$error":"#DIV/0!"}]
[null,null,null,null,null,0,"-0",{"$error":"#DIV/0!"}]
[null,null,null,null,null,0,"-0",{"$error":"#DIV/0!"}]
[null,null,null,null,null,0,"-0",{"$error":"#DIV/0!"}]
[null,null,null,null,null,0,"-0",{"$error":"#DIV/0!"}]
[null,null,null,null,null,0,"-0",{"$error":"#DIV/0!"}]
[null,null,null,null,null,0,"-0",{"$error":"#DIV/0!"}]
[null,null,null,null,null,0,"-0",{"$error":"#DIV/0!"}]
[null,null,null,null,null,0,"-0",{"$error":"#DIV/0!"}]
[null,null,null,null,null,0,"-0",{"$error":"#DIV/0!"}]
[null,null,null,null,null,0,"-0",{"$error":"#DIV/0!"}]
[null,null,null,null,null,0,"-0",{"$error":"#DIV/0!"}]
[null,null,null,null,null,0,"-0",{"$error":"#DIV/0!"}]
[null,null,null,null,null,0,"-0",{"$error":"#DIV/0!"}]
[null,null,null,null,null,0,"-0",{"$error":"#DIV/0!"}]
[null,null,null,null,null,0,"-0",{"$error":"#DIV/0!"}]
[null,null,null,null,null,0,"-0",{"$error":"#DIV/0!"}]
[null,null,null,null,null,0,"-0",{"$error":"#DIV/0!"}]
[null,null,null,null,null,0,"-0",{"$error":"#DIV/0!"}]
[null,null,null,null,null,0,"-0",{"$error":"#DIV/0!"}]
[null,null,null,null,null,0,"-0",{"$error":"#DIV/0!"}]
[null,null,null,null,null,0,"-0",{"$error":"#DIV/0!"}]
[null,null,null,null,null,0,"-0",{"$error":"#DIV/0!"}]
[null,null,null,null,null,0,"-0",{"$error":"#DIV/0!"}]
[null,null,null,null,null,0,"-0",{"$error":"#DIV/0!"}]
[null,null,null,null,null,0,"-0",{"$error":"#DIV/0!"}]
[null,null,null,null,null,0,"-0",{"$error":"#DIV/0!"}]
[null,null,null,null,null,0,"-0",{"$error":"#DIV/0!"}]
[null,null,null,null,null,0,"-0",{"$error":"#DIV/0!"}]
[null,null,null,null,null,0,"-0",{"$error":"#DIV/0!"}]
[null,null,null,null,null,0,"-0",{"$error":"#DIV/0!"}]
[null,null,null,null,null,0,"-0",{"$error":"#DIV/0!"}]
[null,null,null,null,null,0,"-0",{"$error":"#DIV/0!"}]
[null,null,null,null,null,0,"-0",{"$error":"#DIV/0!"}]
[null,null,null,null,null,0,"-0",{"$error":"#DIV/0!"}]
[null,null,null,null,null,0,"-0",{"$error":"#DIV/0!"}]
[null,null,null,null,null,0,"-0",{"$error":"#DIV/0!"}]
[null,null,null,null,null,0,"-0",{"$error":"#DIV/0!"}]
[null,null,null,null,null,0,"-0",{"$error":"#DIV/0!"}]
[null,null,null,null,null,0,"-0",{"$error":"#DIV/0!"}]
[null,null,null,null,null,0,"-0",{"$error":"#DIV/0!"}]
[null,null,null,null,null,0,"-0",{"$error":"#DIV/0!"}]
[null,null,null,null,null,0,"-0",{"$error":"#DIV/0!"}]
[null,null,null,null,null,0,"-0",{"$error":"#DIV/0!"}]
[null,null,null,null,null,0,"-0",{"$error":"#DIV/0!"}]
[null,null,null,null,null,0,"-0",{"$error":"#DIV/0!"}]
[null,null,null,null,null,0,"-0",{"$error":"#DIV/0!"}]
[null,null,null,null,null,0,"-0",{"$error":"#DIV/0!"}]
[null,null,null,null,null,0,"-0",{"$error":"#DIV/0!"}]
[null,null,null,null,null,0,"-0",{"$error":"#DIV/0!"}]
[null,null,null,null,null,0,"-0",{"$error":"#DIV/0!"}]
[null,null,null,null,null,0,"-0",{"$error":"#DIV/0!"}]
[null,null,null,null,null,0,"-0",{"$error":"#DIV/0!"}]
[null,null,null,null,null,{"$f":"IF($C1730=\"XU\",$D1730,$C1730)","v":0},{"$f":"CONCATENATE(A1730,\"-\",F1730)","v":"-0"},{"$f":"$E1730/SUMIF(A:A,A1730,E:E)","v":{"$error":"#DIV/0!"}}]
[null,null,null,null,null,0,"-0",{"$error":"#DIV/0!"}]
[null,null,null,null,null,0,"-0",{"$error":"#DIV/0!"}]
[null,null,null,null,null,0,"-0",{"$error":"#DIV/0!"}]
[null,null,null,null,null,0,"-0",{"$error":"#DIV/0!"}]
[null,null,null,null,null,0,"-0",{"$error":"#DIV/0!"}]
[null,null,null,null,null,0,"-0",{"$error":"#DIV/0!"}]
[null,null,null,null,null,0,"-0",{"$error":"#DIV/0!"}]
[null,null,null,null,null,0,"-0",{"$error":"#DIV/0!"}]
[null,null,null,null,null,0,"-0",{"$error":"#DIV/0!"}]
[null,null,null,null,null,0,"-0",{"$error":"#DIV/0!"}]
[null,null,null,null,null,0,"-0",{"$error":"#DIV/0!"}]
[null,null,null,null,null,0,"-0",{"$error":"#DIV/0!"}]
[null,null,null,null,null,0,"-0",{"$error":"#DIV/0!"}]
[null,null,null,null,null,0,"-0",{"$error":"#DIV/0!"}]
[null,null,null,null,null,0,"-0",{"$error":"#DIV/0!"}]
[null,null,null,null,null,0,"-0",{"$error":"#DIV/0!"}]
[null,null,null,null,null,0,"-0",{"$error":"#DIV/0!"}]
[null,null,null,null,null,0,"-0",{"$error":"#DIV/0!"}]
[null,null,null,null,null,0,"-0",{"$error":"#DIV/0!"}]
[null,null,null,null,null,0,"-0",{"$error":"#DIV/0!"}]
[null,null,null,null,null,0,"-0",{"$error":"#DIV/0!"}]
[null,null,null,null,null,0,"-0",{"$error":"#DIV/0!"}]
[null,null,null,null,null,0,"-0",{"$error":"#DIV/0!"}]
[null,null,null,null,null,0,"-0",{"$error":"#DIV/0!"}]
[null,null,null,null,null,0,"-0",{"$error":"#DIV/0!"}]
[null,null,null,null,null,0,"-0",{"$error":"#DIV/0!"}]
[null,null,null,null,null,0,"-0",{"$error":"#DIV/0!"}]
[null,null,null,null,null,0,"-0",{"$error":"#DIV/0!"}]
[null,null,null,null,null,0,"-0",{"$error":"#DIV/0!"}]
[null,null,null,null,null,0,"-0",{"$error":"#DIV/0!"}]
[null,null,null,null,null,0,"-0",{"$error":"#DIV/0!"}]
[null,null,null,null,null,0,"-0",{"$error":"#DIV/0!"}]
[null,null,null,null,null,0,"-0",{"$error":"#DIV/0!"}]
[null,null,null,null,null,0,"-0",{"$error":"#DIV/0!"}]
[null,null,null,null,null,0,"-0",{"$error":"#DIV/0!"}]
[null,null,null,null,null,0,"-0",{"$error":"#DIV/0!"}]
[null,null,null,null,null,0,"-0",{"$error":"#DIV/0!"}]
[null,null,null,null,null,0,"-0",{"$error":"#DIV/0!"}]
[null,null,null,null,null,0,"-0",{"$error":"#DIV/0!"}]
[null,null,null,null,null,0,"-0",{"$error":"#DIV/0!"}]
[null,null,null,null,null,0,"-0",{"$error":"#DIV/0!"}]
[null,null,null,null,null,0,"-0",{"$error":"#DIV/0!"}]
[null,null,null,null,null,0,"-0",{"$error":"#DIV/0!"}]
[null,null,null,null,null,0,"-0",{"$error":"#DIV/0!"}]
[null,null,null,null,null,0,"-0",{"$error":"#DIV/0!"}]
[null,null,null,null,null,0,"-0",{"$error":"#DIV/0!"}]
[null,null,null,null,null,0,"-0",{"$error":"#DIV/0!"}]
[null,null,null,null,null,0,"-0",{"$error":"#DIV/0!"}]
[null,null,null,null,null,0,"-0",{"$error":"#DIV/0!"}]
[null,null,null,null,null,0,"-0",{"$error":"#DIV/0!"}]
[null,null,null,null,null,0,"-0",{"$error":"#DIV/0!"}]
[null,null,null,null,null,0,"-0",{"$error":"#DIV/0!"}]
[null,null,null,null,null,0,"-0",{"$error":"#DIV/0!"}]
[null,null,null,null,null,0,"-0",{"$error":"#DIV/0!"}]
[null,null,null,null,null,0,"-0",{"$error":"#DIV/0!"}]
[null,null,null,null,null,0,"-0",{"$error":"#DIV/0!"}]
[null,null,null,null,null,0,"-0",{"$error":"#DIV/0!"}]
[null,null,null,null,null,0,"-0",{"$error":"#DIV/0!"}]
[null,null,null,null,null,0,"-0",{"$error":"#DIV/0!"}]
[null,null,null,null,null,0,"-0",{"$error":"#DIV/0!"}]
[null,null,null,null,null,0,"-0",{"$error":"#DIV/0!"}]
[null,null,null,null,null,0,"-0",{"$error":"#DIV/0!"}]
[null,null,null,null,null,0,"-0",{"$error":"#DIV/0!"}]
[null,null,null,null,null,{"$f":"IF($C1794=\"XU\",$D1794,$C1794)","v":0},{"$f":"CONCATENATE(A1794,\"-\",F1794)","v":"-0"},{"$f":"$E1794/SUMIF(A:A,A1794,E:E)","v":{"$error":"#DIV/0!"}}]
[null,null,null,null,null,0,"-0",{"$error":"#DIV/0!"}]
[null,null,null,null,null,0,"-0",{"$error":"#DIV/0!"}]
[null,null,null,null,null,0,"-0",{"$error":"#DIV/0!"}]
[null,null,null,null,null,0,"-0",{"$error":"#DIV/0!"}]
[null,null,null,null,null,0,"-0",{"$error":"#DIV/0!"}]
[null,null,null,null,null,0,"-0",{"$error":"#DIV/0!"}]
[null,null,null,null,null,0,"-0",{"$error":"#DIV/0!"}]
[null,null,null,null,null,0,"-0",{"$error":"#DIV/0!"}]
[null,null,null,null,null,0,"-0",{"$error":"#DIV/0!"}]
[null,null,null,null,null,0,"-0",{"$error":"#DIV/0!"}]
[null,null,null,null,null,0,"-0",{"$error":"#DIV/0!"}]
[null,null,null,null,null,0,"-0",{"$error":"#DIV/0!"}]
[null,null,null,null,null,0,"-0",{"$error":"#DIV/0!"}]
[null,null,null,null,null,0,"-0",{"$error":"#DIV/0!"}]
[null,null,null,null,null,0,"-0",{"$error":"#DIV/0!"}]
[null,null,null,null,null,0,"-0",{"$error":"#DIV/0!"}]
[null,null,null,null,null,0,"-0",{"$error":"#DIV/0!"}]
[null,null,null,null,null,0,"-0",{"$error":"#DIV/0!"}]
[null,null,null,null,null,0,"-0",{"$error":"#DIV/0!"}]
[null,null,null,null,null,0,"-0",{"$error":"#DIV/0!"}]
[null,null,null,null,null,0,"-0",{"$error":"#DIV/0!"}]
[null,null,null,null,null,0,"-0",{"$error":"#DIV/0!"}]
[null,null,null,null,null,0,"-0",{"$error":"#DIV/0!"}]
[null,null,null,null,null,0,"-0",{"$error":"#DIV/0!"}]
[null,null,null,null,null,0,"-0",{"$error":"#DIV/0!"}]
[null,null,null,null,null,0,"-0",{"$error":"#DIV/0!"}]
[null,null,null,null,null,0,"-0",{"$error":"#DIV/0!"}]
[null,null,null,null,null,0,"-0",{"$error":"#DIV/0!"}]
[null,null,null,null,null,0,"-0",{"$error":"#DIV/0!"}]
[null,null,null,null,null,0,"-0",{"$error":"#DIV/0!"}]
[null,null,null,null,null,0,"-0",{"$error":"#DIV/0!"}]
[null,null,null,null,null,0,"-0",{"$error":"#DIV/0!"}]
[null,null,null,null,null,0,"-0",{"$error":"#DIV/0!"}]
[null,null,null,null,null,0,"-0",{"$error":"#DIV/0!"}]
[null,null,null,null,null,0,"-0",{"$error":"#DIV/0!"}]
[null,null,null,null,null,0,"-0",{"$error":"#DIV/0!"}]
[null,null,null,null,null,0,"-0",{"$error":"#DIV/0!"}]
[null,null,null,null,null,0,"-0",{"$error":"#DIV/0!"}]
[null,null,null,null,null,0,"-0",{"$error":"#DIV/0!"}]
[null,null,null,null,null,0,"-0",{"$error":"#DIV/0!"}]
[null,null,null,null,null,0,"-0",{"$error":"#DIV/0!"}]
[null,null,null,null,null,0,"-0",{"$error":"#DIV/0!"}]
[null,null,null,null,null,0,"-0",{"$error":"#DIV/0!"}]
[null,null,null,null,null,0,"-0",{"$error":"#DIV/0!"}]
[null,null,null,null,null,0,"-0",{"$error":"#DIV/0!"}]
[null,null,null,null,null,0,"-0",{"$error":"#DIV/0!"}]
[null,null,null,null,null,0,"-0",{"$error":"#DIV/0!"}]
[null,null,null,null,null,0,"-0",{"$error":"#DIV/0!"}]
[null,null,null,null,null,0,"-0",{"$error":"#DIV/0!"}]
[null,null,null,null,null,0,"-0",{"$error":"#DIV/0!"}]
[null,null,null,null,null,0,"-0",{"$error":"#DIV/0!"}]
[null,null,null,null,null,0,"-0",{"$error":"#DIV/0!"}]
[null,null,null,null,null,0,"-0",{"$error":"#DIV/0!"}]
[null,null,null,null,null,0,"-0",{"$error":"#DIV/0!"}]
[null,null,null,null,null,0,"-0",{"$error":"#DIV/0!"}]
[null,null,null,null,null,0,"-0",{"$error":"#DIV/0!"}]
[null,null,null,null,null,0,"-0",{"$error":"#DIV/0!"}]
[null,null,null,null,null,0,"-0",{"$error":"#DIV/0!"}]
[null,null,null,null,null,0,"-0",{"$error":"#DIV/0!"}]
[null,null,null,null,null,0,"-0",{"$error":"#DIV/0!"}]
[null,null,null,null,null,0,"-0",{"$error":"#DIV/0!"}]
[null,null,null,null,null,0,"-0",{"$error":"#DIV/0!"}]
[null,null,null,null,null,0,"-0",{"$error":"#DIV/0!"}]
[null,null,null,null,null,{"$f":"IF($C1858=\"XU\",$D1858,$C1858)","v":0},{"$f":"CONCATENATE(A1858,\"-\",F1858)","v":"-0"},{"$f":"$E1858/SUMIF(A:A,A1858,E:E)","v":{"$error":"#DIV/0!"}}]
[null,null,null,null,null,0,"-0",{"$error":"#DIV/0!"}]
[null,null,null,null,null,0,"-0",{"$error":"#DIV/0!"}]
[null,null,null,null,null,0,"-0",{"$error":"#DIV/0!"}]
[null,null,null,null,null,0,"-0",{"$error":"#DIV/0!"}]
[null,null,null,null,null,0,"-0",{"$error":"#DIV/0!"}]
[null,null,null,null,null,0,"-0",{"$error":"#DIV/0!"}]
[null,null,null,null,null,0,"-0",{"$error":"#DIV/0!"}]
[null,null,null,null,null,0,"-0",{"$error":"#DIV/0!"}]
[null,null,null,null,null,0,"-0",{"$error":"#DIV/0!"}]
[null,null,null,null,null,0,"-0",{"$error":"#DIV/0!"}]
[null,null,null,null,null,0,"-0",{"$error":"#DIV/0!"}]
[null,null,null,null,null,0,"-0",{"$error":"#DIV/0!"}]
[null,null,null,null,null,0,"-0",{"$error":"#DIV/0!"}]
[null,null,null,null,null,0,"-0",{"$error":"#DIV/0!"}]
[null,null,null,null,null,0,"-0",{"$error":"#DIV/0!"}]
[null,null,null,null,null,0,"-0",{"$error":"#DIV/0!"}]
[null,null,null,null,null,0,"-0",{"$error":"#DIV/0!"}]
[null,null,null,null,null,0,"-0",{"$error":"#DIV/0!"}]
[null,null,null,null,null,0,"-0",{"$error":"#DIV/0!"}]
[null,null,null,null,null,0,"-0",{"$error":"#DIV/0!"}]
[null,null,null,null,null,0,"-0",{"$error":"#DIV/0!"}]
[null,null,null,null,null,0,"-0",{"$error":"#DIV/0!"}]
[null,null,null,null,null,0,"-0",{"$error":"#DIV/0!"}]
[null,null,null,null,null,0,"-0",{"$error":"#DIV/0!"}]
[null,null,null,null,null,0,"-0",{"$error":"#DIV/0!"}]
[null,null,null,null,null,0,"-0",{"$error":"#DIV/0!"}]
[null,null,null,null,null,0,"-0",{"$error":"#DIV/0!"}]
[null,null,null,null,null,0,"-0",{"$error":"#DIV/0!"}]
[null,null,null,null,null,0,"-0",{"$error":"#DIV/0!"}]
[null,null,null,null,null,0,"-0",{"$error":"#DIV/0!"}]
[null,null,null,null,null,0,"-0",{"$error":"#DIV/0!"}]
[null,null,null,null,null,0,"-0",{"$error":"#DIV/0!"}]
[null,null,null,null,null,0,"-0",{"$error":"#DIV/0!"}]
[null,null,null,null,null,0,"-0",{"$error":"#DIV/0!"}]
[null,null,null,null,null,0,"-0",{"$error":"#DIV/0!"}]
[null,null,null,null,null,0,"-0",{"$error":"#DIV/0!"}]
[null,null,null,null,null,0,"-0",{"$error":"#DIV/0!"}]
[null,null,null,null,null,0,"-0",{"$error":"#DIV/0!"}]
[null,null,null,null,null,0,"-0",{"$error":"#DIV/0!"}]
[null,null,null,null,null,0,"-0",{"$error":"#DIV/0!"}]
[null,null,null,null,null,0,"-0",{"$error":"#DIV/0!"}]
[null,null,null,null,null,0,"-0",{"$error":"#DIV/0!"}]
[null,null,null,null,null,0,"-0",{"$error":"#DIV/0!"}]
[null,null,null,null,null,0,"-0",{"$error":"#DIV/0!"}]
[null,null,null,null,null,0,"-0",{"$error":"#DIV/0!"}]
[null,null,null,null,null,0,"-0",{"$error":"#DIV/0!"}]
[null,null,null,null,null,0,"-0",{"$error":"#DIV/0!"}]
[null,null,null,null,null,0,"-0",{"$error":"#DIV/0!"}]
[null,null,null,null,null,0,"-0",{"$error":"#DIV/0!"}]
[null,null,null,null,null,0,"-0",{"$error":"#DIV/0!"}]
[null,null,null,null,null,0,"-0",{"$error":"#DIV/0!"}]
[null,null,null,null,null,0,"-0",{"$error":"#DIV/0!"}]
[null,null,null,null,null,0,"-0",{"$error":"#DIV/0!"}]
[null,null,null,null,null,0,"-0",{"$error":"#DIV/0!"}]
[null,null,null,null,null,0,"-0",{"$error":"#DIV/0!"}]
[null,null,null,null,null,0,"-0",{"$error":"#DIV/0!"}]
[null,null,null,null,null,0,"-0",{"$error":"#DIV/0!"}]
[null,null,null,null,null,0,"-0",{"$error":"#DIV/0!"}]
[null,null,null,null,null,0,"-0",{"$error":"#DIV/0!"}]
[null,null,null,null,null,0,"-0",{"$error":"#DIV/0!"}]
[null,null,null,null,null,0,"-0",{"$error":"#DIV/0!"}]
[null,null,null,null,null,0,"-0",{"$error":"#DIV/0!"}]
[null,null,null,null,null,0,"-0",{"$error":"#DIV/0!"}]
[null,null,null,null,null,{"$f":"IF($C1922=\"XU\",$D1922,$C1922)","v":0},{"$f":"CONCATENATE(A1922,\"-\",F1922)","v":"-0"},{"$f":"$E1922/SUMIF(A:A,A1922,E:E)","v":{"$error":"#DIV/0!"}}]
[null,null,null,null,null,0,"-0",{"$error":"#DIV/0!"}]
[null,null,null,null,null,0,"-0",{"$error":"#DIV/0!"}]
[null,null,null,null,null,0,"-0",{"$error":"#DIV/0!"}]
[null,null,null,null,null,0,"-0",{"$error":"#DIV/0!"}]
[null,null,null,null,null,0,"-0",{"$error":"#DIV/0!"}]
[null,null,null,null,null,0,"-0",{"$error":"#DIV/0!"}]
[null,null,null,null,null,0,"-0",{"$error":"#DIV/0!"}]
[null,null,null,null,null,0,"-0",{"$error":"#DIV/0!"}]
[null,null,null,null,null,0,"-0",{"$error":"#DIV/0!"}]
[null,null,null,null,null,0,"-0",{"$error":"#DIV/0!"}]
[null,null,null,null,null,0,"-0",{"$error":"#DIV/0!"}]
[null,null,null,null,null,0,"-0",{"$error":"#DIV/0!"}]
[null,null,null,null,null,0,"-0",{"$error":"#DIV/0!"}]
[null,null,null,null,null,0,"-0",{"$error":"#DIV/0!"}]
[null,null,null,null,null,0,"-0",{"$error":"#DIV/0!"}]
[null,null,null,null,null,0,"-0",{"$error":"#DIV/0!"}]
[null,null,null,null,null,0,"-0",{"$error":"#DIV/0!"}]
[null,null,null,null,null,0,"-0",{"$error":"#DIV/0!"}]
[null,null,null,null,null,0,"-0",{"$error":"#DIV/0!"}]
[null,null,null,null,null,0,"-0",{"$error":"#DIV/0!"}]
[null,null,null,null,null,0,"-0",{"$error":"#DIV/0!"}]
[null,null,null,null,null,0,"-0",{"$error":"#DIV/0!"}]
[null,null,null,null,null,0,"-0",{"$error":"#DIV/0!"}]
[null,null,null,null,null,0,"-0",{"$error":"#DIV/0!"}]
[null,null,null,null,null,0,"-0",{"$error":"#DIV/0!"}]
[null,null,null,null,null,0,"-0",{"$error":"#DIV/0!"}]
[null,null,null,null,null,0,"-0",{"$error":"#DIV/0!"}]
[null,null,null,null,null,0,"-0",{"$error":"#DIV/0!"}]
[null,null,null,null,null,0,"-0",{"$error":"#DIV/0!"}]
[null,null,null,null,null,0,"-0",{"$error":"#DIV/0!"}]
[null,null,null,null,null,0,"-0",{"$error":"#DIV/0!"}]
[null,null,null,null,null,0,"-0",{"$error":"#DIV/0!"}]
[null,null,null,null,null,0,"-0",{"$error":"#DIV/0!"}]
[null,null,null,null,null,0,"-0",{"$error":"#DIV/0!"}]
[null,null,null,null,null,0,"-0",{"$error":"#DIV/0!"}]
[null,null,null,null,null,0,"-0",{"$error":"#DIV/0!"}]
[null,null,null,null,null,0,"-0",{"$error":"#DIV/0!"}]
[null,null,null,null,null,0,"-0",{"$error":"#DIV/0!"}]
[null,null,null,null,null,0,"-0",{"$error":"#DIV/0!"}]
[null,null,null,null,null,0,"-0",{"$error":"#DIV/0!"}]
[null,null,null,null,null,0,"-0",{"$error":"#DIV/0!"}]
[null,null,null,null,null,0,"-0",{"$error":"#DIV/0!"}]
[null,null,null,null,null,0,"-0",{"$error":"#DIV/0!"}]
[null,null,null,null,null,0,"-0",{"$error":"#DIV/0!"}]
[null,null,null,null,null,0,"-0",{"$error":"#DIV/0!"}]
[null,null,null,null,null,0,"-0",{"$error":"#DIV/0!"}]
[null,null,null,null,null,0,"-0",{"$error":"#DIV/0!"}]
[null,null,null,null,null,0,"-0",{"$error":"#DIV/0!"}]
[null,null,null,null,null,0,"-0",{"$error":"#DIV/0!"}]
[null,null,null,null,null,0,"-0",{"$error":"#DIV/0!"}]
[null,null,null,null,null,0,"-0",{"$error":"#DIV/0!"}]
[null,null,null,null,null,0,"-0",{"$error":"#DIV/0!"}]
[null,null,null,null,null,0,"-0",{"$error":"#DIV/0!"}]
[null,null,null,null,null,0,"-0",{"$error":"#DIV/0!"}]
[null,null,null,null,null,0,"-0",{"$error":"#DIV/0!"}]
[null,null,null,null,null,0,"-0",{"$error":"#DIV/0!"}]
[null,null,null,null,null,0,"-0",{"$error":"#DIV/0!"}]
[null,null,null,null,null,0,"-0",{"$error":"#DIV/0!"}]
[null,null,null,null,null,0,"-0",{"$error":"#DIV/0!"}]
[null,null,null,null,null,0,"-0",{"$error":"#DIV/0!"}]
[null,null,null,null,null,0,"-0",{"$error":"#DIV/0!"}]
[null,null,null,null,null,0,"-0",{"$error":"#DIV/0!"}]
[null,null,null,null,null,0,"-0",{"$error":"#DIV/0!"}]
[null,null,null,null,null,{"$f":"IF($C1986=\"XU\",$D1986,$C1986)","v":0},{"$f":"CONCATENATE(A1986,\"-\",F1986)","v":"-0"},{"$f":"$E1986/SUMIF(A:A,A1986,E:E)","v":{"$error":"#DIV/0!"}}]
[null,null,null,null,null,0,"-0",{"$error":"#DIV/0!"}]
[null,null,null,null,null,0,"-0",{"$error":"#DIV/0!"}]
[null,null,null,null,null,0,"-0",{"$error":"#DIV/0!"}]
[null,null,null,null,null,0,"-0",{"$error":"#DIV/0!"}]
[null,null,null,null,null,0,"-0",{"$error":"#DIV/0!"}]
[null,null,null,null,null,0,"-0",{"$error":"#DIV/0!"}]
[null,null,null,null,null,0,"-0",{"$error":"#DIV/0!"}]
[null,null,null,null,null,0,"-0",{"$error":"#DIV/0!"}]
[null,null,null,null,null,0,"-0",{"$error":"#DIV/0!"}]
[null,null,null,null,null,0,"-0",{"$error":"#DIV/0!"}]
[null,null,null,null,null,0,"-0",{"$error":"#DIV/0!"}]
[null,null,null,null,null,0,"-0",{"$error":"#DIV/0!"}]
[null,null,null,null,null,0,"-0",{"$error":"#DIV/0!"}]
[null,null,null,null,null,0,"-0",{"$error":"#DIV/0!"}]
[null,null,null,null,null,0,"-0",{"$error":"#DIV/0!"}]
[null,null,null,null,null,0,"-0",{"$error":"#DIV/0!"}]
[null,null,null,null,null,0,"-0",{"$error":"#DIV/0!"}]
[null,null,null,null,null,0,"-0",{"$error":"#DIV/0!"}]
[null,null,null,null,null,0,"-0",{"$error":"#DIV/0!"}]
[null,null,null,null,null,0,"-0",{"$error":"#DIV/0!"}]
[null,null,null,null,null,0,"-0",{"$error":"#DIV/0!"}]
[null,null,null,null,null,0,"-0",{"$error":"#DIV/0!"}]
[null,null,null,null,null,0,"-0",{"$error":"#DIV/0!"}]
[null,null,null,null,null,0,"-0",{"$error":"#DIV/0!"}]
[null,null,null,null,null,0,"-0",{"$error":"#DIV/0!"}]
[null,null,null,null,null,0,"-0",{"$error":"#DIV/0!"}]
[null,null,null,null,null,0,"-0",{"$error":"#DIV/0!"}]
[null,null,null,null,null,0,"-0",{"$error":"#DIV/0!"}]
[null,null,null,null,null,0,"-0",{"$error":"#DIV/0!"}]
[null,null,null,null,null,0,"-0",{"$error":"#DIV/0!"}]
[null,null,null,null,null,0,"-0",{"$error":"#DIV/0!"}]
[null,null,null,null,null,0,"-0",{"$error":"#DIV/0!"}]
[null,null,null,null,null,0,"-0",{"$error":"#DIV/0!"}]
[null,null,null,null,null,0,"-0",{"$error":"#DIV/0!"}]
[null,null,null,null,null,0,"-0",{"$error":"#DIV/0!"}]
[null,null,null,null,null,0,"-0",{"$error":"#DIV/0!"}]
[null,null,null,null,null,0,"-0",{"$error":"#DIV/0!"}]
[null,null,null,null,null,0,"-0",{"$error":"#DIV/0!"}]
[null,null,null,null,null,0,"-0",{"$error":"#DIV/0!"}]
[null,null,null,null,null,0,"-0",{"$error":"#DIV/0!"}]
[null,null,null,null,null,0,"-0",{"$error":"#DIV/0!"}]
[null,null,null,null,null,0,"-0",{"$error":"#DIV/0!"}]
[null,null,null,null,null,0,"-0",{"$error":"#DIV/0!"}]
[null,null,null,null,null,0,"-0",{"$error":"#DIV/0!"}]
[null,null,null,null,null,0,"-0",{"$error":"#DIV/0!"}]
[null,null,null,null,null,0,"-0",{"$error":"#DIV/0!"}]
[null,null,null,null,null,0,"-0",{"$error":"#DIV/0!"}]
[null,null,null,null,null,0,"-0",{"$error":"#DIV/0!"}]
[null,null,null,null,null,0,"-0",{"$error":"#DIV/0!"}]
[null,null,null,null,null,0,"-0",{"$error":"#DIV/0!"}]
[null,null,null,null,null,0,"-0",{"$error":"#DIV/0!"}]
[null,null,null,null,null,0,"-0",{"$error":"#DIV/0!"}]
[null,null,null,null,null,0,"-0",{"$error":"#DIV/0!"}]
[null,null,null,null,null,0,"-0",{"$error":"#DIV/0!"}]
[null,null,null,null,null,0,"-0",{"$error":"#DIV/0!"}]
[null,null,null,null,null,0,"-0",{"$error":"#DIV/0!"}]
[null,null,null,null,null,0,"-0",{"$error":"#DIV/0!"}]
[null,null,null,null,null,0,"-0",{"$error":"#DIV/0!"}]
[null,null,null,null,null,0,"-0",{"$error":"#DIV/0!"}]
[null,null,null,null,null,0,"-0",{"$error":"#DIV/0!"}]
[null,null,null,null,null,0,"-0",{"$error":"#DIV/0!"}]
[null,null,null,null,null,0,"-0",{"$error":"#DIV/0!"}]
[null,null,null,null,null,0,"-0",{"$error":"#DIV/0!"}]
[null,null,null,null,null,0,"-0",{"$error":"#DIV/0!"}]
[null,null,null,null,null,0,"-0",{"$error":"#DIV/0!"}]
[null,null,null,null,null,0,"-0",{"$error":"#DIV/0!"}]
[null,null,null,null,null,0,"-0",{"$error":"#DIV/0!"}]
[null,null,null,null,null,0,"-0",{"$error":"#DIV/0!"}]
[null,null,null,null,null,0,"-0",{"$error":"#DIV/0!"}]
[null,null,null,null,null,0,"-0",{"$error":"#DIV/0!"}]
[null,null,null,null,null,0,"-0",{"$error":"#DIV/0!"}]
[null,null,null,null,null,0,"-0",{"$error":"#DIV/0!"}]
[null,null,null,null,null,0,"-0",{"$error":"#DIV/0!"}]
[null,null,null,null,null,0,"-0",{"$error":"#DIV/0!"}]
[null,null,null,null,null,0,"-0",{"$error":"#DIV/0!"}]
[null,null,null,null,null,0,"-0",{"$error":"#DIV/0!"}]
[null,null,null,null,null,0,"-0",{"$error":"#DIV/0!"}]
[null,null,null,null,null,0,"-0",{"$error":"#DIV/0!"}]
[null,null,null,null,null,0,"-0",{"$error":"#DIV/0!"}]
[null,null,null,null,null,0,"-0",{"$error":"#DIV/0!"}]
[null,null,null,null,null,0,"-0",{"$error":"#DIV/0!"}]
[null,null,null,null,null,0,"-0",{"$error":"#DIV/0!"}]
[null,null,null,null,null,0,"-0",{"$error":"#DIV/0!"}]
[null,null,null,null,null,0,"-0",{"$error":"#DIV/0!"}]
[null,null,null,null,null,0,"-0",{"$error":"#DIV/0!"}]
[null,null,null,null,null,0,"-0",{"$error":"#DIV/0!"}]
[null,null,null,null,null,0,"-0",{"$error":"#DIV/0!"}]
[null,null,null,null,null,0,"-0",{"$error":"#DIV/0!"}]
[null,null,null,null,null,0,"-0",{"$error":"#DIV/0!"}]
[null,null,null,null,null,0,"-0",{"$error":"#DIV/0!"}]
[null,null,null,null,null,0,"-0",{"$error":"#DIV/0!"}]
[null,null,null,null,null,0,"-0",{"$error":"#DIV/0!"}]
[null,null,null,null,null,0,"-0",{"$error":"#DIV/0!"}]
[null,null,null,null,null,0,"-0",{"$error":"#DIV/0!"}]
[null,null,null,null,null,0,"-0",{"$error":"#DIV/0!"}]
[null,null,null,null,null,0,"-0",{"$error":"#DIV/0!"}]
[null,null,null,null,null,0,"-0",{"$error":"#DIV/0!"}]
[null,null,null,null,null,0,"-0",{"$error":"#DIV/0!"}]
[null,null,null,null,null,0,"-0",{"$error":"#DIV/0!"}]
[null,null,null,null,null,0,"-0",{"$error":"#DIV/0!"}]
[null,null,null,null,null,0,"-0",{"$error":"#DIV/0!"}]
[null,null,null,null,null,0,"-0",{"$error":"#DIV/0!"}]
[null,null,null,null,null,0,"-0",{"$error":"#DIV/0!"}]
[null,null,null,null,null,0,"-0",{"$error":"#DIV/0!"}]
[null,null,null,null,null,0,"-0",{"$error":"#DIV/0!"}]
[null,null,null,null,null,0,"-0",{"$error":"#DIV/0!"}]
[null,null,null,null,null,0,"-0",{"$error":"#DIV/0!"}]
[null,null,null,null,null,0,"-0",{"$error":"#DIV/0!"}]
[null,null,null,null,null,0,"-0",{"$error":"#DIV/0!"}]
[null,null,null,null,null,0,"-0",{"$error":"#DIV/0!"}]
[null,null,null,null,null,0,"-0",{"$error":"#DIV/0!"}]
[null,null,null,null,null,0,"-0",{"$error":"#DIV/0!"}]
[null,null,null,null,null,0,"-0",{"$error":"#DIV/0!"}]
[null,null,null,null,null,0,"-0",{"$error":"#DIV/0!"}]
[null,null,null,null,null,0,"-0",{"$error":"#DIV/0!"}]
[null,null,null,null,null,0,"-0",{"$error":"#DIV/0!"}]
[null,null,null,null,null,0,"-0",{"$error":"#DIV/0!"}]
[null,null,null,null,null,0,"-0",{"$error":"#DIV/0!"}]
[null,null,null,null,null,0,"-0",{"$error":"#DIV/0!"}]
[null,null,null,null,null,0,"-0",{"$error":"#DIV/0!"}]
[null,null,null,null,null,0,"-0",{"$error":"#DIV/0!"}]
[null,null,null,null,null,0,"-0",{"$error":"#DIV/0!"}]
[null,null,null,null,null,0,"-0",{"$error":"#DIV/0!"}]
[null,null,null,null,null,0,"-0",{"$error":"#DIV/0!"}]
[null,null,null,null,null,0,"-0",{"$error":"#DIV/0!"}]
[null,null,null,null,null,0,"-0",{"$error":"#DIV/0!"}]
[null,null,null,null,null,0,"-0",{"$error":"#DIV/0!"}]
[null,null,null,null,null,0,"-0",{"$error":"#DIV/0!"}]
[null,null,null,null,null,0,"-0",{"$error":"#DIV/0!"}]
[null,null,null,null,null,0,"-0",{"$error":"#DIV/0!"}]
[null,null,null,null,null,0,"-0",{"$error":"#DIV/0!"}]
[null,null,null,null,null,0,"-0",{"$error":"#DIV/0!"}]
[null,null,null,null,null,0,"-0",{"$error":"#DIV/0!"}]
[null,null,null,null,null,0,"-0",{"$error":"#DIV/0!"}]
[null,null,null,null,null,0,"-0",{"$error":"#DIV/0!"}]
[null,null,null,null,null,0,"-0",{"$error":"#DIV/0!"}]
[null,null,null,null,null,0,"-0",{"$error":"#DIV/0!"}]
[null,null,null,null,null,0,"-0",{"$error":"#DIV/0!"}]
[null,null,null,null,null,0,"-0",{"$error":"#DIV/0!"}]
[null,null,null,null,null,0,"-0",{"$error":"#DIV/0!"}]
[null,null,null,null,null,0,"-0",{"$error":"#DIV/0!"}]
[null,null,null,null,null,{"$f":"IF($C3074=\"XU\",$D3074,$C3074)","v":0},{"$f":"CONCATENATE(A3074,\"-\",F3074)","v":"-0"},{"$f":"$E3074/SUMIF(A:A,A3074,E:E)","v":{"$error":"#DIV/0!"}}]
[null,null,null,null,null,0,"-0",{"$error":"#DIV/0!"}]
[null,null,null,null,null,0,"-0",{"$error":"#DIV/0!"}]
[null,null,null,null,null,0,"-0",{"$error":"#DIV/0!"}]
[null,null,null,null,null,0,"-0",{"$error":"#DIV/0!"}]
[null,null,null,null,null,0,"-0",{"$error":"#DIV/0!"}]
[null,null,null,null,null,0,"-0",{"$error":"#DIV/0!"}]
[null,null,null,null,null,0,"-0",{"$error":"#DIV/0!"}]
[null,null,null,null,null,0,"-0",{"$error":"#DIV/0!"}]
[null,null,null,null,null,0,"-0",{"$error":"#DIV/0!"}]
[null,null,null,null,null,0,"-0",{"$error":"#DIV/0!"}]
[null,null,null,null,null,0,"-0",{"$error":"#DIV/0!"}]
[null,null,null,null,null,0,"-0",{"$error":"#DIV/0!"}]
[null,null,null,null,null,0,"-0",{"$error":"#DIV/0!"}]
[null,null,null,null,null,0,"-0",{"$error":"#DIV/0!"}]
[null,null,null,null,null,0,"-0",{"$error":"#DIV/0!"}]
[null,null,null,null,null,0,"-0",{"$error":"#DIV/0!"}]
[null,null,null,null,null,0,"-0",{"$error":"#DIV/0!"}]
[null,null,null,null,null,0,"-0",{"$error":"#DIV/0!"}]
[null,null,null,null,null,0,"-0",{"$error":"#DIV/0!"}]
[null,null,null,null,null,0,"-0",{"$error":"#DIV/0!"}]
[null,null,null,null,null,0,"-0",{"$error":"#DIV/0!"}]
[null,null,null,null,null,{"$f":"IF($C3266=\"XU\",$D3266,$C3266)","v":0},{"$f":"CONCATENATE(A3266,\"-\",F3266)","v":"-0"},{"$f":"$E3266/SUMIF(A:A,A3266,E:E)","v":{"$error":"#DIV/0!"}}]
[null,null,null,null,null,0,"-0",{"$error":"#DIV/0!"}]
[null,null,null,null,null,0,"-0",{"$error":"#DIV/0!"}]
[null,null,null,null,null,0,"-0",{"$error":"#DIV/0!"}]
[null,null,null,null,null,0,"-0",{"$error":"#DIV/0!"}]
[null,null,null,null,null,0,"-0",{"$error":"#DIV/0!"}]
[null,null,null,null,null,0,"-0",{"$error":"#DIV/0!"}]
[null,null,null,null,null,0,"-0",{"$error":"#DIV/0!"}]
[null,null,null,null,null,0,"-0",{"$error":"#DIV/0!"}]
[null,null,null,null,null,0,"-0",{"$error":"#DIV/0!"}]
[null,null,null,null,null,0,"-0",{"$error":"#DIV/0!"}]
[null,null,null,null,null,0,"-0",{"$error":"#DIV/0!"}]
[null,null,null,null,null,0,"-0",{"$error":"#DIV/0!"}]
[null,null,null,null,null,0,"-0",{"$error":"#DIV/0!"}]
[null,null,null,null,null,0,"-0",{"$error":"#DIV/0!"}]
[null,null,null,null,null,0,"-0",{"$error":"#DIV/0!"}]
[null,null,null,null,null,0,"-0",{"$error":"#DIV/0!"}]
[null,null,null,null,null,0,"-0",{"$error":"#DIV/0!"}]
[null,null,null,null,null,0,"-0",{"$error":"#DIV/0!"}]
[null,null,null,null,null,0,"-0",{"$error":"#DIV/0!"}]
[null,null,null,null,null,0,"-0",{"$error":"#DIV/0!"}]
[null,null,null,null,null,0,"-0",{"$error":"#DIV/0!"}]
[null,null,null,null,null,0,"-0",{"$error":"#DIV/0!"}]
[null,null,null,null,null,0,"-0",{"$error":"#DIV/0!"}]
[null,null,null,null,null,0,"-0",{"$error":"#DIV/0!"}]
[null,null,null,null,null,0,"-0",{"$error":"#DIV/0!"}]
[null,null,null,null,null,0,"-0",{"$error":"#DIV/0!"}]
[null,null,null,null,null,0,"-0",{"$error":"#DIV/0!"}]
[null,null,null,null,null,0,"-0",{"$error":"#DIV/0!"}]
[null,null,null,null,null,0,"-0",{"$error":"#DIV/0!"}]
[null,null,null,null,null,0,"-0",{"$error":"#DIV/0!"}]
[null,null,null,null,null,0,"-0",{"$error":"#DIV/0!"}]
[null,null,null,null,null,0,"-0",{"$error":"#DIV/0!"}]
[null,null,null,null,null,0,"-0",{"$error":"#DIV/0!"}]
[null,null,null,null,null,0,"-0",{"$error":"#DIV/0!"}]
[null,null,null,null,null,0,"-0",{"$error":"#DIV/0!"}]
[null,null,null,null,null,0,"-0",{"$error":"#DIV/0!"}]
[null,null,null,null,null,0,"-0",{"$error":"#DIV/0!"}]
[null,null,null,null,null,0,"-0",{"$error":"#DIV/0!"}]
[null,null,null,null,null,0,"-0",{"$error":"#DIV/0!"}]
[null,null,null,null,null,0,"-0",{"$error":"#DIV/0!"}]
[null,null,null,null,null,0,"-0",{"$error":"#DIV/0!"}]
[null,null,null,null,null,0,"-0",{"$error":"#DIV/0!"}]
[null,null,null,null,null,0,"-0",{"$error":"#DIV/0!"}]
[null,null,null,null,null,0,"-0",{"$error":"#DIV/0!"}]
[null,null,null,null,null,0,"-0",{"$error":"#DIV/0!"}]
[null,null,null,null,null,0,"-0",{"$error":"#DIV/0!"}]
[null,null,null,null,null,0,"-0",{"$error":"#DIV/0!"}]
[null,null,null,null,null,0,"-0",{"$error":"#DIV/0!"}]
[null,null,null,null,null,0,"-0",{"$error":"#DIV/0!"}]
[null,null,null,null,null,0,"-0",{"$error":"#DIV/0!"}]
[null,null,null,null,null,0,"-0",{"$error":"#DIV/0!"}]
[null,null,null,null,null,0,"-0",{"$error":"#DIV/0!"}]
[null,null,null,null,null,0,"-0",{"$error":"#DIV/0!"}]
[null,null,null,null,null,0,"-0",{"$error":"#DIV/0!"}]
[null,null,null,null,null,0,"-0",{"$error":"#DIV/0!"}]
[null,null,null,null,null,0,"-0",{"$error":"#DIV/0!"}]
[null,null,null,null,null,0,"-0",{"$error":"#DIV/0!"}]
[null,null,null,null,null,0,"-0",{"$error":"#DIV/0!"}]
[null,null,null,null,null,0,"-0",{"$error":"#DIV/0!"}]
[null,null,null,null,null,0,"-0",{"$error":"#DIV/0!"}]
[null,null,null,null,null,{"$f":"IF($C3778=\"XU\",$D3778,$C3778)","v":0},{"$f":"CONCATENATE(A3778,\"-\",F3778)","v":"-0"},{"$f":"$E3778/SUMIF(A:A,A3778,E:E)","v":{"$error":"#DIV/0!"}}]
[null,null,null,null,null,0,"-0",{"$error":"#DIV/0!"}]
[null,null,null,null,null,0,"-0",{"$error":"#DIV/0!"}]
[null,null,null,null,null,0,"-0",{"$error":"#DIV/0!"}]
[null,null,null,null,null,0,"-0",{"$error":"#DIV/0!"}]
[null,null,null,null,null,0,"-0",{"$error":"#DIV/0!"}]
[null,null,null,null,null,0,"-0",{"$error":"#DIV/0!"}]
[null,null,null,null,null,{"$f":"IF($C3842=\"XU\",$D3842,$C3842)","v":0},{"$f":"CONCATENATE(A3842,\"-\",F3842)","v":"-0"},{"$f":"$E3842/SUMIF(A:A,A3842,E:E)","v":{"$error":"#DIV/0!"}}]
[null,null,null,null,null,0,"-0",{"$error":"#DIV/0!"}]
[null,null,null,null,null,0,"-0",{"$error":"#DIV/0!"}]
[null,null,null,null,null,0,"-0",{"$error":"#DIV/0!"}]
[null,null,null,null,null,0,"-0",{"$error":"#DIV/0!"}]
[null,null,null,null,null,0,"-0",{"$error":"#DIV/0!"}]
[null,null,null,null,null,0,"-0",{"$error":"#DIV/0!"}]
[null,null,null,null,null,0,"-0",{"$error":"#DIV/0!"}]
[null,null,null,null,null,0,"-0",{"$error":"#DIV/0!"}]
[null,null,null,null,null,0,"-0",{"$error":"#DIV/0!"}]
[null,null,null,null,null,0,"-0",{"$error":"#DIV/0!"}]
[null,null,null,null,null,0,"-0",{"$error":"#DIV/0!"}]
[null,null,null,null,null,0,"-0",{"$error":"#DIV/0!"}]
[null,null,null,null,null,0,"-0",{"$error":"#DIV/0!"}]
[null,null,null,null,null,0,"-0",{"$error":"#DIV/0!"}]
[null,null,null,null,null,0,"-0",{"$error":"#DIV/0!"}]
[null,null,null,null,null,0,"-0",{"$error":"#DIV/0!"}]
[null,null,null,null,null,0,"-0",{"$error":"#DIV/0!"}]
[null,null,null,null,null,0,"-0",{"$error":"#DIV/0!"}]
[null,null,null,null,null,0,"-0",{"$error":"#DIV/0!"}]
[null,null,null,null,null,0,"-0",{"$error":"#DIV/0!"}]
[null,null,null,null,null,0,"-0",{"$error":"#DIV/0!"}]
[null,null,null,null,null,0,"-0",{"$error":"#DIV/0!"}]
[null,null,null,null,null,0,"-0",{"$error":"#DIV/0!"}]
[null,null,null,null,null,0,"-0",{"$error":"#DIV/0!"}]
[null,null,null,null,null,0,"-0",{"$error":"#DIV/0!"}]
[null,null,null,null,null,0,"-0",{"$error":"#DIV/0!"}]
[null,null,null,null,null,0,"-0",{"$error":"#DIV/0!"}]
[null,null,null,null,null,0,"-0",{"$error":"#DIV/0!"}]
[null,null,null,null,null,0,"-0",{"$error":"#DIV/0!"}]
[null,null,null,null,null,0,"-0",{"$error":"#DIV/0!"}]
[null,null,null,null,null,0,"-0",{"$error":"#DIV/0!"}]
[null,null,null,null,null,0,"-0",{"$error":"#DIV/0!"}]
[null,null,null,null,null,0,"-0",{"$error":"#DIV/0!"}]
[null,null,null,null,null,0,"-0",{"$error":"#DIV/0!"}]
[null,null,null,null,null,0,"-0",{"$error":"#DIV/0!"}]
[null,null,null,null,null,0,"-0",{"$error":"#DIV/0!"}]
[null,null,null,null,null,0,"-0",{"$error":"#DIV/0!"}]
[null,null,null,null,null,0,"-0",{"$error":"#DIV/0!"}]
[null,null,null,null,null,0,"-0",{"$error":"#DIV/0!"}]
[null,null,null,null,null,0,"-0",{"$error":"#DIV/0!"}]
[null,null,null,null,null,0,"-0",{"$error":"#DIV/0!"}]
[null,null,null,null,null,0,"-0",{"$error":"#DIV/0!"}]
[null,null,null,null,null,0,"-0",{"$error":"#DIV/0!"}]
[null,null,null,null,null,0,"-0",{"$error":"#DIV/0!"}]
[null,null,null,null,null,0,"-0",{"$error":"#DIV/0!"}]
[null,null,null,null,null,0,"-0",{"$error":"#DIV/0!"}]
[null,null,null,null,null,0,"-0",{"$error":"#DIV/0!"}]
[null,null,null,null,null,0,"-0",{"$error":"#DIV/0!"}]
[null,null,null,null,null,0,"-0",{"$error":"#DIV/0!"}]
[null,null,null,null,null,0,"-0",{"$error":"#DIV/0!"}]
[null,null,null,null,null,0,"-0",{"$error":"#DIV/0!"}]
[null,null,null,null,null,0,"-0",{"$error":"#DIV/0!"}]
[null,null,null,null,null,0,"-0",{"$error":"#DIV/0!"}]
[null,null,null,null,null,0,"-0",{"$error":"#DIV/0!"}]
[null,null,null,null,null,0,"-0",{"$error":"#DIV/0!"}]
[null,null,null,null,null,0,"-0",{"$error":"#DIV/0!"}]
[null,null,null,null,null,0,"-0",{"$error":"#DIV/0!"}]
[null,null,null,null,null,0,"-0",{"$error":"#DIV/0!"}]
[null,null,null,null,null,0,"-0",{"$error":"#DIV/0!"}]
[null,null,null,null,null,0,"-0",{"$error":"#DIV/0!"}]
[null,null,null,null,null,0,"-0",{"$error":"#DIV/0!"}]
[null,null,null,null,null,0,"-0",{"$error":"#DIV/0!"}]
[null,null,null,null,null,0,"-0",{"$error":"#DIV/0!"}]
[null,null,null,null,null,0,"-0",{"$error":"#DIV/0!"}]
[null,null,null,null,null,0,"-0",{"$error":"#DIV/0!"}]
[null,null,null,null,null,0,"-0",{"$error":"#DIV/0!"}]
[null,null,null,null,null,0,"-0",{"$error":"#DIV/0!"}]
[null,null,null,null,null,0,"-0",{"$error":"#DIV/0!"}]
[null,null,null,null,null,0,"-0",{"$error":"#DIV/0!"}]
[null,null,null,null,null,0,"-0",{"$error":"#DIV/0!"}]
[null,null,null,null,null,0,"-0",{"$error":"#DIV/0!"}]
[null,null,null,null,null,0,"-0",{"$error":"#DIV/0!"}]
[null,null,null,null,null,0,"-0",{"$error":"#DIV/0!"}]
[null,null,null,null,null,0,"-0",{"$error":"#DIV/0!"}]
[null,null,null,null,null,0,"-0",{"$error":"#DIV/0!"}]
[null,null,null,null,null,0,"-0",{"$error":"#DIV/0!"}]
[null,null,null,null,null,0,"-0",{"$error":"#DIV/0!"}]
[null,null,null,null,null,0,"-0",{"$error":"#DIV/0!"}]
[null,null,null,null,null,0,"-0",{"$error":"#DIV/0!"}]
[null,null,null,null,null,0,"-0",{"$error":"#DIV/0!"}]
[null,null,null,null,null,0,"-0",{"$error":"#DIV/0!"}]
[null,null,null,null,null,0,"-0",{"$error":"#DIV/0!"}]
[null,null,null,null,null,0,"-0",{"$error":"#DIV/0!"}]
[null,null,null,null,null,0,"-0",{"$error":"#DIV/0!"}]
[null,null,null,null,null,0,"-0",{"$error":"#DIV/0!"}]
[null,null,null,null,null,0,"-0",{"$error":"#DIV/0!"}]
[null,null,null,null,null,0,"-0",{"$error":"#DIV/0!"}]
[null,null,null,null,null,0,"-0",{"$error":"#DIV/0!"}]
[null,null,null,null,null,0,"-0",{"$error":"#DIV/0!"}]
[null,null,null,null,null,0,"-0",{"$error":"#DIV/0!"}]
[null,null,null,null,null,{"$f":"IF($C4610=\"XU\",$D4610,$C4610)","v":0},{"$f":"CONCATENATE(A4610,\"-\",F4610)","v":"-0"},{"$f":"$E4610/SUMIF(A:A,A4610,E:E)","v":{"$error":"#DIV/0!"}}]
[null,null,null,null,null,0,"-0",{"$error":"#DIV/0!"}]
[null,null,null,null,null,0,"-0",{"$error":"#DIV/0!"}]
[null,null,null,null,null,0,"-0",{"$error":"#DIV/0!"}]
[null,null,null,null,null,0,"-0",{"$error":"#DIV/0!"}]
[null,null,null,null,null,0,"-0",{"$error":"#DIV/0!"}]
[null,null,null,null,null,0,"-0",{"$error":"#DIV/0!"}]
[null,null,null,null,null,0,"-0",{"$error":"#DIV/0!"}]
[null,null,null,null,null,0,"-0",{"$error":"#DIV/0!"}]
[null,null,null,null,null,0,"-0",{"$error":"#DIV/0!"}]
[null,null,null,null,null,0,"-0",{"$error":"#DIV/0!"}]
[null,null,null,null,null,0,"-0",{"$error":"#DIV/0!"}]
[null,null,null,null,null,0,"-0",{"$error":"#DIV/0!"}]
[null,null,null,null,null,0,"-0",{"$error":"#DIV/0!"}]
[null,null,null,null,null,0,"-0",{"$error":"#DIV/0!"}]
[null,null,null,null,null,0,"-0",{"$error":"#DIV/0!"}]
[null,null,null,null,null,0,"-0",{"$error":"#DIV/0!"}]
[null,null,null,null,null,0,"-0",{"$error":"#DIV/0!"}]
[null,null,null,null,null,0,"-0",{"$error":"#DIV/0!"}]
[null,null,null,null,null,0,"-0",{"$error":"#DIV/0!"}]
[null,null,null,null,null,0,"-0",{"$error":"#DIV/0!"}]
[null,null,null,null,null,0,"-0",{"$error":"#DIV/0!"}]
[null,null,null,null,null,0,"-0",{"$error":"#DIV/0!"}]
[null,null,null,null,null,0,"-0",{"$error":"#DIV/0!"}]
[null,null,null,null,null,0,"-0",{"$error":"#DIV/0!"}]
[null,null,null,null,null,0,"-0",{"$error":"#DIV/0!"}]
[null,null,null,null,null,0,"-0",{"$error":"#DIV/0!"}]
[null,null,null,null,null,0,"-0",{"$error":"#DIV/0!"}]
[null,null,null,null,null,0,"-0",{"$error":"#DIV/0!"}]
[null,null,null,null,null,0,"-0",{"$error":"#DIV/0!"}]
[null,null,null,null,null,0,"-0",{"$error":"#DIV/0!"}]
[null,null,null,null,null,0,"-0",{"$error":"#DIV/0!"}]
[null,null,null,null,null,0,"-0",{"$error":"#DIV/0!"}]
[null,null,null,null,null,0,"-0",{"$error":"#DIV/0!"}]
[null,null,null,null,null,0,"-0",{"$error":"#DIV/0!"}]
[null,null,null,null,null,0,"-0",{"$error":"#DIV/0!"}]
[null,null,null,null,null,0,"-0",{"$error":"#DIV/0!"}]
[null,null,null,null,null,0,"-0",{"$error":"#DIV/0!"}]
[null,null,null,null,null,0,"-0",{"$error":"#DIV/0!"}]
[null,null,null,null,null,0,"-0",{"$error":"#DIV/0!"}]
[null,null,null,null,null,0,"-0",{"$error":"#DIV/0!"}]
[null,null,null,null,null,0,"-0",{"$error":"#DIV/0!"}]
[null,null,null,null,null,0,"-0",{"$error":"#DIV/0!"}]
[null,null,null,null,null,0,"-0",{"$error":"#DIV/0!"}]
[null,null,null,null,null,0,"-0",{"$error":"#DIV/0!"}]
[null,null,null,null,null,0,"-0",{"$error":"#DIV/0!"}]
[null,null,null,null,null,0,"-0",{"$error":"#DIV/0!"}]
[null,null,null,null,null,0,"-0",{"$error":"#DIV/0!"}]
[null,null,null,null,null,0,"-0",{"$error":"#DIV/0!"}]
[null,null,null,null,null,0,"-0",{"$error":"#DIV/0!"}]
[null,null,null,null,null,0,"-0",{"$error":"#DIV/0!"}]
[null,null,null,null,null,0,"-0",{"$error":"#DIV/0!"}]
[null,null,null,null,null,0,"-0",{"$error":"#DIV/0!"}]
[null,null,null,null,null,0,"-0",{"$error":"#DIV/0!"}]
[null,null,null,null,null,0,"-0",{"$error":"#DIV/0!"}]
[null,null,null,null,null,0,"-0",{"$error":"#DIV/0!"}]
[null,null,null,null,null,0,"-0",{"$error":"#DIV/0!"}]
[null,null,null,null,null,0,"-0",{"$error":"#DIV/0!"}]
[null,null,null,null,null,0,"-0",{"$error":"#DIV/0!"}]
[null,null,null,null,null,0,"-0",{"$error":"#DIV/0!"}]
[null,null,null,null,null,0,"-0",{"$error":"#DIV/0!"}]
[null,null,null,null,null,0,"-0",{"$error":"#DIV/0!"}]
[null,null,null,null,null,0,"-0",{"$error":"#DIV/0!"}]
[null,null,null,null,null,0,"-0",{"$error":"#DIV/0!"}]
[null,null,null,null,null,0,"-0",{"$error":"#DIV/0!"}]
[null,null,null,null,null,0,"-0",{"$error":"#DIV/0!"}]
[null,null,null,null,null,0,"-0",{"$error":"#DIV/0!"}]
[null,null,null,null,null,0,"-0",{"$error":"#DIV/0!"}]
[null,null,null,null,null,0,"-0",{"$error":"#DIV/0!"}]
[null,null,null,null,null,0,"-0",{"$error":"#DIV/0!"}]
[null,null,null,null,null,0,"-0",{"$error":"#DIV/0!"}]
[null,null,null,null,null,0,"-0",{"$error":"#DIV/0!"}]
[null,null,null,null,null,0,"-0",{"$error":"#DIV/0!"}]
[null,null,null,null,null,0,"-0",{"$error":"#DIV/0!"}]
[null,null,null,null,null,0,"-0",{"$error":"#DIV/0!"}]
[null,null,null,null,null,0,"-0",{"$error":"#DIV/0!"}]
[null,null,null,null,null,0,"-0",{"$error":"#DIV/0!"}]
[null,null,null,null,null,0,"-0",{"$error":"#DIV/0!"}]
[null,null,null,null,null,0,"-0",{"$error":"#DIV/0!"}]
[null,null,null,null,null,0,"-0",{"$error":"#DIV/0!"}]
[null,null,null,null,null,0,"-0",{"$error":"#DIV/0!"}]
[null,null,null,null,null,0,"-0",{"$error":"#DIV/0!"}]
[null,null,null,null,null,0,"-0",{"$error":"#DIV/0!"}]
[null,null,null,null,null,0,"-0",{"$error":"#DIV/0!"}]
[null,null,null,null,null,{"$f":"IF($C5314=\"XU\",$D5314,$C5314)","v":0},{"$f":"CONCATENATE(A5314,\"-\",F5314)","v":"-0"},{"$f":"$E5314/SUMIF(A:A,A5314,E:E)","v":{"$error":"#DIV/0!"}}]
[null,null,null,null,null,0,"-0",{"$error":"#DIV/0!"}]
[null,null,null,null,null,0,"-0",{"$error":"#DIV/0!"}]
[null,null,null,null,null,0,"-0",{"$error":"#DIV/0!"}]
[null,null,null,null,null,0,"-0",{"$error":"#DIV/0!"}]
[null,null,null,null,null,0,"-0",{"$error":"#DIV/0!"}]
[null,null,null,null,null,0,"-0",{"$error":"#DIV/0!"}]
[null,null,null,null,null,{"$f":"IF($C5378=\"XU\",$D5378,$C5378)","v":0},{"$f":"CONCATENATE(A5378,\"-\",F5378)","v":"-0"},{"$f":"$E5378/SUMIF(A:A,A5378,E:E)","v":{"$error":"#DIV/0!"}}]
[null,null,null,null,null,0,"-0",{"$error":"#DIV/0!"}]
[null,null,null,null,null,0,"-0",{"$error":"#DIV/0!"}]
[null,null,null,null,null,0,"-0",{"$error":"#DIV/0!"}]
[null,null,null,null,null,0,"-0",{"$error":"#DIV/0!"}]
[null,null,null,null,null,0,"-0",{"$error":"#DIV/0!"}]
[null,null,null,null,null,0,"-0",{"$error":"#DIV/0!"}]
[null,null,null,null,null,0,"-0",{"$error":"#DIV/0!"}]
[null,null,null,null,null,0,"-0",{"$error":"#DIV/0!"}]
[null,null,null,null,null,0,"-0",{"$error":"#DIV/0!"}]
[null,null,null,null,null,0,"-0",{"$error":"#DIV/0!"}]
[null,null,null,null,null,0,"-0",{"$error":"#DIV/0!"}]
[null,null,null,null,null,0,"-0",{"$error":"#DIV/0!"}]
[null,null,null,null,null,0,"-0",{"$error":"#DIV/0!"}]
[null,null,null,null,null,0,"-0",{"$error":"#DIV/0!"}]
[null,null,null,null,null,{"$f":"IF($C5506=\"XU\",$D5506,$C5506)","v":0},{"$f":"CONCATENATE(A5506,\"-\",F5506)","v":"-0"},{"$f":"$E5506/SUMIF(A:A,A5506,E:E)","v":{"$error":"#DIV/0!"}}]
[null,null,null,null,null,0,"-0",{"$error":"#DIV/0!"}]
[null,null,null,null,null,0,"-0",{"$error":"#DIV/0!"}]
[null,null,null,null,null,0,"-0",{"$error":"#DIV/0!"}]
[null,null,null,null,null,0,"-0",{"$error":"#DIV/0!"}]
[null,null,null,null,null,0,"-0",{"$error":"#DIV/0!"}]
[null,null,null,null,null,0,"-0",{"$error":"#DIV/0!"}]
[null,null,null,null,null,0,"-0",{"$error":"#DIV/0!"}]
[null,null,null,null,null,0,"-0",{"$error":"#DIV/0!"}]
[null,null,null,null,null,0,"-0",{"$error":"#DIV/0!"}]
[null,null,null,null,null,0,"-0",{"$error":"#DIV/0!"}]
[null,null,null,null,null,0,"-0",{"$error":"#DIV/0!"}]
[null,null,null,null,null,0,"-0",{"$error":"#DIV/0!"}]
[null,null,null,null,null,0,"-0",{"$error":"#DIV/0!"}]
[null,null,null,null,null,0,"-0",{"$error":"#DIV/0!"}]
[null,null,null,null,null,0,"-0",{"$error":"#DIV/0!"}]
[null,null,null,null,null,0,"-0",{"$error":"#DIV/0!"}]
[null,null,null,null,null,0,"-0",{"$error":"#DIV/0!"}]
[null,null,null,null,null,0,"-0",{"$error":"#DIV/0!"}]
[null,null,null,null,null,0,"-0",{"$error":"#DIV/0!"}]
[null,null,null,null,null,0,"-0",{"$error":"#DIV/0!"}]
[null,null,null,null,null,0,"-0",{"$error":"#DIV/0!"}]
[null,null,null,null,null,0,"-0",{"$error":"#DIV/0!"}]
[null,null,null,null,null,{"$f":"IF($C5698=\"XU\",$D5698,$C5698)","v":0},{"$f":"CONCATENATE(A5698,\"-\",F5698)","v":"-0"},{"$f":"$E5698/SUMIF(A:A,A5698,E:E)","v":{"$error":"#DIV/0!"}}]
[null,null,null,null,null,0,"-0",{"$error":"#DIV/0!"}]
[null,null,null,null,null,0,"-0",{"$error":"#DIV/0!"}]
[null,null,null,null,null,0,"-0",{"$error":"#DIV/0!"}]
[null,null,null,null,null,0,"-0",{"$error":"#DIV/0!"}]
[null,null,null,null,null,0,"-0",{"$error":"#DIV/0!"}]
[null,null,null,null,null,0,"-0",{"$error":"#DIV/0!"}]
[null,null,null,null,null,0,"-0",{"$error":"#DIV/0!"}]
[null,null,null,null,null,0,"-0",{"$error":"#DIV/0!"}]
[null,null,null,null,null,0,"-0",{"$error":"#DIV/0!"}]
[null,null,null,null,null,0,"-0",{"$error":"#DIV/0!"}]
[null,null,null,null,null,0,"-0",{"$error":"#DIV/0!"}]
[null,null,null,null,null,0,"-0",{"$error":"#DIV/0!"}]
[null,null,null,null,null,0,"-0",{"$error":"#DIV/0!"}]
[null,null,null,null,null,0,"-0",{"$error":"#DIV/0!"}]
[null,null,null,null,null,0,"-0",{"$error":"#DIV/0!"}]
[null,null,null,null,null,0,"-0",{"$error":"#DIV/0!"}]
[null,null,null,null,null,0,"-0",{"$error":"#DIV/0!"}]
[null,null,null,null,null,0,"-0",{"$error":"#DIV/0!"}]
[null,null,null,null,null,0,"-0",{"$error":"#DIV/0!"}]
[null,null,null,null,null,0,"-0",{"$error":"#DIV/0!"}]
[null,null,null,null,null,0,"-0",{"$error":"#DIV/0!"}]
[null,null,null,null,null,0,"-0",{"$error":"#DIV/0!"}]
[null,null,null,null,null,0,"-0",{"$error":"#DIV/0!"}]
[null,null,null,null,null,0,"-0",{"$error":"#DIV/0!"}]
[null,null,null,null,null,0,"-0",{"$error":"#DIV/0!"}]
[null,null,null,null,null,0,"-0",{"$error":"#DIV/0!"}]
[null,null,null,null,null,0,"-0",{"$error":"#DIV/0!"}]
[null,null,null,null,null,0,"-0",{"$error":"#DIV/0!"}]
[null,null,null,null,null,0,"-0",{"$error":"#DIV/0!"}]
[null,null,null,null,null,0,"-0",{"$error":"#DIV/0!"}]
[null,null,null,null,null,0,"-0",{"$error":"#DIV/0!"}]
[null,null,null,null,null,0,"-0",{"$error":"#DIV/0!"}]
[null,null,null,null,null,0,"-0",{"$error":"#DIV/0!"}]
[null,null,null,null,null,0,"-0",{"$error":"#DIV/0!"}]
[null,null,null,null,null,0,"-0",{"$error":"#DIV/0!"}]
[null,null,null,null,null,0,"-0",{"$error":"#DIV/0!"}]
[null,null,null,null,null,0,"-0",{"$error":"#DIV/0!"}]
[null,null,null,null,null,0,"-0",{"$error":"#DIV/0!"}]
[null,null,null,null,null,0,"-0",{"$error":"#DIV/0!"}]
[null,null,null,null,null,0,"-0",{"$error":"#DIV/0!"}]
[null,null,null,null,null,0,"-0",{"$error":"#DIV/0!"}]
[null,null,null,null,null,0,"-0",{"$error":"#DIV/0!"}]
[null,null,null,null,null,0,"-0",{"$error":"#DIV/0!"}]
[null,null,null,null,null,0,"-0",{"$error":"#DIV/0!"}]
[null,null,null,null,null,0,"-0",{"$error":"#DIV/0!"}]
[null,null,null,null,null,0,"-0",{"$error":"#DIV/0!"}]
[null,null,null,null,null,0,"-0",{"$error":"#DIV/0!"}]
[null,null,null,null,null,0,"-0",{"$error":"#DIV/0!"}]
[null,null,null,null,null,0,"-0",{"$error":"#DIV/0!"}]
[null,null,null,null,null,0,"-0",{"$error":"#DIV/0!"}]
[null,null,null,null,null,0,"-0",{"$error":"#DIV/0!"}]
[null,null,null,null,null,0,"-0",{"$error":"#DIV/0!"}]
[null,null,null,null,null,0,"-0",{"$error":"#DIV/0!"}]
[null,null,null,null,null,0,"-0",{"$error":"#DIV/0!"}]
[null,null,null,null,null,0,"-0",{"$error":"#DIV/0!"}]
[null,null,null,null,null,0,"-0",{"$error":"#DIV/0!"}]
[null,null,null,null,null,0,"-0",{"$error":"#DIV/0!"}]
[null,null,null,null,null,0,"-0",{"$error":"#DIV/0!"}]
[null,null,null,null,null,0,"-0",{"$error":"#DIV/0!"}]
[null,null,null,null,null,0,"-0",{"$error":"#DIV/0!"}]
[null,null,null,null,null,0,"-0",{"$error":"#DIV/0!"}]
[null,null,null,null,null,0,"-0",{"$error":"#DIV/0!"}]
[null,null,null,null,null,0,"-0",{"$error":"#DIV/0!"}]
[null,null,null,null,null,0,"-0",{"$error":"#DIV/0!"}]
[null,null,null,null,null,0,"-0",{"$error":"#DIV/0!"}]
[null,null,null,null,null,0,"-0",{"$error":"#DIV/0!"}]
[null,null,null,null,null,0,"-0",{"$error":"#DIV/0!"}]
[null,null,null,null,null,0,"-0",{"$error":"#DIV/0!"}]
[null,null,null,null,null,0,"-0",{"$error":"#DIV/0!"}]
[null,null,null,null,null,0,"-0",{"$error":"#DIV/0!"}]
[null,null,null,null,null,0,"-0",{"$error":"#DIV/0!"}]
[null,null,null,null,null,0,"-0",{"$error":"#DIV/0!"}]
[null,null,null,null,null,0,"-0",{"$error":"#DIV/0!"}]
[null,null,null,null,null,0,"-0",{"$error":"#DIV/0!"}]
[null,null,null,null,null,0,"-0",{"$error":"#DIV/0!"}]
[null,null,null,null,null,0,"-0",{"$error":"#DIV/0!"}]
[null,null,null,null,null,0,"-0",{"$error":"#DIV/0!"}]
[null,null,null,null,null,0,"-0",{"$error":"#DIV/0!"}]
[null,null,null,null,null,0,"-0",{"$error":"#DIV/0!"}]
[null,null,null,null,null,0,"-0",{"$error":"#DIV/0!"}]
[null,null,null,null,null,0,"-0",{"$error":"#DIV/0!"}]
[null,null,null,null,null,0,"-0",{"$error":"#DIV/0!"}]
[null,null,null,null,null,0,"-0",{"$error":"#DIV/0!"}]
[null,null,null,null,null,0,"-0",{"$error":"#DIV/0!"}]
[null,null,null,null,null,0,"-0",{"$error":"#DIV/0!"}]
[null,null,null,null,null,0,"-0",{"$error":"#DIV/0!"}]
[null,null,null,null,null,0,"-0",{"$error":"#DIV/0!"}]
[null,null,null,null,null,0,"-0",{"$error":"#DIV/0!"}]
[null,null,null,null,null,0,"-0",{"$error":"#DIV/0!"}]
[null,null,null,null,null,0,"-0",{"$error":"#DIV/0!"}]
[null,null,null,null,null,{"$f":"IF($C6466=\"XU\",$D6466,$C6466)","v":0},{"$f":"CONCATENATE(A6466,\"-\",F6466)","v":"-0"},{"$f":"$E6466/SUMIF(A:A,A6466,E:E)","v":{"$error":"#DIV/0!"}}]
[null,null,null,null,null,0,"-0",{"$error":"#DIV/0!"}]
[null,null,null,null,null,0,"-0",{"$error":"#DIV/0!"}]
[null,null,null,null,null,0,"-0",{"$error":"#DIV/0!"}]
[null,null,null,null,null,0,"-0",{"$error":"#DIV/0!"}]
[null,null,null,null,null,0,"-0",{"$error":"#DIV/0!"}]
[null,null,null,null,null,0,"-0",{"$error":"#DIV/0!"}]
[null,null,null,null,null,0,"-0",{"$error":"#DIV/0!"}]
[null,null,null,null,null,0,"-0",{"$error":"#DIV/0!"}]
[null,null,null,null,null,0,"-0",{"$error":"#DIV/0!"}]
[null,null,null,null,null,0,"-0",{"$error":"#DIV/0!"}]
[null,null,null,null,null,0,"-0",{"$error":"#DIV/0!"}]
[null,null,null,null,null,0,"-0",{"$error":"#DIV/0!"}]
[null,null,null,null,null,0,"-0",{"$error":"#DIV/0!"}]
[null,null,null,null,null,0,"-0",{"$error":"#DIV/0!"}]
[null,null,null,null,null,0,"-0",{"$error":"#DIV/0!"}]
[null,null,null,null,null,0,"-0",{"$error":"#DIV/0!"}]
[null,null,null,null,null,0,"-0",{"$error":"#DIV/0!"}]
[null,null,null,null,null,0,"-0",{"$error":"#DIV/0!"}]
[null,null,null,null,null,0,"-0",{"$error":"#DIV/0!"}]
[null,null,null,null,null,0,"-0",{"$error":"#DIV/0!"}]
[null,null,null,null,null,0,"-0",{"$error":"#DIV/0!"}]
[null,null,null,null,null,0,"-0",{"$error":"#DIV/0!"}]
[null,null,null,null,null,0,"-0",{"$error":"#DIV/0!"}]
[null,null,null,null,null,0,"-0",{"$error":"#DIV/0!"}]
[null,null,null,null,null,0,"-0",{"$error":"#DIV/0!"}]
[null,null,null,null,null,0,"-0",{"$error":"#DIV/0!"}]
[null,null,null,null,null,0,"-0",{"$error":"#DIV/0!"}]
[null,null,null,null,null,0,"-0",{"$error":"#DIV/0!"}]
[null,null,null,null,null,0,"-0",{"$error":"#DIV/0!"}]
[null,null,null,null,null,0,"-0",{"$error":"#DIV/0!"}]
[null,null,null,null,null,0,"-0",{"$error":"#DIV/0!"}]
[null,null,null,null,null,0,"-0",{"$error":"#DIV/0!"}]
[null,null,null,null,null,0,"-0",{"$error":"#DIV/0!"}]
[null,null,null,null,null,0,"-0",{"$error":"#DIV/0!"}]
[null,null,null,null,null,0,"-0",{"$error":"#DIV/0!"}]
[null,null,null,null,null,0,"-0",{"$error":"#DIV/0!"}]
[null,null,null,null,null,0,"-0",{"$error":"#DIV/0!"}]
[null,null,null,null,null,0,"-0",{"$error":"#DIV/0!"}]
[null,null,null,null,null,0,"-0",{"$error":"#DIV/0!"}]
[null,null,null,null,null,0,"-0",{"$error":"#DIV/0!"}]
[null,null,null,null,null,0,"-0",{"$error":"#DIV/0!"}]
[null,null,null,null,null,0,"-0",{"$error":"#DIV/0!"}]
[null,null,null,null,null,0,"-0",{"$error":"#DIV/0!"}]
[null,null,null,null,null,0,"-0",{"$error":"#DIV/0!"}]
[null,null,null,null,null,0,"-0",{"$error":"#DIV/0!"}]
[null,null,null,null,null,0,"-0",{"$error":"#DIV/0!"}]
[null,null,null,null,null,0,"-0",{"$error":"#DIV/0!"}]
[null,null,null,null,null,0,"-0",{"$error":"#DIV/0!"}]
[null,null,null,null,null,0,"-0",{"$error":"#DIV/0!"}]
[null,null,null,null,null,0,"-0",{"$error":"#DIV/0!"}]
[null,null,null,null,null,0,"-0",{"$error":"#DIV/0!"}]
[null,null,null,null,null,0,"-0",{"$error":"#DIV/0!"}]
[null,null,null,null,null,0,"-0",{"$error":"#DIV/0!"}]
[null,null,null,null,null,0,"-0",{"$error":"#DIV/0!"}]
[null,null,null,null,null,0,"-0",{"$error":"#DIV/0!"}]
[null,null,null,null,null,0,"-0",{"$error":"#DIV/0!"}]
[null,null,null,null,null,0,"-0",{"$error":"#DIV/0!"}]
[null,null,null,null,null,0,"-0",{"$error":"#DIV/0!"}]
[null,null,null,null,null,0,"-0",{"$error":"#DIV/0!"}]
[null,null,null,null,null,0,"-0",{"$error":"#DIV/0!"}]
[null,null,null,null,null,0,"-0",{"$error":"#DIV/0!"}]
[null,null,null,null,null,0,"-0",{"$error":"#DIV/0!"}]
[null,null,null,null,null,0,"-0",{"$error":"#DIV/0!"}]
[null,null,null,null,null,0,"-0",{"$error":"#DIV/0!"}]
[null,null,null,null,null,0,"-0",{"$error":"#DIV/0!"}]
[null,null,null,null,null,0,"-0",{"$error":"#DIV/0!"}]
[null,null,null,null,null,0,"-0",{"$error":"#DIV/0!"}]
[null,null,null,null,null,{"$f":"IF($C7042=\"XU\",$D7042,$C7042)","v":0},{"$f":"CONCATENATE(A7042,\"-\",F7042)","v":"-0"},{"$f":"$E7042/SUMIF(A:A,A7042,E:E)","v":{"$error":"#DIV/0!"}}]
[null,null,null,null,null,0,"-0",{"$error":"#DIV/0!"}]
[null,null,null,null,null,0,"-0",{"$error":"#DIV/0!"}]
[null,null,null,null,null,0,"-0",{"$error":"#DIV/0!"}]
[null,null,null,null,null,0,"-0",{"$error":"#DIV/0!"}]
[null,null,null,null,null,0,"-0",{"$error":"#DIV/0!"}]
[null,null,null,null,null,0,"-0",{"$error":"#DIV/0!"}]
[null,null,null,null,null,0,"-0",{"$error":"#DIV/0!"}]
[null,null,null,null,null,0,"-0",{"$error":"#DIV/0!"}]
[null,null,null,null,null,0,"-0",{"$error":"#DIV/0!"}]
[null,null,null,null,null,0,"-0",{"$error":"#DIV/0!"}]
[null,null,null,null,null,0,"-0",{"$error":"#DIV/0!"}]
[null,null,null,null,null,0,"-0",{"$error":"#DIV/0!"}]
[null,null,null,null,null,0,"-0",{"$error":"#DIV/0!"}]
[null,null,null,null,null,0,"-0",{"$error":"#DIV/0!"}]
[null,null,null,null,null,0,"-0",{"$error":"#DIV/0!"}]
[null,null,null,null,null,0,"-0",{"$error":"#DIV/0!"}]
[null,null,null,null,null,0,"-0",{"$error":"#DIV/0!"}]
[null,null,null,null,null,0,"-0",{"$error":"#DIV/0!"}]
[null,null,null,null,null,0,"-0",{"$error":"#DIV/0!"}]
[null,null,null,null,null,0,"-0",{"$error":"#DIV/0!"}]
[null,null,null,null,null,0,"-0",{"$error":"#DIV/0!"}]
[null,null,null,null,null,0,"-0",{"$error":"#DIV/0!"}]
[null,null,null,null,null,{"$f":"IF($C7234=\"XU\",$D7234,$C7234)","v":0},{"$f":"CONCATENATE(A7234,\"-\",F7234)","v":"-0"},{"$f":"$E7234/SUMIF(A:A,A7234,E:E)","v":{"$error":"#DIV/0!"}}]
[null,null,null,null,null,0,"-0",{"$error":"#DIV/0!"}]
[null,null,null,null,null,0,"-0",{"$error":"#DIV/0!"}]
[null,null,null,null,null,0,"-0",{"$error":"#DIV/0!"}]
[null,null,null,null,null,0,"-0",{"$error":"#DIV/0!"}]
[null,null,null,null,null,0,"-0",{"$error":"#DIV/0!"}]
[null,null,null,null,null,0,"-0",{"$error":"#DIV/0!"}]
[null,null,null,null,null,0,"-0",{"$error":"#DIV/0!"}]
[null,null,null,null,null,0,"-0",{"$error":"#DIV/0!"}]
[null,null,null,null,null,0,"-0",{"$error":"#DIV/0!"}]
[null,null,null,null,null,0,"-0",{"$error":"#DIV/0!"}]
[null,null,null,null,null,0,"-0",{"$error":"#DIV/0!"}]
[null,null,null,null,null,0,"-0",{"$error":"#DIV/0!"}]
[null,null,null,null,null,0,"-0",{"$error":"#DIV/0!"}]
[null,null,null,null,null,0,"-0",{"$error":"#DIV/0!"}]
[null,null,null,null,null,0,"-0",{"$error":"#DIV/0!"}]
[null,null,null,null,null,0,"-0",{"$error":"#DIV/0!"}]
[null,null,null,null,null,0,"-0",{"$error":"#DIV/0!"}]
[null,null,null,null,null,0,"-0",{"$error":"#DIV/0!"}]
[null,null,null,null,null,0,"-0",{"$error":"#DIV/0!"}]
[null,null,null,null,null,0,"-0",{"$error":"#DIV/0!"}]
[null,null,null,null,null,0,"-0",{"$error":"#DIV/0!"}]
[null,null,null,null,null,0,"-0",{"$error":"#DIV/0!"}]
[null,null,null,null,null,0,"-0",{"$error":"#DIV/0!"}]
[null,null,null,null,null,0,"-0",{"$error":"#DIV/0!"}]
[null,null,null,null,null,0,"-0",{"$error":"#DIV/0!"}]
[null,null,null,null,null,0,"-0",{"$error":"#DIV/0!"}]
[null,null,null,null,null,0,"-0",{"$error":"#DIV/0!"}]
[null,null,null,null,null,0,"-0",{"$error":"#DIV/0!"}]
[null,null,null,null,null,0,"-0",{"$error":"#DIV/0!"}]
[null,null,null,null,null,0,"-0",{"$error":"#DIV/0!"}]
[null,null,null,null,null,0,"-0",{"$error":"#DIV/0!"}]
[null,null,null,null,null,0,"-0",{"$error":"#DIV/0!"}]
[null,null,null,null,null,0,"-0",{"$error":"#DIV/0!"}]
[null,null,null,null,null,0,"-0",{"$error":"#DIV/0!"}]
[null,null,null,null,null,0,"-0",{"$error":"#DIV/0!"}]
[null,null,null,null,null,0,"-0",{"$error":"#DIV/0!"}]
[null,null,null,null,null,0,"-0",{"$error":"#DIV/0!"}]
[null,null,null,null,null,{"$f":"IF($C7554=\"XU\",$D7554,$C7554)","v":0},{"$f":"CONCATENATE(A7554,\"-\",F7554)","v":"-0"},{"$f":"$E7554/SUMIF(A:A,A7554,E:E)","v":{"$error":"#DIV/0!"}}]
[null,null,null,null,null,0,"-0",{"$error":"#DIV/0!"}]
[null,null,null,null,null,0,"-0",{"$error":"#DIV/0!"}]
[null,null,null,null,null,0,"-0",{"$error":"#DIV/0!"}]
[null,null,null,null,null,0,"-0",{"$error":"#DIV/0!"}]
[null,null,null,null,null,0,"-0",{"$error":"#DIV/0!"}]
[null,null,null,null,null,0,"-0",{"$error":"#DIV/0!"}]
[null,null,null,null,null,0,"-0",{"$error":"#DIV/0!"}]
[null,null,null,null,null,0,"-0",{"$error":"#DIV/0!"}]
[null,null,null,null,null,0,"-0",{"$error":"#DIV/0!"}]
[null,null,null,null,null,0,"-0",{"$error":"#DIV/0!"}]
[null,null,null,null,null,0,"-0",{"$error":"#DIV/0!"}]
[null,null,null,null,null,0,"-0",{"$error":"#DIV/0!"}]
[null,null,null,null,null,0,"-0",{"$error":"#DIV/0!"}]
[null,null,null,null,null,0,"-0",{"$error":"#DIV/0!"}]
[null,null,null,null,null,0,"-0",{"$error":"#DIV/0!"}]
[null,null,null,null,null,0,"-0",{"$error":"#DIV/0!"}]
[null,null,null,null,null,0,"-0",{"$error":"#DIV/0!"}]
[null,null,null,null,null,0,"-0",{"$error":"#DIV/0!"}]
[null,null,null,null,null,0,"-0",{"$error":"#DIV/0!"}]
[null,null,null,null,null,0,"-0",{"$error":"#DIV/0!"}]
[null,null,null,null,null,0,"-0",{"$error":"#DIV/0!"}]
[null,null,null,null,null,0,"-0",{"$error":"#DIV/0!"}]
[null,null,null,null,null,0,"-0",{"$error":"#DIV/0!"}]
[null,null,null,null,null,0,"-0",{"$error":"#DIV/0!"}]
[null,null,null,null,null,0,"-0",{"$error":"#DIV/0!"}]
[null,null,null,null,null,0,"-0",{"$error":"#DIV/0!"}]
[null,null,null,null,null,0,"-0",{"$error":"#DIV/0!"}]
[null,null,null,null,null,0,"-0",{"$error":"#DIV/0!"}]
[null,null,null,null,null,0,"-0",{"$error":"#DIV/0!"}]
[null,null,null,null,null,0,"-0",{"$error":"#DIV/0!"}]
[null,null,null,null,null,0,"-0",{"$error":"#DIV/0!"}]
[null,null,null,null,null,0,"-0",{"$error":"#DIV/0!"}]
[null,null,null,null,null,0,"-0",{"$error":"#DIV/0!"}]
[null,null,null,null,null,0,"-0",{"$error":"#DIV/0!"}]
[null,null,null,null,null,0,"-0",{"$error":"#DIV/0!"}]
[null,null,null,null,null,0,"-0",{"$error":"#DIV/0!"}]
[null,null,null,null,null,0,"-0",{"$error":"#DIV/0!"}]
[null,null,null,null,null,0,"-0",{"$error":"#DIV/0!"}]
[null,null,null,null,null,0,"-0",{"$error":"#DIV/0!"}]
[null,null,null,null,null,0,"-0",{"$error":"#DIV/0!"}]
[null,null,null,null,null,0,"-0",{"$error":"#DIV/0!"}]
[null,null,null,null,null,0,"-0",{"$error":"#DIV/0!"}]
[null,null,null,null,null,0,"-0",{"$error":"#DIV/0!"}]
[null,null,null,null,null,0,"-0",{"$error":"#DIV/0!"}]
[null,null,null,null,null,0,"-0",{"$error":"#DIV/0!"}]
[null,null,null,null,null,0,"-0",{"$error":"#DIV/0!"}]
[null,null,null,null,null,0,"-0",{"$error":"#DIV/0!"}]
[null,null,null,null,null,0,"-0",{"$error":"#DIV/0!"}]
[null,null,null,null,null,0,"-0",{"$error":"#DIV/0!"}]
[null,null,null,null,null,0,"-0",{"$error":"#DIV/0!"}]
[null,null,null,null,null,0,"-0",{"$error":"#DIV/0!"}]
[null,null,null,null,null,0,"-0",{"$error":"#DIV/0!"}]
[null,null,null,null,null,0,"-0",{"$error":"#DIV/0!"}]
[null,null,null,null,null,0,"-0",{"$error":"#DIV/0!"}]
[null,null,null,null,null,0,"-0",{"$error":"#DIV/0!"}]
[null,null,null,null,null,0,"-0",{"$error":"#DIV/0!"}]
[null,null,null,null,null,0,"-0",{"$error":"#DIV/0!"}]
[null,null,null,null,null,0,"-0",{"$error":"#DIV/0!"}]
[null,null,null,null,null,0,"-0",{"$error":"#DIV/0!"}]
[null,null,null,null,null,0,"-0",{"$error":"#DIV/0!"}]
[null,null,null,null,null,0,"-0",{"$error":"#DIV/0!"}]
[null,null,null,null,null,0,"-0",{"$error":"#DIV/0!"}]
[null,null,null,null,null,0,"-0",{"$error":"#DIV/0!"}]
[null,null,null,null,null,0,"-0",{"$error":"#DIV/0!"}]
[null,null,null,null,null,0,"-0",{"$error":"#DIV/0!"}]
[null,null,null,null,null,0,"-0",{"$error":"#DIV/0!"}]
[null,null,null,null,null,0,"-0",{"$error":"#DIV/0!"}]
[null,null,null,null,null,0,"-0",{"$error":"#DIV/0!"}]
[null,null,null,null,null,0,"-0",{"$error":"#DIV/0!"}]
[null,null,null,null,null,0,"-0",{"$error":"#DIV/0!"}]
[null,null,null,null,null,0,"-0",{"$error":"#DIV/0!"}]
[null,null,null,null,null,0,"-0",{"$error":"#DIV/0!"}]
[null,null,null,null,null,0,"-0",{"$error":"#DIV/0!"}]
[null,null,null,null,null,0,"-0",{"$error":"#DIV/0!"}]
[null,null,null,null,null,0,"-0",{"$error":"#DIV/0!"}]
[null,null,null,null,null,0,"-0",{"$error":"#DIV/0!"}]
[null,null,null,null,null,0,"-0",{"$error":"#DIV/0!"}]
[null,null,null,null,null,0,"-0",{"$error":"#DIV/0!"}]
[null,null,null,null,null,0,"-0",{"$error":"#DIV/0!"}]
[null,null,null,null,null,0,"-0",{"$error":"#DIV/0!"}]
[null,null,null,null,null,0,"-0",{"$error":"#DIV/0!"}]
[null,null,null,null,null,0,"-0",{"$error":"#DIV/0!"}]
[null,null,null,null,null,0,"-0",{"$error":"#DIV/0!"}]
[null,null,null,null,null,0,"-0",{"$error":"#DIV/0!"}]
[null,null,null,null,null,0,"-0",{"$error":"#DIV/0!"}]
[null,null,null,null,null,0,"-0",{"$error":"#DIV/0!"}]
[null,null,null,null,null,0,"-0",{"$error":"#DIV/0!"}]
[null,null,null,null,null,0,"-0",{"$error":"#DIV/0!"}]
[null,null,null,null,null,0,"-0",{"$error":"#DIV/0!"}]
[null,null,null,null,null,0,"-0",{"$error":"#DIV/0!"}]
[null,null,null,null,null,{"$f":"IF($C8322=\"XU\",$D8322,$C8322)","v":0},{"$f":"CONCATENATE(A8322,\"-\",F8322)","v":"-0"},{"$f":"$E8322/SUMIF(A:A,A8322,E:E)","v":{"$error":"#DIV/0!"}}]
[null,null,null,null,null,0,"-0",{"$error":"#DIV/0!"}]
[null,null,null,null,null,0,"-0",{"$error":"#DIV/0!"}]
[null,null,null,null,null,0,"-0",{"$error":"#DIV/0!"}]
[null,null,null,null,null,0,"-0",{"$error":"#DIV/0!"}]
[null,null,null,null,null,0,"-0",{"$error":"#DIV/0!"}]
[null,null,null,null,null,0,"-0",{"$error":"#DIV/0!"}]
[null,null,null,null,null,0,"-0",{"$error":"#DIV/0!"}]
[null,null,null,null,null,0,"-0",{"$error":"#DIV/0!"}]
[null,null,null,null,null,0,"-0",{"$error":"#DIV/0!"}]
[null,null,null,null,null,0,"-0",{"$error":"#DIV/0!"}]
[null,null,null,null,null,0,"-0",{"$error":"#DIV/0!"}]
[null,null,null,null,null,0,"-0",{"$error":"#DIV/0!"}]
[null,null,null,null,null,0,"-0",{"$error":"#DIV/0!"}]
[null,null,null,null,null,0,"-0",{"$error":"#DIV/0!"}]
[null,null,null,null,null,0,"-0",{"$error":"#DIV/0!"}]
[null,null,null,null,null,0,"-0",{"$error":"#DIV/0!"}]
[null,null,null,null,null,0,"-0",{"$error":"#DIV/0!"}]
[null,null,null,null,null,0,"-0",{"$error":"#DIV/0!"}]
[null,null,null,null,null,0,"-0",{"$error":"#DIV/0!"}]
[null,null,null,null,null,0,"-0",{"$error":"#DIV/0!"}]
[null,null,null,null,null,0,"-0",{"$error":"#DIV/0!"}]
[null,null,null,null,null,0,"-0",{"$error":"#DIV/0!"}]
[null,null,null,null,null,0,"-0",{"$error":"#DIV/0!"}]
[null,null,null,null,null,0,"-0",{"$error":"#DIV/0!"}]
[null,null,null,null,null,0,"-0",{"$error":"#DIV/0!"}]
[null,null,null,null,null,0,"-0",{"$error":"#DIV/0!"}]
[null,null,null,null,null,0,"-0",{"$error":"#DIV/0!"}]
[null,null,null,null,null,0,"-0",{"$error":"#DIV/0!"}]
[null,null,null,null,null,0,"-0",{"$error":"#DIV/0!"}]
[null,null,null,null,null,{"$f":"IF($C8578=\"XU\",$D8578,$C8578)","v":0},{"$f":"CONCATENATE(A8578,\"-\",F8578)","v":"-0"},{"$f":"$E8578/SUMIF(A:A,A8578,E:E)","v":{"$error":"#DIV/0!"}}]
[null,null,null,null,null,0,"-0",{"$error":"#DIV/0!"}]
[null,null,null,null,null,0,"-0",{"$error":"#DIV/0!"}]
[null,null,null,null,null,0,"-0",{"$error":"#DIV/0!"}]
[null,null,null,null,null,0,"-0",{"$error":"#DIV/0!"}]
[null,null,null,null,null,0,"-0",{"$error":"#DIV/0!"}]
[null,null,null,null,null,0,"-0",{"$error":"#DIV/0!"}]
[null,null,null,null,null,0,"-0",{"$error":"#DIV/0!"}]
[null,null,null,null,null,0,"-0",{"$error":"#DIV/0!"}]
[null,null,null,null,null,0,"-0",{"$error":"#DIV/0!"}]
[null,null,null,null,null,0,"-0",{"$error":"#DIV/0!"}]
[null,null,null,null,null,0,"-0",{"$error":"#DIV/0!"}]
[null,null,null,null,null,0,"-0",{"$error":"#DIV/0!"}]
[null,null,null,null,null,0,"-0",{"$error":"#DIV/0!"}]
[null,null,null,null,null,0,"-0",{"$error":"#DIV/0!"}]
[null,null,null,null,null,0,"-0",{"$error":"#DIV/0!"}]
[null,null,null,null,null,0,"-0",{"$error":"#DIV/0!"}]
[null,null,null,null,null,0,"-0",{"$error":"#DIV/0!"}]
[null,null,null,null,null,0,"-0",{"$error":"#DIV/0!"}]
[null,null,null,null,null,0,"-0",{"$error":"#DIV/0!"}]
[null,null,null,null,null,0,"-0",{"$error":"#DIV/0!"}]
[null,null,null,null,null,0,"-0",{"$error":"#DIV/0!"}]
[null,null,null,null,null,0,"-0",{"$error":"#DIV/0!"}]
[null,null,null,null,null,0,"-0",{"$error":"#DIV/0!"}]
[null,null,null,null,null,0,"-0",{"$error":"#DIV/0!"}]
[null,null,null,null,null,0,"-0",{"$error":"#DIV/0!"}]
[null,null,null,null,null,0,"-0",{"$error":"#DIV/0!"}]
[null,null,null,null,null,0,"-0",{"$error":"#DIV/0!"}]
[null,null,null,null,null,0,"-0",{"$error":"#DIV/0!"}]
[null,null,null,null,null,0,"-0",{"$error":"#DIV/0!"}]
[null,null,null,null,null,0,"-0",{"$error":"#DIV/0!"}]
[null,null,null,null,null,0,"-0",{"$error":"#DIV/0!"}]
[null,null,null,null,null,0,"-0",{"$error":"#DIV/0!"}]
[null,null,null,null,null,0,"-0",{"$error":"#DIV/0!"}]
[null,null,null,null,null,0,"-0",{"$error":"#DIV/0!"}]
[null,null,null,null,null,0,"-0",{"$error":"#DIV/0!"}]
[null,null,null,null,null,0,"-0",{"$error":"#DIV/0!"}]
[null,null,null,null,null,0,"-0",{"$error":"#DIV/0!"}]
[null,null,null,null,null,0,"-0",{"$error":"#DIV/0!"}]
[null,null,null,null,null,0,"-0",{"$error":"#DIV/0!"}]
[null,null,null,null,null,0,"-0",{"$error":"#DIV/0!"}]
[null,null,null,null,null,0,"-0",{"$error":"#DIV/0!"}]
[null,null,null,null,null,0,"-0",{"$error":"#DIV/0!"}]
[null,null,null,null,null,0,"-0",{"$error":"#DIV/0!"}]
[null,null,null,null,null,0,"-0",{"$error":"#DIV/0!"}]
[null,null,null,null,null,0,"-0",{"$error":"#DIV/0!"}]
[null,null,null,null,null,0,"-0",{"$error":"#DIV/0!"}]
[null,null,null,null,null,0,"-0",{"$error":"#DIV/0!"}]
[null,null,null,null,null,0,"-0",{"$error":"#DIV/0!"}]
[null,null,null,null,null,0,"-0",{"$error":"#DIV/0!"}]
[null,null,null,null,null,0,"-0",{"$error":"#DIV/0!"}]
[null,null,null,null,null,0,"-0",{"$error":"#DIV/0!"}]
[null,null,null,null,null,0,"-0",{"$error":"#DIV/0!"}]
[null,null,null,null,null,0,"-0",{"$error":"#DIV/0!"}]
[null,null,null,null,null,0,"-0",{"$error":"#DIV/0!"}]
[null,null,null,null,null,0,"-0",{"$error":"#DIV/0!"}]
[null,null,null,null,null,0,"-0",{"$error":"#DIV/0!"}]
[null,null,null,null,null,0,"-0",{"$error":"#DIV/0!"}]
[null,null,null,null,null,0,"-0",{"$error":"#DIV/0!"}]
[null,null,null,null,null,0,"-0",{"$error":"#DIV/0!"}]
[null,null,null,null,null,0,"-0",{"$error":"#DIV/0!"}]
[null,null,null,null,null,{"$f":"IF($C9090=\"XU\",$D9090,$C9090)","v":0},{"$f":"CONCATENATE(A9090,\"-\",F9090)","v":"-0"},{"$f":"$E9090/SUMIF(A:A,A9090,E:E)","v":{"$error":"#DIV/0!"}}]
[null,null,null,null,null,0,"-0",{"$error":"#DIV/0!"}]
[null,null,null,null,null,0,"-0",{"$error":"#DIV/0!"}]
[null,null,null,null,null,0,"-0",{"$error":"#DIV/0!"}]
[null,null,null,null,null,0,"-0",{"$error":"#DIV/0!"}]
[null,null,null,null,null,0,"-0",{"$error":"#DIV/0!"}]
[null,null,null,null,null,0,"-0",{"$error":"#DIV/0!"}]
[null,null,null,null,null,0,"-0",{"$error":"#DIV/0!"}]
[null,null,null,null,null,0,"-0",{"$error":"#DIV/0!"}]
[null,null,null,null,null,0,"-0",{"$error":"#DIV/0!"}]
[null,null,null,null,null,0,"-0",{"$error":"#DIV/0!"}]
[null,null,null,null,null,0,"-0",{"$error":"#DIV/0!"}]
[null,null,null,null,null,0,"-0",{"$error":"#DIV/0!"}]
[null,null,null,null,null,0,"-0",{"$error":"#DIV/0!"}]
[null,null,null,null,null,0,"-0",{"$error":"#DIV/0!"}]
[null,null,null,null,null,0,"-0",{"$error":"#DIV/0!"}]
[null,null,null,null,null,0,"-0",{"$error":"#DIV/0!"}]
[null,null,null,null,null,0,"-0",{"$error":"#DIV/0!"}]
[null,null,null,null,null,0,"-0",{"$error":"#DIV/0!"}]
[null,null,null,null,null,0,"-0",{"$error":"#DIV/0!"}]
[null,null,null,null,null,0,"-0",{"$error":"#DIV/0!"}]
[null,null,null,null,null,0,"-0",{"$error":"#DIV/0!"}]
[null,null,null,null,null,{"$f":"IF($C9282=\"XU\",$D9282,$C9282)","v":0},{"$f":"CONCATENATE(A9282,\"-\",F9282)","v":"-0"},{"$f":"$E9282/SUMIF(A:A,A9282,E:E)","v":{"$error":"#DIV/0!"}}]
[null,null,null,null,null,0,"-0",{"$error":"#DIV/0!"}]
[null,null,null,null,null,0,"-0",{"$error":"#DIV/0!"}]
[null,null,null,null,null,0,"-0",{"$error":"#DIV/0!"}]
[null,null,null,null,null,0,"-0",{"$error":"#DIV/0!"}]
[null,null,null,null,null,0,"-0",{"$error":"#DIV/0!"}]
[null,null,null,null,null,0,"-0",{"$error":"#DIV/0!"}]
[null,null,null,null,null,0,"-0",{"$error":"#DIV/0!"}]
[null,null,null,null,null,0,"-0",{"$error":"#DIV/0!"}]
[null,null,null,null,null,0,"-0",{"$error":"#DIV/0!"}]
[null,null,null,null,null,0,"-0",{"$error":"#DIV/0!"}]
[null,null,null,null,null,0,"-0",{"$error":"#DIV/0!"}]
[null,null,null,null,null,0,"-0",{"$error":"#DIV/0!"}]
[null,null,null,null,null,0,"-0",{"$error":"#DIV/0!"}]
[null,null,null,null,null,0,"-0",{"$error":"#DIV/0!"}]
[null,null,null,null,null,0,"-0",{"$error":"#DIV/0!"}]
[null,null,null,null,null,0,"-0",{"$error":"#DIV/0!"}]
[null,null,null,null,null,0,"-0",{"$error":"#DIV/0!"}]
[null,null,null,null,null,0,"-0",{"$error":"#DIV/0!"}]
[null,null,null,null,null,0,"-0",{"$error":"#DIV/0!"}]
[null,null,null,null,null,0,"-0",{"$error":"#DIV/0!"}]
[null,null,null,null,null,0,"-0",{"$error":"#DIV/0!"}]
[null,null,null,null,null,0,"-0",{"$error":"#DIV/0!"}]
[null,null,null,null,null,0,"-0",{"$error":"#DIV/0!"}]
[null,null,null,null,null,0,"-0",{"$error":"#DIV/0!"}]
[null,null,null,null,null,0,"-0",{"$error":"#DIV/0!"}]
[null,null,null,null,null,0,"-0",{"$error":"#DIV/0!"}]
[null,null,null,null,null,0,"-0",{"$error":"#DIV/0!"}]
[null,null,null,null,null,0,"-0",{"$error":"#DIV/0!"}]
[null,null,null,null,null,0,"-0",{"$error":"#DIV/0!"}]
[null,null,null,null,null,0,"-0",{"$error":"#DIV/0!"}]
[null,null,null,null,null,0,"-0",{"$error":"#DIV/0!"}]
[null,null,null,null,null,0,"-0",{"$error":"#DIV/0!"}]
[null,null,null,null,null,0,"-0",{"$error":"#DIV/0!"}]
[null,null,null,null,null,0,"-0",{"$error":"#DIV/0!"}]
[null,null,null,null,null,0,"-0",{"$error":"#DIV/0!"}]
[null,null,null,null,null,0,"-0",{"$error":"#DIV/0!"}]
[null,null,null,null,null,0,"-0",{"$error":"#DIV/0!"}]
[null,null,null,null,null,0,"-0",{"$error":"#DIV/0!"}]
[null,null,null,null,null,0,"-0",{"$error":"#DIV/0!"}]
[null,null,null,null,null,0,"-0",{"$error":"#DIV/0!"}]
[null,null,null,null,null,0,"-0",{"$error":"#DIV/0!"}]
[null,null,null,null,null,0,"-0",{"$error":"#DIV/0!"}]
[null,null,null,null,null,0,"-0",{"$error":"#DIV/0!"}]
[null,null,null,null,null,0,"-0",{"$error":"#DIV/0!"}]
[null,null,null,null,null,0,"-0",{"$error":"#DIV/0!"}]
[null,null,null,null,null,0,"-0",{"$error":"#DIV/0!"}]
[null,null,null,null,null,0,"-0",{"$error":"#DIV/0!"}]
[null,null,null,null,null,0,"-0",{"$error":"#DIV/0!"}]
[null,null,null,null,null,0,"-0",{"$error":"#DIV/0!"}]
[null,null,null,null,null,0,"-0",{"$error":"#DIV/0!"}]
[null,null,null,null,null,0,"-0",{"$error":"#DIV/0!"}]
[null,null,null,null,null,0,"-0",{"$error":"#DIV/0!"}]
[null,null,null,null,null,0,"-0",{"$error":"#DIV/0!"}]
[null,null,null,null,null,0,"-0",{"$error":"#DIV/0!"}]
[null,null,null,null,null,0,"-0",{"$error":"#DIV/0!"}]
[null,null,null,null,null,0,"-0",{"$error":"#DIV/0!"}]
[null,null,null,null,null,0,"-0",{"$error":"#DIV/0!"}]
[null,null,null,null,null,0,"-0",{"$error":"#DIV/0!"}]
[null,null,null,null,null,0,"-0",{"$error":"#DIV/0!"}]
[null,null,null,null,null,0,"-0",{"$error":"#DIV/0!"}]
[null,null,null,null,null,0,"-0",{"$error":"#DIV/0!"}]
[null,null,null,null,null,0,"-0",{"$error":"#DIV/0!"}]
[null,null,null,null,null,0,"-0",{"$error":"#DIV/0!"}]
[null,null,null,null,null,0,"-0",{"$error":"#DIV/0!"}]
[null,null,null,null,null,0,"-0",{"$error":"#DIV/0!"}]
[null,null,null,null,null,0,"-0",{"$error":"#DIV/0!"}]
[null,null,null,null,null,0,"-0",{"$error":"#DIV/0!"}]
[null,null,null,null,null,0,"-0",{"$error":"#DIV/0!"}]
[null,null,null,null,null,0,"-0",{"$error":"#DIV/0!"}]
[null,null,null,null,null,0,"-0",{"$error":"#DIV/0!"}]
[null,null,null,null,null,0,"-0",{"$error":"#DIV/0!"}]
[null,null,null,null,null,0,"-0",{"$error":"#DIV/0!"}]
[null,null,null,null,null,0,"-0",{"$error":"#DIV/0!"}]
[null,null,null,null,null,0,"-0",{"$error":"#DIV/0!"}]
[null,null,null,null,null,0,"-0",{"$error":"#DIV/0!"}]
[null,null,null,null,null,0,"-0",{"$error":"#DIV/0!"}]
[null,null,null,null,null,0,"-0",{"$error":"#DIV/0!"}]
[null,null,null,null,null,0,"-0",{"$error":"#DIV/0!"}]
[null,null,null,null,null,0,"-0",{"$error":"#DIV/0!"}]
[null,null,null,null,null,0,"-0",{"$error":"#DIV/0!"}]
[null,null,null,null,null,0,"-0",{"$error":"#DIV/0!"}]
[null,null,null,null,null,0,"-0",{"$error":"#DIV/0!"}]
[null,null,null,null,null,0,"-0",{"$error":"#DIV/0!"}]
[null,null,null,null,null,0,"-0",{"$error":"#DIV/0!"}]
[null,null,null,null,null,0,"-0",{"$error":"#DIV/0!"}]
[null,null,null,null,null,0,"-0",{"$error":"#DIV/0!"}]
[null,null,null,null,null,0,"-0",{"$error":"#DIV/0!"}]
[null,null,null,null,null,0,"-0",{"$error":"#DIV/0!"}]
[null,null,null,null,null,0,"-0",{"$error":"#DIV/0!"}]
[null,null,null,null,null,0,"-0",{"$error":"#DIV/0!"}]
[null,null,null,null,null,0,"-0",{"$error":"#DIV/0!"}]
[null,null,null,null,null,0,"-0",{"$error":"#DIV/0!"}]
[null,null,null,null,null,0,"-0",{"$error":"#DIV/0!"}]
[null,null,null,null,null,0,"-0",{"$error":"#DIV/0!"}]
[null,null,null,null,null,0,"-0",{"$error":"#DIV/0!"}]
[null,null,null,null,null,0,"-0",{"$error":"#DIV/0!"}]
[null,null,null,null,null,0,"-0",{"$error":"#DIV/0!"}]
[null,null,null,null,null,0,"-0",{"$error":"#DIV/0!"}]
[null,null,null,null,null,{"$f":"IF($C10114=\"XU\",$D10114,$C10114)","v":0},{"$f":"CONCATENATE(A10114,\"-\",F10114)","v":"-0"},{"$f":"$E10114/SUMIF(A:A,A10114,E:E)","v":{"$error":"#DIV/0!"}}]
[null,null,null,null,null,0,"-0",{"$error":"#DIV/0!"}]
[null,null,null,null,null,0,"-0",{"$error":"#DIV/0!"}]
[null,null,null,null,null,0,"-0",{"$error":"#DIV/0!"}]
[null,null,null,null,null,0,"-0",{"$error":"#DIV/0!"}]
[null,null,null,null,null,0,"-0",{"$error":"#DIV/0!"}]
[null,null,null,null,null,0,"-0",{"$error":"#DIV/0!"}]
[null,null,null,null,null,0,"-0",{"$error":"#DIV/0!"}]
[null,null,null,null,null,0,"-0",{"$error":"#DIV/0!"}]
[null,null,null,null,null,0,"-0",{"$error":"#DIV/0!"}]
[null,null,null,null,null,0,"-0",{"$error":"#DIV/0!"}]
[null,null,null,null,null,0,"-0",{"$error":"#DIV/0!"}]
[null,null,null,null,null,0,"-0",{"$error":"#DIV/0!"}]
[null,null,null,null,null,0,"-0",{"$error":"#DIV/0!"}]
[null,null,null,null,null,0,"-0",{"$error":"#DIV/0!"}]
[null,null,null,null,null,0,"-0",{"$error":"#DIV/0!"}]
[null,null,null,null,null,0,"-0",{"$error":"#DIV/0!"}]
[null,null,null,null,null,0,"-0",{"$error":"#DIV/0!"}]
[null,null,null,null,null,0,"-0",{"$error":"#DIV/0!"}]
[null,null,null,null,null,0,"-0",{"$error":"#DIV/0!"}]
[null,null,null,null,null,0,"-0",{"$error":"#DIV/0!"}]
[null,null,null,null,null,0,"-0",{"$error":"#DIV/0!"}]
[null,null,null,null,null,0,"-0",{"$error":"#DIV/0!"}]
[null,null,null,null,null,0,"-0",{"$error":"#DIV/0!"}]
[null,null,null,null,null,0,"-0",{"$error":"#DIV/0!"}]
[null,null,null,null,null,0,"-0",{"$error":"#DIV/0!"}]
[null,null,null,null,null,0,"-0",{"$error":"#DIV/0!"}]
[null,null,null,null,null,0,"-0",{"$error":"#DIV/0!"}]
[null,null,null,null,null,0,"-0",{"$error":"#DIV/0!"}]
[null,null,null,null,null,0,"-0",{"$error":"#DIV/0!"}]
[null,null,null,null,null,0,"-0",{"$error":"#DIV/0!"}]
[null,null,null,null,null,0,"-0",{"$error":"#DIV/0!"}]
[null,null,null,null,null,0,"-0",{"$error":"#DIV/0!"}]
[null,null,null,null,null,0,"-0",{"$error":"#DIV/0!"}]
[null,null,null,null,null,0,"-0",{"$error":"#DIV/0!"}]
[null,null,null,null,null,0,"-0",{"$error":"#DIV/0!"}]
[null,null,null,null,null,0,"-0",{"$error":"#DIV/0!"}]
[null,null,null,null,null,0,"-0",{"$error":"#DIV/0!"}]
[null,null,null,null,null,0,"-0",{"$error":"#DIV/0!"}]
[null,null,null,null,null,0,"-0",{"$error":"#DIV/0!"}]
[null,null,null,null,null,0,"-0",{"$error":"#DIV/0!"}]
[null,null,null,null,null,0,"-0",{"$error":"#DIV/0!"}]
[null,null,null,null,null,0,"-0",{"$error":"#DIV/0!"}]
[null,null,null,null,null,0,"-0",{"$error":"#DIV/0!"}]
[null,null,null,null,null,0,"-0",{"$error":"#DIV/0!"}]
[null,null,null,null,null,0,"-0",{"$error":"#DIV/0!"}]
[null,null,null,null,null,0,"-0",{"$error":"#DIV/0!"}]
[null,null,null,null,null,0,"-0",{"$error":"#DIV/0!"}]
[null,null,null,null,null,0,"-0",{"$error":"#DIV/0!"}]
[null,null,null,null,null,0,"-0",{"$error":"#DIV/0!"}]
[null,null,null,null,null,0,"-0",{"$error":"#DIV/0!"}]
[null,null,null,null,null,0,"-0",{"$error":"#DIV/0!"}]
[null,null,null,null,null,0,"-0",{"$error":"#DIV/0!"}]
[null,null,null,null,null,0,"-0",{"$error":"#DIV/0!"}]
[null,null,null,null,null,0,"-0",{"$error":"#DIV/0!"}]
[null,null,null,null,null,0,"-0",{"$error":"#DIV/0!"}]
[null,null,null,null,null,0,"-0",{"$error":"#DIV/0!"}]
[null,null,null,null,null,0,"-0",{"$error":"#DIV/0!"}]
[null,null,null,null,null,0,"-0",{"$error":"#DIV/0!"}]
[null,null,null,null,null,0,"-0",{"$error":"#DIV/0!"}]
[null,null,null,null,null,0,"-0",{"$error":"#DIV/0!"}]
[null,null,null,null,null,0,"-0",{"$error":"#DIV/0!"}]
[null,null,null,null,null,0,"-0",{"$error":"#DIV/0!"}]
[null,null,null,null,null,0,"-0",{"$error":"#DIV/0!"}]
[null,null,null,null,null,0,"-0",{"$error":"#DIV/0!"}]
[null,null,null,null,null,0,"-0",{"$error":"#DIV/0!"}]
[null,null,null,null,null,0,"-0",{"$error":"#DIV/0!"}]
[null,null,null,null,null,0,"-0",{"$error":"#DIV/0!"}]
[null,null,null,null,null,0,"-0",{"$error":"#DIV/0!"}]
[null,null,null,null,null,0,"-0",{"$error":"#DIV/0!"}]
[null,null,null,null,null,0,"-0",{"$error":"#DIV/0!"}]
[null,null,null,null,null,0,"-0",{"$error":"#DIV/0!"}]
[null,null,null,null,null,0,"-0",{"$error":"#DIV/0!"}]
[null,null,null,null,null,0,"-0",{"$error":"#DIV/0!"}]
[null,null,null,null,null,0,"-0",{"$error":"#DIV/0!"}]
[null,null,null,null,null,0,"-0",{"$error":"#DIV/0!"}]
[null,null,null,null,null,0,"-0",{"$error":"#DIV/0!"}]
[null,null,null,null,null,0,"-0",{"$error":"#DIV/0!"}]
[null,null,null,null,null,0,"-0",{"$error":"#DIV/0!"}]
[null,null,null,null,null,0,"-0",{"$error":"#DIV/0!"}]
[null,null,null,null,null,0,"-0",{"$error":"#DIV/0!"}]
[null,null,null,null,null,0,"-0",{"$error":"#DIV/0!"}]
[null,null,null,null,null,0,"-0",{"$error":"#DIV/0!"}]
[null,null,null,null,null,{"$f":"IF($C10818=\"XU\",$D10818,$C10818)","v":0},{"$f":"CONCATENATE(A10818,\"-\",F10818)","v":"-0"},{"$f":"$E10818/SUMIF(A:A,A10818,E:E)","v":{"$error":"#DIV/0!"}}]
[null,null,null,null,null,0,"-0",{"$error":"#DIV/0!"}]
[null,null,null,null,null,0,"-0",{"$error":"#DIV/0!"}]
[null,null,null,null,null,0,"-0",{"$error":"#DIV/0!"}]
[null,null,null,null,null,0,"-0",{"$error":"#DIV/0!"}]
[null,null,null,null,null,0,"-0",{"$error":"#DIV/0!"}]
[null,null,null,null,null,0,"-0",{"$error":"#DIV/0!"}]
[null,null,null,null,null,0,"-0",{"$error":"#DIV/0!"}]
[null,null,null,null,null,0,"-0",{"$error":"#DIV/0!"}]
[null,null,null,null,null,0,"-0",{"$error":"#DIV/0!"}]
[null,null,null,null,null,0,"-0",{"$error":"#DIV/0!"}]
[null,null,null,null,null,0,"-0",{"$error":"#DIV/0!"}]
[null,null,null,null,null,0,"-0",{"$error":"#DIV/0!"}]
[null,null,null,null,null,0,"-0",{"$error":"#DIV/0!"}]
[null,null,null,null,null,0,"-0",{"$error":"#DIV/0!"}]
[null,null,null,null,null,0,"-0",{"$error":"#DIV/0!"}]
[null,null,null,null,null,0,"-0",{"$error":"#DIV/0!"}]
[null,null,null,null,null,0,"-0",{"$error":"#DIV/0!"}]
[null,null,null,null,null,0,"-0",{"$error":"#DIV/0!"}]
[null,null,null,null,null,0,"-0",{"$error":"#DIV/0!"}]
[null,null,null,null,null,0,"-0",{"$error":"#DIV/0!"}]
[null,null,null,null,null,0,"-0",{"$error":"#DIV/0!"}]
[null,null,null,null,null,0,"-0",{"$error":"#DIV/0!"}]
[null,null,null,null,null,0,"-0",{"$error":"#DIV/0!"}]
[null,null,null,null,null,0,"-0",{"$error":"#DIV/0!"}]
[null,null,null,null,null,0,"-0",{"$error":"#DIV/0!"}]
[null,null,null,null,null,0,"-0",{"$error":"#DIV/0!"}]
[null,null,null,null,null,0,"-0",{"$error":"#DIV/0!"}]
[null,null,null,null,null,0,"-0",{"$error":"#DIV/0!"}]
[null,null,null,null,null,0,"-0",{"$error":"#DIV/0!"}]
[null,null,null,null,null,0,"-0",{"$error":"#DIV/0!"}]
[null,null,null,null,null,0,"-0",{"$error":"#DIV/0!"}]
[null,null,null,null,null,0,"-0",{"$error":"#DIV/0!"}]
[null,null,null,null,null,0,"-0",{"$error":"#DIV/0!"}]
[null,null,null,null,null,0,"-0",{"$error":"#DIV/0!"}]
[null,null,null,null,null,0,"-0",{"$error":"#DIV/0!"}]
[null,null,null,null,null,0,"-0",{"$error":"#DIV/0!"}]
[null,null,null,null,null,0,"-0",{"$error":"#DIV/0!"}]
[null,null,null,null,null,0,"-0",{"$error":"#DIV/0!"}]
[null,null,null,null,null,0,"-0",{"$error":"#DIV/0!"}]
[null,null,null,null,null,0,"-0",{"$error":"#DIV/0!"}]
[null,null,null,null,null,0,"-0",{"$error":"#DIV/0!"}]
[null,null,null,null,null,0,"-0",{"$error":"#DIV/0!"}]
[null,null,null,null,null,0,"-0",{"$error":"#DIV/0!"}]
[null,null,null,null,null,0,"-0",{"$error":"#DIV/0!"}]
[null,null,null,null,null,0,"-0",{"$error":"#DIV/0!"}]
[null,null,null,null,null,0,"-0",{"$error":"#DIV/0!"}]
[null,null,null,null,null,0,"-0",{"$error":"#DIV/0!"}]
[null,null,null,null,null,0,"-0",{"$error":"#DIV/0!"}]
[null,null,null,null,null,0,"-0",{"$error":"#DIV/0!"}]
[null,null,null,null,null,0,"-0",{"$error":"#DIV/0!"}]
[null,null,null,null,null,0,"-0",{"$error":"#DIV/0!"}]
[null,null,null,null,null,0,"-0",{"$error":"#DIV/0!"}]
[null,null,null,null,null,0,"-0",{"$error":"#DIV/0!"}]
[null,null,null,null,null,0,"-0",{"$error":"#DIV/0!"}]
[null,null,null,null,null,0,"-0",{"$error":"#DIV/0!"}]
[null,null,null,null,null,0,"-0",{"$error":"#DIV/0!"}]
[null,null,null,null,null,0,"-0",{"$error":"#DIV/0!"}]
[null,null,null,null,null,0,"-0",{"$error":"#DIV/0!"}]
[null,null,null,null,null,0,"-0",{"$error":"#DIV/0!"}]
[null,null,null,null,null,0,"-0",{"$error":"#DIV/0!"}]
[null,null,null,null,null,0,"-0",{"$error":"#DIV/0!"}]
[null,null,null,null,null,0,"-0",{"$error":"#DIV/0!"}]
[null,null,null,null,null,0,"-0",{"$error":"#DIV/0!"}]
[null,null,null,null,null,0,"-0",{"$error":"#DIV/0!"}]
[null,null,null,null,null,0,"-0",{"$error":"#DIV/0!"}]
[null,null,null,null,null,0,"-0",{"$error":"#DIV/0!"}]
[null,null,null,null,null,0,"-0",{"$error":"#DIV/0!"}]
[null,null,null,null,null,0,"-0",{"$error":"#DIV/0!"}]
[null,null,null,null,null,0,"-0",{"$error":"#DIV/0!"}]
[null,null,null,null,null,0,"-0",{"$error":"#DIV/0!"}]
[null,null,null,null,null,0,"-0",{"$error":"#DIV/0!"}]
[null,null,null,null,null,0,"-0",{"$error":"#DIV/0!"}]
[null,null,null,null,null,0,"-0",{"$error":"#DIV/0!"}]
[null,null,null,null,null,0,"-0",{"$error":"#DIV/0!"}]
[null,null,null,null,null,0,"-0",{"$error":"#DIV/0!"}]
[null,null,null,null,null,0,"-0",{"$error":"#DIV/0!"}]
[null,null,null,null,null,0,"-0",{"$error":"#DIV/0!"}]
[null,null,null,null,null,0,"-0",{"$error":"#DIV/0!"}]
[null,null,null,null,null,0,"-0",{"$error":"#DIV/0!"}]
[null,null,null,null,null,0,"-0",{"$error":"#DIV/0!"}]
[null,null,null,null,null,0,"-0",{"$error":"#DIV/0!"}]
[null,null,null,null,null,0,"-0",{"$error":"#DIV/0!"}]
[null,null,null,null,null,0,"-0",{"$error":"#DIV/0!"}]
[null,null,null,null,null,0,"-0",{"$error":"#DIV/0!"}]
[null,null,null,null,null,0,"-0",{"$error":"#DIV/0!"}]
[null,null,null,null,null,0,"-0",{"$error":"#DIV/0!"}]
[null,null,null,null,null,0,"-0",{"$error":"#DIV/0!"}]
[null,null,null,null,null,0,"-0",{"$error":"#DIV/0!"}]
[null,null,null,null,null,0,"-0",{"$error":"#DIV/0!"}]
[null,null,null,null,null,0,"-0",{"$error":"#DIV/0!"}]
[null,null,null,null,null,0,"-0",{"$error":"#DIV/0!"}]
[null,null,null,null,null,0,"-0",{"$error":"#DIV/0!"}]
[null,null,null,null,null,0,"-0",{"$error":"#DIV/0!"}]
[null,null,null,null,null,0,"-0",{"$error":"#DIV/0!"}]
[null,null,null,null,null,0,"-0",{"$error":"#DIV/0!"}]
[null,null,null,null,null,0,"-0",{"$error":"#DIV/0!"}]
[null,null,null,null,null,0,"-0",{"$error":"#DIV/0!"}]
[null,null,null,null,null,0,"-0",{"$error":"#DIV/0!"}]
[null,null,null,null,null,0,"-0",{"$error":"#DIV/0!"}]
[null,null,null,null,null,0,"-0",{"$error":"#DIV/0!"}]
[null,null,null,null,null,0,"-0",{"$error":"#DIV/0!"}]
[null,null,null,null,null,0,"-0",{"$error":"#DIV/0!"}]
[null,null,null,null,null,0,"-0",{"$error":"#DIV/0!"}]
[null,null,null,null,null,0,"-0",{"$error":"#DIV/0!"}]
[null,null,null,null,null,0,"-0",{"$error":"#DIV/0!"}]
[null,null,null,null,null,0,"-0",{"$error":"#DIV/0!"}]
[null,null,null,null,null,0,"-0",{"$error":"#DIV/0!"}]
[null,null,null,null,null,0,"-0",{"$error":"#DIV/0!"}]
[null,null,null,null,null,0,"-0",{"$error":"#DIV/0!"}]
[null,null,null,null,null,0,"-0",{"$error":"#DIV/0!"}]
[null,null,null,null,null,0,"-0",{"$error":"#DIV/0!"}]
[null,null,null,null,null,0,"-0",{"$error":"#DIV/0!"}]
[null,null,null,null,null,0,"-0",{"$error":"#DIV/0!"}]
[null,null,null,null,null,0,"-0",{"$error":"#DIV/0!"}]
[null,null,null,null,null,0,"-0",{"$error":"#DIV/0!"}]
[null,null,null,null,null,0,"-0",{"$error":"#DIV/0!"}]
[null,null,null,null,null,0,"-0",{"$error":"#DIV/0!"}]
[null,null,null,null,null,0,"-0",{"$error":"#DIV/0!"}]
[null,null,null,null,null,0,"-0",{"$error":"#DIV/0!"}]
[null,null,null,null,null,0,"-0",{"$error":"#DIV/0!"}]
[null,null,null,null,null,0,"-0",{"$error":"#DIV/0!"}]
[null,null,null,null,null,0,"-0",{"$error":"#DIV/0!"}]
[null,null,null,null,null,0,"-0",{"$error":"#DIV/0!"}]
[null,null,null,null,null,0,"-0",{"$error":"#DIV/0!"}]
[null,null,null,null,null,0,"-0",{"$error":"#DIV/0!"}]
[null,null,null,null,null,0,"-0",{"$error":"#DIV/0!"}]
[null,null,null,null,null,0,"-0",{"$error":"#DIV/0!"}]
[null,null,null,null,null,0,"-0",{"$error":"#DIV/0!"}]
[null,null,null,null,null,0,"-0",{"$error":"#DIV/0!"}]
[null,null,null,null,null,0,"-0",{"$error":"#DIV/0!"}]
[null,null,null,null,null,0,"-0",{"$error":"#DIV/0!"}]
[null,null,null,null,null,0,"-0",{"$error":"#DIV/0!"}]
[null,null,null,null,null,0,"-0",{"$error":"#DIV/0!"}]
[null,null,null,null,null,0,"-0",{"$error":"#DIV/0!"}]
[null,null,null,null,null,0,"-0",{"$error":"#DIV/0!"}]
[null,null,null,null,null,0,"-0",{"$error":"#DIV/0!"}]
[null,null,null,null,null,0,"-0",{"$error":"#DIV/0!"}]
[null,null,null,null,null,0,"-0",{"$error":"#DIV/0!"}]
[null,null,null,null,null,0,"-0",{"$error":"#DIV/0!"}]
[null,null,null,null,null,0,"-0",{"$error":"#DIV/0!"}]
[null,null,null,null,null,0,"-0",{"$error":"#DIV/0!"}]
[null,null,null,null,null,0,"-0",{"$error":"#DIV/0!"}]
[null,null,null,null,null,0,"-0",{"$error":"#DIV/0!"}]
[null,null,null,null,null,0,"-0",{"$error":"#DIV/0!"}]
[null,null,null,null,null,0,"-0",{"$error":"#DIV/0!"}]
[null,null,null,null,null,0,"-0",{"$error":"#DIV/0!"}]
[null,null,null,null,null,0,"-0",{"$error":"#DIV/0!"}]
[null,null,null,null,null,0,"-0",{"$error":"#DIV/0!"}]
[null,null,null,null,null,0,"-0",{"$error":"#DIV/0!"}]
[null,null,null,null,null,0,"-0",{"$error":"#DIV/0!"}]
[null,null,null,null,null,0,"-0",{"$error":"#DIV/0!"}]
[null,null,null,null,null,0,"-0",{"$error":"#DIV/0!"}]
[null,null,null,null,null,0,"-0",{"$error":"#DIV/0!"}]
[null,null,null,null,null,0,"-0",{"$error":"#DIV/0!"}]
[null,null,null,null,null,0,"-0",{"$error":"#DIV/0!"}]
[null,null,null,null,null,0,"-0",{"$error":"#DIV/0!"}]
[null,null,null,null,null,0,"-0",{"$error":"#DIV/0!"}]
[null,null,null,null,null,0,"-0",{"$error":"#DIV/0!"}]
[null,null,null,null,null,0,"-0",{"$error":"#DIV/0!"}]
[null,null,null,null,null,0,"-0",{"$error":"#DIV/0!"}]
[null,null,null,null,null,0,"-0",{"$error":"#DIV/0!"}]
[null,null,null,null,null,0,"-0",{"$error":"#DIV/0!"}]
[null,null,null,null,null,0,"-0",{"$error":"#DIV/0!"}]
[null,null,null,null,null,0,"-0",{"$error":"#DIV/0!"}]
[null,null,null,null,null,0,"-0",{"$error":"#DIV/0!"}]
[null,null,null,null,null,0,"-0",{"$error":"#DIV/0!"}]
[null,null,null,null,null,0,"-0",{"$error":"#DIV/0!"}]
[null,null,null,null,null,0,"-0",{"$error":"#DIV/0!"}]
[null,null,null,null,null,0,"-0",{"$error":"#DIV/0!"}]
[null,null,null,null,null,0,"-0",{"$error":"#DIV/0!"}]
[null,null,null,null,null,0,"-0",{"$error":"#DIV/0!"}]
[null,null,null,null,null,0,"-0",{"$error":"#DIV/0!"}]
[null,null,null,null,null,0,"-0",{"$error":"#DIV/0!"}]
[null,null,null,null,null,0,"-0",{"$error":"#DIV/0!"}]
[null,null,null,null,null,0,"-0",{"$error":"#DIV/0!"}]
[null,null,null,null,null,0,"-0",{"$error":"#DIV/0!"}]
[null,null,null,null,null,0,"-0",{"$error":"#DIV/0!"}]
[null,null,null,null,null,0,"-0",{"$error":"#DIV/0!"}]
[null,null,null,null,null,0,"-0",{"$error":"#DIV/0!"}]
[null,null,null,null,null,0,"-0",{"$error":"#DIV/0!"}]
[null,null,null,null,null,0,"-0",{"$error":"#DIV/0!"}]
[null,null,null,null,null,{"$f":"IF($C12354=\"XU\",$D12354,$C12354)","v":0},{"$f":"CONCATENATE(A12354,\"-\",F12354)","v":"-0"},{"$f":"$E12354/SUMIF(A:A,A12354,E:E)","v":{"$error":"#DIV/0!"}}]
[null,null,null,null,null,0,"-0",{"$error":"#DIV/0!"}]
[null,null,null,null,null,0,"-0",{"$error":"#DIV/0!"}]
[null,null,null,null,null,0,"-0",{"$error":"#DIV/0!"}]
[null,null,null,null,null,0,"-0",{"$error":"#DIV/0!"}]
[null,null,null,null,null,0,"-0",{"$error":"#DIV/0!"}]
[null,null,null,null,null,0,"-0",{"$error":"#DIV/0!"}]
[null,null,null,null,null,0,"-0",{"$error":"#DIV/0!"}]
[null,null,null,null,null,0,"-0",{"$error":"#DIV/0!"}]
[null,null,null,null,null,0,"-0",{"$error":"#DIV/0!"}]
[null,null,null,null,null,0,"-0",{"$error":"#DIV/0!"}]
[null,null,null,null,null,0,"-0",{"$error":"#DIV/0!"}]
[null,null,null,null,null,0,"-0",{"$error":"#DIV/0!"}]
[null,null,null,null,null,0,"-0",{"$error":"#DIV/0!"}]
[null,null,null,null,null,0,"-0",{"$error":"#DIV/0!"}]
[null,null,null,null,null,0,"-0",{"$error":"#DIV/0!"}]
[null,null,null,null,null,0,"-0",{"$error":"#DIV/0!"}]
[null,null,null,null,null,0,"-0",{"$error":"#DIV/0!"}]
[null,null,null,null,null,0,"-0",{"$error":"#DIV/0!"}]
[null,null,null,null,null,0,"-0",{"$error":"#DIV/0!"}]
[null,null,null,null,null,0,"-0",{"$error":"#DIV/0!"}]
[null,null,null,null,null,0,"-0",{"$error":"#DIV/0!"}]
[null,null,null,null,null,0,"-0",{"$error":"#DIV/0!"}]
[null,null,null,null,null,0,"-0",{"$error":"#DIV/0!"}]
[null,null,null,null,null,0,"-0",{"$error":"#DIV/0!"}]
[null,null,null,null,null,0,"-0",{"$error":"#DIV/0!"}]
[null,null,null,null,null,0,"-0",{"$error":"#DIV/0!"}]
[null,null,null,null,null,0,"-0",{"$error":"#DIV/0!"}]
[null,null,null,null,null,0,"-0",{"$error":"#DIV/0!"}]
[null,null,null,null,null,0,"-0",{"$error":"#DIV/0!"}]
[null,null,null,null,null,0,"-0",{"$error":"#DIV/0!"}]
[null,null,null,null,null,0,"-0",{"$error":"#DIV/0!"}]
[null,null,null,null,null,0,"-0",{"$error":"#DIV/0!"}]
[null,null,null,null,null,0,"-0",{"$error":"#DIV/0!"}]
[null,null,null,null,null,0,"-0",{"$error":"#DIV/0!"}]
[null,null,null,null,null,0,"-0",{"$error":"#DIV/0!"}]
[null,null,null,null,null,0,"-0",{"$error":"#DIV/0!"}]
[null,null,null,null,null,0,"-0",{"$error":"#DIV/0!"}]
[null,null,null,null,null,0,"-0",{"$error":"#DIV/0!"}]
[null,null,null,null,null,0,"-0",{"$error":"#DIV/0!"}]
[null,null,null,null,null,0,"-0",{"$error":"#DIV/0!"}]
[null,null,null,null,null,0,"-0",{"$error":"#DIV/0!"}]
[null,null,null,null,null,0,"-0",{"$error":"#DIV/0!"}]
[null,null,null,null,null,0,"-0",{"$error":"#DIV/0!"}]
[null,null,null,null,null,0,"-0",{"$error":"#DIV/0!"}]
[null,null,null,null,null,0,"-0",{"$error":"#DIV/0!"}]
[null,null,null,null,null,0,"-0",{"$error":"#DIV/0!"}]
[null,null,null,null,null,0,"-0",{"$error":"#DIV/0!"}]
[null,null,null,null,null,0,"-0",{"$error":"#DIV/0!"}]
[null,null,null,null,null,0,"-0",{"$error":"#DIV/0!"}]
[null,null,null,null,null,0,"-0",{"$error":"#DIV/0!"}]
[null,null,null,null,null,0,"-0",{"$error":"#DIV/0!"}]
[null,null,null,null,null,0,"-0",{"$error":"#DIV/0!"}]
[null,null,null,null,null,0,"-0",{"$error":"#DIV/0!"}]
[null,null,null,null,null,0,"-0",{"$error":"#DIV/0!"}]
[null,null,null,null,null,0,"-0",{"$error":"#DIV/0!"}]
[null,null,null,null,null,0,"-0",{"$error":"#DIV/0!"}]
[null,null,null,null,null,0,"-0",{"$error":"#DIV/0!"}]
[null,null,null,null,null,0,"-0",{"$error":"#DIV/0!"}]
[null,null,null,null,null,0,"-0",{"$error":"#DIV/0!"}]
[null,null,null,null,null,0,"-0",{"$error":"#DIV/0!"}]
[null,null,null,null,null,0,"-0",{"$error":"#DIV/0!"}]
[null,null,null,null,null,0,"-0",{"$error":"#DIV/0!"}]
[null,null,null,null,null,0,"-0",{"$error":"#DIV/0!"}]
[null,null,null,null,null,0,"-0",{"$error":"#DIV/0!"}]
[null,null,null,null,null,0,"-0",{"$error":"#DIV/0!"}]
[null,null,null,null,null,0,"-0",{"$error":"#DIV/0!"}]
[null,null,null,null,null,0,"-0",{"$error":"#DIV/0!"}]
[null,null,null,null,null,0,"-0",{"$error":"#DIV/0!"}]
[null,null,null,null,null,0,"-0",{"$error":"#DIV/0!"}]
[null,null,null,null,null,0,"-0",{"$error":"#DIV/0!"}]
[null,null,null,null,null,0,"-0",{"$error":"#DIV/0!"}]
[null,null,null,null,null,0,"-0",{"$error":"#DIV/0!"}]
[null,null,null,null,null,0,"-0",{"$error":"#DIV/0!"}]
[null,null,null,null,null,0,"-0",{"$error":"#DIV/0!"}]
[null,null,null,null,null,0,"-0",{"$error":"#DIV/0!"}]
[null,null,null,null,null,0,"-0",{"$error":"#DIV/0!"}]
[null,null,null,null,null,0,"-0",{"$error":"#DIV/0!"}]
[null,null,null,null,null,0,"-0",{"$error":"#DIV/0!"}]
[null,null,null,null,null,0,"-0",{"$error":"#DIV/0!"}]
[null,null,null,null,null,0,"-0",{"$error":"#DIV/0!"}]
[null,null,null,null,null,0,"-0",{"$error":"#DIV/0!"}]
[null,null,null,null,null,0,"-0",{"$error":"#DIV/0!"}]
[null,null,null,null,null,0,"-0",{"$error":"#DIV/0!"}]
[null,null,null,null,null,0,"-0",{"$error":"#DIV/0!"}]
[null,null,null,null,null,0,"-0",{"$error":"#DIV/0!"}]
[null,null,null,null,null,0,"-0",{"$error":"#DIV/0!"}]
[null,null,null,null,null,0,"-0",{"$error":"#DIV/0!"}]
[null,null,null,null,null,0,"-0",{"$error":"#DIV/0!"}]
[null,null,null,null,null,0,"-0",{"$error":"#DIV/0!"}]
[null,null,null,null,null,0,"-0",{"$error":"#DIV/0!"}]
[null,null,null,null,null,0,"-0",{"$error":"#DIV/0!"}]
[null,null,null,null,null,0,"-0",{"$error":"#DIV/0!"}]
[null,null,null,null,null,0,"-0",{"$error":"#DIV/0!"}]
[null,null,null,null,null,0,"-0",{"$error":"#DIV/0!"}]
[null,null,null,null,null,0,"-0",{"$error":"#DIV/0!"}]
[null,null,null,null,null,0,"-0",{"$error":"#DIV/0!"}]
[null,null,null,null,null,0,"-0",{"$error":"#DIV/0!"}]
[null,null,null,null,null,0,"-0",{"$error":"#DIV/0!"}]
[null,null,null,null,null,0,"-0",{"$error":"#DIV/0!"}]
[null,null,null,null,null,0,"-0",{"$error":"#DIV/0!"}]
[null,null,null,null,null,0,"-0",{"$error":"#DIV/0!"}]
[null,null,null,null,null,0,"-0",{"$error":"#DIV/0!"}]
[null,null,null,null,null,0,"-0",{"$error":"#DIV/0!"}]
[null,null,null,null,null,0,"-0",{"$error":"#DIV/0!"}]
[null,null,null,null,null,0,"-0",{"$error":"#DIV/0!"}]
[null,null,null,null,null,0,"-0",{"$error":"#DIV/0!"}]
[null,null,null,null,null,0,"-0",{"$error":"#DIV/0!"}]
[null,null,null,null,null,0,"-0",{"$error":"#DIV/0!"}]
[null,null,null,null,null,0,"-0",{"$error":"#DIV/0!"}]
[null,null,null,null,null,0,"-0",{"$error":"#DIV/0!"}]
[null,null,null,null,null,0,"-0",{"$error":"#DIV/0!"}]
[null,null,null,null,null,0,"-0",{"$error":"#DIV/0!"}]
[null,null,null,null,null,0,"-0",{"$error":"#DIV/0!"}]
[null,null,null,null,null,0,"-0",{"$error":"#DIV/0!"}]
[null,null,null,null,null,0,"-0",{"$error":"#DIV/0!"}]
[null,null,null,null,null,0,"-0",{"$error":"#DIV/0!"}]
[null,null,null,null,null,0,"-0",{"$error":"#DIV/0!"}]
[null,null,null,null,null,0,"-0",{"$error":"#DIV/0!"}]
[null,null,null,null,null,0,"-0",{"$error":"#DIV/0!"}]
[null,null,null,null,null,0,"-0",{"$error":"#DIV/0!"}]
[null,null,null,null,null,0,"-0",{"$error":"#DIV/0!"}]
[null,null,null,null,null,0,"-0",{"$error":"#DIV/0!"}]
[null,null,null,null,null,0,"-0",{"$error":"#DIV/0!"}]
[null,null,null,null,null,0,"-0",{"$error":"#DIV/0!"}]
[null,null,null,null,null,0,"-0",{"$error":"#DIV/0!"}]
[null,null,null,null,null,0,"-0",{"$error":"#DIV/0!"}]
[null,null,null,null,null,0,"-0",{"$error":"#DIV/0!"}]
[null,null,null,null,null,0,"-0",{"$error":"#DIV/0!"}]
[null,null,null,null,null,0,"-0",{"$error":"#DIV/0!"}]
[null,null,null,null,null,0,"-0",{"$error":"#DIV/0!"}]
[null,null,null,null,null,0,"-0",{"$error":"#DIV/0!"}]
[null,null,null,null,null,0,"-0",{"$error":"#DIV/0!"}]
[null,null,null,null,null,0,"-0",{"$error":"#DIV/0!"}]
[null,null,null,null,null,0,"-0",{"$error":"#DIV/0!"}]
[null,null,null,null,null,0,"-0",{"$error":"#DIV/0!"}]
[null,null,null,null,null,0,"-0",{"$error":"#DIV/0!"}]
[null,null,null,null,null,0,"-0",{"$error":"#DIV/0!"}]
[null,null,null,null,null,0,"-0",{"$error":"#DIV/0!"}]
[null,null,null,null,null,0,"-0",{"$error":"#DIV/0!"}]
[null,null,null,null,null,0,"-0",{"$error":"#DIV/0!"}]
[null,null,null,null,null,0,"-0",{"$error":"#DIV/0!"}]
[null,null,null,null,null,0,"-0",{"$error":"#DIV/0!"}]
[null,null,null,null,null,0,"-0",{"$error":"#DIV/0!"}]
[null,null,null,null,null,0,"-0",{"$error":"#DIV/0!"}]
[null,null,null,null,null,0,"-0",{"$error":"#DIV/0!"}]
[null,null,null,null,null,0,"-0",{"$error":"#DIV/0!"}]
[null,null,null,null,null,0,"-0",{"$error":"#DIV/0!"}]
[null,null,null,null,null,0,"-0",{"$error":"#DIV/0!"}]
[null,null,null,null,null,0,"-0",{"$error":"#DIV/0!"}]
[null,null,null,null,null,0,"-0",{"$error":"#DIV/0!"}]
[null,null,null,null,null,0,"-0",{"$error":"#DIV/0!"}]
[null,null,null,null,null,0,"-0",{"$error":"#DIV/0!"}]
[null,null,null,null,null,0,"-0",{"$error":"#DIV/0!"}]
[null,null,null,null,null,0,"-0",{"$error":"#DIV/0!"}]
[null,null,null,null,null,0,"-0",{"$error":"#DIV/0!"}]
[null,null,null,null,null,0,"-0",{"$error":"#DIV/0!"}]
[null,null,null,null,null,0,"-0",{"$error":"#DIV/0!"}]
[null,null,null,null,null,0,"-0",{"$error":"#DIV/0!"}]
[null,null,null,null,null,0,"-0",{"$error":"#DIV/0!"}]
[null,null,null,null,null,0,"-0",{"$error":"#DIV/0!"}]
[null,null,null,null,null,0,"-0",{"$error":"#DIV/0!"}]
[null,null,null,null,null,0,"-0",{"$error":"#DIV/0!"}]
[null,null,null,null,null,0,"-0",{"$error":"#DIV/0!"}]
[null,null,null,null,null,0,"-0",{"$error":"#DIV/0!"}]
[null,null,null,null,null,0,"-0",{"$error":"#DIV/0!"}]
[null,null,null,null,null,0,"-0",{"$error":"#DIV/0!"}]
[null,null,null,null,null,0,"-0",{"$error":"#DIV/0!"}]
[null,null,null,null,null,0,"-0",{"$error":"#DIV/0!"}]
[null,null,null,null,null,0,"-0",{"$error":"#DIV/0!"}]
[null,null,null,null,null,0,"-0",{"$error":"#DIV/0!"}]
[null,null,null,null,null,0,"-0",{"$error":"#DIV/0!"}]
[null,null,null,null,null,0,"-0",{"$error":"#DIV/0!"}]
[null,null,null,null,null,0,"-0",{"$error":"#DIV/0!"}]
[null,null,null,null,null,0,"-0",{"$error":"#DIV/0!"}]
[null,null,null,null,null,0,"-0",{"$error":"#DIV/0!"}]
[null,null,null,null,null,0,"-0",{"$error":"#DIV/0!"}]
[null,null,null,null,null,0,"-0",{"$error":"#DIV/0!"}]
[null,null,null,null,null,0,"-0",{"$error":"#DIV/0!"}]
[null,null,null,null,null,0,"-0",{"$error":"#DIV/0!"}]
[null,null,null,null,null,0,"-0",{"$error":"#DIV/0!"}]
[null,null,null,null,null,0,"-0",{"$error":"#DIV/0!"}]
[null,null,null,null,null,{"$f":"IF($C13890=\"XU\",$D13890,$C13890)","v":0},{"$f":"CONCATENATE(A13890,\"-\",F13890)","v":"-0"},{"$f":"$E13890/SUMIF(A:A,A13890,E:E)","v":{"$error":"#DIV/0!"}}]
[null,null,null,null,null,0,"-0",{"$error":"#DIV/0!"}]
[null,null,null,null,null,0,"-0",{"$error":"#DIV/0!"}]
[null,null,null,null,null,0,"-0",{"$error":"#DIV/0!"}]
[null,null,null,null,null,0,"-0",{"$error":"#DIV/0!"}]
[null,null,null,null,null,0,"-0",{"$error":"#DIV/0!"}]
[null,null,null,null,null,0,"-0",{"$error":"#DIV/0!"}]
[null,null,null,null,null,0,"-0",{"$error":"#DIV/0!"}]
[null,null,null,null,null,0,"-0",{"$error":"#DIV/0!"}]
[null,null,null,null,null,0,"-0",{"$error":"#DIV/0!"}]
[null,null,null,null,null,0,"-0",{"$error":"#DIV/0!"}]
[null,null,null,null,null,0,"-0",{"$error":"#DIV/0!"}]
[null,null,null,null,null,0,"-0",{"$error":"#DIV/0!"}]
[null,null,null,null,null,0,"-0",{"$error":"#DIV/0!"}]
[null,null,null,null,null,0,"-0",{"$error":"#DIV/0!"}]
[null,null,null,null,null,0,"-0",{"$error":"#DIV/0!"}]
[null,null,null,null,null,0,"-0",{"$error":"#DIV/0!"}]
[null,null,null,null,null,0,"-0",{"$error":"#DIV/0!"}]
[null,null,null,null,null,0,"-0",{"$error":"#DIV/0!"}]
[null,null,null,null,null,0,"-0",{"$error":"#DIV/0!"}]
[null,null,null,null,null,0,"-0",{"$error":"#DIV/0!"}]
[null,null,null,null,null,0,"-0",{"$error":"#DIV/0!"}]
[null,null,null,null,null,{"$f":"IF($C14082=\"XU\",$D14082,$C14082)","v":0},{"$f":"CONCATENATE(A14082,\"-\",F14082)","v":"-0"},{"$f":"$E14082/SUMIF(A:A,A14082,E:E)","v":{"$error":"#DIV/0!"}}]
[null,null,null,null,null,0,"-0",{"$error":"#DIV/0!"}]
[null,null,null,null,null,0,"-0",{"$error":"#DIV/0!"}]
[null,null,null,null,null,0,"-0",{"$error":"#DIV/0!"}]
[null,null,null,null,null,0,"-0",{"$error":"#DIV/0!"}]
[null,null,null,null,null,0,"-0",{"$error":"#DIV/0!"}]
[null,null,null,null,null,0,"-0",{"$error":"#DIV/0!"}]
[null,null,null,null,null,0,"-0",{"$error":"#DIV/0!"}]
[null,null,null,null,null,0,"-0",{"$error":"#DIV/0!"}]
[null,null,null,null,null,0,"-0",{"$error":"#DIV/0!"}]
[null,null,null,null,null,0,"-0",{"$error":"#DIV/0!"}]
[null,null,null,null,null,0,"-0",{"$error":"#DIV/0!"}]
[null,null,null,null,null,0,"-0",{"$error":"#DIV/0!"}]
[null,null,null,null,null,0,"-0",{"$error":"#DIV/0!"}]
[null,null,null,null,null,0,"-0",{"$error":"#DIV/0!"}]
[null,null,null,null,null,0,"-0",{"$error":"#DIV/0!"}]
[null,null,null,null,null,0,"-0",{"$error":"#DIV/0!"}]
[null,null,null,null,null,0,"-0",{"$error":"#DIV/0!"}]
[null,null,null,null,null,0,"-0",{"$error":"#DIV/0!"}]
[null,null,null,null,null,0,"-0",{"$error":"#DIV/0!"}]
[null,null,null,null,null,0,"-0",{"$error":"#DIV/0!"}]
[null,null,null,null,null,0,"-0",{"$error":"#DIV/0!"}]
[null,null,null,null,null,0,"-0",{"$error":"#DIV/0!"}]
[null,null,null,null,null,0,"-0",{"$error":"#DIV/0!"}]
[null,null,null,null,null,0,"-0",{"$error":"#DIV/0!"}]
[null,null,null,null,null,0,"-0",{"$error":"#DIV/0!"}]
[null,null,null,null,null,0,"-0",{"$error":"#DIV/0!"}]
[null,null,null,null,null,0,"-0",{"$error":"#DIV/0!"}]
[null,null,null,null,null,0,"-0",{"$error":"#DIV/0!"}]
[null,null,null,null,null,0,"-0",{"$error":"#DIV/0!"}]
[null,null,null,null,null,0,"-0",{"$error":"#DIV/0!"}]
[null,null,null,null,null,0,"-0",{"$error":"#DIV/0!"}]
[null,null,null,null,null,0,"-0",{"$error":"#DIV/0!"}]
[null,null,null,null,null,0,"-0",{"$error":"#DIV/0!"}]
[null,null,null,null,null,0,"-0",{"$error":"#DIV/0!"}]
[null,null,null,null,null,0,"-0",{"$error":"#DIV/0!"}]
[null,null,null,null,null,0,"-0",{"$error":"#DIV/0!"}]
[null,null,null,null,null,0,"-0",{"$error":"#DIV/0!"}]
[null,null,null,null,null,0,"-0",{"$error":"#DIV/0!"}]
[null,null,null,null,null,0,"-0",{"$error":"#DIV/0!"}]
[null,null,null,null,null,0,"-0",{"$error":"#DIV/0!"}]
[null,null,null,null,null,0,"-0",{"$error":"#DIV/0!"}]
[null,null,null,null,null,0,"-0",{"$error":"#DIV/0!"}]
[null,null,null,null,null,0,"-0",{"$error":"#DIV/0!"}]
[null,null,null,null,null,0,"-0",{"$error":"#DIV/0!"}]
[null,null,null,null,null,0,"-0",{"$error":"#DIV/0!"}]
[null,null,null,null,null,0,"-0",{"$error":"#DIV/0!"}]
[null,null,null,null,null,0,"-0",{"$error":"#DIV/0!"}]
[null,null,null,null,null,0,"-0",{"$error":"#DIV/0!"}]
[null,null,null,null,null,0,"-0",{"$error":"#DIV/0!"}]
[null,null,null,null,null,0,"-0",{"$error":"#DIV/0!"}]
[null,null,null,null,null,0,"-0",{"$error":"#DIV/0!"}]
[null,null,null,null,null,0,"-0",{"$error":"#DIV/0!"}]
[null,null,null,null,null,0,"-0",{"$error":"#DIV/0!"}]
[null,null,null,null,null,0,"-0",{"$error":"#DIV/0!"}]
[null,null,null,null,null,0,"-0",{"$error":"#DIV/0!"}]
[null,null,null,null,null,0,"-0",{"$error":"#DIV/0!"}]
[null,null,null,null,null,0,"-0",{"$error":"#DIV/0!"}]
[null,null,null,null,null,0,"-0",{"$error":"#DIV/0!"}]
[null,null,null,null,null,0,"-0",{"$error":"#DIV/0!"}]
[null,null,null,null,null,0,"-0",{"$error":"#DIV/0!"}]
[null,null,null,null,null,{"$f":"IF($C14594=\"XU\",$D14594,$C14594)","v":0},{"$f":"CONCATENATE(A14594,\"-\",F14594)","v":"-0"},{"$f":"$E14594/SUMIF(A:A,A14594,E:E)","v":{"$error":"#DIV/0!"}}]
[null,null,null,null,null,0,"-0",{"$error":"#DIV/0!"}]
[null,null,null,null,null,0,"-0",{"$error":"#DIV/0!"}]
[null,null,null,null,null,0,"-0",{"$error":"#DIV/0!"}]
[null,null,null,null,null,0,"-0",{"$error":"#DIV/0!"}]
[null,null,null,null,null,0,"-0",{"$error":"#DIV/0!"}]
[null,null,null,null,null,0,"-0",{"$error":"#DIV/0!"}]
[null,null,null,null,null,{"$f":"IF($C14658=\"XU\",$D14658,$C14658)","v":0},{"$f":"CONCATENATE(A14658,\"-\",F14658)","v":"-0"},{"$f":"$E14658/SUMIF(A:A,A14658,E:E)","v":{"$error":"#DIV/0!"}}]
[null,null,null,null,null,0,"-0",{"$error":"#DIV/0!"}]
[null,null,null,null,null,0,"-0",{"$error":"#DIV/0!"}]
[null,null,null,null,null,0,"-0",{"$error":"#DIV/0!"}]
[null,null,null,null,null,0,"-0",{"$error":"#DIV/0!"}]
[null,null,null,null,null,0,"-0",{"$error":"#DIV/0!"}]
[null,null,null,null,null,0,"-0",{"$error":"#DIV/0!"}]
[null,null,null,null,null,0,"-0",{"$error":"#DIV/0!"}]
[null,null,null,null,null,0,"-0",{"$error":"#DIV/0!"}]
[null,null,null,null,null,0,"-0",{"$error":"#DIV/0!"}]
[null,null,null,null,null,0,"-0",{"$error":"#DIV/0!"}]
[null,null,null,null,null,0,"-0",{"$error":"#DIV/0!"}]
[null,null,null,null,null,0,"-0",{"$error":"#DIV/0!"}]
[null,null,null,null,null,0,"-0",{"$error":"#DIV/0!"}]
[null,null,null,null,null,0,"-0",{"$error":"#DIV/0!"}]
[null,null,null,null,null,0,"-0",{"$error":"#DIV/0!"}]
[null,null,null,null,null,0,"-0",{"$error":"#DIV/0!"}]
[null,null,null,null,null,0,"-0",{"$error":"#DIV/0!"}]
[null,null,null,null,null,0,"-0",{"$error":"#DIV/0!"}]
[null,null,null,null,null,0,"-0",{"$error":"#DIV/0!"}]
[null,null,null,null,null,0,"-0",{"$error":"#DIV/0!"}]
[null,null,null,null,null,0,"-0",{"$error":"#DIV/0!"}]
[null,null,null,null,null,0,"-0",{"$error":"#DIV/0!"}]
[null,null,null,null,null,0,"-0",{"$error":"#DIV/0!"}]
[null,null,null,null,null,0,"-0",{"$error":"#DIV/0!"}]
[null,null,null,null,null,0,"-0",{"$error":"#DIV/0!"}]
[null,null,null,null,null,0,"-0",{"$error":"#DIV/0!"}]
[null,null,null,null,null,0,"-0",{"$error":"#DIV/0!"}]
[null,null,null,null,null,0,"-0",{"$error":"#DIV/0!"}]
[null,null,null,null,null,0,"-0",{"$error":"#DIV/0!"}]
[null,null,null,null,null,0,"-0",{"$error":"#DIV/0!"}]
[null,null,null,null,null,0,"-0",{"$error":"#DIV/0!"}]
[null,null,null,null,null,0,"-0",{"$error":"#DIV/0!"}]
[null,null,null,null,null,0,"-0",{"$error":"#DIV/0!"}]
[null,null,null,null,null,0,"-0",{"$error":"#DIV/0!"}]
[null,null,null,null,null,0,"-0",{"$error":"#DIV/0!"}]
[null,null,null,null,null,0,"-0",{"$error":"#DIV/0!"}]
[null,null,null,null,null,0,"-0",{"$error":"#DIV/0!"}]
[null,null,null,null,null,0,"-0",{"$error":"#DIV/0!"}]
[null,null,null,null,null,0,"-0",{"$error":"#DIV/0!"}]
[null,null,null,null,null,0,"-0",{"$error":"#DIV/0!"}]
[null,null,null,null,null,0,"-0",{"$error":"#DIV/0!"}]
[null,null,null,null,null,0,"-0",{"$error":"#DIV/0!"}]
[null,null,null,null,null,0,"-0",{"$error":"#DIV/0!"}]
[null,null,null,null,null,0,"-0",{"$error":"#DIV/0!"}]
[null,null,null,null,null,0,"-0",{"$error":"#DIV/0!"}]
[null,null,null,null,null,0,"-0",{"$error":"#DIV/0!"}]
[null,null,null,null,null,0,"-0",{"$error":"#DIV/0!"}]
[null,null,null,null,null,0,"-0",{"$error":"#DIV/0!"}]
[null,null,null,null,null,0,"-0",{"$error":"#DIV/0!"}]
[null,null,null,null,null,0,"-0",{"$error":"#DIV/0!"}]
[null,null,null,null,null,0,"-0",{"$error":"#DIV/0!"}]
[null,null,null,null,null,0,"-0",{"$error":"#DIV/0!"}]
[null,null,null,null,null,0,"-0",{"$error":"#DIV/0!"}]
[null,null,null,null,null,0,"-0",{"$error":"#DIV/0!"}]
[null,null,null,null,null,0,"-0",{"$error":"#DIV/0!"}]
[null,null,null,null,null,0,"-0",{"$error":"#DIV/0!"}]
[null,null,null,null,null,0,"-0",{"$error":"#DIV/0!"}]
[null,null,null,null,null,0,"-0",{"$error":"#DIV/0!"}]
[null,null,null,null,null,0,"-0",{"$error":"#DIV/0!"}]
[null,null,null,null,null,0,"-0",{"$error":"#DIV/0!"}]
[null,null,null,null,null,0,"-0",{"$error":"#DIV/0!"}]
[null,null,null,null,null,0,"-0",{"$error":"#DIV/0!"}]
[null,null,null,null,null,0,"-0",{"$error":"#DIV/0!"}]
[null,null,null,null,null,0,"-0",{"$error":"#DIV/0!"}]
[null,null,null,null,null,0,"-0",{"$error":"#DIV/0!"}]
[null,null,null,null,null,0,"-0",{"$error":"#DIV/0!"}]
[null,null,null,null,null,0,"-0",{"$error":"#DIV/0!"}]
[null,null,null,null,null,0,"-0",{"$error":"#DIV/0!"}]
[null,null,null,null,null,0,"-0",{"$error":"#DIV/0!"}]
[null,null,null,null,null,0,"-0",{"$error":"#DIV/0!"}]
[null,null,null,null,null,0,"-0",{"$error":"#DIV/0!"}]
[null,null,null,null,null,0,"-0",{"$error":"#DIV/0!"}]
[null,null,null,null,null,0,"-0",{"$error":"#DIV/0!"}]
[null,null,null,null,null,0,"-0",{"$error":"#DIV/0!"}]
[null,null,null,null,null,0,"-0",{"$error":"#DIV/0!"}]
[null,null,null,null,null,0,"-0",{"$error":"#DIV/0!"}]
[null,null,null,null,null,0,"-0",{"$error":"#DIV/0!"}]
[null,null,null,null,null,0,"-0",{"$error":"#DIV/0!"}]
[null,null,null,null,null,0,"-0",{"$error":"#DIV/0!"}]
[null,null,null,null,null,0,"-0",{"$error":"#DIV/0!"}]
[null,null,null,null,null,0,"-0",{"$error":"#DIV/0!"}]
[null,null,null,null,null,0,"-0",{"$error":"#DIV/0!"}]
[null,null,null,null,null,0,"-0",{"$error":"#DIV/0!"}]
[null,null,null,null,null,0,"-0",{"$error":"#DIV/0!"}]
[null,null,null,null,null,0,"-0",{"$error":"#DIV/0!"}]
[null,null,null,null,null,0,"-0",{"$error":"#DIV/0!"}]
[null,null,null,null,null,0,"-0",{"$error":"#DIV/0!"}]
[null,null,null,null,null,0,"-0",{"$error":"#DIV/0!"}]
[null,null,null,null,null,0,"-0",{"$error":"#DIV/0!"}]
[null,null,null,null,null,0,"-0",{"$error":"#DIV/0!"}]
[null,null,null,null,null,{"$f":"IF($C15426=\"XU\",$D15426,$C15426)","v":0},{"$f":"CONCATENATE(A15426,\"-\",F15426)","v":"-0"},{"$f":"$E15426/SUMIF(A:A,A15426,E:E)","v":{"$error":"#DIV/0!"}}]
[null,null,null,null,null,0,"-0",{"$error":"#DIV/0!"}]
[null,null,null,null,null,0,"-0",{"$error":"#DIV/0!"}]
[null,null,null,null,null,0,"-0",{"$error":"#DIV/0!"}]
[null,null,null,null,null,0,"-0",{"$error":"#DIV/0!"}]
[null,null,null,null,null,0,"-0",{"$error":"#DIV/0!"}]
[null,null,null,null,null,0,"-0",{"$error":"#DIV/0!"}]
[null,null,null,null,null,0,"-0",{"$error":"#DIV/0!"}]
[null,null,null,null,null,0,"-0",{"$error":"#DIV/0!"}]
[null,null,null,null,null,0,"-0",{"$error":"#DIV/0!"}]
[null,null,null,null,null,0,"-0",{"$error":"#DIV/0!"}]
[null,null,null,null,null,0,"-0",{"$error":"#DIV/0!"}]
[null,null,null,null,null,0,"-0",{"$error":"#DIV/0!"}]
[null,null,null,null,null,0,"-0",{"$error":"#DIV/0!"}]
[null,null,null,null,null,0,"-0",{"$error":"#DIV/0!"}]
[null,null,null,null,null,0,"-0",{"$error":"#DIV/0!"}]
[null,null,null,null,null,0,"-0",{"$error":"#DIV/0!"}]
[null,null,null,null,null,0,"-0",{"$error":"#DIV/0!"}]
[null,null,null,null,null,0,"-0",{"$error":"#DIV/0!"}]
[null,null,null,null,null,0,"-0",{"$error":"#DIV/0!"}]
[null,null,null,null,null,0,"-0",{"$error":"#DIV/0!"}]
[null,null,null,null,null,0,"-0",{"$error":"#DIV/0!"}]
[null,null,null,null,null,0,"-0",{"$error":"#DIV/0!"}]
[null,null,null,null,null,0,"-0",{"$error":"#DIV/0!"}]
[null,null,null,null,null,0,"-0",{"$error":"#DIV/0!"}]
[null,null,null,null,null,0,"-0",{"$error":"#DIV/0!"}]
[null,null,null,null,null,0,"-0",{"$error":"#DIV/0!"}]
[null,null,null,null,null,0,"-0",{"$error":"#DIV/0!"}]
[null,null,null,null,null,0,"-0",{"$error":"#DIV/0!"}]
[null,null,null,null,null,0,"-0",{"$error":"#DIV/0!"}]
[null,null,null,null,null,0,"-0",{"$error":"#DIV/0!"}]
[null,null,null,null,null,0,"-0",{"$error":"#DIV/0!"}]
[null,null,null,null,null,0,"-0",{"$error":"#DIV/0!"}]
[null,null,null,null,null,0,"-0",{"$error":"#DIV/0!"}]
[null,null,null,null,null,0,"-0",{"$error":"#DIV/0!"}]
[null,null,null,null,null,0,"-0",{"$error":"#DIV/0!"}]
[null,null,null,null,null,0,"-0",{"$error":"#DIV/0!"}]
[null,null,null,null,null,0,"-0",{"$error":"#DIV/0!"}]
[null,null,null,null,null,0,"-0",{"$error":"#DIV/0!"}]
[null,null,null,null,null,0,"-0",{"$error":"#DIV/0!"}]
[null,null,null,null,null,0,"-0",{"$error":"#DIV/0!"}]
[null,null,null,null,null,0,"-0",{"$error":"#DIV/0!"}]
[null,null,null,null,null,0,"-0",{"$error":"#DIV/0!"}]
[null,null,null,null,null,0,"-0",{"$error":"#DIV/0!"}]
[null,null,null,null,null,0,"-0",{"$error":"#DIV/0!"}]
[null,null,null,null,null,0,"-0",{"$error":"#DIV/0!"}]
[null,null,null,null,null,0,"-0",{"$error":"#DIV/0!"}]
[null,null,null,null,null,0,"-0",{"$error":"#DIV/0!"}]
[null,null,null,null,null,0,"-0",{"$error":"#DIV/0!"}]
[null,null,null,null,null,0,"-0",{"$error":"#DIV/0!"}]
[null,null,null,null,null,0,"-0",{"$error":"#DIV/0!"}]
[null,null,null,null,null,0,"-0",{"$error":"#DIV/0!"}]
[null,null,null,null,null,0,"-0",{"$error":"#DIV/0!"}]
[null,null,null,null,null,0,"-0",{"$error":"#DIV/0!"}]
[null,null,null,null,null,0,"-0",{"$error":"#DIV/0!"}]
[null,null,null,null,null,0,"-0",{"$error":"#DIV/0!"}]
[null,null,null,null,null,0,"-0",{"$error":"#DIV/0!"}]
[null,null,null,null,null,0,"-0",{"$error":"#DIV/0!"}]
[null,null,null,null,null,0,"-0",{"$error":"#DIV/0!"}]
[null,null,null,null,null,0,"-0",{"$error":"#DIV/0!"}]
[null,null,null,null,null,0,"-0",{"$error":"#DIV/0!"}]
[null,null,null,null,null,0,"-0",{"$error":"#DIV/0!"}]
[null,null,null,null,null,0,"-0",{"$error":"#DIV/0!"}]
[null,null,null,null,null,0,"-0",{"$error":"#DIV/0!"}]
[null,null,null,null,null,0,"-0",{"$error":"#DIV/0!"}]
[null,null,null,null,null,0,"-0",{"$error":"#DIV/0!"}]
[null,null,null,null,null,0,"-0",{"$error":"#DIV/0!"}]
[null,null,null,null,null,0,"-0",{"$error":"#DIV/0!"}]
[null,null,null,null,null,0,"-0",{"$error":"#DIV/0!"}]
[null,null,null,null,null,0,"-0",{"$error":"#DIV/0!"}]
[null,null,null,null,null,0,"-0",{"$error":"#DIV/0!"}]
[null,null,null,null,null,0,"-0",{"$error":"#DIV/0!"}]
[null,null,null,null,null,0,"-0",{"$error":"#DIV/0!"}]
[null,null,null,null,null,0,"-0",{"$error":"#DIV/0!"}]
[null,null,null,null,null,0,"-0",{"$error":"#DIV/0!"}]
[null,null,null,null,null,0,"-0",{"$error":"#DIV/0!"}]
[null,null,null,null,null,0,"-0",{"$error":"#DIV/0!"}]
[null,null,null,null,null,0,"-0",{"$error":"#DIV/0!"}]
[null,null,null,null,null,0,"-0",{"$error":"#DIV/0!"}]
[null,null,null,null,null,0,"-0",{"$error":"#DIV/0!"}]
[null,null,null,null,null,0,"-0",{"$error":"#DIV/0!"}]
[null,null,null,null,null,0,"-0",{"$error":"#DIV/0!"}]
[null,null,null,null,null,0,"-0",{"$error":"#DIV/0!"}]
[null,null,null,null,null,0,"-0",{"$error":"#DIV/0!"}]
[null,null,null,null,null,{"$f":"IF($C16130=\"XU\",$D16130,$C16130)","v":0},{"$f":"CONCATENATE(A16130,\"-\",F16130)","v":"-0"},{"$f":"$E16130/SUMIF(A:A,A16130,E:E)","v":{"$error":"#DIV/0!"}}]
[null,null,null,null,null,0,"-0",{"$error":"#DIV/0!"}]
[null,null,null,null,null,0,"-0",{"$error":"#DIV/0!"}]
[null,null,null,null,null,0,"-0",{"$error":"#DIV/0!"}]
[null,null,null,null,null,0,"-0",{"$error":"#DIV/0!"}]
[null,null,null,null,null,0,"-0",{"$error":"#DIV/0!"}]
[null,null,null,null,null,0,"-0",{"$error":"#DIV/0!"}]
[null,null,null,null,null,{"$f":"IF($C16194=\"XU\",$D16194,$C16194)","v":0},{"$f":"CONCATENATE(A16194,\"-\",F16194)","v":"-0"},{"$f":"$E16194/SUMIF(A:A,A16194,E:E)","v":{"$error":"#DIV/0!"}}]
[null,null,null,null,null,0,"-0",{"$error":"#DIV/0!"}]
[null,null,null,null,null,0,"-0",{"$error":"#DIV/0!"}]
[null,null,null,null,null,0,"-0",{"$error":"#DIV/0!"}]
[null,null,null,null,null,0,"-0",{"$error":"#DIV/0!"}]
[null,null,null,null,null,0,"-0",{"$error":"#DIV/0!"}]
[null,null,null,null,null,0,"-0",{"$error":"#DIV/0!"}]
[null,null,null,null,null,0,"-0",{"$error":"#DIV/0!"}]
[null,null,null,null,null,0,"-0",{"$error":"#DIV/0!"}]
[null,null,null,null,null,0,"-0",{"$error":"#DIV/0!"}]
[null,null,null,null,null,0,"-0",{"$error":"#DIV/0!"}]
[null,null,null,null,null,0,"-0",{"$error":"#DIV/0!"}]
[null,null,null,null,null,0,"-0",{"$error":"#DIV/0!"}]
[null,null,null,null,null,0,"-0",{"$error":"#DIV/0!"}]
[null,null,null,null,null,0,"-0",{"$error":"#DIV/0!"}]
[null,null,null,null,null,{"$f":"IF($C16322=\"XU\",$D16322,$C16322)","v":0},{"$f":"CONCATENATE(A16322,\"-\",F16322)","v":"-0"},{"$f":"$E16322/SUMIF(A:A,A16322,E:E)","v":{"$error":"#DIV/0!"}}]
[null,null,null,null,null,0,"-0",{"$error":"#DIV/0!"}]
[null,null,null,null,null,0,"-0",{"$error":"#DIV/0!"}]
[null,null,null,null,null,0,"-0",{"$error":"#DIV/0!"}]
[null,null,null,null,null,0,"-0",{"$error":"#DIV/0!"}]
[null,null,null,null,null,0,"-0",{"$error":"#DIV/0!"}]
[null,null,null,null,null,0,"-0",{"$error":"#DIV/0!"}]
[null,null,null,null,null,0,"-0",{"$error":"#DIV/0!"}]
[null,null,null,null,null,0,"-0",{"$error":"#DIV/0!"}]
[null,null,null,null,null,0,"-0",{"$error":"#DIV/0!"}]
[null,null,null,null,null,0,"-0",{"$error":"#DIV/0!"}]
[null,null,null,null,null,0,"-0",{"$error":"#DIV/0!"}]
[null,null,null,null,null,0,"-0",{"$error":"#DIV/0!"}]
[null,null,null,null,null,0,"-0",{"$error":"#DIV/0!"}]
[null,null,null,null,null,0,"-0",{"$error":"#DIV/0!"}]
[null,null,null,null,null,0,"-0",{"$error":"#DIV/0!"}]
[null,null,null,null,null,0,"-0",{"$error":"#DIV/0!"}]
[null,null,null,null,null,0,"-0",{"$error":"#DIV/0!"}]
[null,null,null,null,null,0,"-0",{"$error":"#DIV/0!"}]
[null,null,null,null,null,0,"-0",{"$error":"#DIV/0!"}]
[null,null,null,null,null,0,"-0",{"$error":"#DIV/0!"}]
[null,null,null,null,null,0,"-0",{"$error":"#DIV/0!"}]
[null,null,null,null,null,0,"-0",{"$error":"#DIV/0!"}]
[null,null,null,null,null,{"$f":"IF($C16514=\"XU\",$D16514,$C16514)","v":0},{"$f":"CONCATENATE(A16514,\"-\",F16514)","v":"-0"},{"$f":"$E16514/SUMIF(A:A,A16514,E:E)","v":{"$error":"#DIV/0!"}}]
[null,null,null,null,null,0,"-0",{"$error":"#DIV/0!"}]
[null,null,null,null,null,0,"-0",{"$error":"#DIV/0!"}]
[null,null,null,null,null,0,"-0",{"$error":"#DIV/0!"}]
[null,null,null,null,null,0,"-0",{"$error":"#DIV/0!"}]
[null,null,null,null,null,0,"-0",{"$error":"#DIV/0!"}]
[null,null,null,null,null,0,"-0",{"$error":"#DIV/0!"}]
[null,null,null,null,null,0,"-0",{"$error":"#DIV/0!"}]
[null,null,null,null,null,0,"-0",{"$error":"#DIV/0!"}]
[null,null,null,null,null,0,"-0",{"$error":"#DIV/0!"}]
[null,null,null,null,null,0,"-0",{"$error":"#DIV/0!"}]
[null,null,null,null,null,0,"-0",{"$error":"#DIV/0!"}]
[null,null,null,null,null,0,"-0",{"$error":"#DIV/0!"}]
[null,null,null,null,null,0,"-0",{"$error":"#DIV/0!"}]
[null,null,null,null,null,0,"-0",{"$error":"#DIV/0!"}]
[null,null,null,null,null,0,"-0",{"$error":"#DIV/0!"}]
[null,null,null,null,null,0,"-0",{"$error":"#DIV/0!"}]
[null,null,null,null,null,0,"-0",{"$error":"#DIV/0!"}]
[null,null,null,null,null,0,"-0",{"$error":"#DIV/0!"}]
[null,null,null,null,null,0,"-0",{"$error":"#DIV/0!"}]
[null,null,null,null,null,0,"-0",{"$error":"#DIV/0!"}]
[null,null,null,null,null,0,"-0",{"$error":"#DIV/0!"}]
[null,null,null,null,null,0,"-0",{"$error":"#DIV/0!"}]
[null,null,null,null,null,0,"-0",{"$error":"#DIV/0!"}]
[null,null,null,null,null,0,"-0",{"$error":"#DIV/0!"}]
[null,null,null,null,null,0,"-0",{"$error":"#DIV/0!"}]
[null,null,null,null,null,0,"-0",{"$error":"#DIV/0!"}]
[null,null,null,null,null,0,"-0",{"$error":"#DIV/0!"}]
[null,null,null,null,null,0,"-0",{"$error":"#DIV/0!"}]
[null,null,null,null,null,0,"-0",{"$error":"#DIV/0!"}]
[null,null,null,null,null,0,"-0",{"$error":"#DIV/0!"}]
[null,null,null,null,null,0,"-0",{"$error":"#DIV/0!"}]
[null,null,null,null,null,0,"-0",{"$error":"#DIV/0!"}]
[null,null,null,null,null,0,"-0",{"$error":"#DIV/0!"}]
[null,null,null,null,null,0,"-0",{"$error":"#DIV/0!"}]
[null,null,null,null,null,0,"-0",{"$error":"#DIV/0!"}]
[null,null,null,null,null,0,"-0",{"$error":"#DIV/0!"}]
[null,null,null,null,null,0,"-0",{"$error":"#DIV/0!"}]
[null,null,null,null,null,0,"-0",{"$error":"#DIV/0!"}]
[null,null,null,null,null,0,"-0",{"$error":"#DIV/0!"}]
[null,null,null,null,null,0,"-0",{"$error":"#DIV/0!"}]
[null,null,null,null,null,0,"-0",{"$error":"#DIV/0!"}]
[null,null,null,null,null,0,"-0",{"$error":"#DIV/0!"}]
[null,null,null,null,null,0,"-0",{"$error":"#DIV/0!"}]
[null,null,null,null,null,0,"-0",{"$error":"#DIV/0!"}]
[null,null,null,null,null,0,"-0",{"$error":"#DIV/0!"}]
[null,null,null,null,null,0,"-0",{"$error":"#DIV/0!"}]
[null,null,null,null,null,0,"-0",{"$error":"#DIV/0!"}]
[null,null,null,null,null,0,"-0",{"$error":"#DIV/0!"}]
[null,null,null,null,null,0,"-0",{"$error":"#DIV/0!"}]
[null,null,null,null,null,0,"-0",{"$error":"#DIV/0!"}]
[null,null,null,null,null,0,"-0",{"$error":"#DIV/0!"}]
[null,null,null,null,null,0,"-0",{"$error":"#DIV/0!"}]
[null,null,null,null,null,0,"-0",{"$error":"#DIV/0!"}]
[null,null,null,null,null,0,"-0",{"$error":"#DIV/0!"}]
[null,null,null,null,null,0,"-0",{"$error":"#DIV/0!"}]
[null,null,null,null,null,0,"-0",{"$error":"#DIV/0!"}]
[null,null,null,null,null,0,"-0",{"$error":"#DIV/0!"}]
[null,null,null,null,null,0,"-0",{"$error":"#DIV/0!"}]
[null,null,null,null,null,0,"-0",{"$error":"#DIV/0!"}]
[null,null,null,null,null,0,"-0",{"$error":"#DIV/0!"}]
[null,null,null,null,null,0,"-0",{"$error":"#DIV/0!"}]
[null,null,null,null,null,0,"-0",{"$error":"#DIV/0!"}]
[null,null,null,null,null,0,"-0",{"$error":"#DIV/0!"}]
[null,null,null,null,null,0,"-0",{"$error":"#DIV/0!"}]
[null,null,null,null,null,0,"-0",{"$error":"#DIV/0!"}]
[null,null,null,null,null,0,"-0",{"$error":"#DIV/0!"}]
[null,null,null,null,null,0,"-0",{"$error":"#DIV/0!"}]
[null,null,null,null,null,0,"-0",{"$error":"#DIV/0!"}]
[null,null,null,null,null,0,"-0",{"$error":"#DIV/0!"}]
[null,null,null,null,null,0,"-0",{"$error":"#DIV/0!"}]
[null,null,null,null,null,0,"-0",{"$error":"#DIV/0!"}]
[null,null,null,null,null,0,"-0",{"$error":"#DIV/0!"}]
[null,null,null,null,null,0,"-0",{"$error":"#DIV/0!"}]
[null,null,null,null,null,0,"-0",{"$error":"#DIV/0!"}]
[null,null,null,null,null,0,"-0",{"$error":"#DIV/0!"}]
[null,null,null,null,null,0,"-0",{"$error":"#DIV/0!"}]
[null,null,null,null,null,0,"-0",{"$error":"#DIV/0!"}]
[null,null,null,null,null,0,"-0",{"$error":"#DIV/0!"}]
[null,null,null,null,null,0,"-0",{"$error":"#DIV/0!"}]
[null,null,null,null,null,0,"-0",{"$error":"#DIV/0!"}]
[null,null,null,null,null,0,"-0",{"$error":"#DIV/0!"}]
[null,null,null,null,null,0,"-0",{"$error":"#DIV/0!"}]
[null,null,null,null,null,0,"-0",{"$error":"#DIV/0!"}]
[null,null,null,null,null,0,"-0",{"$error":"#DIV/0!"}]
[null,null,null,null,null,0,"-0",{"$error":"#DIV/0!"}]
[null,null,null,null,null,0,"-0",{"$error":"#DIV/0!"}]
[null,null,null,null,null,0,"-0",{"$error":"#DIV/0!"}]
[null,null,null,null,null,0,"-0",{"$error":"#DIV/0!"}]
[null,null,null,null,null,0,"-0",{"$error":"#DIV/0!"}]
[null,null,null,null,null,0,"-0",{"$error":"#DIV/0!"}]
[null,null,null,null,null,{"$f":"IF($C17282=\"XU\",$D17282,$C17282)","v":0},{"$f":"CONCATENATE(A17282,\"-\",F17282)","v":"-0"},{"$f":"$E17282/SUMIF(A:A,A17282,E:E)","v":{"$error":"#DIV/0!"}}]
[null,null,null,null,null,0,"-0",{"$error":"#DIV/0!"}]
[null,null,null,null,null,0,"-0",{"$error":"#DIV/0!"}]
[null,null,null,null,null,0,"-0",{"$error":"#DIV/0!"}]
[null,null,null,null,null,0,"-0",{"$error":"#DIV/0!"}]
[null,null,null,null,null,0,"-0",{"$error":"#DIV/0!"}]
[null,null,null,null,null,0,"-0",{"$error":"#DIV/0!"}]
[null,null,null,null,null,0,"-0",{"$error":"#DIV/0!"}]
[null,null,null,null,null,0,"-0",{"$error":"#DIV/0!"}]
[null,null,null,null,null,0,"-0",{"$error":"#DIV/0!"}]
[null,null,null,null,null,0,"-0",{"$error":"#DIV/0!"}]
[null,null,null,null,null,0,"-0",{"$error":"#DIV/0!"}]
[null,null,null,null,null,0,"-0",{"$error":"#DIV/0!"}]
[null,null,null,null,null,0,"-0",{"$error":"#DIV/0!"}]
[null,null,null,null,null,0,"-0",{"$error":"#DIV/0!"}]
[null,null,null,null,null,0,"-0",{"$error":"#DIV/0!"}]
[null,null,null,null,null,0,"-0",{"$error":"#DIV/0!"}]
[null,null,null,null,null,0,"-0",{"$error":"#DIV/0!"}]
[null,null,null,null,null,0,"-0",{"$error":"#DIV/0!"}]
[null,null,null,null,null,0,"-0",{"$error":"#DIV/0!"}]
[null,null,null,null,null,0,"-0",{"$error":"#DIV/0!"}]
[null,null,null,null,null,0,"-0",{"$error":"#DIV/0!"}]
[null,null,null,null,null,0,"-0",{"$error":"#DIV/0!"}]
[null,null,null,null,null,0,"-0",{"$error":"#DIV/0!"}]
[null,null,null,null,null,0,"-0",{"$error":"#DIV/0!"}]
[null,null,null,null,null,0,"-0",{"$error":"#DIV/0!"}]
[null,null,null,null,null,0,"-0",{"$error":"#DIV/0!"}]
[null,null,null,null,null,0,"-0",{"$error":"#DIV/0!"}]
[null,null,null,null,null,0,"-0",{"$error":"#DIV/0!"}]
[null,null,null,null,null,0,"-0",{"$error":"#DIV/0!"}]
[null,null,null,null,null,0,"-0",{"$error":"#DIV/0!"}]
[null,null,null,null,null,0,"-0",{"$error":"#DIV/0!"}]
[null,null,null,null,null,0,"-0",{"$error":"#DIV/0!"}]
[null,null,null,null,null,0,"-0",{"$error":"#DIV/0!"}]
[null,null,null,null,null,0,"-0",{"$error":"#DIV/0!"}]
[null,null,null,null,null,0,"-0",{"$error":"#DIV/0!"}]
[null,null,null,null,null,0,"-0",{"$error":"#DIV/0!"}]
[null,null,null,null,null,0,"-0",{"$error":"#DIV/0!"}]
[null,null,null,null,null,0,"-0",{"$error":"#DIV/0!"}]
[null,null,null,null,null,0,"-0",{"$error":"#DIV/0!"}]
[null,null,null,null,null,0,"-0",{"$error":"#DIV/0!"}]
[null,null,null,null,null,0,"-0",{"$error":"#DIV/0!"}]
[null,null,null,null,null,0,"-0",{"$error":"#DIV/0!"}]
[null,null,null,null,null,0,"-0",{"$error":"#DIV/0!"}]
[null,null,null,null,null,0,"-0",{"$error":"#DIV/0!"}]
[null,null,null,null,null,0,"-0",{"$error":"#DIV/0!"}]
[null,null,null,null,null,0,"-0",{"$error":"#DIV/0!"}]
[null,null,null,null,null,0,"-0",{"$error":"#DIV/0!"}]
[null,null,null,null,null,0,"-0",{"$error":"#DIV/0!"}]
[null,null,null,null,null,0,"-0",{"$error":"#DIV/0!"}]
[null,null,null,null,null,0,"-0",{"$error":"#DIV/0!"}]
[null,null,null,null,null,0,"-0",{"$error":"#DIV/0!"}]
[null,null,null,null,null,0,"-0",{"$error":"#DIV/0!"}]
[null,null,null,null,null,0,"-0",{"$error":"#DIV/0!"}]
[null,null,null,null,null,0,"-0",{"$error":"#DIV/0!"}]
[null,null,null,null,null,0,"-0",{"$error":"#DIV/0!"}]
[null,null,null,null,null,0,"-0",{"$error":"#DIV/0!"}]
[null,null,null,null,null,0,"-0",{"$error":"#DIV/0!"}]
[null,null,null,null,null,0,"-0",{"$error":"#DIV/0!"}]
[null,null,null,null,null,0,"-0",{"$error":"#DIV/0!"}]
[null,null,null,null,null,0,"-0",{"$error":"#DIV/0!"}]
[null,null,null,null,null,0,"-0",{"$error":"#DIV/0!"}]
[null,null,null,null,null,0,"-0",{"$error":"#DIV/0!"}]
[null,null,null,null,null,0,"-0",{"$error":"#DIV/0!"}]
[null,null,null,null,null,0,"-0",{"$error":"#DIV/0!"}]
[null,null,null,null,null,0,"-0",{"$error":"#DIV/0!"}]
[null,null,null,null,null,0,"-0",{"$error":"#DIV/0!"}]
[null,null,null,null,null,0,"-0",{"$error":"#DIV/0!"}]
[null,null,null,null,null,{"$f":"IF($C17858=\"XU\",$D17858,$C17858)","v":0},{"$f":"CONCATENATE(A17858,\"-\",F17858)","v":"-0"},{"$f":"$E17858/SUMIF(A:A,A17858,E:E)","v":{"$error":"#DIV/0!"}}]
[null,null,null,null,null,0,"-0",{"$error":"#DIV/0!"}]
[null,null,null,null,null,0,"-0",{"$error":"#DIV/0!"}]
[null,null,null,null,null,0,"-0",{"$error":"#DIV/0!"}]
[null,null,null,null,null,0,"-0",{"$error":"#DIV/0!"}]
[null,null,null,null,null,0,"-0",{"$error":"#DIV/0!"}]
[null,null,null,null,null,0,"-0",{"$error":"#DIV/0!"}]
[null,null,null,null,null,0,"-0",{"$error":"#DIV/0!"}]
[null,null,null,null,null,0,"-0",{"$error":"#DIV/0!"}]
[null,null,null,null,null,0,"-0",{"$error":"#DIV/0!"}]
[null,null,null,null,null,0,"-0",{"$error":"#DIV/0!"}]
[null,null,null,null,null,0,"-0",{"$error":"#DIV/0!"}]
[null,null,null,null,null,0,"-0",{"$error":"#DIV/0!"}]
[null,null,null,null,null,0,"-0",{"$error":"#DIV/0!"}]
[null,null,null,null,null,0,"-0",{"$error":"#DIV/0!"}]
[null,null,null,null,null,0,"-0",{"$error":"#DIV/0!"}]
[null,null,null,null,null,0,"-0",{"$error":"#DIV/0!"}]
[null,null,null,null,null,0,"-0",{"$error":"#DIV/0!"}]
[null,null,null,null,null,0,"-0",{"$error":"#DIV/0!"}]
[null,null,null,null,null,0,"-0",{"$error":"#DIV/0!"}]
[null,null,null,null,null,0,"-0",{"$error":"#DIV/0!"}]
[null,null,null,null,null,0,"-0",{"$error":"#DIV/0!"}]
[null,null,null,null,null,0,"-0",{"$error":"#DIV/0!"}]
[null,null,null,null,null,{"$f":"IF($C18050=\"XU\",$D18050,$C18050)","v":0},{"$f":"CONCATENATE(A18050,\"-\",F18050)","v":"-0"},{"$f":"$E18050/SUMIF(A:A,A18050,E:E)","v":{"$error":"#DIV/0!"}}]
[null,null,null,null,null,0,"-0",{"$error":"#DIV/0!"}]
[null,null,null,null,null,0,"-0",{"$error":"#DIV/0!"}]
[null,null,null,null,null,0,"-0",{"$error":"#DIV/0!"}]
[null,null,null,null,null,0,"-0",{"$error":"#DIV/0!"}]
[null,null,null,null,null,0,"-0",{"$error":"#DIV/0!"}]
[null,null,null,null,null,0,"-0",{"$error":"#DIV/0!"}]
[null,null,null,null,null,0,"-0",{"$error":"#DIV/0!"}]
[null,null,null,null,null,0,"-0",{"$error":"#DIV/0!"}]
[null,null,null,null,null,0,"-0",{"$error":"#DIV/0!"}]
[null,null,null,null,null,0,"-0",{"$error":"#DIV/0!"}]
[null,null,null,null,null,0,"-0",{"$error":"#DIV/0!"}]
[null,null,null,null,null,0,"-0",{"$error":"#DIV/0!"}]
[null,null,null,null,null,0,"-0",{"$error":"#DIV/0!"}]
[null,null,null,null,null,0,"-0",{"$error":"#DIV/0!"}]
[null,null,null,null,null,0,"-0",{"$error":"#DIV/0!"}]
[null,null,null,null,null,0,"-0",{"$error":"#DIV/0!"}]
[null,null,null,null,null,0,"-0",{"$error":"#DIV/0!"}]
[null,null,null,null,null,0,"-0",{"$error":"#DIV/0!"}]
[null,null,null,null,null,0,"-0",{"$error":"#DIV/0!"}]
[null,null,null,null,null,0,"-0",{"$error":"#DIV/0!"}]
[null,null,null,null,null,0,"-0",{"$error":"#DIV/0!"}]
[null,null,null,null,null,0,"-0",{"$error":"#DIV/0!"}]
[null,null,null,null,null,0,"-0",{"$error":"#DIV/0!"}]
[null,null,null,null,null,0,"-0",{"$error":"#DIV/0!"}]
[null,null,null,null,null,0,"-0",{"$error":"#DIV/0!"}]
[null,null,null,null,null,0,"-0",{"$error":"#DIV/0!"}]
[null,null,null,null,null,0,"-0",{"$error":"#DIV/0!"}]
[null,null,null,null,null,0,"-0",{"$error":"#DIV/0!"}]
[null,null,null,null,null,0,"-0",{"$error":"#DIV/0!"}]
[null,null,null,null,null,0,"-0",{"$error":"#DIV/0!"}]
[null,null,null,null,null,0,"-0",{"$error":"#DIV/0!"}]
[null,null,null,null,null,0,"-0",{"$error":"#DIV/0!"}]
[null,null,null,null,null,0,"-0",{"$error":"#DIV/0!"}]
[null,null,null,null,null,0,"-0",{"$error":"#DIV/0!"}]
[null,null,null,null,null,0,"-0",{"$error":"#DIV/0!"}]
[null,null,null,null,null,0,"-0",{"$error":"#DIV/0!"}]
[null,null,null,null,null,0,"-0",{"$error":"#DIV/0!"}]
[null,null,null,null,null,{"$f":"IF($C18370=\"XU\",$D18370,$C18370)","v":0},{"$f":"CONCATENATE(A18370,\"-\",F18370)","v":"-0"},{"$f":"$E18370/SUMIF(A:A,A18370,E:E)","v":{"$error":"#DIV/0!"}}]
[null,null,null,null,null,0,"-0",{"$error":"#DIV/0!"}]
[null,null,null,null,null,0,"-0",{"$error":"#DIV/0!"}]
[null,null,null,null,null,0,"-0",{"$error":"#DIV/0!"}]
[null,null,null,null,null,0,"-0",{"$error":"#DIV/0!"}]
[null,null,null,null,null,0,"-0",{"$error":"#DIV/0!"}]
[null,null,null,null,null,0,"-0",{"$error":"#DIV/0!"}]
[null,null,null,null,null,0,"-0",{"$error":"#DIV/0!"}]
[null,null,null,null,null,0,"-0",{"$error":"#DIV/0!"}]
[null,null,null,null,null,0,"-0",{"$error":"#DIV/0!"}]
[null,null,null,null,null,0,"-0",{"$error":"#DIV/0!"}]
[null,null,null,null,null,0,"-0",{"$error":"#DIV/0!"}]
[null,null,null,null,null,0,"-0",{"$error":"#DIV/0!"}]
[null,null,null,null,null,0,"-0",{"$error":"#DIV/0!"}]
[null,null,null,null,null,0,"-0",{"$error":"#DIV/0!"}]
[null,null,null,null,null,0,"-0",{"$error":"#DIV/0!"}]
[null,null,null,null,null,0,"-0",{"$error":"#DIV/0!"}]
[null,null,null,null,null,0,"-0",{"$error":"#DIV/0!"}]
[null,null,null,null,null,0,"-0",{"$error":"#DIV/0!"}]
[null,null,null,null,null,0,"-0",{"$error":"#DIV/0!"}]
[null,null,null,null,null,0,"-0",{"$error":"#DIV/0!"}]
[null,null,null,null,null,0,"-0",{"$error":"#DIV/0!"}]
[null,null,null,null,null,0,"-0",{"$error":"#DIV/0!"}]
[null,null,null,null,null,0,"-0",{"$error":"#DIV/0!"}]
[null,null,null,null,null,0,"-0",{"$error":"#DIV/0!"}]
[null,null,null,null,null,0,"-0",{"$error":"#DIV/0!"}]
[null,null,null,null,null,0,"-0",{"$error":"#DIV/0!"}]
[null,null,null,null,null,0,"-0",{"$error":"#DIV/0!"}]
[null,null,null,null,null,0,"-0",{"$error":"#DIV/0!"}]
[null,null,null,null,null,0,"-0",{"$error":"#DIV/0!"}]
[null,null,null,null,null,0,"-0",{"$error":"#DIV/0!"}]
[null,null,null,null,null,0,"-0",{"$error":"#DIV/0!"}]
[null,null,null,null,null,0,"-0",{"$error":"#DIV/0!"}]
[null,null,null,null,null,0,"-0",{"$error":"#DIV/0!"}]
[null,null,null,null,null,0,"-0",{"$error":"#DIV/0!"}]
[null,null,null,null,null,0,"-0",{"$error":"#DIV/0!"}]
[null,null,null,null,null,0,"-0",{"$error":"#DIV/0!"}]
[null,null,null,null,null,0,"-0",{"$error":"#DIV/0!"}]
[null,null,null,null,null,0,"-0",{"$error":"#DIV/0!"}]
[null,null,null,null,null,0,"-0",{"$error":"#DIV/0!"}]
[null,null,null,null,null,0,"-0",{"$error":"#DIV/0!"}]
[null,null,null,null,null,0,"-0",{"$error":"#DIV/0!"}]
[null,null,null,null,null,0,"-0",{"$error":"#DIV/0!"}]
[null,null,null,null,null,0,"-0",{"$error":"#DIV/0!"}]
[null,null,null,null,null,0,"-0",{"$error":"#DIV/0!"}]
[null,null,null,null,null,0,"-0",{"$error":"#DIV/0!"}]
[null,null,null,null,null,0,"-0",{"$error":"#DIV/0!"}]
[null,null,null,null,null,0,"-0",{"$error":"#DIV/0!"}]
[null,null,null,null,null,0,"-0",{"$error":"#DIV/0!"}]
[null,null,null,null,null,0,"-0",{"$error":"#DIV/0!"}]
[null,null,null,null,null,0,"-0",{"$error":"#DIV/0!"}]
[null,null,null,null,null,0,"-0",{"$error":"#DIV/0!"}]
[null,null,null,null,null,0,"-0",{"$error":"#DIV/0!"}]
[null,null,null,null,null,0,"-0",{"$error":"#DIV/0!"}]
[null,null,null,null,null,0,"-0",{"$error":"#DIV/0!"}]
[null,null,null,null,null,0,"-0",{"$error":"#DIV/0!"}]
[null,null,null,null,null,0,"-0",{"$error":"#DIV/0!"}]
[null,null,null,null,null,0,"-0",{"$error":"#DIV/0!"}]
[null,null,null,null,null,0,"-0",{"$error":"#DIV/0!"}]
[null,null,null,null,null,0,"-0",{"$error":"#DIV/0!"}]
[null,null,null,null,null,0,"-0",{"$error":"#DIV/0!"}]
[null,null,null,null,null,0,"-0",{"$error":"#DIV/0!"}]
[null,null,null,null,null,0,"-0",{"$error":"#DIV/0!"}]
[null,null,null,null,null,0,"-0",{"$error":"#DIV/0!"}]
[null,null,null,null,null,0,"-0",{"$error":"#DIV/0!"}]
[null,null,null,null,null,0,"-0",{"$error":"#DIV/0!"}]
[null,null,null,null,null,0,"-0",{"$error":"#DIV/0!"}]
[null,null,null,null,null,0,"-0",{"$error":"#DIV/0!"}]
[null,null,null,null,null,0,"-0",{"$error":"#DIV/0!"}]
[null,null,null,null,null,0,"-0",{"$error":"#DIV/0!"}]
[null,null,null,null,null,0,"-0",{"$error":"#DIV/0!"}]
[null,null,null,null,null,0,"-0",{"$error":"#DIV/0!"}]
[null,null,null,null,null,0,"-0",{"$error":"#DIV/0!"}]
[null,null,null,null,null,0,"-0",{"$error":"#DIV/0!"}]
[null,null,null,null,null,0,"-0",{"$error":"#DIV/0!"}]
[null,null,null,null,null,0,"-0",{"$error":"#DIV/0!"}]
[null,null,null,null,null,0,"-0",{"$error":"#DIV/0!"}]
[null,null,null,null,null,0,"-0",{"$error":"#DIV/0!"}]
[null,null,null,null,null,0,"-0",{"$error":"#DIV/0!"}]
[null,null,null,null,null,0,"-0",{"$error":"#DIV/0!"}]
[null,null,null,null,null,0,"-0",{"$error":"#DIV/0!"}]
[null,null,null,null,null,0,"-0",{"$error":"#DIV/0!"}]
[null,null,null,null,null,0,"-0",{"$error":"#DIV/0!"}]
[null,null,null,null,null,0,"-0",{"$error":"#DIV/0!"}]
[null,null,null,null,null,0,"-0",{"$error":"#DIV/0!"}]
[null,null,null,null,null,0,"-0",{"$error":"#DIV/0!"}]
[null,null,null,null,null,0,"-0",{"$error":"#DIV/0!"}]
[null,null,null,null,null,0,"-0",{"$error":"#DIV/0!"}]
[null,null,null,null,null,0,"-0",{"$error":"#DIV/0!"}]
[null,null,null,null,null,0,"-0",{"$error":"#DIV/0!"}]
[null,null,null,null,null,0,"-0",{"$error":"#DIV/0!"}]
[null,null,null,null,null,0,"-0",{"$error":"#DIV/0!"}]
[null,null,null,null,null,0,"-0",{"$error":"#DIV/0!"}]
[null,null,null,null,null,0,"-0",{"$error":"#DIV/0!"}]
[null,null,null,null,null,0,"-0",{"$error":"#DIV/0!"}]
[null,null,null,null,null,0,"-0",{"$error":"#DIV/0!"}]
[null,null,null,null,null,0,"-0",{"$error":"#DIV/0!"}]
[null,null,null,null,null,0,"-0",{"$error":"#DIV/0!"}]
[null,null,null,null,null,0,"-0",{"$error":"#DIV/0!"}]
[null,null,null,null,null,0,"-0",{"$error":"#DIV/0!"}]
[null,null,null,null,null,0,"-0",{"$error":"#DIV/0!"}]
[null,null,null,null,null,0,"-0",{"$error":"#DIV/0!"}]
[null,null,null,null,null,0,"-0",{"$error":"#DIV/0!"}]
[null,null,null,null,null,0,"-0",{"$error":"#DIV/0!"}]
[null,null,null,null,null,0,"-0",{"$error":"#DIV/0!"}]
[null,null,null,null,null,0,"-0",{"$error":"#DIV/0!"}]
[null,null,null,null,null,0,"-0",{"$error":"#DIV/0!"}]
[null,null,null,null,null,0,"-0",{"$error":"#DIV/0!"}]
[null,null,null,null,null,{"$f":"IF($C18946=\"XU\",$D18946,$C18946)","v":0},{"$f":"CONCATENATE(A18946,\"-\",F18946)","v":"-0"},{"$f":"$E18946/SUMIF(A:A,A18946,E:E)","v":{"$error":"#DIV/0!"}}]
[null,null,null,null,null,0,"-0",{"$error":"#DIV/0!"}]
[null,null,null,null,null,0,"-0",{"$error":"#DIV/0!"}]
[null,null,null,null,null,0,"-0",{"$error":"#DIV/0!"}]
[null,null,null,null,null,0,"-0",{"$error":"#DIV/0!"}]
[null,null,null,null,null,0,"-0",{"$error":"#DIV/0!"}]
[null,null,null,null,null,0,"-0",{"$error":"#DIV/0!"}]
[null,null,null,null,null,0,"-0",{"$error":"#DIV/0!"}]
[null,null,null,null,null,0,"-0",{"$error":"#DIV/0!"}]
[null,null,null,null,null,0,"-0",{"$error":"#DIV/0!"}]
[null,null,null,null,null,0,"-0",{"$error":"#DIV/0!"}]
[null,null,null,null,null,0,"-0",{"$error":"#DIV/0!"}]
[null,null,null,null,null,0,"-0",{"$error":"#DIV/0!"}]
[null,null,null,null,null,0,"-0",{"$error":"#DIV/0!"}]
[null,null,null,null,null,0,"-0",{"$error":"#DIV/0!"}]
[null,null,null,null,null,0,"-0",{"$error":"#DIV/0!"}]
[null,null,null,null,null,0,"-0",{"$error":"#DIV/0!"}]
[null,null,null,null,null,0,"-0",{"$error":"#DIV/0!"}]
[null,null,null,null,null,0,"-0",{"$error":"#DIV/0!"}]
[null,null,null,null,null,0,"-0",{"$error":"#DIV/0!"}]
[null,null,null,null,null,0,"-0",{"$error":"#DIV/0!"}]
[null,null,null,null,null,0,"-0",{"$error":"#DIV/0!"}]
[null,null,null,null,null,0,"-0",{"$error":"#DIV/0!"}]
[null,null,null,null,null,0,"-0",{"$error":"#DIV/0!"}]
[null,null,null,null,null,0,"-0",{"$error":"#DIV/0!"}]
[null,null,null,null,null,0,"-0",{"$error":"#DIV/0!"}]
[null,null,null,null,null,0,"-0",{"$error":"#DIV/0!"}]
[null,null,null,null,null,0,"-0",{"$error":"#DIV/0!"}]
[null,null,null,null,null,0,"-0",{"$error":"#DIV/0!"}]
[null,null,null,null,null,0,"-0",{"$error":"#DIV/0!"}]
[null,null,null,null,null,0,"-0",{"$error":"#DIV/0!"}]
[null,null,null,null,null,0,"-0",{"$error":"#DIV/0!"}]
[null,null,null,null,null,0,"-0",{"$error":"#DIV/0!"}]
[null,null,null,null,null,0,"-0",{"$error":"#DIV/0!"}]
[null,null,null,null,null,0,"-0",{"$error":"#DIV/0!"}]
[null,null,null,null,null,0,"-0",{"$error":"#DIV/0!"}]
[null,null,null,null,null,0,"-0",{"$error":"#DIV/0!"}]
[null,null,null,null,null,0,"-0",{"$error":"#DIV/0!"}]
[null,null,null,null,null,0,"-0",{"$error":"#DIV/0!"}]
[null,null,null,null,null,0,"-0",{"$error":"#DIV/0!"}]
[null,null,null,null,null,0,"-0",{"$error":"#DIV/0!"}]
[null,null,null,null,null,0,"-0",{"$error":"#DIV/0!"}]
[null,null,null,null,null,0,"-0",{"$error":"#DIV/0!"}]
[null,null,null,null,null,0,"-0",{"$error":"#DIV/0!"}]
[null,null,null,null,null,0,"-0",{"$error":"#DIV/0!"}]
[null,null,null,null,null,0,"-0",{"$error":"#DIV/0!"}]
[null,null,null,null,null,0,"-0",{"$error":"#DIV/0!"}]
[null,null,null,null,null,0,"-0",{"$error":"#DIV/0!"}]
[null,null,null,null,null,0,"-0",{"$error":"#DIV/0!"}]
[null,null,null,null,null,0,"-0",{"$error":"#DIV/0!"}]
[null,null,null,null,null,0,"-0",{"$error":"#DIV/0!"}]
[null,null,null,null,null,0,"-0",{"$error":"#DIV/0!"}]
[null,null,null,null,null,0,"-0",{"$error":"#DIV/0!"}]
[null,null,null,null,null,0,"-0",{"$error":"#DIV/0!"}]
[null,null,null,null,null,0,"-0",{"$error":"#DIV/0!"}]
[null,null,null,null,null,0,"-0",{"$error":"#DIV/0!"}]
[null,null,null,null,null,0,"-0",{"$error":"#DIV/0!"}]
[null,null,null,null,null,0,"-0",{"$error":"#DIV/0!"}]
[null,null,null,null,null,0,"-0",{"$error":"#DIV/0!"}]
[null,null,null,null,null,0,"-0",{"$error":"#DIV/0!"}]
[null,null,null,null,null,0,"-0",{"$error":"#DIV/0!"}]
[null,null,null,null,null,0,"-0",{"$error":"#DIV/0!"}]
[null,null,null,null,null,0,"-0",{"$error":"#DIV/0!"}]
[null,null,null,null,null,0,"-0",{"$error":"#DIV/0!"}]
[null,null,null,null,null,{"$f":"IF($C19010=\"XU\",$D19010,$C19010)","v":0},{"$f":"CONCATENATE(A19010,\"-\",F19010)","v":"-0"},{"$f":"$E19010/SUMIF(A:A,A19010,E:E)","v":{"$error":"#DIV/0!"}}]
[null,null,null,null,null,0,"-0",{"$error":"#DIV/0!"}]
[null,null,null,null,null,0,"-0",{"$error":"#DIV/0!"}]
[null,null,null,null,null,0,"-0",{"$error":"#DIV/0!"}]
[null,null,null,null,null,0,"-0",{"$error":"#DIV/0!"}]
[null,null,null,null,null,0,"-0",{"$error":"#DIV/0!"}]
[null,null,null,null,null,0,"-0",{"$error":"#DIV/0!"}]
[null,null,null,null,null,0,"-0",{"$error":"#DIV/0!"}]
[null,null,null,null,null,0,"-0",{"$error":"#DIV/0!"}]
[null,null,null,null,null,0,"-0",{"$error":"#DIV/0!"}]
[null,null,null,null,null,0,"-0",{"$error":"#DIV/0!"}]
[null,null,null,null,null,0,"-0",{"$error":"#DIV/0!"}]
[null,null,null,null,null,0,"-0",{"$error":"#DIV/0!"}]
[null,null,null,null,null,0,"-0",{"$error":"#DIV/0!"}]
[null,null,null,null,null,0,"-0",{"$error":"#DIV/0!"}]
[null,null,null,null,null,0,"-0",{"$error":"#DIV/0!"}]
[null,null,null,null,null,0,"-0",{"$error":"#DIV/0!"}]
[null,null,null,null,null,0,"-0",{"$error":"#DIV/0!"}]
[null,null,null,null,null,0,"-0",{"$error":"#DIV/0!"}]
[null,null,null,null,null,0,"-0",{"$error":"#DIV/0!"}]
[null,null,null,null,null,0,"-0",{"$error":"#DIV/0!"}]
[null,null,null,null,null,0,"-0",{"$error":"#DIV/0!"}]
[null,null,null,null,null,0,"-0",{"$error":"#DIV/0!"}]
[null,null,null,null,null,0,"-0",{"$error":"#DIV/0!"}]
[null,null,null,null,null,0,"-0",{"$error":"#DIV/0!"}]
[null,null,null,null,null,0,"-0",{"$error":"#DIV/0!"}]
[null,null,null,null,null,0,"-0",{"$error":"#DIV/0!"}]
[null,null,null,null,null,0,"-0",{"$error":"#DIV/0!"}]
[null,null,null,null,null,0,"-0",{"$error":"#DIV/0!"}]
[null,null,null,null,null,0,"-0",{"$error":"#DIV/0!"}]
[null,null,null,null,null,0,"-0",{"$error":"#DIV/0!"}]
[null,null,null,null,null,0,"-0",{"$error":"#DIV/0!"}]
[null,null,null,null,null,0,"-0",{"$error":"#DIV/0!"}]
[null,null,null,null,null,0,"-0",{"$error":"#DIV/0!"}]
[null,null,null,null,null,0,"-0",{"$error":"#DIV/0!"}]
[null,null,null,null,null,0,"-0",{"$error":"#DIV/0!"}]
[null,null,null,null,null,0,"-0",{"$error":"#DIV/0!"}]
[null,null,null,null,null,0,"-0",{"$error":"#DIV/0!"}]
[null,null,null,null,null,0,"-0",{"$error":"#DIV/0!"}]
[null,null,null,null,null,0,"-0",{"$error":"#DIV/0!"}]
[null,null,null,null,null,0,"-0",{"$error":"#DIV/0!"}]
[null,null,null,null,null,0,"-0",{"$error":"#DIV/0!"}]
[null,null,null,null,null,0,"-0",{"$error":"#DIV/0!"}]
[null,null,null,null,null,0,"-0",{"$error":"#DIV/0!"}]
[null,null,null,null,null,0,"-0",{"$error":"#DIV/0!"}]
[null,null,null,null,null,0,"-0",{"$error":"#DIV/0!"}]
[null,null,null,null,null,0,"-0",{"$error":"#DIV/0!"}]
[null,null,null,null,null,0,"-0",{"$error":"#DIV/0!"}]
[null,null,null,null,null,0,"-0",{"$error":"#DIV/0!"}]
[null,null,null,null,null,0,"-0",{"$error":"#DIV/0!"}]
[null,null,null,null,null,0,"-0",{"$error":"#DIV/0!"}]
[null,null,null,null,null,0,"-0",{"$error":"#DIV/0!"}]
[null,null,null,null,null,0,"-0",{"$error":"#DIV/0!"}]
[null,null,null,null,null,0,"-0",{"$error":"#DIV/0!"}]
[null,null,null,null,null,0,"-0",{"$error":"#DIV/0!"}]
[null,null,null,null,null,0,"-0",{"$error":"#DIV/0!"}]
[null,null,null,null,null,0,"-0",{"$error":"#DIV/0!"}]
[null,null,null,null,null,0,"-0",{"$error":"#DIV/0!"}]
[null,null,null,null,null,0,"-0",{"$error":"#DIV/0!"}]
[null,null,null,null,null,0,"-0",{"$error":"#DIV/0!"}]
[null,null,null,null,null,0,"-0",{"$error":"#DIV/0!"}]
[null,null,null,null,null,0,"-0",{"$error":"#DIV/0!"}]
[null,null,null,null,null,0,"-0",{"$error":"#DIV/0!"}]
[null,null,null,null,null,0,"-0",{"$error":"#DIV/0!"}]
[null,null,null,null,null,{"$f":"IF($C19074=\"XU\",$D19074,$C19074)","v":0},{"$f":"CONCATENATE(A19074,\"-\",F19074)","v":"-0"},{"$f":"$E19074/SUMIF(A:A,A19074,E:E)","v":{"$error":"#DIV/0!"}}]
[null,null,null,null,null,0,"-0",{"$error":"#DIV/0!"}]
[null,null,null,null,null,0,"-0",{"$error":"#DIV/0!"}]
[null,null,null,null,null,0,"-0",{"$error":"#DIV/0!"}]
[null,null,null,null,null,0,"-0",{"$error":"#DIV/0!"}]
[null,null,null,null,null,0,"-0",{"$error":"#DIV/0!"}]
[null,null,null,null,null,0,"-0",{"$error":"#DIV/0!"}]
[null,null,null,null,null,0,"-0",{"$error":"#DIV/0!"}]
[null,null,null,null,null,0,"-0",{"$error":"#DIV/0!"}]
[null,null,null,null,null,0,"-0",{"$error":"#DIV/0!"}]
[null,null,null,null,null,0,"-0",{"$error":"#DIV/0!"}]
[null,null,null,null,null,0,"-0",{"$error":"#DIV/0!"}]
[null,null,null,null,null,0,"-0",{"$error":"#DIV/0!"}]
[null,null,null,null,null,0,"-0",{"$error":"#DIV/0!"}]
[null,null,null,null,null,0,"-0",{"$error":"#DIV/0!"}]
[null,null,null,null,null,0,"-0",{"$error":"#DIV/0!"}]
[null,null,null,null,null,0,"-0",{"$error":"#DIV/0!"}]
[null,null,null,null,null,0,"-0",{"$error":"#DIV/0!"}]
[null,null,null,null,null,0,"-0",{"$error":"#DIV/0!"}]
[null,null,null,null,null,0,"-0",{"$error":"#DIV/0!"}]
[null,null,null,null,null,0,"-0",{"$error":"#DIV/0!"}]
[null,null,null,null,null,0,"-0",{"$error":"#DIV/0!"}]
[null,null,null,null,null,0,"-0",{"$error":"#DIV/0!"}]
[null,null,null,null,null,0,"-0",{"$error":"#DIV/0!"}]
[null,null,null,null,null,0,"-0",{"$error":"#DIV/0!"}]
[null,null,null,null,null,0,"-0",{"$error":"#DIV/0!"}]
[null,null,null,null,null,0,"-0",{"$error":"#DIV/0!"}]
[null,null,null,null,null,0,"-0",{"$error":"#DIV/0!"}]
[null,null,null,null,null,0,"-0",{"$error":"#DIV/0!"}]
[null,null,null,null,null,0,"-0",{"$error":"#DIV/0!"}]
[null,null,null,null,null,0,"-0",{"$error":"#DIV/0!"}]
[null,null,null,null,null,0,"-0",{"$error":"#DIV/0!"}]
[null,null,null,null,null,0,"-0",{"$error":"#DIV/0!"}]
[null,null,null,null,null,0,"-0",{"$error":"#DIV/0!"}]
[null,null,null,null,null,0,"-0",{"$error":"#DIV/0!"}]
[null,null,null,null,null,0,"-0",{"$error":"#DIV/0!"}]
[null,null,null,null,null,0,"-0",{"$error":"#DIV/0!"}]
[null,null,null,null,null,0,"-0",{"$error":"#DIV/0!"}]
[null,null,null,null,null,0,"-0",{"$error":"#DIV/0!"}]
[null,null,null,null,null,0,"-0",{"$error":"#DIV/0!"}]
[null,null,null,null,null,0,"-0",{"$error":"#DIV/0!"}]
[null,null,null,null,null,0,"-0",{"$error":"#DIV/0!"}]
[null,null,null,null,null,0,"-0",{"$error":"#DIV/0!"}]
[null,null,null,null,null,0,"-0",{"$error":"#DIV/0!"}]
[null,null,null,null,null,0,"-0",{"$error":"#DIV/0!"}]
[null,null,null,null,null,0,"-0",{"$error":"#DIV/0!"}]
[null,null,null,null,null,0,"-0",{"$error":"#DIV/0!"}]
[null,null,null,null,null,0,"-0",{"$error":"#DIV/0!"}]
[null,null,null,null,null,0,"-0",{"$error":"#DIV/0!"}]
[null,null,null,null,null,0,"-0",{"$error":"#DIV/0!"}]
[null,null,null,null,null,0,"-0",{"$error":"#DIV/0!"}]
[null,null,null,null,null,0,"-0",{"$error":"#DIV/0!"}]
[null,null,null,null,null,0,"-0",{"$error":"#DIV/0!"}]
[null,null,null,null,null,0,"-0",{"$error":"#DIV/0!"}]
[null,null,null,null,null,0,"-0",{"$error":"#DIV/0!"}]
[null,null,null,null,null,0,"-0",{"$error":"#DIV/0!"}]
[null,null,null,null,null,0,"-0",{"$error":"#DIV/0!"}]
[null,null,null,null,null,0,"-0",{"$error":"#DIV/0!"}]
[null,null,null,null,null,0,"-0",{"$error":"#DIV/0!"}]
[null,null,null,null,null,0,"-0",{"$error":"#DIV/0!"}]
[null,null,null,null,null,0,"-0",{"$error":"#DIV/0!"}]
[null,null,null,null,null,0,"-0",{"$error":"#DIV/0!"}]
[null,null,null,null,null,0,"-0",{"$error":"#DIV/0!"}]
[null,null,null,null,null,0,"-0",{"$error":"#DIV/0!"}]
[null,null,null,null,null,{"$f":"IF($C19138=\"XU\",$D19138,$C19138)","v":0},{"$f":"CONCATENATE(A19138,\"-\",F19138)","v":"-0"},{"$f":"$E19138/SUMIF(A:A,A19138,E:E)","v":{"$error":"#DIV/0!"}}]
[null,null,null,null,null,0,"-0",{"$error":"#DIV/0!"}]
[null,null,null,null,null,0,"-0",{"$error":"#DIV/0!"}]
[null,null,null,null,null,0,"-0",{"$error":"#DIV/0!"}]
[null,null,null,null,null,0,"-0",{"$error":"#DIV/0!"}]
[null,null,null,null,null,0,"-0",{"$error":"#DIV/0!"}]
[null,null,null,null,null,0,"-0",{"$error":"#DIV/0!"}]
[null,null,null,null,null,0,"-0",{"$error":"#DIV/0!"}]
[null,null,null,null,null,0,"-0",{"$error":"#DIV/0!"}]
[null,null,null,null,null,0,"-0",{"$error":"#DIV/0!"}]
[null,null,null,null,null,0,"-0",{"$error":"#DIV/0!"}]
[null,null,null,null,null,0,"-0",{"$error":"#DIV/0!"}]
[null,null,null,null,null,0,"-0",{"$error":"#DIV/0!"}]
[null,null,null,null,null,0,"-0",{"$error":"#DIV/0!"}]
[null,null,null,null,null,0,"-0",{"$error":"#DIV/0!"}]
[null,null,null,null,null,0,"-0",{"$error":"#DIV/0!"}]
[null,null,null,null,null,0,"-0",{"$error":"#DIV/0!"}]
[null,null,null,null,null,0,"-0",{"$error":"#DIV/0!"}]
[null,null,null,null,null,0,"-0",{"$error":"#DIV/0!"}]
[null,null,null,null,null,0,"-0",{"$error":"#DIV/0!"}]
[null,null,null,null,null,0,"-0",{"$error":"#DIV/0!"}]
[null,null,null,null,null,0,"-0",{"$error":"#DIV/0!"}]
[null,null,null,null,null,0,"-0",{"$error":"#DIV/0!"}]
[null,null,null,null,null,0,"-0",{"$error":"#DIV/0!"}]
[null,null,null,null,null,0,"-0",{"$error":"#DIV/0!"}]
[null,null,null,null,null,0,"-0",{"$error":"#DIV/0!"}]
[null,null,null,null,null,0,"-0",{"$error":"#DIV/0!"}]
[null,null,null,null,null,0,"-0",{"$error":"#DIV/0!"}]
[null,null,null,null,null,0,"-0",{"$error":"#DIV/0!"}]
[null,null,null,null,null,0,"-0",{"$error":"#DIV/0!"}]
[null,null,null,null,null,0,"-0",{"$error":"#DIV/0!"}]
[null,null,null,null,null,0,"-0",{"$error":"#DIV/0!"}]
[null,null,null,null,null,0,"-0",{"$error":"#DIV/0!"}]
[null,null,null,null,null,0,"-0",{"$error":"#DIV/0!"}]
[null,null,null,null,null,0,"-0",{"$error":"#DIV/0!"}]
[null,null,null,null,null,0,"-0",{"$error":"#DIV/0!"}]
[null,null,null,null,null,0,"-0",{"$error":"#DIV/0!"}]
[null,null,null,null,null,0,"-0",{"$error":"#DIV/0!"}]
[null,null,null,null,null,0,"-0",{"$error":"#DIV/0!"}]
[null,null,null,null,null,0,"-0",{"$error":"#DIV/0!"}]
[null,null,null,null,null,0,"-0",{"$error":"#DIV/0!"}]
[null,null,null,null,null,0,"-0",{"$error":"#DIV/0!"}]
[null,null,null,null,null,0,"-0",{"$error":"#DIV/0!"}]
[null,null,null,null,null,0,"-0",{"$error":"#DIV/0!"}]
[null,null,null,null,null,0,"-0",{"$error":"#DIV/0!"}]
[null,null,null,null,null,0,"-0",{"$error":"#DIV/0!"}]
[null,null,null,null,null,0,"-0",{"$error":"#DIV/0!"}]
[null,null,null,null,null,0,"-0",{"$error":"#DIV/0!"}]
[null,null,null,null,null,0,"-0",{"$error":"#DIV/0!"}]
[null,null,null,null,null,0,"-0",{"$error":"#DIV/0!"}]
[null,null,null,null,null,0,"-0",{"$error":"#DIV/0!"}]
[null,null,null,null,null,0,"-0",{"$error":"#DIV/0!"}]
[null,null,null,null,null,0,"-0",{"$error":"#DIV/0!"}]
[null,null,null,null,null,0,"-0",{"$error":"#DIV/0!"}]
[null,null,null,null,null,0,"-0",{"$error":"#DIV/0!"}]
[null,null,null,null,null,0,"-0",{"$error":"#DIV/0!"}]
[null,null,null,null,null,0,"-0",{"$error":"#DIV/0!"}]
[null,null,null,null,null,0,"-0",{"$error":"#DIV/0!"}]
[null,null,null,null,null,0,"-0",{"$error":"#DIV/0!"}]
[null,null,null,null,null,0,"-0",{"$error":"#DIV/0!"}]
[null,null,null,null,null,0,"-0",{"$error":"#DIV/0!"}]
[null,null,null,null,null,0,"-0",{"$error":"#DIV/0!"}]
[null,null,null,null,null,0,"-0",{"$error":"#DIV/0!"}]
[null,null,null,null,null,0,"-0",{"$error":"#DIV/0!"}]
[null,null,null,null,null,{"$f":"IF($C19202=\"XU\",$D19202,$C19202)","v":0},{"$f":"CONCATENATE(A19202,\"-\",F19202)","v":"-0"},{"$f":"$E19202/SUMIF(A:A,A19202,E:E)","v":{"$error":"#DIV/0!"}}]
[null,null,null,null,null,0,"-0",{"$error":"#DIV/0!"}]
[null,null,null,null,null,0,"-0",{"$error":"#DIV/0!"}]
[null,null,null,null,null,0,"-0",{"$error":"#DIV/0!"}]
[null,null,null,null,null,0,"-0",{"$error":"#DIV/0!"}]
[null,null,null,null,null,0,"-0",{"$error":"#DIV/0!"}]
[null,null,null,null,null,0,"-0",{"$error":"#DIV/0!"}]
[null,null,null,null,null,0,"-0",{"$error":"#DIV/0!"}]
[null,null,null,null,null,0,"-0",{"$error":"#DIV/0!"}]
[null,null,null,null,null,0,"-0",{"$error":"#DIV/0!"}]
[null,null,null,null,null,0,"-0",{"$error":"#DIV/0!"}]
[null,null,null,null,null,0,"-0",{"$error":"#DIV/0!"}]
[null,null,null,null,null,0,"-0",{"$error":"#DIV/0!"}]
[null,null,null,null,null,0,"-0",{"$error":"#DIV/0!"}]
[null,null,null,null,null,0,"-0",{"$error":"#DIV/0!"}]
[null,null,null,null,null,0,"-0",{"$error":"#DIV/0!"}]
[null,null,null,null,null,0,"-0",{"$error":"#DIV/0!"}]
[null,null,null,null,null,0,"-0",{"$error":"#DIV/0!"}]
[null,null,null,null,null,0,"-0",{"$error":"#DIV/0!"}]
[null,null,null,null,null,0,"-0",{"$error":"#DIV/0!"}]
[null,null,null,null,null,0,"-0",{"$error":"#DIV/0!"}]
[null,null,null,null,null,0,"-0",{"$error":"#DIV/0!"}]
[null,null,null,null,null,0,"-0",{"$error":"#DIV/0!"}]
[null,null,null,null,null,0,"-0",{"$error":"#DIV/0!"}]
[null,null,null,null,null,0,"-0",{"$error":"#DIV/0!"}]
[null,null,null,null,null,0,"-0",{"$error":"#DIV/0!"}]
[null,null,null,null,null,0,"-0",{"$error":"#DIV/0!"}]
[null,null,null,null,null,0,"-0",{"$error":"#DIV/0!"}]
[null,null,null,null,null,0,"-0",{"$error":"#DIV/0!"}]
[null,null,null,null,null,0,"-0",{"$error":"#DIV/0!"}]
[null,null,null,null,null,0,"-0",{"$error":"#DIV/0!"}]
[null,null,null,null,null,0,"-0",{"$error":"#DIV/0!"}]
[null,null,null,null,null,0,"-0",{"$error":"#DIV/0!"}]
[null,null,null,null,null,0,"-0",{"$error":"#DIV/0!"}]
[null,null,null,null,null,0,"-0",{"$error":"#DIV/0!"}]
[null,null,null,null,null,0,"-0",{"$error":"#DIV/0!"}]
[null,null,null,null,null,0,"-0",{"$error":"#DIV/0!"}]
[null,null,null,null,null,0,"-0",{"$error":"#DIV/0!"}]
[null,null,null,null,null,0,"-0",{"$error":"#DIV/0!"}]
[null,null,null,null,null,0,"-0",{"$error":"#DIV/0!"}]
[null,null,null,null,null,0,"-0",{"$error":"#DIV/0!"}]
[null,null,null,null,null,0,"-0",{"$error":"#DIV/0!"}]
[null,null,null,null,null,0,"-0",{"$error":"#DIV/0!"}]
[null,null,null,null,null,0,"-0",{"$error":"#DIV/0!"}]
[null,null,null,null,null,0,"-0",{"$error":"#DIV/0!"}]
[null,null,null,null,null,0,"-0",{"$error":"#DIV/0!"}]
[null,null,null,null,null,0,"-0",{"$error":"#DIV/0!"}]
[null,null,null,null,null,0,"-0",{"$error":"#DIV/0!"}]
[null,null,null,null,null,0,"-0",{"$error":"#DIV/0!"}]
[null,null,null,null,null,0,"-0",{"$error":"#DIV/0!"}]
[null,null,null,null,null,0,"-0",{"$error":"#DIV/0!"}]
[null,null,null,null,null,0,"-0",{"$error":"#DIV/0!"}]
[null,null,null,null,null,0,"-0",{"$error":"#DIV/0!"}]
[null,null,null,null,null,0,"-0",{"$error":"#DIV/0!"}]
[null,null,null,null,null,0,"-0",{"$error":"#DIV/0!"}]
[null,null,null,null,null,0,"-0",{"$error":"#DIV/0!"}]
[null,null,null,null,null,0,"-0",{"$error":"#DIV/0!"}]
[null,null,null,null,null,0,"-0",{"$error":"#DIV/0!"}]
[null,null,null,null,null,0,"-0",{"$error":"#DIV/0!"}]
[null,null,null,null,null,0,"-0",{"$error":"#DIV/0!"}]
[null,null,null,null,null,0,"-0",{"$error":"#DIV/0!"}]
[null,null,null,null,null,0,"-0",{"$error":"#DIV/0!"}]
[null,null,null,null,null,0,"-0",{"$error":"#DIV/0!"}]
[null,null,null,null,null,0,"-0",{"$error":"#DIV/0!"}]
[null,null,null,null,null,{"$f":"IF($C19266=\"XU\",$D19266,$C19266)","v":0},{"$f":"CONCATENATE(A19266,\"-\",F19266)","v":"-0"},{"$f":"$E19266/SUMIF(A:A,A19266,E:E)","v":{"$error":"#DIV/0!"}}]
[null,null,null,null,null,0,"-0",{"$error":"#DIV/0!"}]
[null,null,null,null,null,0,"-0",{"$error":"#DIV/0!"}]
[null,null,null,null,null,0,"-0",{"$error":"#DIV/0!"}]
[null,null,null,null,null,0,"-0",{"$error":"#DIV/0!"}]
[null,null,null,null,null,0,"-0",{"$error":"#DIV/0!"}]
[null,null,null,null,null,0,"-0",{"$error":"#DIV/0!"}]
[null,null,null,null,null,0,"-0",{"$error":"#DIV/0!"}]
[null,null,null,null,null,0,"-0",{"$error":"#DIV/0!"}]
[null,null,null,null,null,0,"-0",{"$error":"#DIV/0!"}]
[null,null,null,null,null,0,"-0",{"$error":"#DIV/0!"}]
[null,null,null,null,null,0,"-0",{"$error":"#DIV/0!"}]
[null,null,null,null,null,0,"-0",{"$error":"#DIV/0!"}]
[null,null,null,null,null,0,"-0",{"$error":"#DIV/0!"}]
[null,null,null,null,null,0,"-0",{"$error":"#DIV/0!"}]
[null,null,null,null,null,0,"-0",{"$error":"#DIV/0!"}]
[null,null,null,null,null,0,"-0",{"$error":"#DIV/0!"}]
[null,null,null,null,null,0,"-0",{"$error":"#DIV/0!"}]
[null,null,null,null,null,0,"-0",{"$error":"#DIV/0!"}]
[null,null,null,null,null,0,"-0",{"$error":"#DIV/0!"}]
[null,null,null,null,null,0,"-0",{"$error":"#DIV/0!"}]
[null,null,null,null,null,0,"-0",{"$error":"#DIV/0!"}]
[null,null,null,null,null,0,"-0",{"$error":"#DIV/0!"}]
[null,null,null,null,null,0,"-0",{"$error":"#DIV/0!"}]
[null,null,null,null,null,0,"-0",{"$error":"#DIV/0!"}]
[null,null,null,null,null,0,"-0",{"$error":"#DIV/0!"}]
[null,null,null,null,null,0,"-0",{"$error":"#DIV/0!"}]
[null,null,null,null,null,0,"-0",{"$error":"#DIV/0!"}]
[null,null,null,null,null,0,"-0",{"$error":"#DIV/0!"}]
[null,null,null,null,null,0,"-0",{"$error":"#DIV/0!"}]
[null,null,null,null,null,0,"-0",{"$error":"#DIV/0!"}]
[null,null,null,null,null,0,"-0",{"$error":"#DIV/0!"}]
[null,null,null,null,null,0,"-0",{"$error":"#DIV/0!"}]
[null,null,null,null,null,0,"-0",{"$error":"#DIV/0!"}]
[null,null,null,null,null,0,"-0",{"$error":"#DIV/0!"}]
[null,null,null,null,null,0,"-0",{"$error":"#DIV/0!"}]
[null,null,null,null,null,0,"-0",{"$error":"#DIV/0!"}]
[null,null,null,null,null,0,"-0",{"$error":"#DIV/0!"}]
[null,null,null,null,null,0,"-0",{"$error":"#DIV/0!"}]
[null,null,null,null,null,0,"-0",{"$error":"#DIV/0!"}]
[null,null,null,null,null,0,"-0",{"$error":"#DIV/0!"}]
[null,null,null,null,null,0,"-0",{"$error":"#DIV/0!"}]
[null,null,null,null,null,0,"-0",{"$error":"#DIV/0!"}]
[null,null,null,null,null,0,"-0",{"$error":"#DIV/0!"}]
[null,null,null,null,null,0,"-0",{"$error":"#DIV/0!"}]
[null,null,null,null,null,0,"-0",{"$error":"#DIV/0!"}]
[null,null,null,null,null,0,"-0",{"$error":"#DIV/0!"}]
[null,null,null,null,null,0,"-0",{"$error":"#DIV/0!"}]
[null,null,null,null,null,0,"-0",{"$error":"#DIV/0!"}]
[null,null,null,null,null,0,"-0",{"$error":"#DIV/0!"}]
[null,null,null,null,null,0,"-0",{"$error":"#DIV/0!"}]
[null,null,null,null,null,0,"-0",{"$error":"#DIV/0!"}]
[null,null,null,null,null,0,"-0",{"$error":"#DIV/0!"}]
[null,null,null,null,null,0,"-0",{"$error":"#DIV/0!"}]
[null,null,null,null,null,0,"-0",{"$error":"#DIV/0!"}]
[null,null,null,null,null,0,"-0",{"$error":"#DIV/0!"}]
[null,null,null,null,null,0,"-0",{"$error":"#DIV/0!"}]
[null,null,null,null,null,0,"-0",{"$error":"#DIV/0!"}]
[null,null,null,null,null,0,"-0",{"$error":"#DIV/0!"}]
[null,null,null,null,null,0,"-0",{"$error":"#DIV/0!"}]
[null,null,null,null,null,0,"-0",{"$error":"#DIV/0!"}]
[null,null,null,null,null,0,"-0",{"$error":"#DIV/0!"}]
[null,null,null,null,null,0,"-0",{"$error":"#DIV/0!"}]
[null,null,null,null,null,0,"-0",{"$error":"#DIV/0!"}]
[null,null,null,null,null,{"$f":"IF($C19330=\"XU\",$D19330,$C19330)","v":0},{"$f":"CONCATENATE(A19330,\"-\",F19330)","v":"-0"},{"$f":"$E19330/SUMIF(A:A,A19330,E:E)","v":{"$error":"#DIV/0!"}}]
[null,null,null,null,null,0,"-0",{"$error":"#DIV/0!"}]
[null,null,null,null,null,0,"-0",{"$error":"#DIV/0!"}]
[null,null,null,null,null,0,"-0",{"$error":"#DIV/0!"}]
[null,null,null,null,null,0,"-0",{"$error":"#DIV/0!"}]
[null,null,null,null,null,0,"-0",{"$error":"#DIV/0!"}]
[null,null,null,null,null,0,"-0",{"$error":"#DIV/0!"}]
[null,null,null,null,null,0,"-0",{"$error":"#DIV/0!"}]
[null,null,null,null,null,0,"-0",{"$error":"#DIV/0!"}]
[null,null,null,null,null,0,"-0",{"$error":"#DIV/0!"}]
[null,null,null,null,null,0,"-0",{"$error":"#DIV/0!"}]
[null,null,null,null,null,0,"-0",{"$error":"#DIV/0!"}]
[null,null,null,null,null,0,"-0",{"$error":"#DIV/0!"}]
[null,null,null,null,null,0,"-0",{"$error":"#DIV/0!"}]
[null,null,null,null,null,0,"-0",{"$error":"#DIV/0!"}]
[null,null,null,null,null,0,"-0",{"$error":"#DIV/0!"}]
[null,null,null,null,null,0,"-0",{"$error":"#DIV/0!"}]
[null,null,null,null,null,0,"-0",{"$error":"#DIV/0!"}]
[null,null,null,null,null,0,"-0",{"$error":"#DIV/0!"}]
[null,null,null,null,null,0,"-0",{"$error":"#DIV/0!"}]
[null,null,null,null,null,0,"-0",{"$error":"#DIV/0!"}]
[null,null,null,null,null,0,"-0",{"$error":"#DIV/0!"}]
[null,null,null,null,null,0,"-0",{"$error":"#DIV/0!"}]
[null,null,null,null,null,0,"-0",{"$error":"#DIV/0!"}]
[null,null,null,null,null,0,"-0",{"$error":"#DIV/0!"}]
[null,null,null,null,null,0,"-0",{"$error":"#DIV/0!"}]
[null,null,null,null,null,0,"-0",{"$error":"#DIV/0!"}]
[null,null,null,null,null,0,"-0",{"$error":"#DIV/0!"}]
[null,null,null,null,null,0,"-0",{"$error":"#DIV/0!"}]
[null,null,null,null,null,0,"-0",{"$error":"#DIV/0!"}]
[null,null,null,null,null,0,"-0",{"$error":"#DIV/0!"}]
[null,null,null,null,null,0,"-0",{"$error":"#DIV/0!"}]
[null,null,null,null,null,0,"-0",{"$error":"#DIV/0!"}]
[null,null,null,null,null,0,"-0",{"$error":"#DIV/0!"}]
[null,null,null,null,null,0,"-0",{"$error":"#DIV/0!"}]
[null,null,null,null,null,0,"-0",{"$error":"#DIV/0!"}]
[null,null,null,null,null,0,"-0",{"$error":"#DIV/0!"}]
[null,null,null,null,null,0,"-0",{"$error":"#DIV/0!"}]
[null,null,null,null,null,0,"-0",{"$error":"#DIV/0!"}]
[null,null,null,null,null,0,"-0",{"$error":"#DIV/0!"}]
[null,null,null,null,null,0,"-0",{"$error":"#DIV/0!"}]
[null,null,null,null,null,0,"-0",{"$error":"#DIV/0!"}]
[null,null,null,null,null,0,"-0",{"$error":"#DIV/0!"}]
[null,null,null,null,null,0,"-0",{"$error":"#DIV/0!"}]
[null,null,null,null,null,0,"-0",{"$error":"#DIV/0!"}]
[null,null,null,null,null,0,"-0",{"$error":"#DIV/0!"}]
[null,null,null,null,null,0,"-0",{"$error":"#DIV/0!"}]
[null,null,null,null,null,0,"-0",{"$error":"#DIV/0!"}]
[null,null,null,null,null,0,"-0",{"$error":"#DIV/0!"}]
[null,null,null,null,null,0,"-0",{"$error":"#DIV/0!"}]
[null,null,null,null,null,0,"-0",{"$error":"#DIV/0!"}]
[null,null,null,null,null,0,"-0",{"$error":"#DIV/0!"}]
[null,null,null,null,null,0,"-0",{"$error":"#DIV/0!"}]
[null,null,null,null,null,0,"-0",{"$error":"#DIV/0!"}]
[null,null,null,null,null,0,"-0",{"$error":"#DIV/0!"}]
[null,null,null,null,null,0,"-0",{"$error":"#DIV/0!"}]
[null,null,null,null,null,0,"-0",{"$error":"#DIV/0!"}]
[null,null,null,null,null,0,"-0",{"$error":"#DIV/0!"}]
[null,null,null,null,null,0,"-0",{"$error":"#DIV/0!"}]
[null,null,null,null,null,0,"-0",{"$error":"#DIV/0!"}]
[null,null,null,null,null,0,"-0",{"$error":"#DIV/0!"}]
[null,null,null,null,null,0,"-0",{"$error":"#DIV/0!"}]
[null,null,null,null,null,0,"-0",{"$error":"#DIV/0!"}]
[null,null,null,null,null,0,"-0",{"$error":"#DIV/0!"}]
[null,null,null,null,null,{"$f":"IF($C19394=\"XU\",$D19394,$C19394)","v":0},{"$f":"CONCATENATE(A19394,\"-\",F19394)","v":"-0"},{"$f":"$E19394/SUMIF(A:A,A19394,E:E)","v":{"$error":"#DIV/0!"}}]
[null,null,null,null,null,0,"-0",{"$error":"#DIV/0!"}]
[null,null,null,null,null,0,"-0",{"$error":"#DIV/0!"}]
[null,null,null,null,null,0,"-0",{"$error":"#DIV/0!"}]
[null,null,null,null,null,0,"-0",{"$error":"#DIV/0!"}]
[null,null,null,null,null,0,"-0",{"$error":"#DIV/0!"}]
[null,null,null,null,null,0,"-0",{"$error":"#DIV/0!"}]

{"sheet":"FUND CLOSURE","index":2,"n_rows":94,"n_cols":94,"rows_kept":94,"cut":false,"hidden":false,"merged":[]}
["Fund","DXB4",{"$f":"C94","v":"Error Missing Country"},{"$f":"D2","v":"2021-01-01"},{"$f":"E2","v":"2021-01-02"},"2021-01-03","2021-01-04","2021-01-05","2021-01-06","2021-01-07","2021-01-08","2021-01-09","2021-01-10","2021-01-11","2021-01-12","2021-01-13","2021-01-14","2021-01-15","2021-01-16","2021-01-17","2021-01-18","2021-01-19","2021-01-20","2021-01-21","2021-01-22","2021-01-23","2021-01-24","2021-01-25","2021-01-26","2021-01-27","2021-01-28","2021-01-29","2021-01-30","2021-01-31","2021-02-01","2021-02-02","2021-02-03","2021-02-04","2021-02-05","2021-02-06","2021-02-07","2021-02-08","2021-02-09","2021-02-10","2021-02-11","2021-02-12","2021-02-13","2021-02-14","2021-02-15","2021-02-16","2021-02-17","2021-02-18","2021-02-19","2021-02-20","2021-02-21","2021-02-22","2021-02-23","2021-02-24","2021-02-25","2021-02-26","2021-02-27","2021-02-28","2021-03-01","2021-03-02","2021-03-03","2021-03-04","2021-03-05","2021-03-06",{"$f":"BQ2","v":"2021-03-07"},"2021-03-08","2021-03-09","2021-03-10","2021-03-11","2021-03-12","2021-03-13","2021-03-14","2021-03-15","2021-03-16","2021-03-17","2021-03-18","2021-03-19","2021-03-20","2021-03-21","2021-03-22","2021-03-23","2021-03-24","2021-03-25","2021-03-26","2021-03-27","2021-03-28","2021-03-29","2021-03-30","2021-03-31","2021-04-01"]
["COUNTRY_ISO","MV%",null,"2021-01-01",{"$f":"D2+1","v":"2021-01-02"},{"$f":"E2+1","v":"2021-01-03"},"2021-01-04","2021-01-05","2021-01-06","2021-01-07","2021-01-08","2021-01-09","2021-01-10","2021-01-11","2021-01-12","2021-01-13","2021-01-14","2021-01-15","2021-01-16","2021-01-17","2021-01-18","2021-01-19","2021-01-20","2021-01-21","2021-01-22","2021-01-23","2021-01-24","2021-01-25","2021-01-26","2021-01-27","2021-01-28","2021-01-29","2021-01-30","2021-01-31",{"$f":"AH2+1","v":"2021-02-01"},{"$f":"AI2+1","v":"2021-02-02"},{"$f":"AJ2+1","v":"2021-02-03"},{"$f":"AK2+1","v":"2021-02-04"},{"$f":"AL2+1","v":"2021-02-05"},{"$f":"AM2+1","v":"2021-02-06"},"2021-02-07","2021-02-08","2021-02-09",{"$f":"AQ2+1","v":"2021-02-10"},{"$f":"AR2+1","v":"2021-02-11"},{"$f":"AS2+1","v":"2021-02-12"},"2021-02-13","2021-02-14","2021-02-15",{"$f":"AW2+1","v":"2021-02-16"},{"$f":"AX2+1","v":"2021-02-17"},{"$f":"AY2+1","v":"2021-02-18"},"2021-02-19","2021-02-20","2021-02-21",{"$f":"BC2+1","v":"2021-02-22"},{"$f":"BD2+1","v":"2021-02-23"},{"$f":"BE2+1","v":"2021-02-24"},"2021-02-25","2021-02-26","2021-02-27",{"$f":"BI2+1","v":"2021-02-28"},{"$f":"BJ2+1","v":"2021-03-01"},{"$f":"BK2+1","v":"2021-03-02"},{"$f":"BL2+1","v":"2021-03-03"},{"$f":"BM2+1","v":"2021-03-04"},{"$f":"BN2+1","v":"2021-03-05"},{"$f":"BO2+1","v":"2021-03-06"},{"$f":"BP2+1","v":"2021-03-07"},{"$f":"BQ2+1","v":"2021-03-08"},{"$f":"BR2+1","v":"2021-03-09"},{"$f":"BS2+1","v":"2021-03-10"},{"$f":"BT2+1","v":"2021-03-11"},{"$f":"BU2+1","v":"2021-03-12"},{"$f":"BV2+1","v":"2021-03-13"},{"$f":"BW2+1","v":"2021-03-14"},{"$f":"BX2+1","v":"2021-03-15"},{"$f":"BY2+1","v":"2021-03-16"},{"$f":"BZ2+1","v":"2021-03-17"},{"$f":"CA2+1","v":"2021-03-18"},{"$f":"CB2+1","v":"2021-03-19"},{"$f":"CC2+1","v":"2021-03-20"},{"$f":"CD2+1","v":"2021-03-21"},{"$f":"CE2+1","v":"2021-03-22"},{"$f":"CF2+1","v":"2021-03-23"},{"$f":"CG2+1","v":"2021-03-24"},{"$f":"CH2+1","v":"2021-03-25"},{"$f":"CI2+1","v":"2021-03-26"},{"$f":"CJ2+1","v":"2021-03-27"},{"$f":"CK2+1","v":"2021-03-28"},{"$f":"CL2+1","v":"2021-03-29"},{"$f":"CM2+1","v":"2021-03-30"},{"$f":"CN2+1","v":"2021-03-31"},{"$f":"CO2+1","v":"2021-04-01"}]
["AE",{"$f":"SUMIF(Holdings!G:G,(CONCATENATE($B$1,\"-\",A3,)),Holdings!H:H)","v":0},{"$f":"HLOOKUP(A3,'[1]HOLIDAYS NF'!B$1:BR$65536,6,FALSE)","v":"United Arab Emirates"},{"$f":"IF((COUNTIF('HOLIDAYS NF'!$B:$DZ,CONCATENATE(LEFT($A3,2),D$2))<>0),\"Closed\",\"Open\")","v":"Open"},{"$f":"IF((COUNTIF('HOLIDAYS NF'!$B:$DZ,CONCATENATE(LEFT($A3,2),E$2))<>0),\"Closed\",\"Open\")","v":"Open"},{"$f":"IF((COUNTIF('HOLIDAYS NF'!$B:$DZ,CONCATENATE(LEFT($A3,2),F$2))<>0),\"Closed\",\"Open\")","v":"Open"},{"$f":"IF((COUNTIF('HOLIDAYS NF'!$B:$DZ,CONCATENATE(LEFT($A3,2),G$2))<>0),\"Closed\",\"Open\")","v":"Open"},{"$f":"IF((COUNTIF('HOLIDAYS NF'!$B:$DZ,CONCATENATE(LEFT($A3,2),H$2))<>0),\"Closed\",\"Open\")","v":"Open"},{"$f":"IF((COUNTIF('HOLIDAYS NF'!$B:$DZ,CONCATENATE(LEFT($A3,2),I$2))<>0),\"Closed\",\"Open\")","v":"Open"},{"$f":"IF((COUNTIF('HOLIDAYS NF'!$B:$DZ,CONCATENATE(LEFT($A3,2),J$2))<>0),\"Closed\",\"Open\")","v":"Open"},{"$f":"IF((COUNTIF('HOLIDAYS NF'!$B:$DZ,CONCATENATE(LEFT($A3,2),K$2))<>0),\"Closed\",\"Open\")","v":"Open"},{"$f":"IF((COUNTIF('HOLIDAYS NF'!$B:$DZ,CONCATENATE(LEFT($A3,2),L$2))<>0),\"Closed\",\"Open\")","v":"Open"},{"$f":"IF((COUNTIF('HOLIDAYS NF'!$B:$DZ,CONCATENATE(LEFT($A3,2),M$2))<>0),\"Closed\",\"Open\")","v":"Open"},{"$f":"IF((COUNTIF('HOLIDAYS NF'!$B:$DZ,CONCATENATE(LEFT($A3,2),N$2))<>0),\"Closed\",\"Open\")","v":"Open"},{"$f":"IF((COUNTIF('HOLIDAYS NF'!$B:$DZ,CONCATENATE(LEFT($A3,2),O$2))<>0),\"Closed\",\"Open\")","v":"Open"},{"$f":"IF((COUNTIF('HOLIDAYS NF'!$B:$DZ,CONCATENATE(LEFT($A3,2),P$2))<>0),\"Closed\",\"Open\")","v":"Open"},{"$f":"IF((COUNTIF('HOLIDAYS NF'!$B:$DZ,CONCATENATE(LEFT($A3,2),Q$2))<>0),\"Closed\",\"Open\")","v":"Open"},{"$f":"IF((COUNTIF('HOLIDAYS NF'!$B:$DZ,CONCATENATE(LEFT($A3,2),R$2))<>0),\"Closed\",\"Open\")","v":"Open"},{"$f":"IF((COUNTIF('HOLIDAYS NF'!$B:$DZ,CONCATENATE(LEFT($A3,2),S$2))<>0),\"Closed\",\"Open\")","v":"Open"},{"$f":"IF((COUNTIF('HOLIDAYS NF'!$B:$DZ,CONCATENATE(LEFT($A3,2),T$2))<>0),\"Closed\",\"Open\")","v":"Open"},{"$f":"IF((COUNTIF('HOLIDAYS NF'!$B:$DZ,CONCATENATE(LEFT($A3,2),U$2))<>0),\"Closed\",\"Open\")","v":"Open"},{"$f":"IF((COUNTIF('HOLIDAYS NF'!$B:$DZ,CONCATENATE(LEFT($A3,2),V$2))<>0),\"Closed\",\"Open\")","v":"Open"},{"$f":"IF((COUNTIF('HOLIDAYS NF'!$B:$DZ,CONCATENATE(LEFT($A3,2),W$2))<>0),\"Closed\",\"Open\")","v":"Open"},{"$f":"IF((COUNTIF('HOLIDAYS NF'!$B:$DZ,CONCATENATE(LEFT($A3,2),X$2))<>0),\"Closed\",\"Open\")","v":"Open"},{"$f":"IF((COUNTIF('HOLIDAYS NF'!$B:$DZ,CONCATENATE(LEFT($A3,2),Y$2))<>0),\"Closed\",\"Open\")","v":"Open"},{"$f":"IF((COUNTIF('HOLIDAYS NF'!$B:$DZ,CONCATENATE(LEFT($A3,2),Z$2))<>0),\"Closed\",\"Open\")","v":"Open"},{"$f":"IF((COUNTIF('HOLIDAYS NF'!$B:$DZ,CONCATENATE(LEFT($A3,2),AA$2))<>0),\"Closed\",\"Open\")","v":"Open"},{"$f":"IF((COUNTIF('HOLIDAYS NF'!$B:$DZ,CONCATENATE(LEFT($A3,2),AB$2))<>0),\"Closed\",\"Open\")","v":"Open"},{"$f":"IF((COUNTIF('HOLIDAYS NF'!$B:$DZ,CONCATENATE(LEFT($A3,2),AC$2))<>0),\"Closed\",\"Open\")","v":"Open"},{"$f":"IF((COUNTIF('HOLIDAYS NF'!$B:$DZ,CONCATENATE(LEFT($A3,2),AD$2))<>0),\"Closed\",\"Open\")","v":"Open"},{"$f":"IF((COUNTIF('HOLIDAYS NF'!$B:$DZ,CONCATENATE(LEFT($A3,2),AE$2))<>0),\"Closed\",\"Open\")","v":"Open"},{"$f":"IF((COUNTIF('HOLIDAYS NF'!$B:$DZ,CONCATENATE(LEFT($A3,2),AF$2))<>0),\"Closed\",\"Open\")","v":"Open"},{"$f":"IF((COUNTIF('HOLIDAYS NF'!$B:$DZ,CONCATENATE(LEFT($A3,2),AG$2))<>0),\"Closed\",\"Open\")","v":"Open"},{"$f":"IF((COUNTIF('HOLIDAYS NF'!$B:$DZ,CONCATENATE(LEFT($A3,2),AH$2))<>0),\"Closed\",\"Open\")","v":"Open"},{"$f":"IF((COUNTIF('HOLIDAYS NF'!$B:$DZ,CONCATENATE(LEFT($A3,2),AI$2))<>0),\"Closed\",\"Open\")","v":"Open"},{"$f":"IF((COUNTIF('HOLIDAYS NF'!$B:$DZ,CONCATENATE(LEFT($A3,2),AJ$2))<>0),\"Closed\",\"Open\")","v":"Open"},{"$f":"IF((COUNTIF('HOLIDAYS NF'!$B:$DZ,CONCATENATE(LEFT($A3,2),AK$2))<>0),\"Closed\",\"Open\")","v":"Open"},{"$f":"IF((COUNTIF('HOLIDAYS NF'!$B:$DZ,CONCATENATE(LEFT($A3,2),AL$2))<>0),\"Closed\",\"Open\")","v":"Open"},{"$f":"IF((COUNTIF('HOLIDAYS NF'!$B:$DZ,CONCATENATE(LEFT($A3,2),AM$2))<>0),\"Closed\",\"Open\")","v":"Open"},{"$f":"IF((COUNTIF('HOLIDAYS NF'!$B:$DZ,CONCATENATE(LEFT($A3,2),AN$2))<>0),\"Closed\",\"Open\")","v":"Open"},{"$f":"IF((COUNTIF('HOLIDAYS NF'!$B:$DZ,CONCATENATE(LEFT($A3,2),AO$2))<>0),\"Closed\",\"Open\")","v":"Open"},{"$f":"IF((COUNTIF('HOLIDAYS NF'!$B:$DZ,CONCATENATE(LEFT($A3,2),AP$2))<>0),\"Closed\",\"Open\")","v":"Open"},{"$f":"IF((COUNTIF('HOLIDAYS NF'!$B:$DZ,CONCATENATE(LEFT($A3,2),AQ$2))<>0),\"Closed\",\"Open\")","v":"Open"},{"$f":"IF((COUNTIF('HOLIDAYS NF'!$B:$DZ,CONCATENATE(LEFT($A3,2),AR$2))<>0),\"Closed\",\"Open\")","v":"Open"},{"$f":"IF((COUNTIF('HOLIDAYS NF'!$B:$DZ,CONCATENATE(LEFT($A3,2),AS$2))<>0),\"Closed\",\"Open\")","v":"Open"},{"$f":"IF((COUNTIF('HOLIDAYS NF'!$B:$DZ,CONCATENATE(LEFT($A3,2),AT$2))<>0),\"Closed\",\"Open\")","v":"Open"},{"$f":"IF((COUNTIF('HOLIDAYS NF'!$B:$DZ,CONCATENATE(LEFT($A3,2),AU$2))<>0),\"Closed\",\"Open\")","v":"Open"},{"$f":"IF((COUNTIF('HOLIDAYS NF'!$B:$DZ,CONCATENATE(LEFT($A3,2),AV$2))<>0),\"Closed\",\"Open\")","v":"Open"},{"$f":"IF((COUNTIF('HOLIDAYS NF'!$B:$DZ,CONCATENATE(LEFT($A3,2),AW$2))<>0),\"Closed\",\"Open\")","v":"Open"},{"$f":"IF((COUNTIF('HOLIDAYS NF'!$B:$DZ,CONCATENATE(LEFT($A3,2),AX$2))<>0),\"Closed\",\"Open\")","v":"Open"},{"$f":"IF((COUNTIF('HOLIDAYS NF'!$B:$DZ,CONCATENATE(LEFT($A3,2),AY$2))<>0),\"Closed\",\"Open\")","v":"Open"},{"$f":"IF((COUNTIF('HOLIDAYS NF'!$B:$DZ,CONCATENATE(LEFT($A3,2),AZ$2))<>0),\"Closed\",\"Open\")","v":"Open"},{"$f":"IF((COUNTIF('HOLIDAYS NF'!$B:$DZ,CONCATENATE(LEFT($A3,2),BA$2))<>0),\"Closed\",\"Open\")","v":"Open"},{"$f":"IF((COUNTIF('HOLIDAYS NF'!$B:$DZ,CONCATENATE(LEFT($A3,2),BB$2))<>0),\"Closed\",\"Open\")","v":"Open"},{"$f":"IF((COUNTIF('HOLIDAYS NF'!$B:$DZ,CONCATENATE(LEFT($A3,2),BC$2))<>0),\"Closed\",\"Open\")","v":"Open"},{"$f":"IF((COUNTIF('HOLIDAYS NF'!$B:$DZ,CONCATENATE(LEFT($A3,2),BD$2))<>0),\"Closed\",\"Open\")","v":"Open"},{"$f":"IF((COUNTIF('HOLIDAYS NF'!$B:$DZ,CONCATENATE(LEFT($A3,2),BE$2))<>0),\"Closed\",\"Open\")","v":"Open"},{"$f":"IF((COUNTIF('HOLIDAYS NF'!$B:$DZ,CONCATENATE(LEFT($A3,2),BF$2))<>0),\"Closed\",\"Open\")","v":"Open"},{"$f":"IF((COUNTIF('HOLIDAYS NF'!$B:$DZ,CONCATENATE(LEFT($A3,2),BG$2))<>0),\"Closed\",\"Open\")","v":"Open"},{"$f":"IF((COUNTIF('HOLIDAYS NF'!$B:$DZ,CONCATENATE(LEFT($A3,2),BH$2))<>0),\"Closed\",\"Open\")","v":"Open"},{"$f":"IF((COUNTIF('HOLIDAYS NF'!$B:$DZ,CONCATENATE(LEFT($A3,2),BI$2))<>0),\"Closed\",\"Open\")","v":"Open"},{"$f":"IF((COUNTIF('HOLIDAYS NF'!$B:$DZ,CONCATENATE(LEFT($A3,2),BJ$2))<>0),\"Closed\",\"Open\")","v":"Open"}]
["AT",{"$f":"SUMIF(Holdings!G:G,(CONCATENATE($B$1,\"-\",A4,)),Holdings!H:H)","v":0},{"$f":"HLOOKUP(A4,'[1]HOLIDAYS NF'!B$1:BR$65536,6,FALSE)","v":"Austria"},{"$f":"IF((COUNTIF('HOLIDAYS NF'!$B:$DZ,CONCATENATE(LEFT($A4,2),D$2))<>0),\"Closed\",\"Open\")","v":"Open"},{"$f":"IF((COUNTIF('HOLIDAYS NF'!$B:$DZ,CONCATENATE(LEFT($A4,2),E$2))<>0),\"Closed\",\"Open\")","v":"Open"},{"$f":"IF((COUNTIF('HOLIDAYS NF'!$B:$DZ,CONCATENATE(LEFT($A4,2),F$2))<>0),\"Closed\",\"Open\")","v":"Open"},{"$f":"IF((COUNTIF('HOLIDAYS NF'!$B:$DZ,CONCATENATE(LEFT($A4,2),G$2))<>0),\"Closed\",\"Open\")","v":"Open"},{"$f":"IF((COUNTIF('HOLIDAYS NF'!$B:$DZ,CONCATENATE(LEFT($A4,2),H$2))<>0),\"Closed\",\"Open\")","v":"Open"},{"$f":"IF((COUNTIF('HOLIDAYS NF'!$B:$DZ,CONCATENATE(LEFT($A4,2),I$2))<>0),\"Closed\",\"Open\")","v":"Open"},{"$f":"IF((COUNTIF('HOLIDAYS NF'!$B:$DZ,CONCATENATE(LEFT($A4,2),J$2))<>0),\"Closed\",\"Open\")","v":"Open"},{"$f":"IF((COUNTIF('HOLIDAYS NF'!$B:$DZ,CONCATENATE(LEFT($A4,2),K$2))<>0),\"Closed\",\"Open\")","v":"Open"},{"$f":"IF((COUNTIF('HOLIDAYS NF'!$B:$DZ,CONCATENATE(LEFT($A4,2),L$2))<>0),\"Closed\",\"Open\")","v":"Open"},{"$f":"IF((COUNTIF('HOLIDAYS NF'!$B:$DZ,CONCATENATE(LEFT($A4,2),M$2))<>0),\"Closed\",\"Open\")","v":"Open"},{"$f":"IF((COUNTIF('HOLIDAYS NF'!$B:$DZ,CONCATENATE(LEFT($A4,2),N$2))<>0),\"Closed\",\"Open\")","v":"Open"},{"$f":"IF((COUNTIF('HOLIDAYS NF'!$B:$DZ,CONCATENATE(LEFT($A4,2),O$2))<>0),\"Closed\",\"Open\")","v":"Open"},{"$f":"IF((COUNTIF('HOLIDAYS NF'!$B:$DZ,CONCATENATE(LEFT($A4,2),P$2))<>0),\"Closed\",\"Open\")","v":"Open"},{"$f":"IF((COUNTIF('HOLIDAYS NF'!$B:$DZ,CONCATENATE(LEFT($A4,2),Q$2))<>0),\"Closed\",\"Open\")","v":"Open"},{"$f":"IF((COUNTIF('HOLIDAYS NF'!$B:$DZ,CONCATENATE(LEFT($A4,2),R$2))<>0),\"Closed\",\"Open\")","v":"Open"},{"$f":"IF((COUNTIF('HOLIDAYS NF'!$B:$DZ,CONCATENATE(LEFT($A4,2),S$2))<>0),\"Closed\",\"Open\")","v":"Open"},{"$f":"IF((COUNTIF('HOLIDAYS NF'!$B:$DZ,CONCATENATE(LEFT($A4,2),T$2))<>0),\"Closed\",\"Open\")","v":"Open"},{"$f":"IF((COUNTIF('HOLIDAYS NF'!$B:$DZ,CONCATENATE(LEFT($A4,2),U$2))<>0),\"Closed\",\"Open\")","v":"Open"},{"$f":"IF((COUNTIF('HOLIDAYS NF'!$B:$DZ,CONCATENATE(LEFT($A4,2),V$2))<>0),\"Closed\",\"Open\")","v":"Open"},{"$f":"IF((COUNTIF('HOLIDAYS NF'!$B:$DZ,CONCATENATE(LEFT($A4,2),W$2))<>0),\"Closed\",\"Open\")","v":"Open"},{"$f":"IF((COUNTIF('HOLIDAYS NF'!$B:$DZ,CONCATENATE(LEFT($A4,2),X$2))<>0),\"Closed\",\"Open\")","v":"Open"},{"$f":"IF((COUNTIF('HOLIDAYS NF'!$B:$DZ,CONCATENATE(LEFT($A4,2),Y$2))<>0),\"Closed\",\"Open\")","v":"Open"},{"$f":"IF((COUNTIF('HOLIDAYS NF'!$B:$DZ,CONCATENATE(LEFT($A4,2),Z$2))<>0),\"Closed\",\"Open\")","v":"Open"},{"$f":"IF((COUNTIF('HOLIDAYS NF'!$B:$DZ,CONCATENATE(LEFT($A4,2),AA$2))<>0),\"Closed\",\"Open\")","v":"Open"},{"$f":"IF((COUNTIF('HOLIDAYS NF'!$B:$DZ,CONCATENATE(LEFT($A4,2),AB$2))<>0),\"Closed\",\"Open\")","v":"Open"},{"$f":"IF((COUNTIF('HOLIDAYS NF'!$B:$DZ,CONCATENATE(LEFT($A4,2),AC$2))<>0),\"Closed\",\"Open\")","v":"Open"},{"$f":"IF((COUNTIF('HOLIDAYS NF'!$B:$DZ,CONCATENATE(LEFT($A4,2),AD$2))<>0),\"Closed\",\"Open\")","v":"Open"},{"$f":"IF((COUNTIF('HOLIDAYS NF'!$B:$DZ,CONCATENATE(LEFT($A4,2),AE$2))<>0),\"Closed\",\"Open\")","v":"Open"},{"$f":"IF((COUNTIF('HOLIDAYS NF'!$B:$DZ,CONCATENATE(LEFT($A4,2),AF$2))<>0),\"Closed\",\"Open\")","v":"Open"},{"$f":"IF((COUNTIF('HOLIDAYS NF'!$B:$DZ,CONCATENATE(LEFT($A4,2),AG$2))<>0),\"Closed\",\"Open\")","v":"Open"},{"$f":"IF((COUNTIF('HOLIDAYS NF'!$B:$DZ,CONCATENATE(LEFT($A4,2),AH$2))<>0),\"Closed\",\"Open\")","v":"Open"},{"$f":"IF((COUNTIF('HOLIDAYS NF'!$B:$DZ,CONCATENATE(LEFT($A4,2),AI$2))<>0),\"Closed\",\"Open\")","v":"Open"},{"$f":"IF((COUNTIF('HOLIDAYS NF'!$B:$DZ,CONCATENATE(LEFT($A4,2),AJ$2))<>0),\"Closed\",\"Open\")","v":"Open"},{"$f":"IF((COUNTIF('HOLIDAYS NF'!$B:$DZ,CONCATENATE(LEFT($A4,2),AK$2))<>0),\"Closed\",\"Open\")","v":"Open"},{"$f":"IF((COUNTIF('HOLIDAYS NF'!$B:$DZ,CONCATENATE(LEFT($A4,2),AL$2))<>0),\"Closed\",\"Open\")","v":"Open"},{"$f":"IF((COUNTIF('HOLIDAYS NF'!$B:$DZ,CONCATENATE(LEFT($A4,2),AM$2))<>0),\"Closed\",\"Open\")","v":"Open"},{"$f":"IF((COUNTIF('HOLIDAYS NF'!$B:$DZ,CONCATENATE(LEFT($A4,2),AN$2))<>0),\"Closed\",\"Open\")","v":"Open"},{"$f":"IF((COUNTIF('HOLIDAYS NF'!$B:$DZ,CONCATENATE(LEFT($A4,2),AO$2))<>0),\"Closed\",\"Open\")","v":"Open"},{"$f":"IF((COUNTIF('HOLIDAYS NF'!$B:$DZ,CONCATENATE(LEFT($A4,2),AP$2))<>0),\"Closed\",\"Open\")","v":"Open"},{"$f":"IF((COUNTIF('HOLIDAYS NF'!$B:$DZ,CONCATENATE(LEFT($A4,2),AQ$2))<>0),\"Closed\",\"Open\")","v":"Open"},{"$f":"IF((COUNTIF('HOLIDAYS NF'!$B:$DZ,CONCATENATE(LEFT($A4,2),AR$2))<>0),\"Closed\",\"Open\")","v":"Open"},{"$f":"IF((COUNTIF('HOLIDAYS NF'!$B:$DZ,CONCATENATE(LEFT($A4,2),AS$2))<>0),\"Closed\",\"Open\")","v":"Open"},{"$f":"IF((COUNTIF('HOLIDAYS NF'!$B:$DZ,CONCATENATE(LEFT($A4,2),AT$2))<>0),\"Closed\",\"Open\")","v":"Open"},{"$f":"IF((COUNTIF('HOLIDAYS NF'!$B:$DZ,CONCATENATE(LEFT($A4,2),AU$2))<>0),\"Closed\",\"Open\")","v":"Open"},{"$f":"IF((COUNTIF('HOLIDAYS NF'!$B:$DZ,CONCATENATE(LEFT($A4,2),AV$2))<>0),\"Closed\",\"Open\")","v":"Open"},{"$f":"IF((COUNTIF('HOLIDAYS NF'!$B:$DZ,CONCATENATE(LEFT($A4,2),AW$2))<>0),\"Closed\",\"Open\")","v":"Open"},{"$f":"IF((COUNTIF('HOLIDAYS NF'!$B:$DZ,CONCATENATE(LEFT($A4,2),AX$2))<>0),\"Closed\",\"Open\")","v":"Open"},{"$f":"IF((COUNTIF('HOLIDAYS NF'!$B:$DZ,CONCATENATE(LEFT($A4,2),AY$2))<>0),\"Closed\",\"Open\")","v":"Open"},{"$f":"IF((COUNTIF('HOLIDAYS NF'!$B:$DZ,CONCATENATE(LEFT($A4,2),AZ$2))<>0),\"Closed\",\"Open\")","v":"Open"},{"$f":"IF((COUNTIF('HOLIDAYS NF'!$B:$DZ,CONCATENATE(LEFT($A4,2),BA$2))<>0),\"Closed\",\"Open\")","v":"Open"},{"$f":"IF((COUNTIF('HOLIDAYS NF'!$B:$DZ,CONCATENATE(LEFT($A4,2),BB$2))<>0),\"Closed\",\"Open\")","v":"Open"},{"$f":"IF((COUNTIF('HOLIDAYS NF'!$B:$DZ,CONCATENATE(LEFT($A4,2),BC$2))<>0),\"Closed\",\"Open\")","v":"Open"},{"$f":"IF((COUNTIF('HOLIDAYS NF'!$B:$DZ,CONCATENATE(LEFT($A4,2),BD$2))<>0),\"Closed\",\"Open\")","v":"Open"},{"$f":"IF((COUNTIF('HOLIDAYS NF'!$B:$DZ,CONCATENATE(LEFT($A4,2),BE$2))<>0),\"Closed\",\"Open\")","v":"Open"},{"$f":"IF((COUNTIF('HOLIDAYS NF'!$B:$DZ,CONCATENATE(LEFT($A4,2),BF$2))<>0),\"Closed\",\"Open\")","v":"Open"},{"$f":"IF((COUNTIF('HOLIDAYS NF'!$B:$DZ,CONCATENATE(LEFT($A4,2),BG$2))<>0),\"Closed\",\"Open\")","v":"Open"},{"$f":"IF((COUNTIF('HOLIDAYS NF'!$B:$DZ,CONCATENATE(LEFT($A4,2),BH$2))<>0),\"Closed\",\"Open\")","v":"Open"},{"$f":"IF((COUNTIF('HOLIDAYS NF'!$B:$DZ,CONCATENATE(LEFT($A4,2),BI$2))<>0),\"Closed\",\"Open\")","v":"Open"},{"$f":"IF((COUNTIF('HOLIDAYS NF'!$B:$DZ,CONCATENATE(LEFT($A4,2),BJ$2))<>0),\"Closed\",\"Open\")","v":"Open"}]
["AU",{"$f":"SUMIF(Holdings!G:G,(CONCATENATE($B$1,\"-\",A5,)),Holdings!H:H)","v":0},{"$f":"HLOOKUP(A5,'[1]HOLIDAYS NF'!B$1:BR$65536,6,FALSE)","v":"Australia"},{"$f":"IF((COUNTIF('HOLIDAYS NF'!$B:$DZ,CONCATENATE(LEFT($A5,2),D$2))<>0),\"Closed\",\"Open\")","v":"Open"},{"$f":"IF((COUNTIF('HOLIDAYS NF'!$B:$DZ,CONCATENATE(LEFT($A5,2),E$2))<>0),\"Closed\",\"Open\")","v":"Open"},{"$f":"IF((COUNTIF('HOLIDAYS NF'!$B:$DZ,CONCATENATE(LEFT($A5,2),F$2))<>0),\"Closed\",\"Open\")","v":"Open"},{"$f":"IF((COUNTIF('HOLIDAYS NF'!$B:$DZ,CONCATENATE(LEFT($A5,2),G$2))<>0),\"Closed\",\"Open\")","v":"Open"},{"$f":"IF((COUNTIF('HOLIDAYS NF'!$B:$DZ,CONCATENATE(LEFT($A5,2),H$2))<>0),\"Closed\",\"Open\")","v":"Open"},{"$f":"IF((COUNTIF('HOLIDAYS NF'!$B:$DZ,CONCATENATE(LEFT($A5,2),I$2))<>0),\"Closed\",\"Open\")","v":"Open"},{"$f":"IF((COUNTIF('HOLIDAYS NF'!$B:$DZ,CONCATENATE(LEFT($A5,2),J$2))<>0),\"Closed\",\"Open\")","v":"Open"},{"$f":"IF((COUNTIF('HOLIDAYS NF'!$B:$DZ,CONCATENATE(LEFT($A5,2),K$2))<>0),\"Closed\",\"Open\")","v":"Open"},{"$f":"IF((COUNTIF('HOLIDAYS NF'!$B:$DZ,CONCATENATE(LEFT($A5,2),L$2))<>0),\"Closed\",\"Open\")","v":"Open"},{"$f":"IF((COUNTIF('HOLIDAYS NF'!$B:$DZ,CONCATENATE(LEFT($A5,2),M$2))<>0),\"Closed\",\"Open\")","v":"Open"},{"$f":"IF((COUNTIF('HOLIDAYS NF'!$B:$DZ,CONCATENATE(LEFT($A5,2),N$2))<>0),\"Closed\",\"Open\")","v":"Open"},{"$f":"IF((COUNTIF('HOLIDAYS NF'!$B:$DZ,CONCATENATE(LEFT($A5,2),O$2))<>0),\"Closed\",\"Open\")","v":"Open"},{"$f":"IF((COUNTIF('HOLIDAYS NF'!$B:$DZ,CONCATENATE(LEFT($A5,2),P$2))<>0),\"Closed\",\"Open\")","v":"Open"},{"$f":"IF((COUNTIF('HOLIDAYS NF'!$B:$DZ,CONCATENATE(LEFT($A5,2),Q$2))<>0),\"Closed\",\"Open\")","v":"Open"},{"$f":"IF((COUNTIF('HOLIDAYS NF'!$B:$DZ,CONCATENATE(LEFT($A5,2),R$2))<>0),\"Closed\",\"Open\")","v":"Open"},{"$f":"IF((COUNTIF('HOLIDAYS NF'!$B:$DZ,CONCATENATE(LEFT($A5,2),S$2))<>0),\"Closed\",\"Open\")","v":"Open"},{"$f":"IF((COUNTIF('HOLIDAYS NF'!$B:$DZ,CONCATENATE(LEFT($A5,2),T$2))<>0),\"Closed\",\"Open\")","v":"Open"},{"$f":"IF((COUNTIF('HOLIDAYS NF'!$B:$DZ,CONCATENATE(LEFT($A5,2),U$2))<>0),\"Closed\",\"Open\")","v":"Open"},{"$f":"IF((COUNTIF('HOLIDAYS NF'!$B:$DZ,CONCATENATE(LEFT($A5,2),V$2))<>0),\"Closed\",\"Open\")","v":"Open"},{"$f":"IF((COUNTIF('HOLIDAYS NF'!$B:$DZ,CONCATENATE(LEFT($A5,2),W$2))<>0),\"Closed\",\"Open\")","v":"Open"},{"$f":"IF((COUNTIF('HOLIDAYS NF'!$B:$DZ,CONCATENATE(LEFT($A5,2),X$2))<>0),\"Closed\",\"Open\")","v":"Open"},{"$f":"IF((COUNTIF('HOLIDAYS NF'!$B:$DZ,CONCATENATE(LEFT($A5,2),Y$2))<>0),\"Closed\",\"Open\")","v":"Open"},{"$f":"IF((COUNTIF('HOLIDAYS NF'!$B:$DZ,CONCATENATE(LEFT($A5,2),Z$2))<>0),\"Closed\",\"Open\")","v":"Open"},{"$f":"IF((COUNTIF('HOLIDAYS NF'!$B:$DZ,CONCATENATE(LEFT($A5,2),AA$2))<>0),\"Closed\",\"Open\")","v":"Open"},{"$f":"IF((COUNTIF('HOLIDAYS NF'!$B:$DZ,CONCATENATE(LEFT($A5,2),AB$2))<>0),\"Closed\",\"Open\")","v":"Open"},{"$f":"IF((COUNTIF('HOLIDAYS NF'!$B:$DZ,CONCATENATE(LEFT($A5,2),AC$2))<>0),\"Closed\",\"Open\")","v":"Open"},{"$f":"IF((COUNTIF('HOLIDAYS NF'!$B:$DZ,CONCATENATE(LEFT($A5,2),AD$2))<>0),\"Closed\",\"Open\")","v":"Open"},{"$f":"IF((COUNTIF('HOLIDAYS NF'!$B:$DZ,CONCATENATE(LEFT($A5,2),AE$2))<>0),\"Closed\",\"Open\")","v":"Open"},{"$f":"IF((COUNTIF('HOLIDAYS NF'!$B:$DZ,CONCATENATE(LEFT($A5,2),AF$2))<>0),\"Closed\",\"Open\")","v":"Open"},{"$f":"IF((COUNTIF('HOLIDAYS NF'!$B:$DZ,CONCATENATE(LEFT($A5,2),AG$2))<>0),\"Closed\",\"Open\")","v":"Open"},{"$f":"IF((COUNTIF('HOLIDAYS NF'!$B:$DZ,CONCATENATE(LEFT($A5,2),AH$2))<>0),\"Closed\",\"Open\")","v":"Open"},{"$f":"IF((COUNTIF('HOLIDAYS NF'!$B:$DZ,CONCATENATE(LEFT($A5,2),AI$2))<>0),\"Closed\",\"Open\")","v":"Open"},{"$f":"IF((COUNTIF('HOLIDAYS NF'!$B:$DZ,CONCATENATE(LEFT($A5,2),AJ$2))<>0),\"Closed\",\"Open\")","v":"Open"},{"$f":"IF((COUNTIF('HOLIDAYS NF'!$B:$DZ,CONCATENATE(LEFT($A5,2),AK$2))<>0),\"Closed\",\"Open\")","v":"Open"},{"$f":"IF((COUNTIF('HOLIDAYS NF'!$B:$DZ,CONCATENATE(LEFT($A5,2),AL$2))<>0),\"Closed\",\"Open\")","v":"Open"},{"$f":"IF((COUNTIF('HOLIDAYS NF'!$B:$DZ,CONCATENATE(LEFT($A5,2),AM$2))<>0),\"Closed\",\"Open\")","v":"Open"},{"$f":"IF((COUNTIF('HOLIDAYS NF'!$B:$DZ,CONCATENATE(LEFT($A5,2),AN$2))<>0),\"Closed\",\"Open\")","v":"Open"},{"$f":"IF((COUNTIF('HOLIDAYS NF'!$B:$DZ,CONCATENATE(LEFT($A5,2),AO$2))<>0),\"Closed\",\"Open\")","v":"Open"},{"$f":"IF((COUNTIF('HOLIDAYS NF'!$B:$DZ,CONCATENATE(LEFT($A5,2),AP$2))<>0),\"Closed\",\"Open\")","v":"Open"},{"$f":"IF((COUNTIF('HOLIDAYS NF'!$B:$DZ,CONCATENATE(LEFT($A5,2),AQ$2))<>0),\"Closed\",\"Open\")","v":"Open"},{"$f":"IF((COUNTIF('HOLIDAYS NF'!$B:$DZ,CONCATENATE(LEFT($A5,2),AR$2))<>0),\"Closed\",\"Open\")","v":"Open"},{"$f":"IF((COUNTIF('HOLIDAYS NF'!$B:$DZ,CONCATENATE(LEFT($A5,2),AS$2))<>0),\"Closed\",\"Open\")","v":"Open"},{"$f":"IF((COUNTIF('HOLIDAYS NF'!$B:$DZ,CONCATENATE(LEFT($A5,2),AT$2))<>0),\"Closed\",\"Open\")","v":"Open"},{"$f":"IF((COUNTIF('HOLIDAYS NF'!$B:$DZ,CONCATENATE(LEFT($A5,2),AU$2))<>0),\"Closed\",\"Open\")","v":"Open"},{"$f":"IF((COUNTIF('HOLIDAYS NF'!$B:$DZ,CONCATENATE(LEFT($A5,2),AV$2))<>0),\"Closed\",\"Open\")","v":"Open"},{"$f":"IF((COUNTIF('HOLIDAYS NF'!$B:$DZ,CONCATENATE(LEFT($A5,2),AW$2))<>0),\"Closed\",\"Open\")","v":"Open"},{"$f":"IF((COUNTIF('HOLIDAYS NF'!$B:$DZ,CONCATENATE(LEFT($A5,2),AX$2))<>0),\"Closed\",\"Open\")","v":"Open"},{"$f":"IF((COUNTIF('HOLIDAYS NF'!$B:$DZ,CONCATENATE(LEFT($A5,2),AY$2))<>0),\"Closed\",\"Open\")","v":"Open"},{"$f":"IF((COUNTIF('HOLIDAYS NF'!$B:$DZ,CONCATENATE(LEFT($A5,2),AZ$2))<>0),\"Closed\",\"Open\")","v":"Open"},{"$f":"IF((COUNTIF('HOLIDAYS NF'!$B:$DZ,CONCATENATE(LEFT($A5,2),BA$2))<>0),\"Closed\",\"Open\")","v":"Open"},{"$f":"IF((COUNTIF('HOLIDAYS NF'!$B:$DZ,CONCATENATE(LEFT($A5,2),BB$2))<>0),\"Closed\",\"Open\")","v":"Open"},{"$f":"IF((COUNTIF('HOLIDAYS NF'!$B:$DZ,CONCATENATE(LEFT($A5,2),BC$2))<>0),\"Closed\",\"Open\")","v":"Open"},{"$f":"IF((COUNTIF('HOLIDAYS NF'!$B:$DZ,CONCATENATE(LEFT($A5,2),BD$2))<>0),\"Closed\",\"Open\")","v":"Open"},{"$f":"IF((COUNTIF('HOLIDAYS NF'!$B:$DZ,CONCATENATE(LEFT($A5,2),BE$2))<>0),\"Closed\",\"Open\")","v":"Open"},{"$f":"IF((COUNTIF('HOLIDAYS NF'!$B:$DZ,CONCATENATE(LEFT($A5,2),BF$2))<>0),\"Closed\",\"Open\")","v":"Open"},{"$f":"IF((COUNTIF('HOLIDAYS NF'!$B:$DZ,CONCATENATE(LEFT($A5,2),BG$2))<>0),\"Closed\",\"Open\")","v":"Open"},{"$f":"IF((COUNTIF('HOLIDAYS NF'!$B:$DZ,CONCATENATE(LEFT($A5,2),BH$2))<>0),\"Closed\",\"Open\")","v":"Open"},{"$f":"IF((COUNTIF('HOLIDAYS NF'!$B:$DZ,CONCATENATE(LEFT($A5,2),BI$2))<>0),\"Closed\",\"Open\")","v":"Open"},{"$f":"IF((COUNTIF('HOLIDAYS NF'!$B:$DZ,CONCATENATE(LEFT($A5,2),BJ$2))<>0),\"Closed\",\"Open\")","v":"Open"}]
["BE",{"$f":"SUMIF(Holdings!G:G,(CONCATENATE($B$1,\"-\",A6,)),Holdings!H:H)","v":0},{"$f":"HLOOKUP(A6,'[1]HOLIDAYS NF'!B$1:BR$65536,6,FALSE)","v":"Belgium"},{"$f":"IF((COUNTIF('HOLIDAYS NF'!$B:$DZ,CONCATENATE(LEFT($A6,2),D$2))<>0),\"Closed\",\"Open\")","v":"Open"},{"$f":"IF((COUNTIF('HOLIDAYS NF'!$B:$DZ,CONCATENATE(LEFT($A6,2),E$2))<>0),\"Closed\",\"Open\")","v":"Open"},{"$f":"IF((COUNTIF('HOLIDAYS NF'!$B:$DZ,CONCATENATE(LEFT($A6,2),F$2))<>0),\"Closed\",\"Open\")","v":"Open"},{"$f":"IF((COUNTIF('HOLIDAYS NF'!$B:$DZ,CONCATENATE(LEFT($A6,2),G$2))<>0),\"Closed\",\"Open\")","v":"Open"},{"$f":"IF((COUNTIF('HOLIDAYS NF'!$B:$DZ,CONCATENATE(LEFT($A6,2),H$2))<>0),\"Closed\",\"Open\")","v":"Open"},{"$f":"IF((COUNTIF('HOLIDAYS NF'!$B:$DZ,CONCATENATE(LEFT($A6,2),I$2))<>0),\"Closed\",\"Open\")","v":"Open"},{"$f":"IF((COUNTIF('HOLIDAYS NF'!$B:$DZ,CONCATENATE(LEFT($A6,2),J$2))<>0),\"Closed\",\"Open\")","v":"Open"},{"$f":"IF((COUNTIF('HOLIDAYS NF'!$B:$DZ,CONCATENATE(LEFT($A6,2),K$2))<>0),\"Closed\",\"Open\")","v":"Open"},{"$f":"IF((COUNTIF('HOLIDAYS NF'!$B:$DZ,CONCATENATE(LEFT($A6,2),L$2))<>0),\"Closed\",\"Open\")","v":"Open"},{"$f":"IF((COUNTIF('HOLIDAYS NF'!$B:$DZ,CONCATENATE(LEFT($A6,2),M$2))<>0),\"Closed\",\"Open\")","v":"Open"},{"$f":"IF((COUNTIF('HOLIDAYS NF'!$B:$DZ,CONCATENATE(LEFT($A6,2),N$2))<>0),\"Closed\",\"Open\")","v":"Open"},{"$f":"IF((COUNTIF('HOLIDAYS NF'!$B:$DZ,CONCATENATE(LEFT($A6,2),O$2))<>0),\"Closed\",\"Open\")","v":"Open"},{"$f":"IF((COUNTIF('HOLIDAYS NF'!$B:$DZ,CONCATENATE(LEFT($A6,2),P$2))<>0),\"Closed\",\"Open\")","v":"Open"},{"$f":"IF((COUNTIF('HOLIDAYS NF'!$B:$DZ,CONCATENATE(LEFT($A6,2),Q$2))<>0),\"Closed\",\"Open\")","v":"Open"},{"$f":"IF((COUNTIF('HOLIDAYS NF'!$B:$DZ,CONCATENATE(LEFT($A6,2),R$2))<>0),\"Closed\",\"Open\")","v":"Open"},{"$f":"IF((COUNTIF('HOLIDAYS NF'!$B:$DZ,CONCATENATE(LEFT($A6,2),S$2))<>0),\"Closed\",\"Open\")","v":"Open"},{"$f":"IF((COUNTIF('HOLIDAYS NF'!$B:$DZ,CONCATENATE(LEFT($A6,2),T$2))<>0),\"Closed\",\"Open\")","v":"Open"},{"$f":"IF((COUNTIF('HOLIDAYS NF'!$B:$DZ,CONCATENATE(LEFT($A6,2),U$2))<>0),\"Closed\",\"Open\")","v":"Open"},{"$f":"IF((COUNTIF('HOLIDAYS NF'!$B:$DZ,CONCATENATE(LEFT($A6,2),V$2))<>0),\"Closed\",\"Open\")","v":"Open"},{"$f":"IF((COUNTIF('HOLIDAYS NF'!$B:$DZ,CONCATENATE(LEFT($A6,2),W$2))<>0),\"Closed\",\"Open\")","v":"Open"},{"$f":"IF((COUNTIF('HOLIDAYS NF'!$B:$DZ,CONCATENATE(LEFT($A6,2),X$2))<>0),\"Closed\",\"Open\")","v":"Open"},{"$f":"IF((COUNTIF('HOLIDAYS NF'!$B:$DZ,CONCATENATE(LEFT($A6,2),Y$2))<>0),\"Closed\",\"Open\")","v":"Open"},{"$f":"IF((COUNTIF('HOLIDAYS NF'!$B:$DZ,CONCATENATE(LEFT($A6,2),Z$2))<>0),\"Closed\",\"Open\")","v":"Open"},{"$f":"IF((COUNTIF('HOLIDAYS NF'!$B:$DZ,CONCATENATE(LEFT($A6,2),AA$2))<>0),\"Closed\",\"Open\")","v":"Open"},{"$f":"IF((COUNTIF('HOLIDAYS NF'!$B:$DZ,CONCATENATE(LEFT($A6,2),AB$2))<>0),\"Closed\",\"Open\")","v":"Open"},{"$f":"IF((COUNTIF('HOLIDAYS NF'!$B:$DZ,CONCATENATE(LEFT($A6,2),AC$2))<>0),\"Closed\",\"Open\")","v":"Open"},{"$f":"IF((COUNTIF('HOLIDAYS NF'!$B:$DZ,CONCATENATE(LEFT($A6,2),AD$2))<>0),\"Closed\",\"Open\")","v":"Open"},{"$f":"IF((COUNTIF('HOLIDAYS NF'!$B:$DZ,CONCATENATE(LEFT($A6,2),AE$2))<>0),\"Closed\",\"Open\")","v":"Open"},{"$f":"IF((COUNTIF('HOLIDAYS NF'!$B:$DZ,CONCATENATE(LEFT($A6,2),AF$2))<>0),\"Closed\",\"Open\")","v":"Open"},{"$f":"IF((COUNTIF('HOLIDAYS NF'!$B:$DZ,CONCATENATE(LEFT($A6,2),AG$2))<>0),\"Closed\",\"Open\")","v":"Open"},{"$f":"IF((COUNTIF('HOLIDAYS NF'!$B:$DZ,CONCATENATE(LEFT($A6,2),AH$2))<>0),\"Closed\",\"Open\")","v":"Open"},{"$f":"IF((COUNTIF('HOLIDAYS NF'!$B:$DZ,CONCATENATE(LEFT($A6,2),AI$2))<>0),\"Closed\",\"Open\")","v":"Open"},{"$f":"IF((COUNTIF('HOLIDAYS NF'!$B:$DZ,CONCATENATE(LEFT($A6,2),AJ$2))<>0),\"Closed\",\"Open\")","v":"Open"},{"$f":"IF((COUNTIF('HOLIDAYS NF'!$B:$DZ,CONCATENATE(LEFT($A6,2),AK$2))<>0),\"Closed\",\"Open\")","v":"Open"},{"$f":"IF((COUNTIF('HOLIDAYS NF'!$B:$DZ,CONCATENATE(LEFT($A6,2),AL$2))<>0),\"Closed\",\"Open\")","v":"Open"},{"$f":"IF((COUNTIF('HOLIDAYS NF'!$B:$DZ,CONCATENATE(LEFT($A6,2),AM$2))<>0),\"Closed\",\"Open\")","v":"Open"},{"$f":"IF((COUNTIF('HOLIDAYS NF'!$B:$DZ,CONCATENATE(LEFT($A6,2),AN$2))<>0),\"Closed\",\"Open\")","v":"Open"},{"$f":"IF((COUNTIF('HOLIDAYS NF'!$B:$DZ,CONCATENATE(LEFT($A6,2),AO$2))<>0),\"Closed\",\"Open\")","v":"Open"},{"$f":"IF((COUNTIF('HOLIDAYS NF'!$B:$DZ,CONCATENATE(LEFT($A6,2),AP$2))<>0),\"Closed\",\"Open\")","v":"Open"},{"$f":"IF((COUNTIF('HOLIDAYS NF'!$B:$DZ,CONCATENATE(LEFT($A6,2),AQ$2))<>0),\"Closed\",\"Open\")","v":"Open"},{"$f":"IF((COUNTIF('HOLIDAYS NF'!$B:$DZ,CONCATENATE(LEFT($A6,2),AR$2))<>0),\"Closed\",\"Open\")","v":"Open"},{"$f":"IF((COUNTIF('HOLIDAYS NF'!$B:$DZ,CONCATENATE(LEFT($A6,2),AS$2))<>0),\"Closed\",\"Open\")","v":"Open"},{"$f":"IF((COUNTIF('HOLIDAYS NF'!$B:$DZ,CONCATENATE(LEFT($A6,2),AT$2))<>0),\"Closed\",\"Open\")","v":"Open"},{"$f":"IF((COUNTIF('HOLIDAYS NF'!$B:$DZ,CONCATENATE(LEFT($A6,2),AU$2))<>0),\"Closed\",\"Open\")","v":"Open"},{"$f":"IF((COUNTIF('HOLIDAYS NF'!$B:$DZ,CONCATENATE(LEFT($A6,2),AV$2))<>0),\"Closed\",\"Open\")","v":"Open"},{"$f":"IF((COUNTIF('HOLIDAYS NF'!$B:$DZ,CONCATENATE(LEFT($A6,2),AW$2))<>0),\"Closed\",\"Open\")","v":"Open"},{"$f":"IF((COUNTIF('HOLIDAYS NF'!$B:$DZ,CONCATENATE(LEFT($A6,2),AX$2))<>0),\"Closed\",\"Open\")","v":"Open"},{"$f":"IF((COUNTIF('HOLIDAYS NF'!$B:$DZ,CONCATENATE(LEFT($A6,2),AY$2))<>0),\"Closed\",\"Open\")","v":"Open"},{"$f":"IF((COUNTIF('HOLIDAYS NF'!$B:$DZ,CONCATENATE(LEFT($A6,2),AZ$2))<>0),\"Closed\",\"Open\")","v":"Open"},{"$f":"IF((COUNTIF('HOLIDAYS NF'!$B:$DZ,CONCATENATE(LEFT($A6,2),BA$2))<>0),\"Closed\",\"Open\")","v":"Open"},{"$f":"IF((COUNTIF('HOLIDAYS NF'!$B:$DZ,CONCATENATE(LEFT($A6,2),BB$2))<>0),\"Closed\",\"Open\")","v":"Open"},{"$f":"IF((COUNTIF('HOLIDAYS NF'!$B:$DZ,CONCATENATE(LEFT($A6,2),BC$2))<>0),\"Closed\",\"Open\")","v":"Open"},{"$f":"IF((COUNTIF('HOLIDAYS NF'!$B:$DZ,CONCATENATE(LEFT($A6,2),BD$2))<>0),\"Closed\",\"Open\")","v":"Open"},{"$f":"IF((COUNTIF('HOLIDAYS NF'!$B:$DZ,CONCATENATE(LEFT($A6,2),BE$2))<>0),\"Closed\",\"Open\")","v":"Open"},{"$f":"IF((COUNTIF('HOLIDAYS NF'!$B:$DZ,CONCATENATE(LEFT($A6,2),BF$2))<>0),\"Closed\",\"Open\")","v":"Open"},{"$f":"IF((COUNTIF('HOLIDAYS NF'!$B:$DZ,CONCATENATE(LEFT($A6,2),BG$2))<>0),\"Closed\",\"Open\")","v":"Open"},{"$f":"IF((COUNTIF('HOLIDAYS NF'!$B:$DZ,CONCATENATE(LEFT($A6,2),BH$2))<>0),\"Closed\",\"Open\")","v":"Open"},{"$f":"IF((COUNTIF('HOLIDAYS NF'!$B:$DZ,CONCATENATE(LEFT($A6,2),BI$2))<>0),\"Closed\",\"Open\")","v":"Open"},{"$f":"IF((COUNTIF('HOLIDAYS NF'!$B:$DZ,CONCATENATE(LEFT($A6,2),BJ$2))<>0),\"Closed\",\"Open\")","v":"Open"}]
["BG",{"$f":"SUMIF(Holdings!G:G,(CONCATENATE($B$1,\"-\",A7,)),Holdings!H:H)","v":0},{"$f":"HLOOKUP(A7,'[1]HOLIDAYS NF'!B$1:BR$65536,6,FALSE)","v":"Bulgaria"},{"$f":"IF((COUNTIF('HOLIDAYS NF'!$B:$DZ,CONCATENATE(LEFT($A7,2),D$2))<>0),\"Closed\",\"Open\")","v":"Open"},{"$f":"IF((COUNTIF('HOLIDAYS NF'!$B:$DZ,CONCATENATE(LEFT($A7,2),E$2))<>0),\"Closed\",\"Open\")","v":"Open"},{"$f":"IF((COUNTIF('HOLIDAYS NF'!$B:$DZ,CONCATENATE(LEFT($A7,2),F$2))<>0),\"Closed\",\"Open\")","v":"Open"},{"$f":"IF((COUNTIF('HOLIDAYS NF'!$B:$DZ,CONCATENATE(LEFT($A7,2),G$2))<>0),\"Closed\",\"Open\")","v":"Open"},{"$f":"IF((COUNTIF('HOLIDAYS NF'!$B:$DZ,CONCATENATE(LEFT($A7,2),H$2))<>0),\"Closed\",\"Open\")","v":"Open"},{"$f":"IF((COUNTIF('HOLIDAYS NF'!$B:$DZ,CONCATENATE(LEFT($A7,2),I$2))<>0),\"Closed\",\"Open\")","v":"Open"},{"$f":"IF((COUNTIF('HOLIDAYS NF'!$B:$DZ,CONCATENATE(LEFT($A7,2),J$2))<>0),\"Closed\",\"Open\")","v":"Open"},{"$f":"IF((COUNTIF('HOLIDAYS NF'!$B:$DZ,CONCATENATE(LEFT($A7,2),K$2))<>0),\"Closed\",\"Open\")","v":"Open"},{"$f":"IF((COUNTIF('HOLIDAYS NF'!$B:$DZ,CONCATENATE(LEFT($A7,2),L$2))<>0),\"Closed\",\"Open\")","v":"Open"},{"$f":"IF((COUNTIF('HOLIDAYS NF'!$B:$DZ,CONCATENATE(LEFT($A7,2),M$2))<>0),\"Closed\",\"Open\")","v":"Open"},{"$f":"IF((COUNTIF('HOLIDAYS NF'!$B:$DZ,CONCATENATE(LEFT($A7,2),N$2))<>0),\"Closed\",\"Open\")","v":"Open"},{"$f":"IF((COUNTIF('HOLIDAYS NF'!$B:$DZ,CONCATENATE(LEFT($A7,2),O$2))<>0),\"Closed\",\"Open\")","v":"Open"},{"$f":"IF((COUNTIF('HOLIDAYS NF'!$B:$DZ,CONCATENATE(LEFT($A7,2),P$2))<>0),\"Closed\",\"Open\")","v":"Open"},{"$f":"IF((COUNTIF('HOLIDAYS NF'!$B:$DZ,CONCATENATE(LEFT($A7,2),Q$2))<>0),\"Closed\",\"Open\")","v":"Open"},{"$f":"IF((COUNTIF('HOLIDAYS NF'!$B:$DZ,CONCATENATE(LEFT($A7,2),R$2))<>0),\"Closed\",\"Open\")","v":"Open"},{"$f":"IF((COUNTIF('HOLIDAYS NF'!$B:$DZ,CONCATENATE(LEFT($A7,2),S$2))<>0),\"Closed\",\"Open\")","v":"Open"},{"$f":"IF((COUNTIF('HOLIDAYS NF'!$B:$DZ,CONCATENATE(LEFT($A7,2),T$2))<>0),\"Closed\",\"Open\")","v":"Open"},{"$f":"IF((COUNTIF('HOLIDAYS NF'!$B:$DZ,CONCATENATE(LEFT($A7,2),U$2))<>0),\"Closed\",\"Open\")","v":"Open"},{"$f":"IF((COUNTIF('HOLIDAYS NF'!$B:$DZ,CONCATENATE(LEFT($A7,2),V$2))<>0),\"Closed\",\"Open\")","v":"Open"},{"$f":"IF((COUNTIF('HOLIDAYS NF'!$B:$DZ,CONCATENATE(LEFT($A7,2),W$2))<>0),\"Closed\",\"Open\")","v":"Open"},{"$f":"IF((COUNTIF('HOLIDAYS NF'!$B:$DZ,CONCATENATE(LEFT($A7,2),X$2))<>0),\"Closed\",\"Open\")","v":"Open"},{"$f":"IF((COUNTIF('HOLIDAYS NF'!$B:$DZ,CONCATENATE(LEFT($A7,2),Y$2))<>0),\"Closed\",\"Open\")","v":"Open"},{"$f":"IF((COUNTIF('HOLIDAYS NF'!$B:$DZ,CONCATENATE(LEFT($A7,2),Z$2))<>0),\"Closed\",\"Open\")","v":"Open"},{"$f":"IF((COUNTIF('HOLIDAYS NF'!$B:$DZ,CONCATENATE(LEFT($A7,2),AA$2))<>0),\"Closed\",\"Open\")","v":"Open"},{"$f":"IF((COUNTIF('HOLIDAYS NF'!$B:$DZ,CONCATENATE(LEFT($A7,2),AB$2))<>0),\"Closed\",\"Open\")","v":"Open"},{"$f":"IF((COUNTIF('HOLIDAYS NF'!$B:$DZ,CONCATENATE(LEFT($A7,2),AC$2))<>0),\"Closed\",\"Open\")","v":"Open"},{"$f":"IF((COUNTIF('HOLIDAYS NF'!$B:$DZ,CONCATENATE(LEFT($A7,2),AD$2))<>0),\"Closed\",\"Open\")","v":"Open"},{"$f":"IF((COUNTIF('HOLIDAYS NF'!$B:$DZ,CONCATENATE(LEFT($A7,2),AE$2))<>0),\"Closed\",\"Open\")","v":"Open"},{"$f":"IF((COUNTIF('HOLIDAYS NF'!$B:$DZ,CONCATENATE(LEFT($A7,2),AF$2))<>0),\"Closed\",\"Open\")","v":"Open"},{"$f":"IF((COUNTIF('HOLIDAYS NF'!$B:$DZ,CONCATENATE(LEFT($A7,2),AG$2))<>0),\"Closed\",\"Open\")","v":"Open"},{"$f":"IF((COUNTIF('HOLIDAYS NF'!$B:$DZ,CONCATENATE(LEFT($A7,2),AH$2))<>0),\"Closed\",\"Open\")","v":"Open"},{"$f":"IF((COUNTIF('HOLIDAYS NF'!$B:$DZ,CONCATENATE(LEFT($A7,2),AI$2))<>0),\"Closed\",\"Open\")","v":"Open"},{"$f":"IF((COUNTIF('HOLIDAYS NF'!$B:$DZ,CONCATENATE(LEFT($A7,2),AJ$2))<>0),\"Closed\",\"Open\")","v":"Open"},{"$f":"IF((COUNTIF('HOLIDAYS NF'!$B:$DZ,CONCATENATE(LEFT($A7,2),AK$2))<>0),\"Closed\",\"Open\")","v":"Open"},{"$f":"IF((COUNTIF('HOLIDAYS NF'!$B:$DZ,CONCATENATE(LEFT($A7,2),AL$2))<>0),\"Closed\",\"Open\")","v":"Open"},{"$f":"IF((COUNTIF('HOLIDAYS NF'!$B:$DZ,CONCATENATE(LEFT($A7,2),AM$2))<>0),\"Closed\",\"Open\")","v":"Open"},{"$f":"IF((COUNTIF('HOLIDAYS NF'!$B:$DZ,CONCATENATE(LEFT($A7,2),AN$2))<>0),\"Closed\",\"Open\")","v":"Open"},{"$f":"IF((COUNTIF('HOLIDAYS NF'!$B:$DZ,CONCATENATE(LEFT($A7,2),AO$2))<>0),\"Closed\",\"Open\")","v":"Open"},{"$f":"IF((COUNTIF('HOLIDAYS NF'!$B:$DZ,CONCATENATE(LEFT($A7,2),AP$2))<>0),\"Closed\",\"Open\")","v":"Open"},{"$f":"IF((COUNTIF('HOLIDAYS NF'!$B:$DZ,CONCATENATE(LEFT($A7,2),AQ$2))<>0),\"Closed\",\"Open\")","v":"Open"},{"$f":"IF((COUNTIF('HOLIDAYS NF'!$B:$DZ,CONCATENATE(LEFT($A7,2),AR$2))<>0),\"Closed\",\"Open\")","v":"Open"},{"$f":"IF((COUNTIF('HOLIDAYS NF'!$B:$DZ,CONCATENATE(LEFT($A7,2),AS$2))<>0),\"Closed\",\"Open\")","v":"Open"},{"$f":"IF((COUNTIF('HOLIDAYS NF'!$B:$DZ,CONCATENATE(LEFT($A7,2),AT$2))<>0),\"Closed\",\"Open\")","v":"Open"},{"$f":"IF((COUNTIF('HOLIDAYS NF'!$B:$DZ,CONCATENATE(LEFT($A7,2),AU$2))<>0),\"Closed\",\"Open\")","v":"Open"},{"$f":"IF((COUNTIF('HOLIDAYS NF'!$B:$DZ,CONCATENATE(LEFT($A7,2),AV$2))<>0),\"Closed\",\"Open\")","v":"Open"},{"$f":"IF((COUNTIF('HOLIDAYS NF'!$B:$DZ,CONCATENATE(LEFT($A7,2),AW$2))<>0),\"Closed\",\"Open\")","v":"Open"},{"$f":"IF((COUNTIF('HOLIDAYS NF'!$B:$DZ,CONCATENATE(LEFT($A7,2),AX$2))<>0),\"Closed\",\"Open\")","v":"Open"},{"$f":"IF((COUNTIF('HOLIDAYS NF'!$B:$DZ,CONCATENATE(LEFT($A7,2),AY$2))<>0),\"Closed\",\"Open\")","v":"Open"},{"$f":"IF((COUNTIF('HOLIDAYS NF'!$B:$DZ,CONCATENATE(LEFT($A7,2),AZ$2))<>0),\"Closed\",\"Open\")","v":"Open"},{"$f":"IF((COUNTIF('HOLIDAYS NF'!$B:$DZ,CONCATENATE(LEFT($A7,2),BA$2))<>0),\"Closed\",\"Open\")","v":"Open"},{"$f":"IF((COUNTIF('HOLIDAYS NF'!$B:$DZ,CONCATENATE(LEFT($A7,2),BB$2))<>0),\"Closed\",\"Open\")","v":"Open"},{"$f":"IF((COUNTIF('HOLIDAYS NF'!$B:$DZ,CONCATENATE(LEFT($A7,2),BC$2))<>0),\"Closed\",\"Open\")","v":"Open"},{"$f":"IF((COUNTIF('HOLIDAYS NF'!$B:$DZ,CONCATENATE(LEFT($A7,2),BD$2))<>0),\"Closed\",\"Open\")","v":"Open"},{"$f":"IF((COUNTIF('HOLIDAYS NF'!$B:$DZ,CONCATENATE(LEFT($A7,2),BE$2))<>0),\"Closed\",\"Open\")","v":"Open"},{"$f":"IF((COUNTIF('HOLIDAYS NF'!$B:$DZ,CONCATENATE(LEFT($A7,2),BF$2))<>0),\"Closed\",\"Open\")","v":"Open"},{"$f":"IF((COUNTIF('HOLIDAYS NF'!$B:$DZ,CONCATENATE(LEFT($A7,2),BG$2))<>0),\"Closed\",\"Open\")","v":"Open"},{"$f":"IF((COUNTIF('HOLIDAYS NF'!$B:$DZ,CONCATENATE(LEFT($A7,2),BH$2))<>0),\"Closed\",\"Open\")","v":"Open"},{"$f":"IF((COUNTIF('HOLIDAYS NF'!$B:$DZ,CONCATENATE(LEFT($A7,2),BI$2))<>0),\"Closed\",\"Open\")","v":"Open"},{"$f":"IF((COUNTIF('HOLIDAYS NF'!$B:$DZ,CONCATENATE(LEFT($A7,2),BJ$2))<>0),\"Closed\",\"Open\")","v":"Open"}]
["BM",{"$f":"SUMIF(Holdings!G:G,(CONCATENATE($B$1,\"-\",A8,)),Holdings!H:H)","v":0},{"$f":"HLOOKUP(A8,'[1]HOLIDAYS NF'!B$1:BR$65536,6,FALSE)","v":"Bermuda"},{"$f":"IF((COUNTIF('HOLIDAYS NF'!$B:$DZ,CONCATENATE(LEFT($A8,2),D$2))<>0),\"Closed\",\"Open\")","v":"Open"},{"$f":"IF((COUNTIF('HOLIDAYS NF'!$B:$DZ,CONCATENATE(LEFT($A8,2),E$2))<>0),\"Closed\",\"Open\")","v":"Open"},{"$f":"IF((COUNTIF('HOLIDAYS NF'!$B:$DZ,CONCATENATE(LEFT($A8,2),F$2))<>0),\"Closed\",\"Open\")","v":"Open"},{"$f":"IF((COUNTIF('HOLIDAYS NF'!$B:$DZ,CONCATENATE(LEFT($A8,2),G$2))<>0),\"Closed\",\"Open\")","v":"Open"},{"$f":"IF((COUNTIF('HOLIDAYS NF'!$B:$DZ,CONCATENATE(LEFT($A8,2),H$2))<>0),\"Closed\",\"Open\")","v":"Open"},{"$f":"IF((COUNTIF('HOLIDAYS NF'!$B:$DZ,CONCATENATE(LEFT($A8,2),I$2))<>0),\"Closed\",\"Open\")","v":"Open"},{"$f":"IF((COUNTIF('HOLIDAYS NF'!$B:$DZ,CONCATENATE(LEFT($A8,2),J$2))<>0),\"Closed\",\"Open\")","v":"Open"},{"$f":"IF((COUNTIF('HOLIDAYS NF'!$B:$DZ,CONCATENATE(LEFT($A8,2),K$2))<>0),\"Closed\",\"Open\")","v":"Open"},{"$f":"IF((COUNTIF('HOLIDAYS NF'!$B:$DZ,CONCATENATE(LEFT($A8,2),L$2))<>0),\"Closed\",\"Open\")","v":"Open"},{"$f":"IF((COUNTIF('HOLIDAYS NF'!$B:$DZ,CONCATENATE(LEFT($A8,2),M$2))<>0),\"Closed\",\"Open\")","v":"Open"},{"$f":"IF((COUNTIF('HOLIDAYS NF'!$B:$DZ,CONCATENATE(LEFT($A8,2),N$2))<>0),\"Closed\",\"Open\")","v":"Open"},{"$f":"IF((COUNTIF('HOLIDAYS NF'!$B:$DZ,CONCATENATE(LEFT($A8,2),O$2))<>0),\"Closed\",\"Open\")","v":"Open"},{"$f":"IF((COUNTIF('HOLIDAYS NF'!$B:$DZ,CONCATENATE(LEFT($A8,2),P$2))<>0),\"Closed\",\"Open\")","v":"Open"},{"$f":"IF((COUNTIF('HOLIDAYS NF'!$B:$DZ,CONCATENATE(LEFT($A8,2),Q$2))<>0),\"Closed\",\"Open\")","v":"Open"},{"$f":"IF((COUNTIF('HOLIDAYS NF'!$B:$DZ,CONCATENATE(LEFT($A8,2),R$2))<>0),\"Closed\",\"Open\")","v":"Open"},{"$f":"IF((COUNTIF('HOLIDAYS NF'!$B:$DZ,CONCATENATE(LEFT($A8,2),S$2))<>0),\"Closed\",\"Open\")","v":"Open"},{"$f":"IF((COUNTIF('HOLIDAYS NF'!$B:$DZ,CONCATENATE(LEFT($A8,2),T$2))<>0),\"Closed\",\"Open\")","v":"Open"},{"$f":"IF((COUNTIF('HOLIDAYS NF'!$B:$DZ,CONCATENATE(LEFT($A8,2),U$2))<>0),\"Closed\",\"Open\")","v":"Open"},{"$f":"IF((COUNTIF('HOLIDAYS NF'!$B:$DZ,CONCATENATE(LEFT($A8,2),V$2))<>0),\"Closed\",\"Open\")","v":"Open"},{"$f":"IF((COUNTIF('HOLIDAYS NF'!$B:$DZ,CONCATENATE(LEFT($A8,2),W$2))<>0),\"Closed\",\"Open\")","v":"Open"},{"$f":"IF((COUNTIF('HOLIDAYS NF'!$B:$DZ,CONCATENATE(LEFT($A8,2),X$2))<>0),\"Closed\",\"Open\")","v":"Open"},{"$f":"IF((COUNTIF('HOLIDAYS NF'!$B:$DZ,CONCATENATE(LEFT($A8,2),Y$2))<>0),\"Closed\",\"Open\")","v":"Open"},{"$f":"IF((COUNTIF('HOLIDAYS NF'!$B:$DZ,CONCATENATE(LEFT($A8,2),Z$2))<>0),\"Closed\",\"Open\")","v":"Open"},{"$f":"IF((COUNTIF('HOLIDAYS NF'!$B:$DZ,CONCATENATE(LEFT($A8,2),AA$2))<>0),\"Closed\",\"Open\")","v":"Open"},{"$f":"IF((COUNTIF('HOLIDAYS NF'!$B:$DZ,CONCATENATE(LEFT($A8,2),AB$2))<>0),\"Closed\",\"Open\")","v":"Open"},{"$f":"IF((COUNTIF('HOLIDAYS NF'!$B:$DZ,CONCATENATE(LEFT($A8,2),AC$2))<>0),\"Closed\",\"Open\")","v":"Open"},{"$f":"IF((COUNTIF('HOLIDAYS NF'!$B:$DZ,CONCATENATE(LEFT($A8,2),AD$2))<>0),\"Closed\",\"Open\")","v":"Open"},{"$f":"IF((COUNTIF('HOLIDAYS NF'!$B:$DZ,CONCATENATE(LEFT($A8,2),AE$2))<>0),\"Closed\",\"Open\")","v":"Open"},{"$f":"IF((COUNTIF('HOLIDAYS NF'!$B:$DZ,CONCATENATE(LEFT($A8,2),AF$2))<>0),\"Closed\",\"Open\")","v":"Open"},{"$f":"IF((COUNTIF('HOLIDAYS NF'!$B:$DZ,CONCATENATE(LEFT($A8,2),AG$2))<>0),\"Closed\",\"Open\")","v":"Open"},{"$f":"IF((COUNTIF('HOLIDAYS NF'!$B:$DZ,CONCATENATE(LEFT($A8,2),AH$2))<>0),\"Closed\",\"Open\")","v":"Open"},{"$f":"IF((COUNTIF('HOLIDAYS NF'!$B:$DZ,CONCATENATE(LEFT($A8,2),AI$2))<>0),\"Closed\",\"Open\")","v":"Open"},{"$f":"IF((COUNTIF('HOLIDAYS NF'!$B:$DZ,CONCATENATE(LEFT($A8,2),AJ$2))<>0),\"Closed\",\"Open\")","v":"Open"},{"$f":"IF((COUNTIF('HOLIDAYS NF'!$B:$DZ,CONCATENATE(LEFT($A8,2),AK$2))<>0),\"Closed\",\"Open\")","v":"Open"},{"$f":"IF((COUNTIF('HOLIDAYS NF'!$B:$DZ,CONCATENATE(LEFT($A8,2),AL$2))<>0),\"Closed\",\"Open\")","v":"Open"},{"$f":"IF((COUNTIF('HOLIDAYS NF'!$B:$DZ,CONCATENATE(LEFT($A8,2),AM$2))<>0),\"Closed\",\"Open\")","v":"Open"},{"$f":"IF((COUNTIF('HOLIDAYS NF'!$B:$DZ,CONCATENATE(LEFT($A8,2),AN$2))<>0),\"Closed\",\"Open\")","v":"Open"},{"$f":"IF((COUNTIF('HOLIDAYS NF'!$B:$DZ,CONCATENATE(LEFT($A8,2),AO$2))<>0),\"Closed\",\"Open\")","v":"Open"},{"$f":"IF((COUNTIF('HOLIDAYS NF'!$B:$DZ,CONCATENATE(LEFT($A8,2),AP$2))<>0),\"Closed\",\"Open\")","v":"Open"},{"$f":"IF((COUNTIF('HOLIDAYS NF'!$B:$DZ,CONCATENATE(LEFT($A8,2),AQ$2))<>0),\"Closed\",\"Open\")","v":"Open"},{"$f":"IF((COUNTIF('HOLIDAYS NF'!$B:$DZ,CONCATENATE(LEFT($A8,2),AR$2))<>0),\"Closed\",\"Open\")","v":"Open"},{"$f":"IF((COUNTIF('HOLIDAYS NF'!$B:$DZ,CONCATENATE(LEFT($A8,2),AS$2))<>0),\"Closed\",\"Open\")","v":"Open"},{"$f":"IF((COUNTIF('HOLIDAYS NF'!$B:$DZ,CONCATENATE(LEFT($A8,2),AT$2))<>0),\"Closed\",\"Open\")","v":"Open"},{"$f":"IF((COUNTIF('HOLIDAYS NF'!$B:$DZ,CONCATENATE(LEFT($A8,2),AU$2))<>0),\"Closed\",\"Open\")","v":"Open"},{"$f":"IF((COUNTIF('HOLIDAYS NF'!$B:$DZ,CONCATENATE(LEFT($A8,2),AV$2))<>0),\"Closed\",\"Open\")","v":"Open"},{"$f":"IF((COUNTIF('HOLIDAYS NF'!$B:$DZ,CONCATENATE(LEFT($A8,2),AW$2))<>0),\"Closed\",\"Open\")","v":"Open"},{"$f":"IF((COUNTIF('HOLIDAYS NF'!$B:$DZ,CONCATENATE(LEFT($A8,2),AX$2))<>0),\"Closed\",\"Open\")","v":"Open"},{"$f":"IF((COUNTIF('HOLIDAYS NF'!$B:$DZ,CONCATENATE(LEFT($A8,2),AY$2))<>0),\"Closed\",\"Open\")","v":"Open"},{"$f":"IF((COUNTIF('HOLIDAYS NF'!$B:$DZ,CONCATENATE(LEFT($A8,2),AZ$2))<>0),\"Closed\",\"Open\")","v":"Open"},{"$f":"IF((COUNTIF('HOLIDAYS NF'!$B:$DZ,CONCATENATE(LEFT($A8,2),BA$2))<>0),\"Closed\",\"Open\")","v":"Open"},{"$f":"IF((COUNTIF('HOLIDAYS NF'!$B:$DZ,CONCATENATE(LEFT($A8,2),BB$2))<>0),\"Closed\",\"Open\")","v":"Open"},{"$f":"IF((COUNTIF('HOLIDAYS NF'!$B:$DZ,CONCATENATE(LEFT($A8,2),BC$2))<>0),\"Closed\",\"Open\")","v":"Open"},{"$f":"IF((COUNTIF('HOLIDAYS NF'!$B:$DZ,CONCATENATE(LEFT($A8,2),BD$2))<>0),\"Closed\",\"Open\")","v":"Open"},{"$f":"IF((COUNTIF('HOLIDAYS NF'!$B:$DZ,CONCATENATE(LEFT($A8,2),BE$2))<>0),\"Closed\",\"Open\")","v":"Open"},{"$f":"IF((COUNTIF('HOLIDAYS NF'!$B:$DZ,CONCATENATE(LEFT($A8,2),BF$2))<>0),\"Closed\",\"Open\")","v":"Open"},{"$f":"IF((COUNTIF('HOLIDAYS NF'!$B:$DZ,CONCATENATE(LEFT($A8,2),BG$2))<>0),\"Closed\",\"Open\")","v":"Open"},{"$f":"IF((COUNTIF('HOLIDAYS NF'!$B:$DZ,CONCATENATE(LEFT($A8,2),BH$2))<>0),\"Closed\",\"Open\")","v":"Open"},{"$f":"IF((COUNTIF('HOLIDAYS NF'!$B:$DZ,CONCATENATE(LEFT($A8,2),BI$2))<>0),\"Closed\",\"Open\")","v":"Open"},{"$f":"IF((COUNTIF('HOLIDAYS NF'!$B:$DZ,CONCATENATE(LEFT($A8,2),BJ$2))<>0),\"Closed\",\"Open\")","v":"Open"}]
["BH",{"$f":"SUMIF(Holdings!G:G,(CONCATENATE($B$1,\"-\",A9,)),Holdings!H:H)","v":0},{"$f":"HLOOKUP(A9,'[1]HOLIDAYS NF'!B$1:BR$65536,6,FALSE)","v":"Bahamas"},{"$f":"IF((COUNTIF('HOLIDAYS NF'!$B:$DZ,CONCATENATE(LEFT($A9,2),D$2))<>0),\"Closed\",\"Open\")","v":"Open"},{"$f":"IF((COUNTIF('HOLIDAYS NF'!$B:$DZ,CONCATENATE(LEFT($A9,2),E$2))<>0),\"Closed\",\"Open\")","v":"Open"},{"$f":"IF((COUNTIF('HOLIDAYS NF'!$B:$DZ,CONCATENATE(LEFT($A9,2),F$2))<>0),\"Closed\",\"Open\")","v":"Open"},{"$f":"IF((COUNTIF('HOLIDAYS NF'!$B:$DZ,CONCATENATE(LEFT($A9,2),G$2))<>0),\"Closed\",\"Open\")","v":"Open"},{"$f":"IF((COUNTIF('HOLIDAYS NF'!$B:$DZ,CONCATENATE(LEFT($A9,2),H$2))<>0),\"Closed\",\"Open\")","v":"Open"},{"$f":"IF((COUNTIF('HOLIDAYS NF'!$B:$DZ,CONCATENATE(LEFT($A9,2),I$2))<>0),\"Closed\",\"Open\")","v":"Open"},{"$f":"IF((COUNTIF('HOLIDAYS NF'!$B:$DZ,CONCATENATE(LEFT($A9,2),J$2))<>0),\"Closed\",\"Open\")","v":"Open"},{"$f":"IF((COUNTIF('HOLIDAYS NF'!$B:$DZ,CONCATENATE(LEFT($A9,2),K$2))<>0),\"Closed\",\"Open\")","v":"Open"},{"$f":"IF((COUNTIF('HOLIDAYS NF'!$B:$DZ,CONCATENATE(LEFT($A9,2),L$2))<>0),\"Closed\",\"Open\")","v":"Open"},{"$f":"IF((COUNTIF('HOLIDAYS NF'!$B:$DZ,CONCATENATE(LEFT($A9,2),M$2))<>0),\"Closed\",\"Open\")","v":"Open"},{"$f":"IF((COUNTIF('HOLIDAYS NF'!$B:$DZ,CONCATENATE(LEFT($A9,2),N$2))<>0),\"Closed\",\"Open\")","v":"Open"},{"$f":"IF((COUNTIF('HOLIDAYS NF'!$B:$DZ,CONCATENATE(LEFT($A9,2),O$2))<>0),\"Closed\",\"Open\")","v":"Open"},{"$f":"IF((COUNTIF('HOLIDAYS NF'!$B:$DZ,CONCATENATE(LEFT($A9,2),P$2))<>0),\"Closed\",\"Open\")","v":"Open"},{"$f":"IF((COUNTIF('HOLIDAYS NF'!$B:$DZ,CONCATENATE(LEFT($A9,2),Q$2))<>0),\"Closed\",\"Open\")","v":"Open"},{"$f":"IF((COUNTIF('HOLIDAYS NF'!$B:$DZ,CONCATENATE(LEFT($A9,2),R$2))<>0),\"Closed\",\"Open\")","v":"Open"},{"$f":"IF((COUNTIF('HOLIDAYS NF'!$B:$DZ,CONCATENATE(LEFT($A9,2),S$2))<>0),\"Closed\",\"Open\")","v":"Open"},{"$f":"IF((COUNTIF('HOLIDAYS NF'!$B:$DZ,CONCATENATE(LEFT($A9,2),T$2))<>0),\"Closed\",\"Open\")","v":"Open"},{"$f":"IF((COUNTIF('HOLIDAYS NF'!$B:$DZ,CONCATENATE(LEFT($A9,2),U$2))<>0),\"Closed\",\"Open\")","v":"Open"},{"$f":"IF((COUNTIF('HOLIDAYS NF'!$B:$DZ,CONCATENATE(LEFT($A9,2),V$2))<>0),\"Closed\",\"Open\")","v":"Open"},{"$f":"IF((COUNTIF('HOLIDAYS NF'!$B:$DZ,CONCATENATE(LEFT($A9,2),W$2))<>0),\"Closed\",\"Open\")","v":"Open"},{"$f":"IF((COUNTIF('HOLIDAYS NF'!$B:$DZ,CONCATENATE(LEFT($A9,2),X$2))<>0),\"Closed\",\"Open\")","v":"Open"},{"$f":"IF((COUNTIF('HOLIDAYS NF'!$B:$DZ,CONCATENATE(LEFT($A9,2),Y$2))<>0),\"Closed\",\"Open\")","v":"Open"},{"$f":"IF((COUNTIF('HOLIDAYS NF'!$B:$DZ,CONCATENATE(LEFT($A9,2),Z$2))<>0),\"Closed\",\"Open\")","v":"Open"},{"$f":"IF((COUNTIF('HOLIDAYS NF'!$B:$DZ,CONCATENATE(LEFT($A9,2),AA$2))<>0),\"Closed\",\"Open\")","v":"Open"},{"$f":"IF((COUNTIF('HOLIDAYS NF'!$B:$DZ,CONCATENATE(LEFT($A9,2),AB$2))<>0),\"Closed\",\"Open\")","v":"Open"},{"$f":"IF((COUNTIF('HOLIDAYS NF'!$B:$DZ,CONCATENATE(LEFT($A9,2),AC$2))<>0),\"Closed\",\"Open\")","v":"Open"},{"$f":"IF((COUNTIF('HOLIDAYS NF'!$B:$DZ,CONCATENATE(LEFT($A9,2),AD$2))<>0),\"Closed\",\"Open\")","v":"Open"},{"$f":"IF((COUNTIF('HOLIDAYS NF'!$B:$DZ,CONCATENATE(LEFT($A9,2),AE$2))<>0),\"Closed\",\"Open\")","v":"Open"},{"$f":"IF((COUNTIF('HOLIDAYS NF'!$B:$DZ,CONCATENATE(LEFT($A9,2),AF$2))<>0),\"Closed\",\"Open\")","v":"Open"},{"$f":"IF((COUNTIF('HOLIDAYS NF'!$B:$DZ,CONCATENATE(LEFT($A9,2),AG$2))<>0),\"Closed\",\"Open\")","v":"Open"},{"$f":"IF((COUNTIF('HOLIDAYS NF'!$B:$DZ,CONCATENATE(LEFT($A9,2),AH$2))<>0),\"Closed\",\"Open\")","v":"Open"},{"$f":"IF((COUNTIF('HOLIDAYS NF'!$B:$DZ,CONCATENATE(LEFT($A9,2),AI$2))<>0),\"Closed\",\"Open\")","v":"Open"},{"$f":"IF((COUNTIF('HOLIDAYS NF'!$B:$DZ,CONCATENATE(LEFT($A9,2),AJ$2))<>0),\"Closed\",\"Open\")","v":"Open"},{"$f":"IF((COUNTIF('HOLIDAYS NF'!$B:$DZ,CONCATENATE(LEFT($A9,2),AK$2))<>0),\"Closed\",\"Open\")","v":"Open"},{"$f":"IF((COUNTIF('HOLIDAYS NF'!$B:$DZ,CONCATENATE(LEFT($A9,2),AL$2))<>0),\"Closed\",\"Open\")","v":"Open"},{"$f":"IF((COUNTIF('HOLIDAYS NF'!$B:$DZ,CONCATENATE(LEFT($A9,2),AM$2))<>0),\"Closed\",\"Open\")","v":"Open"},{"$f":"IF((COUNTIF('HOLIDAYS NF'!$B:$DZ,CONCATENATE(LEFT($A9,2),AN$2))<>0),\"Closed\",\"Open\")","v":"Open"},{"$f":"IF((COUNTIF('HOLIDAYS NF'!$B:$DZ,CONCATENATE(LEFT($A9,2),AO$2))<>0),\"Closed\",\"Open\")","v":"Open"},{"$f":"IF((COUNTIF('HOLIDAYS NF'!$B:$DZ,CONCATENATE(LEFT($A9,2),AP$2))<>0),\"Closed\",\"Open\")","v":"Open"},{"$f":"IF((COUNTIF('HOLIDAYS NF'!$B:$DZ,CONCATENATE(LEFT($A9,2),AQ$2))<>0),\"Closed\",\"Open\")","v":"Open"},{"$f":"IF((COUNTIF('HOLIDAYS NF'!$B:$DZ,CONCATENATE(LEFT($A9,2),AR$2))<>0),\"Closed\",\"Open\")","v":"Open"},{"$f":"IF((COUNTIF('HOLIDAYS NF'!$B:$DZ,CONCATENATE(LEFT($A9,2),AS$2))<>0),\"Closed\",\"Open\")","v":"Open"},{"$f":"IF((COUNTIF('HOLIDAYS NF'!$B:$DZ,CONCATENATE(LEFT($A9,2),AT$2))<>0),\"Closed\",\"Open\")","v":"Open"},{"$f":"IF((COUNTIF('HOLIDAYS NF'!$B:$DZ,CONCATENATE(LEFT($A9,2),AU$2))<>0),\"Closed\",\"Open\")","v":"Open"},{"$f":"IF((COUNTIF('HOLIDAYS NF'!$B:$DZ,CONCATENATE(LEFT($A9,2),AV$2))<>0),\"Closed\",\"Open\")","v":"Open"},{"$f":"IF((COUNTIF('HOLIDAYS NF'!$B:$DZ,CONCATENATE(LEFT($A9,2),AW$2))<>0),\"Closed\",\"Open\")","v":"Open"},{"$f":"IF((COUNTIF('HOLIDAYS NF'!$B:$DZ,CONCATENATE(LEFT($A9,2),AX$2))<>0),\"Closed\",\"Open\")","v":"Open"},{"$f":"IF((COUNTIF('HOLIDAYS NF'!$B:$DZ,CONCATENATE(LEFT($A9,2),AY$2))<>0),\"Closed\",\"Open\")","v":"Open"},{"$f":"IF((COUNTIF('HOLIDAYS NF'!$B:$DZ,CONCATENATE(LEFT($A9,2),AZ$2))<>0),\"Closed\",\"Open\")","v":"Open"},{"$f":"IF((COUNTIF('HOLIDAYS NF'!$B:$DZ,CONCATENATE(LEFT($A9,2),BA$2))<>0),\"Closed\",\"Open\")","v":"Open"},{"$f":"IF((COUNTIF('HOLIDAYS NF'!$B:$DZ,CONCATENATE(LEFT($A9,2),BB$2))<>0),\"Closed\",\"Open\")","v":"Open"},{"$f":"IF((COUNTIF('HOLIDAYS NF'!$B:$DZ,CONCATENATE(LEFT($A9,2),BC$2))<>0),\"Closed\",\"Open\")","v":"Open"},{"$f":"IF((COUNTIF('HOLIDAYS NF'!$B:$DZ,CONCATENATE(LEFT($A9,2),BD$2))<>0),\"Closed\",\"Open\")","v":"Open"},{"$f":"IF((COUNTIF('HOLIDAYS NF'!$B:$DZ,CONCATENATE(LEFT($A9,2),BE$2))<>0),\"Closed\",\"Open\")","v":"Open"},{"$f":"IF((COUNTIF('HOLIDAYS NF'!$B:$DZ,CONCATENATE(LEFT($A9,2),BF$2))<>0),\"Closed\",\"Open\")","v":"Open"},{"$f":"IF((COUNTIF('HOLIDAYS NF'!$B:$DZ,CONCATENATE(LEFT($A9,2),BG$2))<>0),\"Closed\",\"Open\")","v":"Open"},{"$f":"IF((COUNTIF('HOLIDAYS NF'!$B:$DZ,CONCATENATE(LEFT($A9,2),BH$2))<>0),\"Closed\",\"Open\")","v":"Open"},{"$f":"IF((COUNTIF('HOLIDAYS NF'!$B:$DZ,CONCATENATE(LEFT($A9,2),BI$2))<>0),\"Closed\",\"Open\")","v":"Open"},{"$f":"IF((COUNTIF('HOLIDAYS NF'!$B:$DZ,CONCATENATE(LEFT($A9,2),BJ$2))<>0),\"Closed\",\"Open\")","v":"Open"}]
["BR",{"$f":"SUMIF(Holdings!G:G,(CONCATENATE($B$1,\"-\",A10,)),Holdings!H:H)","v":0},{"$f":"HLOOKUP(A10,'[1]HOLIDAYS NF'!B$1:BR$65536,6,FALSE)","v":"Brazil"},{"$f":"IF((COUNTIF('HOLIDAYS NF'!$B:$DZ,CONCATENATE(LEFT($A10,2),D$2))<>0),\"Closed\",\"Open\")","v":"Open"},{"$f":"IF((COUNTIF('HOLIDAYS NF'!$B:$DZ,CONCATENATE(LEFT($A10,2),E$2))<>0),\"Closed\",\"Open\")","v":"Open"},{"$f":"IF((COUNTIF('HOLIDAYS NF'!$B:$DZ,CONCATENATE(LEFT($A10,2),F$2))<>0),\"Closed\",\"Open\")","v":"Open"},{"$f":"IF((COUNTIF('HOLIDAYS NF'!$B:$DZ,CONCATENATE(LEFT($A10,2),G$2))<>0),\"Closed\",\"Open\")","v":"Open"},{"$f":"IF((COUNTIF('HOLIDAYS NF'!$B:$DZ,CONCATENATE(LEFT($A10,2),H$2))<>0),\"Closed\",\"Open\")","v":"Open"},{"$f":"IF((COUNTIF('HOLIDAYS NF'!$B:$DZ,CONCATENATE(LEFT($A10,2),I$2))<>0),\"Closed\",\"Open\")","v":"Open"},{"$f":"IF((COUNTIF('HOLIDAYS NF'!$B:$DZ,CONCATENATE(LEFT($A10,2),J$2))<>0),\"Closed\",\"Open\")","v":"Open"},{"$f":"IF((COUNTIF('HOLIDAYS NF'!$B:$DZ,CONCATENATE(LEFT($A10,2),K$2))<>0),\"Closed\",\"Open\")","v":"Open"},{"$f":"IF((COUNTIF('HOLIDAYS NF'!$B:$DZ,CONCATENATE(LEFT($A10,2),L$2))<>0),\"Closed\",\"Open\")","v":"Open"},{"$f":"IF((COUNTIF('HOLIDAYS NF'!$B:$DZ,CONCATENATE(LEFT($A10,2),M$2))<>0),\"Closed\",\"Open\")","v":"Open"},{"$f":"IF((COUNTIF('HOLIDAYS NF'!$B:$DZ,CONCATENATE(LEFT($A10,2),N$2))<>0),\"Closed\",\"Open\")","v":"Open"},{"$f":"IF((COUNTIF('HOLIDAYS NF'!$B:$DZ,CONCATENATE(LEFT($A10,2),O$2))<>0),\"Closed\",\"Open\")","v":"Open"},{"$f":"IF((COUNTIF('HOLIDAYS NF'!$B:$DZ,CONCATENATE(LEFT($A10,2),P$2))<>0),\"Closed\",\"Open\")","v":"Open"},{"$f":"IF((COUNTIF('HOLIDAYS NF'!$B:$DZ,CONCATENATE(LEFT($A10,2),Q$2))<>0),\"Closed\",\"Open\")","v":"Open"},{"$f":"IF((COUNTIF('HOLIDAYS NF'!$B:$DZ,CONCATENATE(LEFT($A10,2),R$2))<>0),\"Closed\",\"Open\")","v":"Open"},{"$f":"IF((COUNTIF('HOLIDAYS NF'!$B:$DZ,CONCATENATE(LEFT($A10,2),S$2))<>0),\"Closed\",\"Open\")","v":"Open"},{"$f":"IF((COUNTIF('HOLIDAYS NF'!$B:$DZ,CONCATENATE(LEFT($A10,2),T$2))<>0),\"Closed\",\"Open\")","v":"Open"},{"$f":"IF((COUNTIF('HOLIDAYS NF'!$B:$DZ,CONCATENATE(LEFT($A10,2),U$2))<>0),\"Closed\",\"Open\")","v":"Open"},{"$f":"IF((COUNTIF('HOLIDAYS NF'!$B:$DZ,CONCATENATE(LEFT($A10,2),V$2))<>0),\"Closed\",\"Open\")","v":"Open"},{"$f":"IF((COUNTIF('HOLIDAYS NF'!$B:$DZ,CONCATENATE(LEFT($A10,2),W$2))<>0),\"Closed\",\"Open\")","v":"Open"},{"$f":"IF((COUNTIF('HOLIDAYS NF'!$B:$DZ,CONCATENATE(LEFT($A10,2),X$2))<>0),\"Closed\",\"Open\")","v":"Open"},{"$f":"IF((COUNTIF('HOLIDAYS NF'!$B:$DZ,CONCATENATE(LEFT($A10,2),Y$2))<>0),\"Closed\",\"Open\")","v":"Open"},{"$f":"IF((COUNTIF('HOLIDAYS NF'!$B:$DZ,CONCATENATE(LEFT($A10,2),Z$2))<>0),\"Closed\",\"Open\")","v":"Open"},{"$f":"IF((COUNTIF('HOLIDAYS NF'!$B:$DZ,CONCATENATE(LEFT($A10,2),AA$2))<>0),\"Closed\",\"Open\")","v":"Open"},{"$f":"IF((COUNTIF('HOLIDAYS NF'!$B:$DZ,CONCATENATE(LEFT($A10,2),AB$2))<>0),\"Closed\",\"Open\")","v":"Open"},{"$f":"IF((COUNTIF('HOLIDAYS NF'!$B:$DZ,CONCATENATE(LEFT($A10,2),AC$2))<>0),\"Closed\",\"Open\")","v":"Open"},{"$f":"IF((COUNTIF('HOLIDAYS NF'!$B:$DZ,CONCATENATE(LEFT($A10,2),AD$2))<>0),\"Closed\",\"Open\")","v":"Open"},{"$f":"IF((COUNTIF('HOLIDAYS NF'!$B:$DZ,CONCATENATE(LEFT($A10,2),AE$2))<>0),\"Closed\",\"Open\")","v":"Open"},{"$f":"IF((COUNTIF('HOLIDAYS NF'!$B:$DZ,CONCATENATE(LEFT($A10,2),AF$2))<>0),\"Closed\",\"Open\")","v":"Open"},{"$f":"IF((COUNTIF('HOLIDAYS NF'!$B:$DZ,CONCATENATE(LEFT($A10,2),AG$2))<>0),\"Closed\",\"Open\")","v":"Open"},{"$f":"IF((COUNTIF('HOLIDAYS NF'!$B:$DZ,CONCATENATE(LEFT($A10,2),AH$2))<>0),\"Closed\",\"Open\")","v":"Open"},{"$f":"IF((COUNTIF('HOLIDAYS NF'!$B:$DZ,CONCATENATE(LEFT($A10,2),AI$2))<>0),\"Closed\",\"Open\")","v":"Open"},{"$f":"IF((COUNTIF('HOLIDAYS NF'!$B:$DZ,CONCATENATE(LEFT($A10,2),AJ$2))<>0),\"Closed\",\"Open\")","v":"Open"},{"$f":"IF((COUNTIF('HOLIDAYS NF'!$B:$DZ,CONCATENATE(LEFT($A10,2),AK$2))<>0),\"Closed\",\"Open\")","v":"Open"},{"$f":"IF((COUNTIF('HOLIDAYS NF'!$B:$DZ,CONCATENATE(LEFT($A10,2),AL$2))<>0),\"Closed\",\"Open\")","v":"Open"},{"$f":"IF((COUNTIF('HOLIDAYS NF'!$B:$DZ,CONCATENATE(LEFT($A10,2),AM$2))<>0),\"Closed\",\"Open\")","v":"Open"},{"$f":"IF((COUNTIF('HOLIDAYS NF'!$B:$DZ,CONCATENATE(LEFT($A10,2),AN$2))<>0),\"Closed\",\"Open\")","v":"Open"},{"$f":"IF((COUNTIF('HOLIDAYS NF'!$B:$DZ,CONCATENATE(LEFT($A10,2),AO$2))<>0),\"Closed\",\"Open\")","v":"Open"},{"$f":"IF((COUNTIF('HOLIDAYS NF'!$B:$DZ,CONCATENATE(LEFT($A10,2),AP$2))<>0),\"Closed\",\"Open\")","v":"Open"},{"$f":"IF((COUNTIF('HOLIDAYS NF'!$B:$DZ,CONCATENATE(LEFT($A10,2),AQ$2))<>0),\"Closed\",\"Open\")","v":"Open"},{"$f":"IF((COUNTIF('HOLIDAYS NF'!$B:$DZ,CONCATENATE(LEFT($A10,2),AR$2))<>0),\"Closed\",\"Open\")","v":"Open"},{"$f":"IF((COUNTIF('HOLIDAYS NF'!$B:$DZ,CONCATENATE(LEFT($A10,2),AS$2))<>0),\"Closed\",\"Open\")","v":"Open"},{"$f":"IF((COUNTIF('HOLIDAYS NF'!$B:$DZ,CONCATENATE(LEFT($A10,2),AT$2))<>0),\"Closed\",\"Open\")","v":"Open"},{"$f":"IF((COUNTIF('HOLIDAYS NF'!$B:$DZ,CONCATENATE(LEFT($A10,2),AU$2))<>0),\"Closed\",\"Open\")","v":"Open"},{"$f":"IF((COUNTIF('HOLIDAYS NF'!$B:$DZ,CONCATENATE(LEFT($A10,2),AV$2))<>0),\"Closed\",\"Open\")","v":"Open"},{"$f":"IF((COUNTIF('HOLIDAYS NF'!$B:$DZ,CONCATENATE(LEFT($A10,2),AW$2))<>0),\"Closed\",\"Open\")","v":"Open"},{"$f":"IF((COUNTIF('HOLIDAYS NF'!$B:$DZ,CONCATENATE(LEFT($A10,2),AX$2))<>0),\"Closed\",\"Open\")","v":"Open"},{"$f":"IF((COUNTIF('HOLIDAYS NF'!$B:$DZ,CONCATENATE(LEFT($A10,2),AY$2))<>0),\"Closed\",\"Open\")","v":"Open"},{"$f":"IF((COUNTIF('HOLIDAYS NF'!$B:$DZ,CONCATENATE(LEFT($A10,2),AZ$2))<>0),\"Closed\",\"Open\")","v":"Open"},{"$f":"IF((COUNTIF('HOLIDAYS NF'!$B:$DZ,CONCATENATE(LEFT($A10,2),BA$2))<>0),\"Closed\",\"Open\")","v":"Open"},{"$f":"IF((COUNTIF('HOLIDAYS NF'!$B:$DZ,CONCATENATE(LEFT($A10,2),BB$2))<>0),\"Closed\",\"Open\")","v":"Open"},{"$f":"IF((COUNTIF('HOLIDAYS NF'!$B:$DZ,CONCATENATE(LEFT($A10,2),BC$2))<>0),\"Closed\",\"Open\")","v":"Open"},{"$f":"IF((COUNTIF('HOLIDAYS NF'!$B:$DZ,CONCATENATE(LEFT($A10,2),BD$2))<>0),\"Closed\",\"Open\")","v":"Open"},{"$f":"IF((COUNTIF('HOLIDAYS NF'!$B:$DZ,CONCATENATE(LEFT($A10,2),BE$2))<>0),\"Closed\",\"Open\")","v":"Open"},{"$f":"IF((COUNTIF('HOLIDAYS NF'!$B:$DZ,CONCATENATE(LEFT($A10,2),BF$2))<>0),\"Closed\",\"Open\")","v":"Open"},{"$f":"IF((COUNTIF('HOLIDAYS NF'!$B:$DZ,CONCATENATE(LEFT($A10,2),BG$2))<>0),\"Closed\",\"Open\")","v":"Open"},{"$f":"IF((COUNTIF('HOLIDAYS NF'!$B:$DZ,CONCATENATE(LEFT($A10,2),BH$2))<>0),\"Closed\",\"Open\")","v":"Open"},{"$f":"IF((COUNTIF('HOLIDAYS NF'!$B:$DZ,CONCATENATE(LEFT($A10,2),BI$2))<>0),\"Closed\",\"Open\")","v":"Open"},{"$f":"IF((COUNTIF('HOLIDAYS NF'!$B:$DZ,CONCATENATE(LEFT($A10,2),BJ$2))<>0),\"Closed\",\"Open\")","v":"Open"}]
["CA",{"$f":"SUMIF(Holdings!G:G,(CONCATENATE($B$1,\"-\",A11,)),Holdings!H:H)","v":0},{"$f":"HLOOKUP(A11,'[1]HOLIDAYS NF'!B$1:BR$65536,6,FALSE)","v":"Canada"},{"$f":"IF((COUNTIF('HOLIDAYS NF'!$B:$DZ,CONCATENATE(LEFT($A11,2),D$2))<>0),\"Closed\",\"Open\")","v":"Open"},{"$f":"IF((COUNTIF('HOLIDAYS NF'!$B:$DZ,CONCATENATE(LEFT($A11,2),E$2))<>0),\"Closed\",\"Open\")","v":"Open"},{"$f":"IF((COUNTIF('HOLIDAYS NF'!$B:$DZ,CONCATENATE(LEFT($A11,2),F$2))<>0),\"Closed\",\"Open\")","v":"Open"},{"$f":"IF((COUNTIF('HOLIDAYS NF'!$B:$DZ,CONCATENATE(LEFT($A11,2),G$2))<>0),\"Closed\",\"Open\")","v":"Open"},{"$f":"IF((COUNTIF('HOLIDAYS NF'!$B:$DZ,CONCATENATE(LEFT($A11,2),H$2))<>0),\"Closed\",\"Open\")","v":"Open"},{"$f":"IF((COUNTIF('HOLIDAYS NF'!$B:$DZ,CONCATENATE(LEFT($A11,2),I$2))<>0),\"Closed\",\"Open\")","v":"Open"},{"$f":"IF((COUNTIF('HOLIDAYS NF'!$B:$DZ,CONCATENATE(LEFT($A11,2),J$2))<>0),\"Closed\",\"Open\")","v":"Open"},{"$f":"IF((COUNTIF('HOLIDAYS NF'!$B:$DZ,CONCATENATE(LEFT($A11,2),K$2))<>0),\"Closed\",\"Open\")","v":"Open"},{"$f":"IF((COUNTIF('HOLIDAYS NF'!$B:$DZ,CONCATENATE(LEFT($A11,2),L$2))<>0),\"Closed\",\"Open\")","v":"Open"},{"$f":"IF((COUNTIF('HOLIDAYS NF'!$B:$DZ,CONCATENATE(LEFT($A11,2),M$2))<>0),\"Closed\",\"Open\")","v":"Open"},{"$f":"IF((COUNTIF('HOLIDAYS NF'!$B:$DZ,CONCATENATE(LEFT($A11,2),N$2))<>0),\"Closed\",\"Open\")","v":"Open"},{"$f":"IF((COUNTIF('HOLIDAYS NF'!$B:$DZ,CONCATENATE(LEFT($A11,2),O$2))<>0),\"Closed\",\"Open\")","v":"Open"},{"$f":"IF((COUNTIF('HOLIDAYS NF'!$B:$DZ,CONCATENATE(LEFT($A11,2),P$2))<>0),\"Closed\",\"Open\")","v":"Open"},{"$f":"IF((COUNTIF('HOLIDAYS NF'!$B:$DZ,CONCATENATE(LEFT($A11,2),Q$2))<>0),\"Closed\",\"Open\")","v":"Open"},{"$f":"IF((COUNTIF('HOLIDAYS NF'!$B:$DZ,CONCATENATE(LEFT($A11,2),R$2))<>0),\"Closed\",\"Open\")","v":"Open"},{"$f":"IF((COUNTIF('HOLIDAYS NF'!$B:$DZ,CONCATENATE(LEFT($A11,2),S$2))<>0),\"Closed\",\"Open\")","v":"Open"},{"$f":"IF((COUNTIF('HOLIDAYS NF'!$B:$DZ,CONCATENATE(LEFT($A11,2),T$2))<>0),\"Closed\",\"Open\")","v":"Open"},{"$f":"IF((COUNTIF('HOLIDAYS NF'!$B:$DZ,CONCATENATE(LEFT($A11,2),U$2))<>0),\"Closed\",\"Open\")","v":"Open"},{"$f":"IF((COUNTIF('HOLIDAYS NF'!$B:$DZ,CONCATENATE(LEFT($A11,2),V$2))<>0),\"Closed\",\"Open\")","v":"Open"},{"$f":"IF((COUNTIF('HOLIDAYS NF'!$B:$DZ,CONCATENATE(LEFT($A11,2),W$2))<>0),\"Closed\",\"Open\")","v":"Open"},{"$f":"IF((COUNTIF('HOLIDAYS NF'!$B:$DZ,CONCATENATE(LEFT($A11,2),X$2))<>0),\"Closed\",\"Open\")","v":"Open"},{"$f":"IF((COUNTIF('HOLIDAYS NF'!$B:$DZ,CONCATENATE(LEFT($A11,2),Y$2))<>0),\"Closed\",\"Open\")","v":"Open"},{"$f":"IF((COUNTIF('HOLIDAYS NF'!$B:$DZ,CONCATENATE(LEFT($A11,2),Z$2))<>0),\"Closed\",\"Open\")","v":"Open"},{"$f":"IF((COUNTIF('HOLIDAYS NF'!$B:$DZ,CONCATENATE(LEFT($A11,2),AA$2))<>0),\"Closed\",\"Open\")","v":"Open"},{"$f":"IF((COUNTIF('HOLIDAYS NF'!$B:$DZ,CONCATENATE(LEFT($A11,2),AB$2))<>0),\"Closed\",\"Open\")","v":"Open"},{"$f":"IF((COUNTIF('HOLIDAYS NF'!$B:$DZ,CONCATENATE(LEFT($A11,2),AC$2))<>0),\"Closed\",\"Open\")","v":"Open"},{"$f":"IF((COUNTIF('HOLIDAYS NF'!$B:$DZ,CONCATENATE(LEFT($A11,2),AD$2))<>0),\"Closed\",\"Open\")","v":"Open"},{"$f":"IF((COUNTIF('HOLIDAYS NF'!$B:$DZ,CONCATENATE(LEFT($A11,2),AE$2))<>0),\"Closed\",\"Open\")","v":"Open"},{"$f":"IF((COUNTIF('HOLIDAYS NF'!$B:$DZ,CONCATENATE(LEFT($A11,2),AF$2))<>0),\"Closed\",\"Open\")","v":"Open"},{"$f":"IF((COUNTIF('HOLIDAYS NF'!$B:$DZ,CONCATENATE(LEFT($A11,2),AG$2))<>0),\"Closed\",\"Open\")","v":"Open"},{"$f":"IF((COUNTIF('HOLIDAYS NF'!$B:$DZ,CONCATENATE(LEFT($A11,2),AH$2))<>0),\"Closed\",\"Open\")","v":"Open"},{"$f":"IF((COUNTIF('HOLIDAYS NF'!$B:$DZ,CONCATENATE(LEFT($A11,2),AI$2))<>0),\"Closed\",\"Open\")","v":"Open"},{"$f":"IF((COUNTIF('HOLIDAYS NF'!$B:$DZ,CONCATENATE(LEFT($A11,2),AJ$2))<>0),\"Closed\",\"Open\")","v":"Open"},{"$f":"IF((COUNTIF('HOLIDAYS NF'!$B:$DZ,CONCATENATE(LEFT($A11,2),AK$2))<>0),\"Closed\",\"Open\")","v":"Open"},{"$f":"IF((COUNTIF('HOLIDAYS NF'!$B:$DZ,CONCATENATE(LEFT($A11,2),AL$2))<>0),\"Closed\",\"Open\")","v":"Open"},{"$f":"IF((COUNTIF('HOLIDAYS NF'!$B:$DZ,CONCATENATE(LEFT($A11,2),AM$2))<>0),\"Closed\",\"Open\")","v":"Open"},{"$f":"IF((COUNTIF('HOLIDAYS NF'!$B:$DZ,CONCATENATE(LEFT($A11,2),AN$2))<>0),\"Closed\",\"Open\")","v":"Open"},{"$f":"IF((COUNTIF('HOLIDAYS NF'!$B:$DZ,CONCATENATE(LEFT($A11,2),AO$2))<>0),\"Closed\",\"Open\")","v":"Open"},{"$f":"IF((COUNTIF('HOLIDAYS NF'!$B:$DZ,CONCATENATE(LEFT($A11,2),AP$2))<>0),\"Closed\",\"Open\")","v":"Open"},{"$f":"IF((COUNTIF('HOLIDAYS NF'!$B:$DZ,CONCATENATE(LEFT($A11,2),AQ$2))<>0),\"Closed\",\"Open\")","v":"Open"},{"$f":"IF((COUNTIF('HOLIDAYS NF'!$B:$DZ,CONCATENATE(LEFT($A11,2),AR$2))<>0),\"Closed\",\"Open\")","v":"Open"},{"$f":"IF((COUNTIF('HOLIDAYS NF'!$B:$DZ,CONCATENATE(LEFT($A11,2),AS$2))<>0),\"Closed\",\"Open\")","v":"Open"},{"$f":"IF((COUNTIF('HOLIDAYS NF'!$B:$DZ,CONCATENATE(LEFT($A11,2),AT$2))<>0),\"Closed\",\"Open\")","v":"Open"},{"$f":"IF((COUNTIF('HOLIDAYS NF'!$B:$DZ,CONCATENATE(LEFT($A11,2),AU$2))<>0),\"Closed\",\"Open\")","v":"Open"},{"$f":"IF((COUNTIF('HOLIDAYS NF'!$B:$DZ,CONCATENATE(LEFT($A11,2),AV$2))<>0),\"Closed\",\"Open\")","v":"Open"},{"$f":"IF((COUNTIF('HOLIDAYS NF'!$B:$DZ,CONCATENATE(LEFT($A11,2),AW$2))<>0),\"Closed\",\"Open\")","v":"Open"},{"$f":"IF((COUNTIF('HOLIDAYS NF'!$B:$DZ,CONCATENATE(LEFT($A11,2),AX$2))<>0),\"Closed\",\"Open\")","v":"Open"},{"$f":"IF((COUNTIF('HOLIDAYS NF'!$B:$DZ,CONCATENATE(LEFT($A11,2),AY$2))<>0),\"Closed\",\"Open\")","v":"Open"},{"$f":"IF((COUNTIF('HOLIDAYS NF'!$B:$DZ,CONCATENATE(LEFT($A11,2),AZ$2))<>0),\"Closed\",\"Open\")","v":"Open"},{"$f":"IF((COUNTIF('HOLIDAYS NF'!$B:$DZ,CONCATENATE(LEFT($A11,2),BA$2))<>0),\"Closed\",\"Open\")","v":"Open"},{"$f":"IF((COUNTIF('HOLIDAYS NF'!$B:$DZ,CONCATENATE(LEFT($A11,2),BB$2))<>0),\"Closed\",\"Open\")","v":"Open"},{"$f":"IF((COUNTIF('HOLIDAYS NF'!$B:$DZ,CONCATENATE(LEFT($A11,2),BC$2))<>0),\"Closed\",\"Open\")","v":"Open"},{"$f":"IF((COUNTIF('HOLIDAYS NF'!$B:$DZ,CONCATENATE(LEFT($A11,2),BD$2))<>0),\"Closed\",\"Open\")","v":"Open"},{"$f":"IF((COUNTIF('HOLIDAYS NF'!$B:$DZ,CONCATENATE(LEFT($A11,2),BE$2))<>0),\"Closed\",\"Open\")","v":"Open"},{"$f":"IF((COUNTIF('HOLIDAYS NF'!$B:$DZ,CONCATENATE(LEFT($A11,2),BF$2))<>0),\"Closed\",\"Open\")","v":"Open"},{"$f":"IF((COUNTIF('HOLIDAYS NF'!$B:$DZ,CONCATENATE(LEFT($A11,2),BG$2))<>0),\"Closed\",\"Open\")","v":"Open"},{"$f":"IF((COUNTIF('HOLIDAYS NF'!$B:$DZ,CONCATENATE(LEFT($A11,2),BH$2))<>0),\"Closed\",\"Open\")","v":"Open"},{"$f":"IF((COUNTIF('HOLIDAYS NF'!$B:$DZ,CONCATENATE(LEFT($A11,2),BI$2))<>0),\"Closed\",\"Open\")","v":"Open"},{"$f":"IF((COUNTIF('HOLIDAYS NF'!$B:$DZ,CONCATENATE(LEFT($A11,2),BJ$2))<>0),\"Closed\",\"Open\")","v":"Open"}]
["CH",{"$f":"SUMIF(Holdings!G:G,(CONCATENATE($B$1,\"-\",A12,)),Holdings!H:H)","v":0},{"$f":"HLOOKUP(A12,'[1]HOLIDAYS NF'!B$1:BR$65536,6,FALSE)","v":"Switzerland"},{"$f":"IF((COUNTIF('HOLIDAYS NF'!$B:$DZ,CONCATENATE(LEFT($A12,2),D$2))<>0),\"Closed\",\"Open\")","v":"Open"},{"$f":"IF((COUNTIF('HOLIDAYS NF'!$B:$DZ,CONCATENATE(LEFT($A12,2),E$2))<>0),\"Closed\",\"Open\")","v":"Open"},{"$f":"IF((COUNTIF('HOLIDAYS NF'!$B:$DZ,CONCATENATE(LEFT($A12,2),F$2))<>0),\"Closed\",\"Open\")","v":"Open"},{"$f":"IF((COUNTIF('HOLIDAYS NF'!$B:$DZ,CONCATENATE(LEFT($A12,2),G$2))<>0),\"Closed\",\"Open\")","v":"Open"},{"$f":"IF((COUNTIF('HOLIDAYS NF'!$B:$DZ,CONCATENATE(LEFT($A12,2),H$2))<>0),\"Closed\",\"Open\")","v":"Open"},{"$f":"IF((COUNTIF('HOLIDAYS NF'!$B:$DZ,CONCATENATE(LEFT($A12,2),I$2))<>0),\"Closed\",\"Open\")","v":"Open"},{"$f":"IF((COUNTIF('HOLIDAYS NF'!$B:$DZ,CONCATENATE(LEFT($A12,2),J$2))<>0),\"Closed\",\"Open\")","v":"Open"},{"$f":"IF((COUNTIF('HOLIDAYS NF'!$B:$DZ,CONCATENATE(LEFT($A12,2),K$2))<>0),\"Closed\",\"Open\")","v":"Open"},{"$f":"IF((COUNTIF('HOLIDAYS NF'!$B:$DZ,CONCATENATE(LEFT($A12,2),L$2))<>0),\"Closed\",\"Open\")","v":"Open"},{"$f":"IF((COUNTIF('HOLIDAYS NF'!$B:$DZ,CONCATENATE(LEFT($A12,2),M$2))<>0),\"Closed\",\"Open\")","v":"Open"},{"$f":"IF((COUNTIF('HOLIDAYS NF'!$B:$DZ,CONCATENATE(LEFT($A12,2),N$2))<>0),\"Closed\",\"Open\")","v":"Open"},{"$f":"IF((COUNTIF('HOLIDAYS NF'!$B:$DZ,CONCATENATE(LEFT($A12,2),O$2))<>0),\"Closed\",\"Open\")","v":"Open"},{"$f":"IF((COUNTIF('HOLIDAYS NF'!$B:$DZ,CONCATENATE(LEFT($A12,2),P$2))<>0),\"Closed\",\"Open\")","v":"Open"},{"$f":"IF((COUNTIF('HOLIDAYS NF'!$B:$DZ,CONCATENATE(LEFT($A12,2),Q$2))<>0),\"Closed\",\"Open\")","v":"Open"},{"$f":"IF((COUNTIF('HOLIDAYS NF'!$B:$DZ,CONCATENATE(LEFT($A12,2),R$2))<>0),\"Closed\",\"Open\")","v":"Open"},{"$f":"IF((COUNTIF('HOLIDAYS NF'!$B:$DZ,CONCATENATE(LEFT($A12,2),S$2))<>0),\"Closed\",\"Open\")","v":"Open"},{"$f":"IF((COUNTIF('HOLIDAYS NF'!$B:$DZ,CONCATENATE(LEFT($A12,2),T$2))<>0),\"Closed\",\"Open\")","v":"Open"},{"$f":"IF((COUNTIF('HOLIDAYS NF'!$B:$DZ,CONCATENATE(LEFT($A12,2),U$2))<>0),\"Closed\",\"Open\")","v":"Open"},{"$f":"IF((COUNTIF('HOLIDAYS NF'!$B:$DZ,CONCATENATE(LEFT($A12,2),V$2))<>0),\"Closed\",\"Open\")","v":"Open"},{"$f":"IF((COUNTIF('HOLIDAYS NF'!$B:$DZ,CONCATENATE(LEFT($A12,2),W$2))<>0),\"Closed\",\"Open\")","v":"Open"},{"$f":"IF((COUNTIF('HOLIDAYS NF'!$B:$DZ,CONCATENATE(LEFT($A12,2),X$2))<>0),\"Closed\",\"Open\")","v":"Open"},{"$f":"IF((COUNTIF('HOLIDAYS NF'!$B:$DZ,CONCATENATE(LEFT($A12,2),Y$2))<>0),\"Closed\",\"Open\")","v":"Open"},{"$f":"IF((COUNTIF('HOLIDAYS NF'!$B:$DZ,CONCATENATE(LEFT($A12,2),Z$2))<>0),\"Closed\",\"Open\")","v":"Open"},{"$f":"IF((COUNTIF('HOLIDAYS NF'!$B:$DZ,CONCATENATE(LEFT($A12,2),AA$2))<>0),\"Closed\",\"Open\")","v":"Open"},{"$f":"IF((COUNTIF('HOLIDAYS NF'!$B:$DZ,CONCATENATE(LEFT($A12,2),AB$2))<>0),\"Closed\",\"Open\")","v":"Open"},{"$f":"IF((COUNTIF('HOLIDAYS NF'!$B:$DZ,CONCATENATE(LEFT($A12,2),AC$2))<>0),\"Closed\",\"Open\")","v":"Open"},{"$f":"IF((COUNTIF('HOLIDAYS NF'!$B:$DZ,CONCATENATE(LEFT($A12,2),AD$2))<>0),\"Closed\",\"Open\")","v":"Open"},{"$f":"IF((COUNTIF('HOLIDAYS NF'!$B:$DZ,CONCATENATE(LEFT($A12,2),AE$2))<>0),\"Closed\",\"Open\")","v":"Open"},{"$f":"IF((COUNTIF('HOLIDAYS NF'!$B:$DZ,CONCATENATE(LEFT($A12,2),AF$2))<>0),\"Closed\",\"Open\")","v":"Open"},{"$f":"IF((COUNTIF('HOLIDAYS NF'!$B:$DZ,CONCATENATE(LEFT($A12,2),AG$2))<>0),\"Closed\",\"Open\")","v":"Open"},{"$f":"IF((COUNTIF('HOLIDAYS NF'!$B:$DZ,CONCATENATE(LEFT($A12,2),AH$2))<>0),\"Closed\",\"Open\")","v":"Open"},{"$f":"IF((COUNTIF('HOLIDAYS NF'!$B:$DZ,CONCATENATE(LEFT($A12,2),AI$2))<>0),\"Closed\",\"Open\")","v":"Open"},{"$f":"IF((COUNTIF('HOLIDAYS NF'!$B:$DZ,CONCATENATE(LEFT($A12,2),AJ$2))<>0),\"Closed\",\"Open\")","v":"Open"},{"$f":"IF((COUNTIF('HOLIDAYS NF'!$B:$DZ,CONCATENATE(LEFT($A12,2),AK$2))<>0),\"Closed\",\"Open\")","v":"Open"},{"$f":"IF((COUNTIF('HOLIDAYS NF'!$B:$DZ,CONCATENATE(LEFT($A12,2),AL$2))<>0),\"Closed\",\"Open\")","v":"Open"},{"$f":"IF((COUNTIF('HOLIDAYS NF'!$B:$DZ,CONCATENATE(LEFT($A12,2),AM$2))<>0),\"Closed\",\"Open\")","v":"Open"},{"$f":"IF((COUNTIF('HOLIDAYS NF'!$B:$DZ,CONCATENATE(LEFT($A12,2),AN$2))<>0),\"Closed\",\"Open\")","v":"Open"},{"$f":"IF((COUNTIF('HOLIDAYS NF'!$B:$DZ,CONCATENATE(LEFT($A12,2),AO$2))<>0),\"Closed\",\"Open\")","v":"Open"},{"$f":"IF((COUNTIF('HOLIDAYS NF'!$B:$DZ,CONCATENATE(LEFT($A12,2),AP$2))<>0),\"Closed\",\"Open\")","v":"Open"},{"$f":"IF((COUNTIF('HOLIDAYS NF'!$B:$DZ,CONCATENATE(LEFT($A12,2),AQ$2))<>0),\"Closed\",\"Open\")","v":"Open"},{"$f":"IF((COUNTIF('HOLIDAYS NF'!$B:$DZ,CONCATENATE(LEFT($A12,2),AR$2))<>0),\"Closed\",\"Open\")","v":"Open"},{"$f":"IF((COUNTIF('HOLIDAYS NF'!$B:$DZ,CONCATENATE(LEFT($A12,2),AS$2))<>0),\"Closed\",\"Open\")","v":"Open"},{"$f":"IF((COUNTIF('HOLIDAYS NF'!$B:$DZ,CONCATENATE(LEFT($A12,2),AT$2))<>0),\"Closed\",\"Open\")","v":"Open"},{"$f":"IF((COUNTIF('HOLIDAYS NF'!$B:$DZ,CONCATENATE(LEFT($A12,2),AU$2))<>0),\"Closed\",\"Open\")","v":"Open"},{"$f":"IF((COUNTIF('HOLIDAYS NF'!$B:$DZ,CONCATENATE(LEFT($A12,2),AV$2))<>0),\"Closed\",\"Open\")","v":"Open"},{"$f":"IF((COUNTIF('HOLIDAYS NF'!$B:$DZ,CONCATENATE(LEFT($A12,2),AW$2))<>0),\"Closed\",\"Open\")","v":"Open"},{"$f":"IF((COUNTIF('HOLIDAYS NF'!$B:$DZ,CONCATENATE(LEFT($A12,2),AX$2))<>0),\"Closed\",\"Open\")","v":"Open"},{"$f":"IF((COUNTIF('HOLIDAYS NF'!$B:$DZ,CONCATENATE(LEFT($A12,2),AY$2))<>0),\"Closed\",\"Open\")","v":"Open"},{"$f":"IF((COUNTIF('HOLIDAYS NF'!$B:$DZ,CONCATENATE(LEFT($A12,2),AZ$2))<>0),\"Closed\",\"Open\")","v":"Open"},{"$f":"IF((COUNTIF('HOLIDAYS NF'!$B:$DZ,CONCATENATE(LEFT($A12,2),BA$2))<>0),\"Closed\",\"Open\")","v":"Open"},{"$f":"IF((COUNTIF('HOLIDAYS NF'!$B:$DZ,CONCATENATE(LEFT($A12,2),BB$2))<>0),\"Closed\",\"Open\")","v":"Open"},{"$f":"IF((COUNTIF('HOLIDAYS NF'!$B:$DZ,CONCATENATE(LEFT($A12,2),BC$2))<>0),\"Closed\",\"Open\")","v":"Open"},{"$f":"IF((COUNTIF('HOLIDAYS NF'!$B:$DZ,CONCATENATE(LEFT($A12,2),BD$2))<>0),\"Closed\",\"Open\")","v":"Open"},{"$f":"IF((COUNTIF('HOLIDAYS NF'!$B:$DZ,CONCATENATE(LEFT($A12,2),BE$2))<>0),\"Closed\",\"Open\")","v":"Open"},{"$f":"IF((COUNTIF('HOLIDAYS NF'!$B:$DZ,CONCATENATE(LEFT($A12,2),BF$2))<>0),\"Closed\",\"Open\")","v":"Open"},{"$f":"IF((COUNTIF('HOLIDAYS NF'!$B:$DZ,CONCATENATE(LEFT($A12,2),BG$2))<>0),\"Closed\",\"Open\")","v":"Open"},{"$f":"IF((COUNTIF('HOLIDAYS NF'!$B:$DZ,CONCATENATE(LEFT($A12,2),BH$2))<>0),\"Closed\",\"Open\")","v":"Open"},{"$f":"IF((COUNTIF('HOLIDAYS NF'!$B:$DZ,CONCATENATE(LEFT($A12,2),BI$2))<>0),\"Closed\",\"Open\")","v":"Open"},{"$f":"IF((COUNTIF('HOLIDAYS NF'!$B:$DZ,CONCATENATE(LEFT($A12,2),BJ$2))<>0),\"Closed\",\"Open\")","v":"Open"}]
["CI",{"$f":"SUMIF(Holdings!G:G,(CONCATENATE($B$1,\"-\",A13,)),Holdings!H:H)","v":0},{"$f":"HLOOKUP(A13,'[1]HOLIDAYS NF'!B$1:BR$65536,6,FALSE)","v":"CÔTE D'IVOIRE"},{"$f":"IF((COUNTIF('HOLIDAYS NF'!$B:$DZ,CONCATENATE(LEFT($A13,2),D$2))<>0),\"Closed\",\"Open\")","v":"Open"},{"$f":"IF((COUNTIF('HOLIDAYS NF'!$B:$DZ,CONCATENATE(LEFT($A13,2),E$2))<>0),\"Closed\",\"Open\")","v":"Open"},{"$f":"IF((COUNTIF('HOLIDAYS NF'!$B:$DZ,CONCATENATE(LEFT($A13,2),F$2))<>0),\"Closed\",\"Open\")","v":"Open"},{"$f":"IF((COUNTIF('HOLIDAYS NF'!$B:$DZ,CONCATENATE(LEFT($A13,2),G$2))<>0),\"Closed\",\"Open\")","v":"Open"},{"$f":"IF((COUNTIF('HOLIDAYS NF'!$B:$DZ,CONCATENATE(LEFT($A13,2),H$2))<>0),\"Closed\",\"Open\")","v":"Open"},{"$f":"IF((COUNTIF('HOLIDAYS NF'!$B:$DZ,CONCATENATE(LEFT($A13,2),I$2))<>0),\"Closed\",\"Open\")","v":"Open"},{"$f":"IF((COUNTIF('HOLIDAYS NF'!$B:$DZ,CONCATENATE(LEFT($A13,2),J$2))<>0),\"Closed\",\"Open\")","v":"Open"},{"$f":"IF((COUNTIF('HOLIDAYS NF'!$B:$DZ,CONCATENATE(LEFT($A13,2),K$2))<>0),\"Closed\",\"Open\")","v":"Open"},{"$f":"IF((COUNTIF('HOLIDAYS NF'!$B:$DZ,CONCATENATE(LEFT($A13,2),L$2))<>0),\"Closed\",\"Open\")","v":"Open"},{"$f":"IF((COUNTIF('HOLIDAYS NF'!$B:$DZ,CONCATENATE(LEFT($A13,2),M$2))<>0),\"Closed\",\"Open\")","v":"Open"},{"$f":"IF((COUNTIF('HOLIDAYS NF'!$B:$DZ,CONCATENATE(LEFT($A13,2),N$2))<>0),\"Closed\",\"Open\")","v":"Open"},{"$f":"IF((COUNTIF('HOLIDAYS NF'!$B:$DZ,CONCATENATE(LEFT($A13,2),O$2))<>0),\"Closed\",\"Open\")","v":"Open"},{"$f":"IF((COUNTIF('HOLIDAYS NF'!$B:$DZ,CONCATENATE(LEFT($A13,2),P$2))<>0),\"Closed\",\"Open\")","v":"Open"},{"$f":"IF((COUNTIF('HOLIDAYS NF'!$B:$DZ,CONCATENATE(LEFT($A13,2),Q$2))<>0),\"Closed\",\"Open\")","v":"Open"},{"$f":"IF((COUNTIF('HOLIDAYS NF'!$B:$DZ,CONCATENATE(LEFT($A13,2),R$2))<>0),\"Closed\",\"Open\")","v":"Open"},{"$f":"IF((COUNTIF('HOLIDAYS NF'!$B:$DZ,CONCATENATE(LEFT($A13,2),S$2))<>0),\"Closed\",\"Open\")","v":"Open"},{"$f":"IF((COUNTIF('HOLIDAYS NF'!$B:$DZ,CONCATENATE(LEFT($A13,2),T$2))<>0),\"Closed\",\"Open\")","v":"Open"},{"$f":"IF((COUNTIF('HOLIDAYS NF'!$B:$DZ,CONCATENATE(LEFT($A13,2),U$2))<>0),\"Closed\",\"Open\")","v":"Open"},{"$f":"IF((COUNTIF('HOLIDAYS NF'!$B:$DZ,CONCATENATE(LEFT($A13,2),V$2))<>0),\"Closed\",\"Open\")","v":"Open"},{"$f":"IF((COUNTIF('HOLIDAYS NF'!$B:$DZ,CONCATENATE(LEFT($A13,2),W$2))<>0),\"Closed\",\"Open\")","v":"Open"},{"$f":"IF((COUNTIF('HOLIDAYS NF'!$B:$DZ,CONCATENATE(LEFT($A13,2),X$2))<>0),\"Closed\",\"Open\")","v":"Open"},{"$f":"IF((COUNTIF('HOLIDAYS NF'!$B:$DZ,CONCATENATE(LEFT($A13,2),Y$2))<>0),\"Closed\",\"Open\")","v":"Open"},{"$f":"IF((COUNTIF('HOLIDAYS NF'!$B:$DZ,CONCATENATE(LEFT($A13,2),Z$2))<>0),\"Closed\",\"Open\")","v":"Open"},{"$f":"IF((COUNTIF('HOLIDAYS NF'!$B:$DZ,CONCATENATE(LEFT($A13,2),AA$2))<>0),\"Closed\",\"Open\")","v":"Open"},{"$f":"IF((COUNTIF('HOLIDAYS NF'!$B:$DZ,CONCATENATE(LEFT($A13,2),AB$2))<>0),\"Closed\",\"Open\")","v":"Open"},{"$f":"IF((COUNTIF('HOLIDAYS NF'!$B:$DZ,CONCATENATE(LEFT($A13,2),AC$2))<>0),\"Closed\",\"Open\")","v":"Open"},{"$f":"IF((COUNTIF('HOLIDAYS NF'!$B:$DZ,CONCATENATE(LEFT($A13,2),AD$2))<>0),\"Closed\",\"Open\")","v":"Open"},{"$f":"IF((COUNTIF('HOLIDAYS NF'!$B:$DZ,CONCATENATE(LEFT($A13,2),AE$2))<>0),\"Closed\",\"Open\")","v":"Open"},{"$f":"IF((COUNTIF('HOLIDAYS NF'!$B:$DZ,CONCATENATE(LEFT($A13,2),AF$2))<>0),\"Closed\",\"Open\")","v":"Open"},{"$f":"IF((COUNTIF('HOLIDAYS NF'!$B:$DZ,CONCATENATE(LEFT($A13,2),AG$2))<>0),\"Closed\",\"Open\")","v":"Open"},{"$f":"IF((COUNTIF('HOLIDAYS NF'!$B:$DZ,CONCATENATE(LEFT($A13,2),AH$2))<>0),\"Closed\",\"Open\")","v":"Open"},{"$f":"IF((COUNTIF('HOLIDAYS NF'!$B:$DZ,CONCATENATE(LEFT($A13,2),AI$2))<>0),\"Closed\",\"Open\")","v":"Open"},{"$f":"IF((COUNTIF('HOLIDAYS NF'!$B:$DZ,CONCATENATE(LEFT($A13,2),AJ$2))<>0),\"Closed\",\"Open\")","v":"Open"},{"$f":"IF((COUNTIF('HOLIDAYS NF'!$B:$DZ,CONCATENATE(LEFT($A13,2),AK$2))<>0),\"Closed\",\"Open\")","v":"Open"},{"$f":"IF((COUNTIF('HOLIDAYS NF'!$B:$DZ,CONCATENATE(LEFT($A13,2),AL$2))<>0),\"Closed\",\"Open\")","v":"Open"},{"$f":"IF((COUNTIF('HOLIDAYS NF'!$B:$DZ,CONCATENATE(LEFT($A13,2),AM$2))<>0),\"Closed\",\"Open\")","v":"Open"},{"$f":"IF((COUNTIF('HOLIDAYS NF'!$B:$DZ,CONCATENATE(LEFT($A13,2),AN$2))<>0),\"Closed\",\"Open\")","v":"Open"},{"$f":"IF((COUNTIF('HOLIDAYS NF'!$B:$DZ,CONCATENATE(LEFT($A13,2),AO$2))<>0),\"Closed\",\"Open\")","v":"Open"},{"$f":"IF((COUNTIF('HOLIDAYS NF'!$B:$DZ,CONCATENATE(LEFT($A13,2),AP$2))<>0),\"Closed\",\"Open\")","v":"Open"},{"$f":"IF((COUNTIF('HOLIDAYS NF'!$B:$DZ,CONCATENATE(LEFT($A13,2),AQ$2))<>0),\"Closed\",\"Open\")","v":"Open"},{"$f":"IF((COUNTIF('HOLIDAYS NF'!$B:$DZ,CONCATENATE(LEFT($A13,2),AR$2))<>0),\"Closed\",\"Open\")","v":"Open"},{"$f":"IF((COUNTIF('HOLIDAYS NF'!$B:$DZ,CONCATENATE(LEFT($A13,2),AS$2))<>0),\"Closed\",\"Open\")","v":"Open"},{"$f":"IF((COUNTIF('HOLIDAYS NF'!$B:$DZ,CONCATENATE(LEFT($A13,2),AT$2))<>0),\"Closed\",\"Open\")","v":"Open"},{"$f":"IF((COUNTIF('HOLIDAYS NF'!$B:$DZ,CONCATENATE(LEFT($A13,2),AU$2))<>0),\"Closed\",\"Open\")","v":"Open"},{"$f":"IF((COUNTIF('HOLIDAYS NF'!$B:$DZ,CONCATENATE(LEFT($A13,2),AV$2))<>0),\"Closed\",\"Open\")","v":"Open"},{"$f":"IF((COUNTIF('HOLIDAYS NF'!$B:$DZ,CONCATENATE(LEFT($A13,2),AW$2))<>0),\"Closed\",\"Open\")","v":"Open"},{"$f":"IF((COUNTIF('HOLIDAYS NF'!$B:$DZ,CONCATENATE(LEFT($A13,2),AX$2))<>0),\"Closed\",\"Open\")","v":"Open"},{"$f":"IF((COUNTIF('HOLIDAYS NF'!$B:$DZ,CONCATENATE(LEFT($A13,2),AY$2))<>0),\"Closed\",\"Open\")","v":"Open"},{"$f":"IF((COUNTIF('HOLIDAYS NF'!$B:$DZ,CONCATENATE(LEFT($A13,2),AZ$2))<>0),\"Closed\",\"Open\")","v":"Open"},{"$f":"IF((COUNTIF('HOLIDAYS NF'!$B:$DZ,CONCATENATE(LEFT($A13,2),BA$2))<>0),\"Closed\",\"Open\")","v":"Open"},{"$f":"IF((COUNTIF('HOLIDAYS NF'!$B:$DZ,CONCATENATE(LEFT($A13,2),BB$2))<>0),\"Closed\",\"Open\")","v":"Open"},{"$f":"IF((COUNTIF('HOLIDAYS NF'!$B:$DZ,CONCATENATE(LEFT($A13,2),BC$2))<>0),\"Closed\",\"Open\")","v":"Open"},{"$f":"IF((COUNTIF('HOLIDAYS NF'!$B:$DZ,CONCATENATE(LEFT($A13,2),BD$2))<>0),\"Closed\",\"Open\")","v":"Open"},{"$f":"IF((COUNTIF('HOLIDAYS NF'!$B:$DZ,CONCATENATE(LEFT($A13,2),BE$2))<>0),\"Closed\",\"Open\")","v":"Open"},{"$f":"IF((COUNTIF('HOLIDAYS NF'!$B:$DZ,CONCATENATE(LEFT($A13,2),BF$2))<>0),\"Closed\",\"Open\")","v":"Open"},{"$f":"IF((COUNTIF('HOLIDAYS NF'!$B:$DZ,CONCATENATE(LEFT($A13,2),BG$2))<>0),\"Closed\",\"Open\")","v":"Open"},{"$f":"IF((COUNTIF('HOLIDAYS NF'!$B:$DZ,CONCATENATE(LEFT($A13,2),BH$2))<>0),\"Closed\",\"Open\")","v":"Open"},{"$f":"IF((COUNTIF('HOLIDAYS NF'!$B:$DZ,CONCATENATE(LEFT($A13,2),BI$2))<>0),\"Closed\",\"Open\")","v":"Open"},{"$f":"IF((COUNTIF('HOLIDAYS NF'!$B:$DZ,CONCATENATE(LEFT($A13,2),BJ$2))<>0),\"Closed\",\"Open\")","v":"Open"}]
["CL",{"$f":"SUMIF(Holdings!G:G,(CONCATENATE($B$1,\"-\",A14,)),Holdings!H:H)","v":0},{"$f":"HLOOKUP(A14,'[1]HOLIDAYS NF'!B$1:BR$65536,6,FALSE)","v":"Chile"},{"$f":"IF((COUNTIF('HOLIDAYS NF'!$B:$DZ,CONCATENATE(LEFT($A14,2),D$2))<>0),\"Closed\",\"Open\")","v":"Open"},{"$f":"IF((COUNTIF('HOLIDAYS NF'!$B:$DZ,CONCATENATE(LEFT($A14,2),E$2))<>0),\"Closed\",\"Open\")","v":"Open"},{"$f":"IF((COUNTIF('HOLIDAYS NF'!$B:$DZ,CONCATENATE(LEFT($A14,2),F$2))<>0),\"Closed\",\"Open\")","v":"Open"},{"$f":"IF((COUNTIF('HOLIDAYS NF'!$B:$DZ,CONCATENATE(LEFT($A14,2),G$2))<>0),\"Closed\",\"Open\")","v":"Open"},{"$f":"IF((COUNTIF('HOLIDAYS NF'!$B:$DZ,CONCATENATE(LEFT($A14,2),H$2))<>0),\"Closed\",\"Open\")","v":"Open"},{"$f":"IF((COUNTIF('HOLIDAYS NF'!$B:$DZ,CONCATENATE(LEFT($A14,2),I$2))<>0),\"Closed\",\"Open\")","v":"Open"},{"$f":"IF((COUNTIF('HOLIDAYS NF'!$B:$DZ,CONCATENATE(LEFT($A14,2),J$2))<>0),\"Closed\",\"Open\")","v":"Open"},{"$f":"IF((COUNTIF('HOLIDAYS NF'!$B:$DZ,CONCATENATE(LEFT($A14,2),K$2))<>0),\"Closed\",\"Open\")","v":"Open"},{"$f":"IF((COUNTIF('HOLIDAYS NF'!$B:$DZ,CONCATENATE(LEFT($A14,2),L$2))<>0),\"Closed\",\"Open\")","v":"Open"},{"$f":"IF((COUNTIF('HOLIDAYS NF'!$B:$DZ,CONCATENATE(LEFT($A14,2),M$2))<>0),\"Closed\",\"Open\")","v":"Open"},{"$f":"IF((COUNTIF('HOLIDAYS NF'!$B:$DZ,CONCATENATE(LEFT($A14,2),N$2))<>0),\"Closed\",\"Open\")","v":"Open"},{"$f":"IF((COUNTIF('HOLIDAYS NF'!$B:$DZ,CONCATENATE(LEFT($A14,2),O$2))<>0),\"Closed\",\"Open\")","v":"Open"},{"$f":"IF((COUNTIF('HOLIDAYS NF'!$B:$DZ,CONCATENATE(LEFT($A14,2),P$2))<>0),\"Closed\",\"Open\")","v":"Open"},{"$f":"IF((COUNTIF('HOLIDAYS NF'!$B:$DZ,CONCATENATE(LEFT($A14,2),Q$2))<>0),\"Closed\",\"Open\")","v":"Open"},{"$f":"IF((COUNTIF('HOLIDAYS NF'!$B:$DZ,CONCATENATE(LEFT($A14,2),R$2))<>0),\"Closed\",\"Open\")","v":"Open"},{"$f":"IF((COUNTIF('HOLIDAYS NF'!$B:$DZ,CONCATENATE(LEFT($A14,2),S$2))<>0),\"Closed\",\"Open\")","v":"Open"},{"$f":"IF((COUNTIF('HOLIDAYS NF'!$B:$DZ,CONCATENATE(LEFT($A14,2),T$2))<>0),\"Closed\",\"Open\")","v":"Open"},{"$f":"IF((COUNTIF('HOLIDAYS NF'!$B:$DZ,CONCATENATE(LEFT($A14,2),U$2))<>0),\"Closed\",\"Open\")","v":"Open"},{"$f":"IF((COUNTIF('HOLIDAYS NF'!$B:$DZ,CONCATENATE(LEFT($A14,2),V$2))<>0),\"Closed\",\"Open\")","v":"Open"},{"$f":"IF((COUNTIF('HOLIDAYS NF'!$B:$DZ,CONCATENATE(LEFT($A14,2),W$2))<>0),\"Closed\",\"Open\")","v":"Open"},{"$f":"IF((COUNTIF('HOLIDAYS NF'!$B:$DZ,CONCATENATE(LEFT($A14,2),X$2))<>0),\"Closed\",\"Open\")","v":"Open"},{"$f":"IF((COUNTIF('HOLIDAYS NF'!$B:$DZ,CONCATENATE(LEFT($A14,2),Y$2))<>0),\"Closed\",\"Open\")","v":"Open"},{"$f":"IF((COUNTIF('HOLIDAYS NF'!$B:$DZ,CONCATENATE(LEFT($A14,2),Z$2))<>0),\"Closed\",\"Open\")","v":"Open"},{"$f":"IF((COUNTIF('HOLIDAYS NF'!$B:$DZ,CONCATENATE(LEFT($A14,2),AA$2))<>0),\"Closed\",\"Open\")","v":"Open"},{"$f":"IF((COUNTIF('HOLIDAYS NF'!$B:$DZ,CONCATENATE(LEFT($A14,2),AB$2))<>0),\"Closed\",\"Open\")","v":"Open"},{"$f":"IF((COUNTIF('HOLIDAYS NF'!$B:$DZ,CONCATENATE(LEFT($A14,2),AC$2))<>0),\"Closed\",\"Open\")","v":"Open"},{"$f":"IF((COUNTIF('HOLIDAYS NF'!$B:$DZ,CONCATENATE(LEFT($A14,2),AD$2))<>0),\"Closed\",\"Open\")","v":"Open"},{"$f":"IF((COUNTIF('HOLIDAYS NF'!$B:$DZ,CONCATENATE(LEFT($A14,2),AE$2))<>0),\"Closed\",\"Open\")","v":"Open"},{"$f":"IF((COUNTIF('HOLIDAYS NF'!$B:$DZ,CONCATENATE(LEFT($A14,2),AF$2))<>0),\"Closed\",\"Open\")","v":"Open"},{"$f":"IF((COUNTIF('HOLIDAYS NF'!$B:$DZ,CONCATENATE(LEFT($A14,2),AG$2))<>0),\"Closed\",\"Open\")","v":"Open"},{"$f":"IF((COUNTIF('HOLIDAYS NF'!$B:$DZ,CONCATENATE(LEFT($A14,2),AH$2))<>0),\"Closed\",\"Open\")","v":"Open"},{"$f":"IF((COUNTIF('HOLIDAYS NF'!$B:$DZ,CONCATENATE(LEFT($A14,2),AI$2))<>0),\"Closed\",\"Open\")","v":"Open"},{"$f":"IF((COUNTIF('HOLIDAYS NF'!$B:$DZ,CONCATENATE(LEFT($A14,2),AJ$2))<>0),\"Closed\",\"Open\")","v":"Open"},{"$f":"IF((COUNTIF('HOLIDAYS NF'!$B:$DZ,CONCATENATE(LEFT($A14,2),AK$2))<>0),\"Closed\",\"Open\")","v":"Open"},{"$f":"IF((COUNTIF('HOLIDAYS NF'!$B:$DZ,CONCATENATE(LEFT($A14,2),AL$2))<>0),\"Closed\",\"Open\")","v":"Open"},{"$f":"IF((COUNTIF('HOLIDAYS NF'!$B:$DZ,CONCATENATE(LEFT($A14,2),AM$2))<>0),\"Closed\",\"Open\")","v":"Open"},{"$f":"IF((COUNTIF('HOLIDAYS NF'!$B:$DZ,CONCATENATE(LEFT($A14,2),AN$2))<>0),\"Closed\",\"Open\")","v":"Open"},{"$f":"IF((COUNTIF('HOLIDAYS NF'!$B:$DZ,CONCATENATE(LEFT($A14,2),AO$2))<>0),\"Closed\",\"Open\")","v":"Open"},{"$f":"IF((COUNTIF('HOLIDAYS NF'!$B:$DZ,CONCATENATE(LEFT($A14,2),AP$2))<>0),\"Closed\",\"Open\")","v":"Open"},{"$f":"IF((COUNTIF('HOLIDAYS NF'!$B:$DZ,CONCATENATE(LEFT($A14,2),AQ$2))<>0),\"Closed\",\"Open\")","v":"Open"},{"$f":"IF((COUNTIF('HOLIDAYS NF'!$B:$DZ,CONCATENATE(LEFT($A14,2),AR$2))<>0),\"Closed\",\"Open\")","v":"Open"},{"$f":"IF((COUNTIF('HOLIDAYS NF'!$B:$DZ,CONCATENATE(LEFT($A14,2),AS$2))<>0),\"Closed\",\"Open\")","v":"Open"},{"$f":"IF((COUNTIF('HOLIDAYS NF'!$B:$DZ,CONCATENATE(LEFT($A14,2),AT$2))<>0),\"Closed\",\"Open\")","v":"Open"},{"$f":"IF((COUNTIF('HOLIDAYS NF'!$B:$DZ,CONCATENATE(LEFT($A14,2),AU$2))<>0),\"Closed\",\"Open\")","v":"Open"},{"$f":"IF((COUNTIF('HOLIDAYS NF'!$B:$DZ,CONCATENATE(LEFT($A14,2),AV$2))<>0),\"Closed\",\"Open\")","v":"Open"},{"$f":"IF((COUNTIF('HOLIDAYS NF'!$B:$DZ,CONCATENATE(LEFT($A14,2),AW$2))<>0),\"Closed\",\"Open\")","v":"Open"},{"$f":"IF((COUNTIF('HOLIDAYS NF'!$B:$DZ,CONCATENATE(LEFT($A14,2),AX$2))<>0),\"Closed\",\"Open\")","v":"Open"},{"$f":"IF((COUNTIF('HOLIDAYS NF'!$B:$DZ,CONCATENATE(LEFT($A14,2),AY$2))<>0),\"Closed\",\"Open\")","v":"Open"},{"$f":"IF((COUNTIF('HOLIDAYS NF'!$B:$DZ,CONCATENATE(LEFT($A14,2),AZ$2))<>0),\"Closed\",\"Open\")","v":"Open"},{"$f":"IF((COUNTIF('HOLIDAYS NF'!$B:$DZ,CONCATENATE(LEFT($A14,2),BA$2))<>0),\"Closed\",\"Open\")","v":"Open"},{"$f":"IF((COUNTIF('HOLIDAYS NF'!$B:$DZ,CONCATENATE(LEFT($A14,2),BB$2))<>0),\"Closed\",\"Open\")","v":"Open"},{"$f":"IF((COUNTIF('HOLIDAYS NF'!$B:$DZ,CONCATENATE(LEFT($A14,2),BC$2))<>0),\"Closed\",\"Open\")","v":"Open"},{"$f":"IF((COUNTIF('HOLIDAYS NF'!$B:$DZ,CONCATENATE(LEFT($A14,2),BD$2))<>0),\"Closed\",\"Open\")","v":"Open"},{"$f":"IF((COUNTIF('HOLIDAYS NF'!$B:$DZ,CONCATENATE(LEFT($A14,2),BE$2))<>0),\"Closed\",\"Open\")","v":"Open"},{"$f":"IF((COUNTIF('HOLIDAYS NF'!$B:$DZ,CONCATENATE(LEFT($A14,2),BF$2))<>0),\"Closed\",\"Open\")","v":"Open"},{"$f":"IF((COUNTIF('HOLIDAYS NF'!$B:$DZ,CONCATENATE(LEFT($A14,2),BG$2))<>0),\"Closed\",\"Open\")","v":"Open"},{"$f":"IF((COUNTIF('HOLIDAYS NF'!$B:$DZ,CONCATENATE(LEFT($A14,2),BH$2))<>0),\"Closed\",\"Open\")","v":"Open"},{"$f":"IF((COUNTIF('HOLIDAYS NF'!$B:$DZ,CONCATENATE(LEFT($A14,2),BI$2))<>0),\"Closed\",\"Open\")","v":"Open"},{"$f":"IF((COUNTIF('HOLIDAYS NF'!$B:$DZ,CONCATENATE(LEFT($A14,2),BJ$2))<>0),\"Closed\",\"Open\")","v":"Open"}]
["CN",{"$f":"SUMIF(Holdings!G:G,(CONCATENATE($B$1,\"-\",A15,)),Holdings!H:H)","v":0},{"$f":"HLOOKUP(A15,'[1]HOLIDAYS NF'!B$1:BR$65536,6,FALSE)","v":"China"},{"$f":"IF((COUNTIF('HOLIDAYS NF'!$B:$DZ,CONCATENATE(LEFT($A15,2),D$2))<>0),\"Closed\",\"Open\")","v":"Open"},{"$f":"IF((COUNTIF('HOLIDAYS NF'!$B:$DZ,CONCATENATE(LEFT($A15,2),E$2))<>0),\"Closed\",\"Open\")","v":"Open"},{"$f":"IF((COUNTIF('HOLIDAYS NF'!$B:$DZ,CONCATENATE(LEFT($A15,2),F$2))<>0),\"Closed\",\"Open\")","v":"Open"},{"$f":"IF((COUNTIF('HOLIDAYS NF'!$B:$DZ,CONCATENATE(LEFT($A15,2),G$2))<>0),\"Closed\",\"Open\")","v":"Open"},{"$f":"IF((COUNTIF('HOLIDAYS NF'!$B:$DZ,CONCATENATE(LEFT($A15,2),H$2))<>0),\"Closed\",\"Open\")","v":"Open"},{"$f":"IF((COUNTIF('HOLIDAYS NF'!$B:$DZ,CONCATENATE(LEFT($A15,2),I$2))<>0),\"Closed\",\"Open\")","v":"Open"},{"$f":"IF((COUNTIF('HOLIDAYS NF'!$B:$DZ,CONCATENATE(LEFT($A15,2),J$2))<>0),\"Closed\",\"Open\")","v":"Open"},{"$f":"IF((COUNTIF('HOLIDAYS NF'!$B:$DZ,CONCATENATE(LEFT($A15,2),K$2))<>0),\"Closed\",\"Open\")","v":"Open"},{"$f":"IF((COUNTIF('HOLIDAYS NF'!$B:$DZ,CONCATENATE(LEFT($A15,2),L$2))<>0),\"Closed\",\"Open\")","v":"Open"},{"$f":"IF((COUNTIF('HOLIDAYS NF'!$B:$DZ,CONCATENATE(LEFT($A15,2),M$2))<>0),\"Closed\",\"Open\")","v":"Open"},{"$f":"IF((COUNTIF('HOLIDAYS NF'!$B:$DZ,CONCATENATE(LEFT($A15,2),N$2))<>0),\"Closed\",\"Open\")","v":"Open"},{"$f":"IF((COUNTIF('HOLIDAYS NF'!$B:$DZ,CONCATENATE(LEFT($A15,2),O$2))<>0),\"Closed\",\"Open\")","v":"Open"},{"$f":"IF((COUNTIF('HOLIDAYS NF'!$B:$DZ,CONCATENATE(LEFT($A15,2),P$2))<>0),\"Closed\",\"Open\")","v":"Open"},{"$f":"IF((COUNTIF('HOLIDAYS NF'!$B:$DZ,CONCATENATE(LEFT($A15,2),Q$2))<>0),\"Closed\",\"Open\")","v":"Open"},{"$f":"IF((COUNTIF('HOLIDAYS NF'!$B:$DZ,CONCATENATE(LEFT($A15,2),R$2))<>0),\"Closed\",\"Open\")","v":"Open"},{"$f":"IF((COUNTIF('HOLIDAYS NF'!$B:$DZ,CONCATENATE(LEFT($A15,2),S$2))<>0),\"Closed\",\"Open\")","v":"Open"},{"$f":"IF((COUNTIF('HOLIDAYS NF'!$B:$DZ,CONCATENATE(LEFT($A15,2),T$2))<>0),\"Closed\",\"Open\")","v":"Open"},{"$f":"IF((COUNTIF('HOLIDAYS NF'!$B:$DZ,CONCATENATE(LEFT($A15,2),U$2))<>0),\"Closed\",\"Open\")","v":"Open"},{"$f":"IF((COUNTIF('HOLIDAYS NF'!$B:$DZ,CONCATENATE(LEFT($A15,2),V$2))<>0),\"Closed\",\"Open\")","v":"Open"},{"$f":"IF((COUNTIF('HOLIDAYS NF'!$B:$DZ,CONCATENATE(LEFT($A15,2),W$2))<>0),\"Closed\",\"Open\")","v":"Open"},{"$f":"IF((COUNTIF('HOLIDAYS NF'!$B:$DZ,CONCATENATE(LEFT($A15,2),X$2))<>0),\"Closed\",\"Open\")","v":"Open"},{"$f":"IF((COUNTIF('HOLIDAYS NF'!$B:$DZ,CONCATENATE(LEFT($A15,2),Y$2))<>0),\"Closed\",\"Open\")","v":"Open"},{"$f":"IF((COUNTIF('HOLIDAYS NF'!$B:$DZ,CONCATENATE(LEFT($A15,2),Z$2))<>0),\"Closed\",\"Open\")","v":"Open"},{"$f":"IF((COUNTIF('HOLIDAYS NF'!$B:$DZ,CONCATENATE(LEFT($A15,2),AA$2))<>0),\"Closed\",\"Open\")","v":"Open"},{"$f":"IF((COUNTIF('HOLIDAYS NF'!$B:$DZ,CONCATENATE(LEFT($A15,2),AB$2))<>0),\"Closed\",\"Open\")","v":"Open"},{"$f":"IF((COUNTIF('HOLIDAYS NF'!$B:$DZ,CONCATENATE(LEFT($A15,2),AC$2))<>0),\"Closed\",\"Open\")","v":"Open"},{"$f":"IF((COUNTIF('HOLIDAYS NF'!$B:$DZ,CONCATENATE(LEFT($A15,2),AD$2))<>0),\"Closed\",\"Open\")","v":"Open"},{"$f":"IF((COUNTIF('HOLIDAYS NF'!$B:$DZ,CONCATENATE(LEFT($A15,2),AE$2))<>0),\"Closed\",\"Open\")","v":"Open"},{"$f":"IF((COUNTIF('HOLIDAYS NF'!$B:$DZ,CONCATENATE(LEFT($A15,2),AF$2))<>0),\"Closed\",\"Open\")","v":"Open"},{"$f":"IF((COUNTIF('HOLIDAYS NF'!$B:$DZ,CONCATENATE(LEFT($A15,2),AG$2))<>0),\"Closed\",\"Open\")","v":"Open"},{"$f":"IF((COUNTIF('HOLIDAYS NF'!$B:$DZ,CONCATENATE(LEFT($A15,2),AH$2))<>0),\"Closed\",\"Open\")","v":"Open"},{"$f":"IF((COUNTIF('HOLIDAYS NF'!$B:$DZ,CONCATENATE(LEFT($A15,2),AI$2))<>0),\"Closed\",\"Open\")","v":"Open"},{"$f":"IF((COUNTIF('HOLIDAYS NF'!$B:$DZ,CONCATENATE(LEFT($A15,2),AJ$2))<>0),\"Closed\",\"Open\")","v":"Open"},{"$f":"IF((COUNTIF('HOLIDAYS NF'!$B:$DZ,CONCATENATE(LEFT($A15,2),AK$2))<>0),\"Closed\",\"Open\")","v":"Open"},{"$f":"IF((COUNTIF('HOLIDAYS NF'!$B:$DZ,CONCATENATE(LEFT($A15,2),AL$2))<>0),\"Closed\",\"Open\")","v":"Open"},{"$f":"IF((COUNTIF('HOLIDAYS NF'!$B:$DZ,CONCATENATE(LEFT($A15,2),AM$2))<>0),\"Closed\",\"Open\")","v":"Open"},{"$f":"IF((COUNTIF('HOLIDAYS NF'!$B:$DZ,CONCATENATE(LEFT($A15,2),AN$2))<>0),\"Closed\",\"Open\")","v":"Open"},{"$f":"IF((COUNTIF('HOLIDAYS NF'!$B:$DZ,CONCATENATE(LEFT($A15,2),AO$2))<>0),\"Closed\",\"Open\")","v":"Open"},{"$f":"IF((COUNTIF('HOLIDAYS NF'!$B:$DZ,CONCATENATE(LEFT($A15,2),AP$2))<>0),\"Closed\",\"Open\")","v":"Open"},{"$f":"IF((COUNTIF('HOLIDAYS NF'!$B:$DZ,CONCATENATE(LEFT($A15,2),AQ$2))<>0),\"Closed\",\"Open\")","v":"Open"},{"$f":"IF((COUNTIF('HOLIDAYS NF'!$B:$DZ,CONCATENATE(LEFT($A15,2),AR$2))<>0),\"Closed\",\"Open\")","v":"Open"},{"$f":"IF((COUNTIF('HOLIDAYS NF'!$B:$DZ,CONCATENATE(LEFT($A15,2),AS$2))<>0),\"Closed\",\"Open\")","v":"Open"},{"$f":"IF((COUNTIF('HOLIDAYS NF'!$B:$DZ,CONCATENATE(LEFT($A15,2),AT$2))<>0),\"Closed\",\"Open\")","v":"Open"},{"$f":"IF((COUNTIF('HOLIDAYS NF'!$B:$DZ,CONCATENATE(LEFT($A15,2),AU$2))<>0),\"Closed\",\"Open\")","v":"Open"},{"$f":"IF((COUNTIF('HOLIDAYS NF'!$B:$DZ,CONCATENATE(LEFT($A15,2),AV$2))<>0),\"Closed\",\"Open\")","v":"Open"},{"$f":"IF((COUNTIF('HOLIDAYS NF'!$B:$DZ,CONCATENATE(LEFT($A15,2),AW$2))<>0),\"Closed\",\"Open\")","v":"Open"},{"$f":"IF((COUNTIF('HOLIDAYS NF'!$B:$DZ,CONCATENATE(LEFT($A15,2),AX$2))<>0),\"Closed\",\"Open\")","v":"Open"},{"$f":"IF((COUNTIF('HOLIDAYS NF'!$B:$DZ,CONCATENATE(LEFT($A15,2),AY$2))<>0),\"Closed\",\"Open\")","v":"Open"},{"$f":"IF((COUNTIF('HOLIDAYS NF'!$B:$DZ,CONCATENATE(LEFT($A15,2),AZ$2))<>0),\"Closed\",\"Open\")","v":"Open"},{"$f":"IF((COUNTIF('HOLIDAYS NF'!$B:$DZ,CONCATENATE(LEFT($A15,2),BA$2))<>0),\"Closed\",\"Open\")","v":"Open"},{"$f":"IF((COUNTIF('HOLIDAYS NF'!$B:$DZ,CONCATENATE(LEFT($A15,2),BB$2))<>0),\"Closed\",\"Open\")","v":"Open"},{"$f":"IF((COUNTIF('HOLIDAYS NF'!$B:$DZ,CONCATENATE(LEFT($A15,2),BC$2))<>0),\"Closed\",\"Open\")","v":"Open"},{"$f":"IF((COUNTIF('HOLIDAYS NF'!$B:$DZ,CONCATENATE(LEFT($A15,2),BD$2))<>0),\"Closed\",\"Open\")","v":"Open"},{"$f":"IF((COUNTIF('HOLIDAYS NF'!$B:$DZ,CONCATENATE(LEFT($A15,2),BE$2))<>0),\"Closed\",\"Open\")","v":"Open"},{"$f":"IF((COUNTIF('HOLIDAYS NF'!$B:$DZ,CONCATENATE(LEFT($A15,2),BF$2))<>0),\"Closed\",\"Open\")","v":"Open"},{"$f":"IF((COUNTIF('HOLIDAYS NF'!$B:$DZ,CONCATENATE(LEFT($A15,2),BG$2))<>0),\"Closed\",\"Open\")","v":"Open"},{"$f":"IF((COUNTIF('HOLIDAYS NF'!$B:$DZ,CONCATENATE(LEFT($A15,2),BH$2))<>0),\"Closed\",\"Open\")","v":"Open"},{"$f":"IF((COUNTIF('HOLIDAYS NF'!$B:$DZ,CONCATENATE(LEFT($A15,2),BI$2))<>0),\"Closed\",\"Open\")","v":"Open"},{"$f":"IF((COUNTIF('HOLIDAYS NF'!$B:$DZ,CONCATENATE(LEFT($A15,2),BJ$2))<>0),\"Closed\",\"Open\")","v":"Open"}]
["CO",{"$f":"SUMIF(Holdings!G:G,(CONCATENATE($B$1,\"-\",A16,)),Holdings!H:H)","v":0},{"$f":"HLOOKUP(A16,'[1]HOLIDAYS NF'!B$1:BR$65536,6,FALSE)","v":"Colombia"},{"$f":"IF((COUNTIF('HOLIDAYS NF'!$B:$DZ,CONCATENATE(LEFT($A16,2),D$2))<>0),\"Closed\",\"Open\")","v":"Open"},{"$f":"IF((COUNTIF('HOLIDAYS NF'!$B:$DZ,CONCATENATE(LEFT($A16,2),E$2))<>0),\"Closed\",\"Open\")","v":"Open"},{"$f":"IF((COUNTIF('HOLIDAYS NF'!$B:$DZ,CONCATENATE(LEFT($A16,2),F$2))<>0),\"Closed\",\"Open\")","v":"Open"},{"$f":"IF((COUNTIF('HOLIDAYS NF'!$B:$DZ,CONCATENATE(LEFT($A16,2),G$2))<>0),\"Closed\",\"Open\")","v":"Open"},{"$f":"IF((COUNTIF('HOLIDAYS NF'!$B:$DZ,CONCATENATE(LEFT($A16,2),H$2))<>0),\"Closed\",\"Open\")","v":"Open"},{"$f":"IF((COUNTIF('HOLIDAYS NF'!$B:$DZ,CONCATENATE(LEFT($A16,2),I$2))<>0),\"Closed\",\"Open\")","v":"Open"},{"$f":"IF((COUNTIF('HOLIDAYS NF'!$B:$DZ,CONCATENATE(LEFT($A16,2),J$2))<>0),\"Closed\",\"Open\")","v":"Open"},{"$f":"IF((COUNTIF('HOLIDAYS NF'!$B:$DZ,CONCATENATE(LEFT($A16,2),K$2))<>0),\"Closed\",\"Open\")","v":"Open"},{"$f":"IF((COUNTIF('HOLIDAYS NF'!$B:$DZ,CONCATENATE(LEFT($A16,2),L$2))<>0),\"Closed\",\"Open\")","v":"Open"},{"$f":"IF((COUNTIF('HOLIDAYS NF'!$B:$DZ,CONCATENATE(LEFT($A16,2),M$2))<>0),\"Closed\",\"Open\")","v":"Open"},{"$f":"IF((COUNTIF('HOLIDAYS NF'!$B:$DZ,CONCATENATE(LEFT($A16,2),N$2))<>0),\"Closed\",\"Open\")","v":"Open"},{"$f":"IF((COUNTIF('HOLIDAYS NF'!$B:$DZ,CONCATENATE(LEFT($A16,2),O$2))<>0),\"Closed\",\"Open\")","v":"Open"},{"$f":"IF((COUNTIF('HOLIDAYS NF'!$B:$DZ,CONCATENATE(LEFT($A16,2),P$2))<>0),\"Closed\",\"Open\")","v":"Open"},{"$f":"IF((COUNTIF('HOLIDAYS NF'!$B:$DZ,CONCATENATE(LEFT($A16,2),Q$2))<>0),\"Closed\",\"Open\")","v":"Open"},{"$f":"IF((COUNTIF('HOLIDAYS NF'!$B:$DZ,CONCATENATE(LEFT($A16,2),R$2))<>0),\"Closed\",\"Open\")","v":"Open"},{"$f":"IF((COUNTIF('HOLIDAYS NF'!$B:$DZ,CONCATENATE(LEFT($A16,2),S$2))<>0),\"Closed\",\"Open\")","v":"Open"},{"$f":"IF((COUNTIF('HOLIDAYS NF'!$B:$DZ,CONCATENATE(LEFT($A16,2),T$2))<>0),\"Closed\",\"Open\")","v":"Open"},{"$f":"IF((COUNTIF('HOLIDAYS NF'!$B:$DZ,CONCATENATE(LEFT($A16,2),U$2))<>0),\"Closed\",\"Open\")","v":"Open"},{"$f":"IF((COUNTIF('HOLIDAYS NF'!$B:$DZ,CONCATENATE(LEFT($A16,2),V$2))<>0),\"Closed\",\"Open\")","v":"Open"},{"$f":"IF((COUNTIF('HOLIDAYS NF'!$B:$DZ,CONCATENATE(LEFT($A16,2),W$2))<>0),\"Closed\",\"Open\")","v":"Open"},{"$f":"IF((COUNTIF('HOLIDAYS NF'!$B:$DZ,CONCATENATE(LEFT($A16,2),X$2))<>0),\"Closed\",\"Open\")","v":"Open"},{"$f":"IF((COUNTIF('HOLIDAYS NF'!$B:$DZ,CONCATENATE(LEFT($A16,2),Y$2))<>0),\"Closed\",\"Open\")","v":"Open"},{"$f":"IF((COUNTIF('HOLIDAYS NF'!$B:$DZ,CONCATENATE(LEFT($A16,2),Z$2))<>0),\"Closed\",\"Open\")","v":"Open"},{"$f":"IF((COUNTIF('HOLIDAYS NF'!$B:$DZ,CONCATENATE(LEFT($A16,2),AA$2))<>0),\"Closed\",\"Open\")","v":"Open"},{"$f":"IF((COUNTIF('HOLIDAYS NF'!$B:$DZ,CONCATENATE(LEFT($A16,2),AB$2))<>0),\"Closed\",\"Open\")","v":"Open"},{"$f":"IF((COUNTIF('HOLIDAYS NF'!$B:$DZ,CONCATENATE(LEFT($A16,2),AC$2))<>0),\"Closed\",\"Open\")","v":"Open"},{"$f":"IF((COUNTIF('HOLIDAYS NF'!$B:$DZ,CONCATENATE(LEFT($A16,2),AD$2))<>0),\"Closed\",\"Open\")","v":"Open"},{"$f":"IF((COUNTIF('HOLIDAYS NF'!$B:$DZ,CONCATENATE(LEFT($A16,2),AE$2))<>0),\"Closed\",\"Open\")","v":"Open"},{"$f":"IF((COUNTIF('HOLIDAYS NF'!$B:$DZ,CONCATENATE(LEFT($A16,2),AF$2))<>0),\"Closed\",\"Open\")","v":"Open"},{"$f":"IF((COUNTIF('HOLIDAYS NF'!$B:$DZ,CONCATENATE(LEFT($A16,2),AG$2))<>0),\"Closed\",\"Open\")","v":"Open"},{"$f":"IF((COUNTIF('HOLIDAYS NF'!$B:$DZ,CONCATENATE(LEFT($A16,2),AH$2))<>0),\"Closed\",\"Open\")","v":"Open"},{"$f":"IF((COUNTIF('HOLIDAYS NF'!$B:$DZ,CONCATENATE(LEFT($A16,2),AI$2))<>0),\"Closed\",\"Open\")","v":"Open"},{"$f":"IF((COUNTIF('HOLIDAYS NF'!$B:$DZ,CONCATENATE(LEFT($A16,2),AJ$2))<>0),\"Closed\",\"Open\")","v":"Open"},{"$f":"IF((COUNTIF('HOLIDAYS NF'!$B:$DZ,CONCATENATE(LEFT($A16,2),AK$2))<>0),\"Closed\",\"Open\")","v":"Open"},{"$f":"IF((COUNTIF('HOLIDAYS NF'!$B:$DZ,CONCATENATE(LEFT($A16,2),AL$2))<>0),\"Closed\",\"Open\")","v":"Open"},{"$f":"IF((COUNTIF('HOLIDAYS NF'!$B:$DZ,CONCATENATE(LEFT($A16,2),AM$2))<>0),\"Closed\",\"Open\")","v":"Open"},{"$f":"IF((COUNTIF('HOLIDAYS NF'!$B:$DZ,CONCATENATE(LEFT($A16,2),AN$2))<>0),\"Closed\",\"Open\")","v":"Open"},{"$f":"IF((COUNTIF('HOLIDAYS NF'!$B:$DZ,CONCATENATE(LEFT($A16,2),AO$2))<>0),\"Closed\",\"Open\")","v":"Open"},{"$f":"IF((COUNTIF('HOLIDAYS NF'!$B:$DZ,CONCATENATE(LEFT($A16,2),AP$2))<>0),\"Closed\",\"Open\")","v":"Open"},{"$f":"IF((COUNTIF('HOLIDAYS NF'!$B:$DZ,CONCATENATE(LEFT($A16,2),AQ$2))<>0),\"Closed\",\"Open\")","v":"Open"},{"$f":"IF((COUNTIF('HOLIDAYS NF'!$B:$DZ,CONCATENATE(LEFT($A16,2),AR$2))<>0),\"Closed\",\"Open\")","v":"Open"},{"$f":"IF((COUNTIF('HOLIDAYS NF'!$B:$DZ,CONCATENATE(LEFT($A16,2),AS$2))<>0),\"Closed\",\"Open\")","v":"Open"},{"$f":"IF((COUNTIF('HOLIDAYS NF'!$B:$DZ,CONCATENATE(LEFT($A16,2),AT$2))<>0),\"Closed\",\"Open\")","v":"Open"},{"$f":"IF((COUNTIF('HOLIDAYS NF'!$B:$DZ,CONCATENATE(LEFT($A16,2),AU$2))<>0),\"Closed\",\"Open\")","v":"Open"},{"$f":"IF((COUNTIF('HOLIDAYS NF'!$B:$DZ,CONCATENATE(LEFT($A16,2),AV$2))<>0),\"Closed\",\"Open\")","v":"Open"},{"$f":"IF((COUNTIF('HOLIDAYS NF'!$B:$DZ,CONCATENATE(LEFT($A16,2),AW$2))<>0),\"Closed\",\"Open\")","v":"Open"},{"$f":"IF((COUNTIF('HOLIDAYS NF'!$B:$DZ,CONCATENATE(LEFT($A16,2),AX$2))<>0),\"Closed\",\"Open\")","v":"Open"},{"$f":"IF((COUNTIF('HOLIDAYS NF'!$B:$DZ,CONCATENATE(LEFT($A16,2),AY$2))<>0),\"Closed\",\"Open\")","v":"Open"},{"$f":"IF((COUNTIF('HOLIDAYS NF'!$B:$DZ,CONCATENATE(LEFT($A16,2),AZ$2))<>0),\"Closed\",\"Open\")","v":"Open"},{"$f":"IF((COUNTIF('HOLIDAYS NF'!$B:$DZ,CONCATENATE(LEFT($A16,2),BA$2))<>0),\"Closed\",\"Open\")","v":"Open"},{"$f":"IF((COUNTIF('HOLIDAYS NF'!$B:$DZ,CONCATENATE(LEFT($A16,2),BB$2))<>0),\"Closed\",\"Open\")","v":"Open"},{"$f":"IF((COUNTIF('HOLIDAYS NF'!$B:$DZ,CONCATENATE(LEFT($A16,2),BC$2))<>0),\"Closed\",\"Open\")","v":"Open"},{"$f":"IF((COUNTIF('HOLIDAYS NF'!$B:$DZ,CONCATENATE(LEFT($A16,2),BD$2))<>0),\"Closed\",\"Open\")","v":"Open"},{"$f":"IF((COUNTIF('HOLIDAYS NF'!$B:$DZ,CONCATENATE(LEFT($A16,2),BE$2))<>0),\"Closed\",\"Open\")","v":"Open"},{"$f":"IF((COUNTIF('HOLIDAYS NF'!$B:$DZ,CONCATENATE(LEFT($A16,2),BF$2))<>0),\"Closed\",\"Open\")","v":"Open"},{"$f":"IF((COUNTIF('HOLIDAYS NF'!$B:$DZ,CONCATENATE(LEFT($A16,2),BG$2))<>0),\"Closed\",\"Open\")","v":"Open"},{"$f":"IF((COUNTIF('HOLIDAYS NF'!$B:$DZ,CONCATENATE(LEFT($A16,2),BH$2))<>0),\"Closed\",\"Open\")","v":"Open"},{"$f":"IF((COUNTIF('HOLIDAYS NF'!$B:$DZ,CONCATENATE(LEFT($A16,2),BI$2))<>0),\"Closed\",\"Open\")","v":"Open"},{"$f":"IF((COUNTIF('HOLIDAYS NF'!$B:$DZ,CONCATENATE(LEFT($A16,2),BJ$2))<>0),\"Closed\",\"Open\")","v":"Open"}]
["CY",{"$f":"SUMIF(Holdings!G:G,(CONCATENATE($B$1,\"-\",A17,)),Holdings!H:H)","v":0},{"$f":"HLOOKUP(A17,'[1]HOLIDAYS NF'!B$1:BR$65536,6,FALSE)","v":"Cyprus"},{"$f":"IF((COUNTIF('HOLIDAYS NF'!$B:$DZ,CONCATENATE(LEFT($A17,2),D$2))<>0),\"Closed\",\"Open\")","v":"Open"},{"$f":"IF((COUNTIF('HOLIDAYS NF'!$B:$DZ,CONCATENATE(LEFT($A17,2),E$2))<>0),\"Closed\",\"Open\")","v":"Open"},{"$f":"IF((COUNTIF('HOLIDAYS NF'!$B:$DZ,CONCATENATE(LEFT($A17,2),F$2))<>0),\"Closed\",\"Open\")","v":"Open"},{"$f":"IF((COUNTIF('HOLIDAYS NF'!$B:$DZ,CONCATENATE(LEFT($A17,2),G$2))<>0),\"Closed\",\"Open\")","v":"Open"},{"$f":"IF((COUNTIF('HOLIDAYS NF'!$B:$DZ,CONCATENATE(LEFT($A17,2),H$2))<>0),\"Closed\",\"Open\")","v":"Open"},{"$f":"IF((COUNTIF('HOLIDAYS NF'!$B:$DZ,CONCATENATE(LEFT($A17,2),I$2))<>0),\"Closed\",\"Open\")","v":"Open"},{"$f":"IF((COUNTIF('HOLIDAYS NF'!$B:$DZ,CONCATENATE(LEFT($A17,2),J$2))<>0),\"Closed\",\"Open\")","v":"Open"},{"$f":"IF((COUNTIF('HOLIDAYS NF'!$B:$DZ,CONCATENATE(LEFT($A17,2),K$2))<>0),\"Closed\",\"Open\")","v":"Open"},{"$f":"IF((COUNTIF('HOLIDAYS NF'!$B:$DZ,CONCATENATE(LEFT($A17,2),L$2))<>0),\"Closed\",\"Open\")","v":"Open"},{"$f":"IF((COUNTIF('HOLIDAYS NF'!$B:$DZ,CONCATENATE(LEFT($A17,2),M$2))<>0),\"Closed\",\"Open\")","v":"Open"},{"$f":"IF((COUNTIF('HOLIDAYS NF'!$B:$DZ,CONCATENATE(LEFT($A17,2),N$2))<>0),\"Closed\",\"Open\")","v":"Open"},{"$f":"IF((COUNTIF('HOLIDAYS NF'!$B:$DZ,CONCATENATE(LEFT($A17,2),O$2))<>0),\"Closed\",\"Open\")","v":"Open"},{"$f":"IF((COUNTIF('HOLIDAYS NF'!$B:$DZ,CONCATENATE(LEFT($A17,2),P$2))<>0),\"Closed\",\"Open\")","v":"Open"},{"$f":"IF((COUNTIF('HOLIDAYS NF'!$B:$DZ,CONCATENATE(LEFT($A17,2),Q$2))<>0),\"Closed\",\"Open\")","v":"Open"},{"$f":"IF((COUNTIF('HOLIDAYS NF'!$B:$DZ,CONCATENATE(LEFT($A17,2),R$2))<>0),\"Closed\",\"Open\")","v":"Open"},{"$f":"IF((COUNTIF('HOLIDAYS NF'!$B:$DZ,CONCATENATE(LEFT($A17,2),S$2))<>0),\"Closed\",\"Open\")","v":"Open"},{"$f":"IF((COUNTIF('HOLIDAYS NF'!$B:$DZ,CONCATENATE(LEFT($A17,2),T$2))<>0),\"Closed\",\"Open\")","v":"Open"},{"$f":"IF((COUNTIF('HOLIDAYS NF'!$B:$DZ,CONCATENATE(LEFT($A17,2),U$2))<>0),\"Closed\",\"Open\")","v":"Open"},{"$f":"IF((COUNTIF('HOLIDAYS NF'!$B:$DZ,CONCATENATE(LEFT($A17,2),V$2))<>0),\"Closed\",\"Open\")","v":"Open"},{"$f":"IF((COUNTIF('HOLIDAYS NF'!$B:$DZ,CONCATENATE(LEFT($A17,2),W$2))<>0),\"Closed\",\"Open\")","v":"Open"},{"$f":"IF((COUNTIF('HOLIDAYS NF'!$B:$DZ,CONCATENATE(LEFT($A17,2),X$2))<>0),\"Closed\",\"Open\")","v":"Open"},{"$f":"IF((COUNTIF('HOLIDAYS NF'!$B:$DZ,CONCATENATE(LEFT($A17,2),Y$2))<>0),\"Closed\",\"Open\")","v":"Open"},{"$f":"IF((COUNTIF('HOLIDAYS NF'!$B:$DZ,CONCATENATE(LEFT($A17,2),Z$2))<>0),\"Closed\",\"Open\")","v":"Open"},{"$f":"IF((COUNTIF('HOLIDAYS NF'!$B:$DZ,CONCATENATE(LEFT($A17,2),AA$2))<>0),\"Closed\",\"Open\")","v":"Open"},{"$f":"IF((COUNTIF('HOLIDAYS NF'!$B:$DZ,CONCATENATE(LEFT($A17,2),AB$2))<>0),\"Closed\",\"Open\")","v":"Open"},{"$f":"IF((COUNTIF('HOLIDAYS NF'!$B:$DZ,CONCATENATE(LEFT($A17,2),AC$2))<>0),\"Closed\",\"Open\")","v":"Open"},{"$f":"IF((COUNTIF('HOLIDAYS NF'!$B:$DZ,CONCATENATE(LEFT($A17,2),AD$2))<>0),\"Closed\",\"Open\")","v":"Open"},{"$f":"IF((COUNTIF('HOLIDAYS NF'!$B:$DZ,CONCATENATE(LEFT($A17,2),AE$2))<>0),\"Closed\",\"Open\")","v":"Open"},{"$f":"IF((COUNTIF('HOLIDAYS NF'!$B:$DZ,CONCATENATE(LEFT($A17,2),AF$2))<>0),\"Closed\",\"Open\")","v":"Open"},{"$f":"IF((COUNTIF('HOLIDAYS NF'!$B:$DZ,CONCATENATE(LEFT($A17,2),AG$2))<>0),\"Closed\",\"Open\")","v":"Open"},{"$f":"IF((COUNTIF('HOLIDAYS NF'!$B:$DZ,CONCATENATE(LEFT($A17,2),AH$2))<>0),\"Closed\",\"Open\")","v":"Open"},{"$f":"IF((COUNTIF('HOLIDAYS NF'!$B:$DZ,CONCATENATE(LEFT($A17,2),AI$2))<>0),\"Closed\",\"Open\")","v":"Open"},{"$f":"IF((COUNTIF('HOLIDAYS NF'!$B:$DZ,CONCATENATE(LEFT($A17,2),AJ$2))<>0),\"Closed\",\"Open\")","v":"Open"},{"$f":"IF((COUNTIF('HOLIDAYS NF'!$B:$DZ,CONCATENATE(LEFT($A17,2),AK$2))<>0),\"Closed\",\"Open\")","v":"Open"},{"$f":"IF((COUNTIF('HOLIDAYS NF'!$B:$DZ,CONCATENATE(LEFT($A17,2),AL$2))<>0),\"Closed\",\"Open\")","v":"Open"},{"$f":"IF((COUNTIF('HOLIDAYS NF'!$B:$DZ,CONCATENATE(LEFT($A17,2),AM$2))<>0),\"Closed\",\"Open\")","v":"Open"},{"$f":"IF((COUNTIF('HOLIDAYS NF'!$B:$DZ,CONCATENATE(LEFT($A17,2),AN$2))<>0),\"Closed\",\"Open\")","v":"Open"},{"$f":"IF((COUNTIF('HOLIDAYS NF'!$B:$DZ,CONCATENATE(LEFT($A17,2),AO$2))<>0),\"Closed\",\"Open\")","v":"Open"},{"$f":"IF((COUNTIF('HOLIDAYS NF'!$B:$DZ,CONCATENATE(LEFT($A17,2),AP$2))<>0),\"Closed\",\"Open\")","v":"Open"},{"$f":"IF((COUNTIF('HOLIDAYS NF'!$B:$DZ,CONCATENATE(LEFT($A17,2),AQ$2))<>0),\"Closed\",\"Open\")","v":"Open"},{"$f":"IF((COUNTIF('HOLIDAYS NF'!$B:$DZ,CONCATENATE(LEFT($A17,2),AR$2))<>0),\"Closed\",\"Open\")","v":"Open"},{"$f":"IF((COUNTIF('HOLIDAYS NF'!$B:$DZ,CONCATENATE(LEFT($A17,2),AS$2))<>0),\"Closed\",\"Open\")","v":"Open"},{"$f":"IF((COUNTIF('HOLIDAYS NF'!$B:$DZ,CONCATENATE(LEFT($A17,2),AT$2))<>0),\"Closed\",\"Open\")","v":"Open"},{"$f":"IF((COUNTIF('HOLIDAYS NF'!$B:$DZ,CONCATENATE(LEFT($A17,2),AU$2))<>0),\"Closed\",\"Open\")","v":"Open"},{"$f":"IF((COUNTIF('HOLIDAYS NF'!$B:$DZ,CONCATENATE(LEFT($A17,2),AV$2))<>0),\"Closed\",\"Open\")","v":"Open"},{"$f":"IF((COUNTIF('HOLIDAYS NF'!$B:$DZ,CONCATENATE(LEFT($A17,2),AW$2))<>0),\"Closed\",\"Open\")","v":"Open"},{"$f":"IF((COUNTIF('HOLIDAYS NF'!$B:$DZ,CONCATENATE(LEFT($A17,2),AX$2))<>0),\"Closed\",\"Open\")","v":"Open"},{"$f":"IF((COUNTIF('HOLIDAYS NF'!$B:$DZ,CONCATENATE(LEFT($A17,2),AY$2))<>0),\"Closed\",\"Open\")","v":"Open"},{"$f":"IF((COUNTIF('HOLIDAYS NF'!$B:$DZ,CONCATENATE(LEFT($A17,2),AZ$2))<>0),\"Closed\",\"Open\")","v":"Open"},{"$f":"IF((COUNTIF('HOLIDAYS NF'!$B:$DZ,CONCATENATE(LEFT($A17,2),BA$2))<>0),\"Closed\",\"Open\")","v":"Open"},{"$f":"IF((COUNTIF('HOLIDAYS NF'!$B:$DZ,CONCATENATE(LEFT($A17,2),BB$2))<>0),\"Closed\",\"Open\")","v":"Open"},{"$f":"IF((COUNTIF('HOLIDAYS NF'!$B:$DZ,CONCATENATE(LEFT($A17,2),BC$2))<>0),\"Closed\",\"Open\")","v":"Open"},{"$f":"IF((COUNTIF('HOLIDAYS NF'!$B:$DZ,CONCATENATE(LEFT($A17,2),BD$2))<>0),\"Closed\",\"Open\")","v":"Open"},{"$f":"IF((COUNTIF('HOLIDAYS NF'!$B:$DZ,CONCATENATE(LEFT($A17,2),BE$2))<>0),\"Closed\",\"Open\")","v":"Open"},{"$f":"IF((COUNTIF('HOLIDAYS NF'!$B:$DZ,CONCATENATE(LEFT($A17,2),BF$2))<>0),\"Closed\",\"Open\")","v":"Open"},{"$f":"IF((COUNTIF('HOLIDAYS NF'!$B:$DZ,CONCATENATE(LEFT($A17,2),BG$2))<>0),\"Closed\",\"Open\")","v":"Open"},{"$f":"IF((COUNTIF('HOLIDAYS NF'!$B:$DZ,CONCATENATE(LEFT($A17,2),BH$2))<>0),\"Closed\",\"Open\")","v":"Open"},{"$f":"IF((COUNTIF('HOLIDAYS NF'!$B:$DZ,CONCATENATE(LEFT($A17,2),BI$2))<>0),\"Closed\",\"Open\")","v":"Open"},{"$f":"IF((COUNTIF('HOLIDAYS NF'!$B:$DZ,CONCATENATE(LEFT($A17,2),BJ$2))<>0),\"Closed\",\"Open\")","v":"Open"}]
["CZ",{"$f":"SUMIF(Holdings!G:G,(CONCATENATE($B$1,\"-\",A18,)),Holdings!H:H)","v":0},{"$f":"HLOOKUP(A18,'[1]HOLIDAYS NF'!B$1:BR$65536,6,FALSE)","v":"Czech Republic"},{"$f":"IF((COUNTIF('HOLIDAYS NF'!$B:$DZ,CONCATENATE(LEFT($A18,2),D$2))<>0),\"Closed\",\"Open\")","v":"Open"},{"$f":"IF((COUNTIF('HOLIDAYS NF'!$B:$DZ,CONCATENATE(LEFT($A18,2),E$2))<>0),\"Closed\",\"Open\")","v":"Open"},{"$f":"IF((COUNTIF('HOLIDAYS NF'!$B:$DZ,CONCATENATE(LEFT($A18,2),F$2))<>0),\"Closed\",\"Open\")","v":"Open"},{"$f":"IF((COUNTIF('HOLIDAYS NF'!$B:$DZ,CONCATENATE(LEFT($A18,2),G$2))<>0),\"Closed\",\"Open\")","v":"Open"},{"$f":"IF((COUNTIF('HOLIDAYS NF'!$B:$DZ,CONCATENATE(LEFT($A18,2),H$2))<>0),\"Closed\",\"Open\")","v":"Open"},{"$f":"IF((COUNTIF('HOLIDAYS NF'!$B:$DZ,CONCATENATE(LEFT($A18,2),I$2))<>0),\"Closed\",\"Open\")","v":"Open"},{"$f":"IF((COUNTIF('HOLIDAYS NF'!$B:$DZ,CONCATENATE(LEFT($A18,2),J$2))<>0),\"Closed\",\"Open\")","v":"Open"},{"$f":"IF((COUNTIF('HOLIDAYS NF'!$B:$DZ,CONCATENATE(LEFT($A18,2),K$2))<>0),\"Closed\",\"Open\")","v":"Open"},{"$f":"IF((COUNTIF('HOLIDAYS NF'!$B:$DZ,CONCATENATE(LEFT($A18,2),L$2))<>0),\"Closed\",\"Open\")","v":"Open"},{"$f":"IF((COUNTIF('HOLIDAYS NF'!$B:$DZ,CONCATENATE(LEFT($A18,2),M$2))<>0),\"Closed\",\"Open\")","v":"Open"},{"$f":"IF((COUNTIF('HOLIDAYS NF'!$B:$DZ,CONCATENATE(LEFT($A18,2),N$2))<>0),\"Closed\",\"Open\")","v":"Open"},{"$f":"IF((COUNTIF('HOLIDAYS NF'!$B:$DZ,CONCATENATE(LEFT($A18,2),O$2))<>0),\"Closed\",\"Open\")","v":"Open"},{"$f":"IF((COUNTIF('HOLIDAYS NF'!$B:$DZ,CONCATENATE(LEFT($A18,2),P$2))<>0),\"Closed\",\"Open\")","v":"Open"},{"$f":"IF((COUNTIF('HOLIDAYS NF'!$B:$DZ,CONCATENATE(LEFT($A18,2),Q$2))<>0),\"Closed\",\"Open\")","v":"Open"},{"$f":"IF((COUNTIF('HOLIDAYS NF'!$B:$DZ,CONCATENATE(LEFT($A18,2),R$2))<>0),\"Closed\",\"Open\")","v":"Open"},{"$f":"IF((COUNTIF('HOLIDAYS NF'!$B:$DZ,CONCATENATE(LEFT($A18,2),S$2))<>0),\"Closed\",\"Open\")","v":"Open"},{"$f":"IF((COUNTIF('HOLIDAYS NF'!$B:$DZ,CONCATENATE(LEFT($A18,2),T$2))<>0),\"Closed\",\"Open\")","v":"Open"},{"$f":"IF((COUNTIF('HOLIDAYS NF'!$B:$DZ,CONCATENATE(LEFT($A18,2),U$2))<>0),\"Closed\",\"Open\")","v":"Open"},{"$f":"IF((COUNTIF('HOLIDAYS NF'!$B:$DZ,CONCATENATE(LEFT($A18,2),V$2))<>0),\"Closed\",\"Open\")","v":"Open"},{"$f":"IF((COUNTIF('HOLIDAYS NF'!$B:$DZ,CONCATENATE(LEFT($A18,2),W$2))<>0),\"Closed\",\"Open\")","v":"Open"},{"$f":"IF((COUNTIF('HOLIDAYS NF'!$B:$DZ,CONCATENATE(LEFT($A18,2),X$2))<>0),\"Closed\",\"Open\")","v":"Open"},{"$f":"IF((COUNTIF('HOLIDAYS NF'!$B:$DZ,CONCATENATE(LEFT($A18,2),Y$2))<>0),\"Closed\",\"Open\")","v":"Open"},{"$f":"IF((COUNTIF('HOLIDAYS NF'!$B:$DZ,CONCATENATE(LEFT($A18,2),Z$2))<>0),\"Closed\",\"Open\")","v":"Open"},{"$f":"IF((COUNTIF('HOLIDAYS NF'!$B:$DZ,CONCATENATE(LEFT($A18,2),AA$2))<>0),\"Closed\",\"Open\")","v":"Open"},{"$f":"IF((COUNTIF('HOLIDAYS NF'!$B:$DZ,CONCATENATE(LEFT($A18,2),AB$2))<>0),\"Closed\",\"Open\")","v":"Open"},{"$f":"IF((COUNTIF('HOLIDAYS NF'!$B:$DZ,CONCATENATE(LEFT($A18,2),AC$2))<>0),\"Closed\",\"Open\")","v":"Open"},{"$f":"IF((COUNTIF('HOLIDAYS NF'!$B:$DZ,CONCATENATE(LEFT($A18,2),AD$2))<>0),\"Closed\",\"Open\")","v":"Open"},{"$f":"IF((COUNTIF('HOLIDAYS NF'!$B:$DZ,CONCATENATE(LEFT($A18,2),AE$2))<>0),\"Closed\",\"Open\")","v":"Open"},{"$f":"IF((COUNTIF('HOLIDAYS NF'!$B:$DZ,CONCATENATE(LEFT($A18,2),AF$2))<>0),\"Closed\",\"Open\")","v":"Open"},{"$f":"IF((COUNTIF('HOLIDAYS NF'!$B:$DZ,CONCATENATE(LEFT($A18,2),AG$2))<>0),\"Closed\",\"Open\")","v":"Open"},{"$f":"IF((COUNTIF('HOLIDAYS NF'!$B:$DZ,CONCATENATE(LEFT($A18,2),AH$2))<>0),\"Closed\",\"Open\")","v":"Open"},{"$f":"IF((COUNTIF('HOLIDAYS NF'!$B:$DZ,CONCATENATE(LEFT($A18,2),AI$2))<>0),\"Closed\",\"Open\")","v":"Open"},{"$f":"IF((COUNTIF('HOLIDAYS NF'!$B:$DZ,CONCATENATE(LEFT($A18,2),AJ$2))<>0),\"Closed\",\"Open\")","v":"Open"},{"$f":"IF((COUNTIF('HOLIDAYS NF'!$B:$DZ,CONCATENATE(LEFT($A18,2),AK$2))<>0),\"Closed\",\"Open\")","v":"Open"},{"$f":"IF((COUNTIF('HOLIDAYS NF'!$B:$DZ,CONCATENATE(LEFT($A18,2),AL$2))<>0),\"Closed\",\"Open\")","v":"Open"},{"$f":"IF((COUNTIF('HOLIDAYS NF'!$B:$DZ,CONCATENATE(LEFT($A18,2),AM$2))<>0),\"Closed\",\"Open\")","v":"Open"},{"$f":"IF((COUNTIF('HOLIDAYS NF'!$B:$DZ,CONCATENATE(LEFT($A18,2),AN$2))<>0),\"Closed\",\"Open\")","v":"Open"},{"$f":"IF((COUNTIF('HOLIDAYS NF'!$B:$DZ,CONCATENATE(LEFT($A18,2),AO$2))<>0),\"Closed\",\"Open\")","v":"Open"},{"$f":"IF((COUNTIF('HOLIDAYS NF'!$B:$DZ,CONCATENATE(LEFT($A18,2),AP$2))<>0),\"Closed\",\"Open\")","v":"Open"},{"$f":"IF((COUNTIF('HOLIDAYS NF'!$B:$DZ,CONCATENATE(LEFT($A18,2),AQ$2))<>0),\"Closed\",\"Open\")","v":"Open"},{"$f":"IF((COUNTIF('HOLIDAYS NF'!$B:$DZ,CONCATENATE(LEFT($A18,2),AR$2))<>0),\"Closed\",\"Open\")","v":"Open"},{"$f":"IF((COUNTIF('HOLIDAYS NF'!$B:$DZ,CONCATENATE(LEFT($A18,2),AS$2))<>0),\"Closed\",\"Open\")","v":"Open"},{"$f":"IF((COUNTIF('HOLIDAYS NF'!$B:$DZ,CONCATENATE(LEFT($A18,2),AT$2))<>0),\"Closed\",\"Open\")","v":"Open"},{"$f":"IF((COUNTIF('HOLIDAYS NF'!$B:$DZ,CONCATENATE(LEFT($A18,2),AU$2))<>0),\"Closed\",\"Open\")","v":"Open"},{"$f":"IF((COUNTIF('HOLIDAYS NF'!$B:$DZ,CONCATENATE(LEFT($A18,2),AV$2))<>0),\"Closed\",\"Open\")","v":"Open"},{"$f":"IF((COUNTIF('HOLIDAYS NF'!$B:$DZ,CONCATENATE(LEFT($A18,2),AW$2))<>0),\"Closed\",\"Open\")","v":"Open"},{"$f":"IF((COUNTIF('HOLIDAYS NF'!$B:$DZ,CONCATENATE(LEFT($A18,2),AX$2))<>0),\"Closed\",\"Open\")","v":"Open"},{"$f":"IF((COUNTIF('HOLIDAYS NF'!$B:$DZ,CONCATENATE(LEFT($A18,2),AY$2))<>0),\"Closed\",\"Open\")","v":"Open"},{"$f":"IF((COUNTIF('HOLIDAYS NF'!$B:$DZ,CONCATENATE(LEFT($A18,2),AZ$2))<>0),\"Closed\",\"Open\")","v":"Open"},{"$f":"IF((COUNTIF('HOLIDAYS NF'!$B:$DZ,CONCATENATE(LEFT($A18,2),BA$2))<>0),\"Closed\",\"Open\")","v":"Open"},{"$f":"IF((COUNTIF('HOLIDAYS NF'!$B:$DZ,CONCATENATE(LEFT($A18,2),BB$2))<>0),\"Closed\",\"Open\")","v":"Open"},{"$f":"IF((COUNTIF('HOLIDAYS NF'!$B:$DZ,CONCATENATE(LEFT($A18,2),BC$2))<>0),\"Closed\",\"Open\")","v":"Open"},{"$f":"IF((COUNTIF('HOLIDAYS NF'!$B:$DZ,CONCATENATE(LEFT($A18,2),BD$2))<>0),\"Closed\",\"Open\")","v":"Open"},{"$f":"IF((COUNTIF('HOLIDAYS NF'!$B:$DZ,CONCATENATE(LEFT($A18,2),BE$2))<>0),\"Closed\",\"Open\")","v":"Open"},{"$f":"IF((COUNTIF('HOLIDAYS NF'!$B:$DZ,CONCATENATE(LEFT($A18,2),BF$2))<>0),\"Closed\",\"Open\")","v":"Open"},{"$f":"IF((COUNTIF('HOLIDAYS NF'!$B:$DZ,CONCATENATE(LEFT($A18,2),BG$2))<>0),\"Closed\",\"Open\")","v":"Open"},{"$f":"IF((COUNTIF('HOLIDAYS NF'!$B:$DZ,CONCATENATE(LEFT($A18,2),BH$2))<>0),\"Closed\",\"Open\")","v":"Open"},{"$f":"IF((COUNTIF('HOLIDAYS NF'!$B:$DZ,CONCATENATE(LEFT($A18,2),BI$2))<>0),\"Closed\",\"Open\")","v":"Open"},{"$f":"IF((COUNTIF('HOLIDAYS NF'!$B:$DZ,CONCATENATE(LEFT($A18,2),BJ$2))<>0),\"Closed\",\"Open\")","v":"Open"}]
["DE",{"$f":"SUMIF(Holdings!G:G,(CONCATENATE($B$1,\"-\",A19,)),Holdings!H:H)","v":0},{"$f":"HLOOKUP(A19,'[1]HOLIDAYS NF'!B$1:BR$65536,6,FALSE)","v":"Germany"},{"$f":"IF((COUNTIF('HOLIDAYS NF'!$B:$DZ,CONCATENATE(LEFT($A19,2),D$2))<>0),\"Closed\",\"Open\")","v":"Open"},{"$f":"IF((COUNTIF('HOLIDAYS NF'!$B:$DZ,CONCATENATE(LEFT($A19,2),E$2))<>0),\"Closed\",\"Open\")","v":"Open"},{"$f":"IF((COUNTIF('HOLIDAYS NF'!$B:$DZ,CONCATENATE(LEFT($A19,2),F$2))<>0),\"Closed\",\"Open\")","v":"Open"},{"$f":"IF((COUNTIF('HOLIDAYS NF'!$B:$DZ,CONCATENATE(LEFT($A19,2),G$2))<>0),\"Closed\",\"Open\")","v":"Open"},{"$f":"IF((COUNTIF('HOLIDAYS NF'!$B:$DZ,CONCATENATE(LEFT($A19,2),H$2))<>0),\"Closed\",\"Open\")","v":"Open"},{"$f":"IF((COUNTIF('HOLIDAYS NF'!$B:$DZ,CONCATENATE(LEFT($A19,2),I$2))<>0),\"Closed\",\"Open\")","v":"Open"},{"$f":"IF((COUNTIF('HOLIDAYS NF'!$B:$DZ,CONCATENATE(LEFT($A19,2),J$2))<>0),\"Closed\",\"Open\")","v":"Open"},{"$f":"IF((COUNTIF('HOLIDAYS NF'!$B:$DZ,CONCATENATE(LEFT($A19,2),K$2))<>0),\"Closed\",\"Open\")","v":"Open"},{"$f":"IF((COUNTIF('HOLIDAYS NF'!$B:$DZ,CONCATENATE(LEFT($A19,2),L$2))<>0),\"Closed\",\"Open\")","v":"Open"},{"$f":"IF((COUNTIF('HOLIDAYS NF'!$B:$DZ,CONCATENATE(LEFT($A19,2),M$2))<>0),\"Closed\",\"Open\")","v":"Open"},{"$f":"IF((COUNTIF('HOLIDAYS NF'!$B:$DZ,CONCATENATE(LEFT($A19,2),N$2))<>0),\"Closed\",\"Open\")","v":"Open"},{"$f":"IF((COUNTIF('HOLIDAYS NF'!$B:$DZ,CONCATENATE(LEFT($A19,2),O$2))<>0),\"Closed\",\"Open\")","v":"Open"},{"$f":"IF((COUNTIF('HOLIDAYS NF'!$B:$DZ,CONCATENATE(LEFT($A19,2),P$2))<>0),\"Closed\",\"Open\")","v":"Open"},{"$f":"IF((COUNTIF('HOLIDAYS NF'!$B:$DZ,CONCATENATE(LEFT($A19,2),Q$2))<>0),\"Closed\",\"Open\")","v":"Open"},{"$f":"IF((COUNTIF('HOLIDAYS NF'!$B:$DZ,CONCATENATE(LEFT($A19,2),R$2))<>0),\"Closed\",\"Open\")","v":"Open"},{"$f":"IF((COUNTIF('HOLIDAYS NF'!$B:$DZ,CONCATENATE(LEFT($A19,2),S$2))<>0),\"Closed\",\"Open\")","v":"Open"},{"$f":"IF((COUNTIF('HOLIDAYS NF'!$B:$DZ,CONCATENATE(LEFT($A19,2),T$2))<>0),\"Closed\",\"Open\")","v":"Open"},{"$f":"IF((COUNTIF('HOLIDAYS NF'!$B:$DZ,CONCATENATE(LEFT($A19,2),U$2))<>0),\"Closed\",\"Open\")","v":"Open"},{"$f":"IF((COUNTIF('HOLIDAYS NF'!$B:$DZ,CONCATENATE(LEFT($A19,2),V$2))<>0),\"Closed\",\"Open\")","v":"Open"},{"$f":"IF((COUNTIF('HOLIDAYS NF'!$B:$DZ,CONCATENATE(LEFT($A19,2),W$2))<>0),\"Closed\",\"Open\")","v":"Open"},{"$f":"IF((COUNTIF('HOLIDAYS NF'!$B:$DZ,CONCATENATE(LEFT($A19,2),X$2))<>0),\"Closed\",\"Open\")","v":"Open"},{"$f":"IF((COUNTIF('HOLIDAYS NF'!$B:$DZ,CONCATENATE(LEFT($A19,2),Y$2))<>0),\"Closed\",\"Open\")","v":"Open"},{"$f":"IF((COUNTIF('HOLIDAYS NF'!$B:$DZ,CONCATENATE(LEFT($A19,2),Z$2))<>0),\"Closed\",\"Open\")","v":"Open"},{"$f":"IF((COUNTIF('HOLIDAYS NF'!$B:$DZ,CONCATENATE(LEFT($A19,2),AA$2))<>0),\"Closed\",\"Open\")","v":"Open"},{"$f":"IF((COUNTIF('HOLIDAYS NF'!$B:$DZ,CONCATENATE(LEFT($A19,2),AB$2))<>0),\"Closed\",\"Open\")","v":"Open"},{"$f":"IF((COUNTIF('HOLIDAYS NF'!$B:$DZ,CONCATENATE(LEFT($A19,2),AC$2))<>0),\"Closed\",\"Open\")","v":"Open"},{"$f":"IF((COUNTIF('HOLIDAYS NF'!$B:$DZ,CONCATENATE(LEFT($A19,2),AD$2))<>0),\"Closed\",\"Open\")","v":"Open"},{"$f":"IF((COUNTIF('HOLIDAYS NF'!$B:$DZ,CONCATENATE(LEFT($A19,2),AE$2))<>0),\"Closed\",\"Open\")","v":"Open"},{"$f":"IF((COUNTIF('HOLIDAYS NF'!$B:$DZ,CONCATENATE(LEFT($A19,2),AF$2))<>0),\"Closed\",\"Open\")","v":"Open"},{"$f":"IF((COUNTIF('HOLIDAYS NF'!$B:$DZ,CONCATENATE(LEFT($A19,2),AG$2))<>0),\"Closed\",\"Open\")","v":"Open"},{"$f":"IF((COUNTIF('HOLIDAYS NF'!$B:$DZ,CONCATENATE(LEFT($A19,2),AH$2))<>0),\"Closed\",\"Open\")","v":"Open"},{"$f":"IF((COUNTIF('HOLIDAYS NF'!$B:$DZ,CONCATENATE(LEFT($A19,2),AI$2))<>0),\"Closed\",\"Open\")","v":"Open"},{"$f":"IF((COUNTIF('HOLIDAYS NF'!$B:$DZ,CONCATENATE(LEFT($A19,2),AJ$2))<>0),\"Closed\",\"Open\")","v":"Open"},{"$f":"IF((COUNTIF('HOLIDAYS NF'!$B:$DZ,CONCATENATE(LEFT($A19,2),AK$2))<>0),\"Closed\",\"Open\")","v":"Open"},{"$f":"IF((COUNTIF('HOLIDAYS NF'!$B:$DZ,CONCATENATE(LEFT($A19,2),AL$2))<>0),\"Closed\",\"Open\")","v":"Open"},{"$f":"IF((COUNTIF('HOLIDAYS NF'!$B:$DZ,CONCATENATE(LEFT($A19,2),AM$2))<>0),\"Closed\",\"Open\")","v":"Open"},{"$f":"IF((COUNTIF('HOLIDAYS NF'!$B:$DZ,CONCATENATE(LEFT($A19,2),AN$2))<>0),\"Closed\",\"Open\")","v":"Open"},{"$f":"IF((COUNTIF('HOLIDAYS NF'!$B:$DZ,CONCATENATE(LEFT($A19,2),AO$2))<>0),\"Closed\",\"Open\")","v":"Open"},{"$f":"IF((COUNTIF('HOLIDAYS NF'!$B:$DZ,CONCATENATE(LEFT($A19,2),AP$2))<>0),\"Closed\",\"Open\")","v":"Open"},{"$f":"IF((COUNTIF('HOLIDAYS NF'!$B:$DZ,CONCATENATE(LEFT($A19,2),AQ$2))<>0),\"Closed\",\"Open\")","v":"Open"},{"$f":"IF((COUNTIF('HOLIDAYS NF'!$B:$DZ,CONCATENATE(LEFT($A19,2),AR$2))<>0),\"Closed\",\"Open\")","v":"Open"},{"$f":"IF((COUNTIF('HOLIDAYS NF'!$B:$DZ,CONCATENATE(LEFT($A19,2),AS$2))<>0),\"Closed\",\"Open\")","v":"Open"},{"$f":"IF((COUNTIF('HOLIDAYS NF'!$B:$DZ,CONCATENATE(LEFT($A19,2),AT$2))<>0),\"Closed\",\"Open\")","v":"Open"},{"$f":"IF((COUNTIF('HOLIDAYS NF'!$B:$DZ,CONCATENATE(LEFT($A19,2),AU$2))<>0),\"Closed\",\"Open\")","v":"Open"},{"$f":"IF((COUNTIF('HOLIDAYS NF'!$B:$DZ,CONCATENATE(LEFT($A19,2),AV$2))<>0),\"Closed\",\"Open\")","v":"Open"},{"$f":"IF((COUNTIF('HOLIDAYS NF'!$B:$DZ,CONCATENATE(LEFT($A19,2),AW$2))<>0),\"Closed\",\"Open\")","v":"Open"},{"$f":"IF((COUNTIF('HOLIDAYS NF'!$B:$DZ,CONCATENATE(LEFT($A19,2),AX$2))<>0),\"Closed\",\"Open\")","v":"Open"},{"$f":"IF((COUNTIF('HOLIDAYS NF'!$B:$DZ,CONCATENATE(LEFT($A19,2),AY$2))<>0),\"Closed\",\"Open\")","v":"Open"},{"$f":"IF((COUNTIF('HOLIDAYS NF'!$B:$DZ,CONCATENATE(LEFT($A19,2),AZ$2))<>0),\"Closed\",\"Open\")","v":"Open"},{"$f":"IF((COUNTIF('HOLIDAYS NF'!$B:$DZ,CONCATENATE(LEFT($A19,2),BA$2))<>0),\"Closed\",\"Open\")","v":"Open"},{"$f":"IF((COUNTIF('HOLIDAYS NF'!$B:$DZ,CONCATENATE(LEFT($A19,2),BB$2))<>0),\"Closed\",\"Open\")","v":"Open"},{"$f":"IF((COUNTIF('HOLIDAYS NF'!$B:$DZ,CONCATENATE(LEFT($A19,2),BC$2))<>0),\"Closed\",\"Open\")","v":"Open"},{"$f":"IF((COUNTIF('HOLIDAYS NF'!$B:$DZ,CONCATENATE(LEFT($A19,2),BD$2))<>0),\"Closed\",\"Open\")","v":"Open"},{"$f":"IF((COUNTIF('HOLIDAYS NF'!$B:$DZ,CONCATENATE(LEFT($A19,2),BE$2))<>0),\"Closed\",\"Open\")","v":"Open"},{"$f":"IF((COUNTIF('HOLIDAYS NF'!$B:$DZ,CONCATENATE(LEFT($A19,2),BF$2))<>0),\"Closed\",\"Open\")","v":"Open"},{"$f":"IF((COUNTIF('HOLIDAYS NF'!$B:$DZ,CONCATENATE(LEFT($A19,2),BG$2))<>0),\"Closed\",\"Open\")","v":"Open"},{"$f":"IF((COUNTIF('HOLIDAYS NF'!$B:$DZ,CONCATENATE(LEFT($A19,2),BH$2))<>0),\"Closed\",\"Open\")","v":"Open"},{"$f":"IF((COUNTIF('HOLIDAYS NF'!$B:$DZ,CONCATENATE(LEFT($A19,2),BI$2))<>0),\"Closed\",\"Open\")","v":"Open"},{"$f":"IF((COUNTIF('HOLIDAYS NF'!$B:$DZ,CONCATENATE(LEFT($A19,2),BJ$2))<>0),\"Closed\",\"Open\")","v":"Open"}]
["DK",{"$f":"SUMIF(Holdings!G:G,(CONCATENATE($B$1,\"-\",A20,)),Holdings!H:H)","v":0},{"$f":"HLOOKUP(A20,'[1]HOLIDAYS NF'!B$1:BR$65536,6,FALSE)","v":"Denmark"},{"$f":"IF((COUNTIF('HOLIDAYS NF'!$B:$DZ,CONCATENATE(LEFT($A20,2),D$2))<>0),\"Closed\",\"Open\")","v":"Open"},{"$f":"IF((COUNTIF('HOLIDAYS NF'!$B:$DZ,CONCATENATE(LEFT($A20,2),E$2))<>0),\"Closed\",\"Open\")","v":"Open"},{"$f":"IF((COUNTIF('HOLIDAYS NF'!$B:$DZ,CONCATENATE(LEFT($A20,2),F$2))<>0),\"Closed\",\"Open\")","v":"Open"},{"$f":"IF((COUNTIF('HOLIDAYS NF'!$B:$DZ,CONCATENATE(LEFT($A20,2),G$2))<>0),\"Closed\",\"Open\")","v":"Open"},{"$f":"IF((COUNTIF('HOLIDAYS NF'!$B:$DZ,CONCATENATE(LEFT($A20,2),H$2))<>0),\"Closed\",\"Open\")","v":"Open"},{"$f":"IF((COUNTIF('HOLIDAYS NF'!$B:$DZ,CONCATENATE(LEFT($A20,2),I$2))<>0),\"Closed\",\"Open\")","v":"Open"},{"$f":"IF((COUNTIF('HOLIDAYS NF'!$B:$DZ,CONCATENATE(LEFT($A20,2),J$2))<>0),\"Closed\",\"Open\")","v":"Open"},{"$f":"IF((COUNTIF('HOLIDAYS NF'!$B:$DZ,CONCATENATE(LEFT($A20,2),K$2))<>0),\"Closed\",\"Open\")","v":"Open"},{"$f":"IF((COUNTIF('HOLIDAYS NF'!$B:$DZ,CONCATENATE(LEFT($A20,2),L$2))<>0),\"Closed\",\"Open\")","v":"Open"},{"$f":"IF((COUNTIF('HOLIDAYS NF'!$B:$DZ,CONCATENATE(LEFT($A20,2),M$2))<>0),\"Closed\",\"Open\")","v":"Open"},{"$f":"IF((COUNTIF('HOLIDAYS NF'!$B:$DZ,CONCATENATE(LEFT($A20,2),N$2))<>0),\"Closed\",\"Open\")","v":"Open"},{"$f":"IF((COUNTIF('HOLIDAYS NF'!$B:$DZ,CONCATENATE(LEFT($A20,2),O$2))<>0),\"Closed\",\"Open\")","v":"Open"},{"$f":"IF((COUNTIF('HOLIDAYS NF'!$B:$DZ,CONCATENATE(LEFT($A20,2),P$2))<>0),\"Closed\",\"Open\")","v":"Open"},{"$f":"IF((COUNTIF('HOLIDAYS NF'!$B:$DZ,CONCATENATE(LEFT($A20,2),Q$2))<>0),\"Closed\",\"Open\")","v":"Open"},{"$f":"IF((COUNTIF('HOLIDAYS NF'!$B:$DZ,CONCATENATE(LEFT($A20,2),R$2))<>0),\"Closed\",\"Open\")","v":"Open"},{"$f":"IF((COUNTIF('HOLIDAYS NF'!$B:$DZ,CONCATENATE(LEFT($A20,2),S$2))<>0),\"Closed\",\"Open\")","v":"Open"},{"$f":"IF((COUNTIF('HOLIDAYS NF'!$B:$DZ,CONCATENATE(LEFT($A20,2),T$2))<>0),\"Closed\",\"Open\")","v":"Open"},{"$f":"IF((COUNTIF('HOLIDAYS NF'!$B:$DZ,CONCATENATE(LEFT($A20,2),U$2))<>0),\"Closed\",\"Open\")","v":"Open"},{"$f":"IF((COUNTIF('HOLIDAYS NF'!$B:$DZ,CONCATENATE(LEFT($A20,2),V$2))<>0),\"Closed\",\"Open\")","v":"Open"},{"$f":"IF((COUNTIF('HOLIDAYS NF'!$B:$DZ,CONCATENATE(LEFT($A20,2),W$2))<>0),\"Closed\",\"Open\")","v":"Open"},{"$f":"IF((COUNTIF('HOLIDAYS NF'!$B:$DZ,CONCATENATE(LEFT($A20,2),X$2))<>0),\"Closed\",\"Open\")","v":"Open"},{"$f":"IF((COUNTIF('HOLIDAYS NF'!$B:$DZ,CONCATENATE(LEFT($A20,2),Y$2))<>0),\"Closed\",\"Open\")","v":"Open"},{"$f":"IF((COUNTIF('HOLIDAYS NF'!$B:$DZ,CONCATENATE(LEFT($A20,2),Z$2))<>0),\"Closed\",\"Open\")","v":"Open"},{"$f":"IF((COUNTIF('HOLIDAYS NF'!$B:$DZ,CONCATENATE(LEFT($A20,2),AA$2))<>0),\"Closed\",\"Open\")","v":"Open"},{"$f":"IF((COUNTIF('HOLIDAYS NF'!$B:$DZ,CONCATENATE(LEFT($A20,2),AB$2))<>0),\"Closed\",\"Open\")","v":"Open"},{"$f":"IF((COUNTIF('HOLIDAYS NF'!$B:$DZ,CONCATENATE(LEFT($A20,2),AC$2))<>0),\"Closed\",\"Open\")","v":"Open"},{"$f":"IF((COUNTIF('HOLIDAYS NF'!$B:$DZ,CONCATENATE(LEFT($A20,2),AD$2))<>0),\"Closed\",\"Open\")","v":"Open"},{"$f":"IF((COUNTIF('HOLIDAYS NF'!$B:$DZ,CONCATENATE(LEFT($A20,2),AE$2))<>0),\"Closed\",\"Open\")","v":"Open"},{"$f":"IF((COUNTIF('HOLIDAYS NF'!$B:$DZ,CONCATENATE(LEFT($A20,2),AF$2))<>0),\"Closed\",\"Open\")","v":"Open"},{"$f":"IF((COUNTIF('HOLIDAYS NF'!$B:$DZ,CONCATENATE(LEFT($A20,2),AG$2))<>0),\"Closed\",\"Open\")","v":"Open"},{"$f":"IF((COUNTIF('HOLIDAYS NF'!$B:$DZ,CONCATENATE(LEFT($A20,2),AH$2))<>0),\"Closed\",\"Open\")","v":"Open"},{"$f":"IF((COUNTIF('HOLIDAYS NF'!$B:$DZ,CONCATENATE(LEFT($A20,2),AI$2))<>0),\"Closed\",\"Open\")","v":"Open"},{"$f":"IF((COUNTIF('HOLIDAYS NF'!$B:$DZ,CONCATENATE(LEFT($A20,2),AJ$2))<>0),\"Closed\",\"Open\")","v":"Open"},{"$f":"IF((COUNTIF('HOLIDAYS NF'!$B:$DZ,CONCATENATE(LEFT($A20,2),AK$2))<>0),\"Closed\",\"Open\")","v":"Open"},{"$f":"IF((COUNTIF('HOLIDAYS NF'!$B:$DZ,CONCATENATE(LEFT($A20,2),AL$2))<>0),\"Closed\",\"Open\")","v":"Open"},{"$f":"IF((COUNTIF('HOLIDAYS NF'!$B:$DZ,CONCATENATE(LEFT($A20,2),AM$2))<>0),\"Closed\",\"Open\")","v":"Open"},{"$f":"IF((COUNTIF('HOLIDAYS NF'!$B:$DZ,CONCATENATE(LEFT($A20,2),AN$2))<>0),\"Closed\",\"Open\")","v":"Open"},{"$f":"IF((COUNTIF('HOLIDAYS NF'!$B:$DZ,CONCATENATE(LEFT($A20,2),AO$2))<>0),\"Closed\",\"Open\")","v":"Open"},{"$f":"IF((COUNTIF('HOLIDAYS NF'!$B:$DZ,CONCATENATE(LEFT($A20,2),AP$2))<>0),\"Closed\",\"Open\")","v":"Open"},{"$f":"IF((COUNTIF('HOLIDAYS NF'!$B:$DZ,CONCATENATE(LEFT($A20,2),AQ$2))<>0),\"Closed\",\"Open\")","v":"Open"},{"$f":"IF((COUNTIF('HOLIDAYS NF'!$B:$DZ,CONCATENATE(LEFT($A20,2),AR$2))<>0),\"Closed\",\"Open\")","v":"Open"},{"$f":"IF((COUNTIF('HOLIDAYS NF'!$B:$DZ,CONCATENATE(LEFT($A20,2),AS$2))<>0),\"Closed\",\"Open\")","v":"Open"},{"$f":"IF((COUNTIF('HOLIDAYS NF'!$B:$DZ,CONCATENATE(LEFT($A20,2),AT$2))<>0),\"Closed\",\"Open\")","v":"Open"},{"$f":"IF((COUNTIF('HOLIDAYS NF'!$B:$DZ,CONCATENATE(LEFT($A20,2),AU$2))<>0),\"Closed\",\"Open\")","v":"Open"},{"$f":"IF((COUNTIF('HOLIDAYS NF'!$B:$DZ,CONCATENATE(LEFT($A20,2),AV$2))<>0),\"Closed\",\"Open\")","v":"Open"},{"$f":"IF((COUNTIF('HOLIDAYS NF'!$B:$DZ,CONCATENATE(LEFT($A20,2),AW$2))<>0),\"Closed\",\"Open\")","v":"Open"},{"$f":"IF((COUNTIF('HOLIDAYS NF'!$B:$DZ,CONCATENATE(LEFT($A20,2),AX$2))<>0),\"Closed\",\"Open\")","v":"Open"},{"$f":"IF((COUNTIF('HOLIDAYS NF'!$B:$DZ,CONCATENATE(LEFT($A20,2),AY$2))<>0),\"Closed\",\"Open\")","v":"Open"},{"$f":"IF((COUNTIF('HOLIDAYS NF'!$B:$DZ,CONCATENATE(LEFT($A20,2),AZ$2))<>0),\"Closed\",\"Open\")","v":"Open"},{"$f":"IF((COUNTIF('HOLIDAYS NF'!$B:$DZ,CONCATENATE(LEFT($A20,2),BA$2))<>0),\"Closed\",\"Open\")","v":"Open"},{"$f":"IF((COUNTIF('HOLIDAYS NF'!$B:$DZ,CONCATENATE(LEFT($A20,2),BB$2))<>0),\"Closed\",\"Open\")","v":"Open"},{"$f":"IF((COUNTIF('HOLIDAYS NF'!$B:$DZ,CONCATENATE(LEFT($A20,2),BC$2))<>0),\"Closed\",\"Open\")","v":"Open"},{"$f":"IF((COUNTIF('HOLIDAYS NF'!$B:$DZ,CONCATENATE(LEFT($A20,2),BD$2))<>0),\"Closed\",\"Open\")","v":"Open"},{"$f":"IF((COUNTIF('HOLIDAYS NF'!$B:$DZ,CONCATENATE(LEFT($A20,2),BE$2))<>0),\"Closed\",\"Open\")","v":"Open"},{"$f":"IF((COUNTIF('HOLIDAYS NF'!$B:$DZ,CONCATENATE(LEFT($A20,2),BF$2))<>0),\"Closed\",\"Open\")","v":"Open"},{"$f":"IF((COUNTIF('HOLIDAYS NF'!$B:$DZ,CONCATENATE(LEFT($A20,2),BG$2))<>0),\"Closed\",\"Open\")","v":"Open"},{"$f":"IF((COUNTIF('HOLIDAYS NF'!$B:$DZ,CONCATENATE(LEFT($A20,2),BH$2))<>0),\"Closed\",\"Open\")","v":"Open"},{"$f":"IF((COUNTIF('HOLIDAYS NF'!$B:$DZ,CONCATENATE(LEFT($A20,2),BI$2))<>0),\"Closed\",\"Open\")","v":"Open"},{"$f":"IF((COUNTIF('HOLIDAYS NF'!$B:$DZ,CONCATENATE(LEFT($A20,2),BJ$2))<>0),\"Closed\",\"Open\")","v":"Open"}]
["EG",{"$f":"SUMIF(Holdings!G:G,(CONCATENATE($B$1,\"-\",A21,)),Holdings!H:H)","v":0},{"$f":"HLOOKUP(A21,'[1]HOLIDAYS NF'!B$1:BR$65536,6,FALSE)","v":"Egypt"},{"$f":"IF((COUNTIF('HOLIDAYS NF'!$B:$DZ,CONCATENATE(LEFT($A21,2),D$2))<>0),\"Closed\",\"Open\")","v":"Open"},{"$f":"IF((COUNTIF('HOLIDAYS NF'!$B:$DZ,CONCATENATE(LEFT($A21,2),E$2))<>0),\"Closed\",\"Open\")","v":"Open"},{"$f":"IF((COUNTIF('HOLIDAYS NF'!$B:$DZ,CONCATENATE(LEFT($A21,2),F$2))<>0),\"Closed\",\"Open\")","v":"Open"},{"$f":"IF((COUNTIF('HOLIDAYS NF'!$B:$DZ,CONCATENATE(LEFT($A21,2),G$2))<>0),\"Closed\",\"Open\")","v":"Open"},{"$f":"IF((COUNTIF('HOLIDAYS NF'!$B:$DZ,CONCATENATE(LEFT($A21,2),H$2))<>0),\"Closed\",\"Open\")","v":"Open"},{"$f":"IF((COUNTIF('HOLIDAYS NF'!$B:$DZ,CONCATENATE(LEFT($A21,2),I$2))<>0),\"Closed\",\"Open\")","v":"Open"},{"$f":"IF((COUNTIF('HOLIDAYS NF'!$B:$DZ,CONCATENATE(LEFT($A21,2),J$2))<>0),\"Closed\",\"Open\")","v":"Open"},{"$f":"IF((COUNTIF('HOLIDAYS NF'!$B:$DZ,CONCATENATE(LEFT($A21,2),K$2))<>0),\"Closed\",\"Open\")","v":"Open"},{"$f":"IF((COUNTIF('HOLIDAYS NF'!$B:$DZ,CONCATENATE(LEFT($A21,2),L$2))<>0),\"Closed\",\"Open\")","v":"Open"},{"$f":"IF((COUNTIF('HOLIDAYS NF'!$B:$DZ,CONCATENATE(LEFT($A21,2),M$2))<>0),\"Closed\",\"Open\")","v":"Open"},{"$f":"IF((COUNTIF('HOLIDAYS NF'!$B:$DZ,CONCATENATE(LEFT($A21,2),N$2))<>0),\"Closed\",\"Open\")","v":"Open"},{"$f":"IF((COUNTIF('HOLIDAYS NF'!$B:$DZ,CONCATENATE(LEFT($A21,2),O$2))<>0),\"Closed\",\"Open\")","v":"Open"},{"$f":"IF((COUNTIF('HOLIDAYS NF'!$B:$DZ,CONCATENATE(LEFT($A21,2),P$2))<>0),\"Closed\",\"Open\")","v":"Open"},{"$f":"IF((COUNTIF('HOLIDAYS NF'!$B:$DZ,CONCATENATE(LEFT($A21,2),Q$2))<>0),\"Closed\",\"Open\")","v":"Open"},{"$f":"IF((COUNTIF('HOLIDAYS NF'!$B:$DZ,CONCATENATE(LEFT($A21,2),R$2))<>0),\"Closed\",\"Open\")","v":"Open"},{"$f":"IF((COUNTIF('HOLIDAYS NF'!$B:$DZ,CONCATENATE(LEFT($A21,2),S$2))<>0),\"Closed\",\"Open\")","v":"Open"},{"$f":"IF((COUNTIF('HOLIDAYS NF'!$B:$DZ,CONCATENATE(LEFT($A21,2),T$2))<>0),\"Closed\",\"Open\")","v":"Open"},{"$f":"IF((COUNTIF('HOLIDAYS NF'!$B:$DZ,CONCATENATE(LEFT($A21,2),U$2))<>0),\"Closed\",\"Open\")","v":"Open"},{"$f":"IF((COUNTIF('HOLIDAYS NF'!$B:$DZ,CONCATENATE(LEFT($A21,2),V$2))<>0),\"Closed\",\"Open\")","v":"Open"},{"$f":"IF((COUNTIF('HOLIDAYS NF'!$B:$DZ,CONCATENATE(LEFT($A21,2),W$2))<>0),\"Closed\",\"Open\")","v":"Open"},{"$f":"IF((COUNTIF('HOLIDAYS NF'!$B:$DZ,CONCATENATE(LEFT($A21,2),X$2))<>0),\"Closed\",\"Open\")","v":"Open"},{"$f":"IF((COUNTIF('HOLIDAYS NF'!$B:$DZ,CONCATENATE(LEFT($A21,2),Y$2))<>0),\"Closed\",\"Open\")","v":"Open"},{"$f":"IF((COUNTIF('HOLIDAYS NF'!$B:$DZ,CONCATENATE(LEFT($A21,2),Z$2))<>0),\"Closed\",\"Open\")","v":"Open"},{"$f":"IF((COUNTIF('HOLIDAYS NF'!$B:$DZ,CONCATENATE(LEFT($A21,2),AA$2))<>0),\"Closed\",\"Open\")","v":"Open"},{"$f":"IF((COUNTIF('HOLIDAYS NF'!$B:$DZ,CONCATENATE(LEFT($A21,2),AB$2))<>0),\"Closed\",\"Open\")","v":"Open"},{"$f":"IF((COUNTIF('HOLIDAYS NF'!$B:$DZ,CONCATENATE(LEFT($A21,2),AC$2))<>0),\"Closed\",\"Open\")","v":"Open"},{"$f":"IF((COUNTIF('HOLIDAYS NF'!$B:$DZ,CONCATENATE(LEFT($A21,2),AD$2))<>0),\"Closed\",\"Open\")","v":"Open"},{"$f":"IF((COUNTIF('HOLIDAYS NF'!$B:$DZ,CONCATENATE(LEFT($A21,2),AE$2))<>0),\"Closed\",\"Open\")","v":"Open"},{"$f":"IF((COUNTIF('HOLIDAYS NF'!$B:$DZ,CONCATENATE(LEFT($A21,2),AF$2))<>0),\"Closed\",\"Open\")","v":"Open"},{"$f":"IF((COUNTIF('HOLIDAYS NF'!$B:$DZ,CONCATENATE(LEFT($A21,2),AG$2))<>0),\"Closed\",\"Open\")","v":"Open"},{"$f":"IF((COUNTIF('HOLIDAYS NF'!$B:$DZ,CONCATENATE(LEFT($A21,2),AH$2))<>0),\"Closed\",\"Open\")","v":"Open"},{"$f":"IF((COUNTIF('HOLIDAYS NF'!$B:$DZ,CONCATENATE(LEFT($A21,2),AI$2))<>0),\"Closed\",\"Open\")","v":"Open"},{"$f":"IF((COUNTIF('HOLIDAYS NF'!$B:$DZ,CONCATENATE(LEFT($A21,2),AJ$2))<>0),\"Closed\",\"Open\")","v":"Open"},{"$f":"IF((COUNTIF('HOLIDAYS NF'!$B:$DZ,CONCATENATE(LEFT($A21,2),AK$2))<>0),\"Closed\",\"Open\")","v":"Open"},{"$f":"IF((COUNTIF('HOLIDAYS NF'!$B:$DZ,CONCATENATE(LEFT($A21,2),AL$2))<>0),\"Closed\",\"Open\")","v":"Open"},{"$f":"IF((COUNTIF('HOLIDAYS NF'!$B:$DZ,CONCATENATE(LEFT($A21,2),AM$2))<>0),\"Closed\",\"Open\")","v":"Open"},{"$f":"IF((COUNTIF('HOLIDAYS NF'!$B:$DZ,CONCATENATE(LEFT($A21,2),AN$2))<>0),\"Closed\",\"Open\")","v":"Open"},{"$f":"IF((COUNTIF('HOLIDAYS NF'!$B:$DZ,CONCATENATE(LEFT($A21,2),AO$2))<>0),\"Closed\",\"Open\")","v":"Open"},{"$f":"IF((COUNTIF('HOLIDAYS NF'!$B:$DZ,CONCATENATE(LEFT($A21,2),AP$2))<>0),\"Closed\",\"Open\")","v":"Open"},{"$f":"IF((COUNTIF('HOLIDAYS NF'!$B:$DZ,CONCATENATE(LEFT($A21,2),AQ$2))<>0),\"Closed\",\"Open\")","v":"Open"},{"$f":"IF((COUNTIF('HOLIDAYS NF'!$B:$DZ,CONCATENATE(LEFT($A21,2),AR$2))<>0),\"Closed\",\"Open\")","v":"Open"},{"$f":"IF((COUNTIF('HOLIDAYS NF'!$B:$DZ,CONCATENATE(LEFT($A21,2),AS$2))<>0),\"Closed\",\"Open\")","v":"Open"},{"$f":"IF((COUNTIF('HOLIDAYS NF'!$B:$DZ,CONCATENATE(LEFT($A21,2),AT$2))<>0),\"Closed\",\"Open\")","v":"Open"},{"$f":"IF((COUNTIF('HOLIDAYS NF'!$B:$DZ,CONCATENATE(LEFT($A21,2),AU$2))<>0),\"Closed\",\"Open\")","v":"Open"},{"$f":"IF((COUNTIF('HOLIDAYS NF'!$B:$DZ,CONCATENATE(LEFT($A21,2),AV$2))<>0),\"Closed\",\"Open\")","v":"Open"},{"$f":"IF((COUNTIF('HOLIDAYS NF'!$B:$DZ,CONCATENATE(LEFT($A21,2),AW$2))<>0),\"Closed\",\"Open\")","v":"Open"},{"$f":"IF((COUNTIF('HOLIDAYS NF'!$B:$DZ,CONCATENATE(LEFT($A21,2),AX$2))<>0),\"Closed\",\"Open\")","v":"Open"},{"$f":"IF((COUNTIF('HOLIDAYS NF'!$B:$DZ,CONCATENATE(LEFT($A21,2),AY$2))<>0),\"Closed\",\"Open\")","v":"Open"},{"$f":"IF((COUNTIF('HOLIDAYS NF'!$B:$DZ,CONCATENATE(LEFT($A21,2),AZ$2))<>0),\"Closed\",\"Open\")","v":"Open"},{"$f":"IF((COUNTIF('HOLIDAYS NF'!$B:$DZ,CONCATENATE(LEFT($A21,2),BA$2))<>0),\"Closed\",\"Open\")","v":"Open"},{"$f":"IF((COUNTIF('HOLIDAYS NF'!$B:$DZ,CONCATENATE(LEFT($A21,2),BB$2))<>0),\"Closed\",\"Open\")","v":"Open"},{"$f":"IF((COUNTIF('HOLIDAYS NF'!$B:$DZ,CONCATENATE(LEFT($A21,2),BC$2))<>0),\"Closed\",\"Open\")","v":"Open"},{"$f":"IF((COUNTIF('HOLIDAYS NF'!$B:$DZ,CONCATENATE(LEFT($A21,2),BD$2))<>0),\"Closed\",\"Open\")","v":"Open"},{"$f":"IF((COUNTIF('HOLIDAYS NF'!$B:$DZ,CONCATENATE(LEFT($A21,2),BE$2))<>0),\"Closed\",\"Open\")","v":"Open"},{"$f":"IF((COUNTIF('HOLIDAYS NF'!$B:$DZ,CONCATENATE(LEFT($A21,2),BF$2))<>0),\"Closed\",\"Open\")","v":"Open"},{"$f":"IF((COUNTIF('HOLIDAYS NF'!$B:$DZ,CONCATENATE(LEFT($A21,2),BG$2))<>0),\"Closed\",\"Open\")","v":"Open"},{"$f":"IF((COUNTIF('HOLIDAYS NF'!$B:$DZ,CONCATENATE(LEFT($A21,2),BH$2))<>0),\"Closed\",\"Open\")","v":"Open"},{"$f":"IF((COUNTIF('HOLIDAYS NF'!$B:$DZ,CONCATENATE(LEFT($A21,2),BI$2))<>0),\"Closed\",\"Open\")","v":"Open"},{"$f":"IF((COUNTIF('HOLIDAYS NF'!$B:$DZ,CONCATENATE(LEFT($A21,2),BJ$2))<>0),\"Closed\",\"Open\")","v":"Open"}]
["ES",{"$f":"SUMIF(Holdings!G:G,(CONCATENATE($B$1,\"-\",A22,)),Holdings!H:H)","v":0},{"$f":"HLOOKUP(A22,'[1]HOLIDAYS NF'!B$1:BR$65536,6,FALSE)","v":"Spain"},{"$f":"IF((COUNTIF('HOLIDAYS NF'!$B:$DZ,CONCATENATE(LEFT($A22,2),D$2))<>0),\"Closed\",\"Open\")","v":"Open"},{"$f":"IF((COUNTIF('HOLIDAYS NF'!$B:$DZ,CONCATENATE(LEFT($A22,2),E$2))<>0),\"Closed\",\"Open\")","v":"Open"},{"$f":"IF((COUNTIF('HOLIDAYS NF'!$B:$DZ,CONCATENATE(LEFT($A22,2),F$2))<>0),\"Closed\",\"Open\")","v":"Open"},{"$f":"IF((COUNTIF('HOLIDAYS NF'!$B:$DZ,CONCATENATE(LEFT($A22,2),G$2))<>0),\"Closed\",\"Open\")","v":"Open"},{"$f":"IF((COUNTIF('HOLIDAYS NF'!$B:$DZ,CONCATENATE(LEFT($A22,2),H$2))<>0),\"Closed\",\"Open\")","v":"Open"},{"$f":"IF((COUNTIF('HOLIDAYS NF'!$B:$DZ,CONCATENATE(LEFT($A22,2),I$2))<>0),\"Closed\",\"Open\")","v":"Open"},{"$f":"IF((COUNTIF('HOLIDAYS NF'!$B:$DZ,CONCATENATE(LEFT($A22,2),J$2))<>0),\"Closed\",\"Open\")","v":"Open"},{"$f":"IF((COUNTIF('HOLIDAYS NF'!$B:$DZ,CONCATENATE(LEFT($A22,2),K$2))<>0),\"Closed\",\"Open\")","v":"Open"},{"$f":"IF((COUNTIF('HOLIDAYS NF'!$B:$DZ,CONCATENATE(LEFT($A22,2),L$2))<>0),\"Closed\",\"Open\")","v":"Open"},{"$f":"IF((COUNTIF('HOLIDAYS NF'!$B:$DZ,CONCATENATE(LEFT($A22,2),M$2))<>0),\"Closed\",\"Open\")","v":"Open"},{"$f":"IF((COUNTIF('HOLIDAYS NF'!$B:$DZ,CONCATENATE(LEFT($A22,2),N$2))<>0),\"Closed\",\"Open\")","v":"Open"},{"$f":"IF((COUNTIF('HOLIDAYS NF'!$B:$DZ,CONCATENATE(LEFT($A22,2),O$2))<>0),\"Closed\",\"Open\")","v":"Open"},{"$f":"IF((COUNTIF('HOLIDAYS NF'!$B:$DZ,CONCATENATE(LEFT($A22,2),P$2))<>0),\"Closed\",\"Open\")","v":"Open"},{"$f":"IF((COUNTIF('HOLIDAYS NF'!$B:$DZ,CONCATENATE(LEFT($A22,2),Q$2))<>0),\"Closed\",\"Open\")","v":"Open"},{"$f":"IF((COUNTIF('HOLIDAYS NF'!$B:$DZ,CONCATENATE(LEFT($A22,2),R$2))<>0),\"Closed\",\"Open\")","v":"Open"},{"$f":"IF((COUNTIF('HOLIDAYS NF'!$B:$DZ,CONCATENATE(LEFT($A22,2),S$2))<>0),\"Closed\",\"Open\")","v":"Open"},{"$f":"IF((COUNTIF('HOLIDAYS NF'!$B:$DZ,CONCATENATE(LEFT($A22,2),T$2))<>0),\"Closed\",\"Open\")","v":"Open"},{"$f":"IF((COUNTIF('HOLIDAYS NF'!$B:$DZ,CONCATENATE(LEFT($A22,2),U$2))<>0),\"Closed\",\"Open\")","v":"Open"},{"$f":"IF((COUNTIF('HOLIDAYS NF'!$B:$DZ,CONCATENATE(LEFT($A22,2),V$2))<>0),\"Closed\",\"Open\")","v":"Open"},{"$f":"IF((COUNTIF('HOLIDAYS NF'!$B:$DZ,CONCATENATE(LEFT($A22,2),W$2))<>0),\"Closed\",\"Open\")","v":"Open"},{"$f":"IF((COUNTIF('HOLIDAYS NF'!$B:$DZ,CONCATENATE(LEFT($A22,2),X$2))<>0),\"Closed\",\"Open\")","v":"Open"},{"$f":"IF((COUNTIF('HOLIDAYS NF'!$B:$DZ,CONCATENATE(LEFT($A22,2),Y$2))<>0),\"Closed\",\"Open\")","v":"Open"},{"$f":"IF((COUNTIF('HOLIDAYS NF'!$B:$DZ,CONCATENATE(LEFT($A22,2),Z$2))<>0),\"Closed\",\"Open\")","v":"Open"},{"$f":"IF((COUNTIF('HOLIDAYS NF'!$B:$DZ,CONCATENATE(LEFT($A22,2),AA$2))<>0),\"Closed\",\"Open\")","v":"Open"},{"$f":"IF((COUNTIF('HOLIDAYS NF'!$B:$DZ,CONCATENATE(LEFT($A22,2),AB$2))<>0),\"Closed\",\"Open\")","v":"Open"},{"$f":"IF((COUNTIF('HOLIDAYS NF'!$B:$DZ,CONCATENATE(LEFT($A22,2),AC$2))<>0),\"Closed\",\"Open\")","v":"Open"},{"$f":"IF((COUNTIF('HOLIDAYS NF'!$B:$DZ,CONCATENATE(LEFT($A22,2),AD$2))<>0),\"Closed\",\"Open\")","v":"Open"},{"$f":"IF((COUNTIF('HOLIDAYS NF'!$B:$DZ,CONCATENATE(LEFT($A22,2),AE$2))<>0),\"Closed\",\"Open\")","v":"Open"},{"$f":"IF((COUNTIF('HOLIDAYS NF'!$B:$DZ,CONCATENATE(LEFT($A22,2),AF$2))<>0),\"Closed\",\"Open\")","v":"Open"},{"$f":"IF((COUNTIF('HOLIDAYS NF'!$B:$DZ,CONCATENATE(LEFT($A22,2),AG$2))<>0),\"Closed\",\"Open\")","v":"Open"},{"$f":"IF((COUNTIF('HOLIDAYS NF'!$B:$DZ,CONCATENATE(LEFT($A22,2),AH$2))<>0),\"Closed\",\"Open\")","v":"Open"},{"$f":"IF((COUNTIF('HOLIDAYS NF'!$B:$DZ,CONCATENATE(LEFT($A22,2),AI$2))<>0),\"Closed\",\"Open\")","v":"Open"},{"$f":"IF((COUNTIF('HOLIDAYS NF'!$B:$DZ,CONCATENATE(LEFT($A22,2),AJ$2))<>0),\"Closed\",\"Open\")","v":"Open"},{"$f":"IF((COUNTIF('HOLIDAYS NF'!$B:$DZ,CONCATENATE(LEFT($A22,2),AK$2))<>0),\"Closed\",\"Open\")","v":"Open"},{"$f":"IF((COUNTIF('HOLIDAYS NF'!$B:$DZ,CONCATENATE(LEFT($A22,2),AL$2))<>0),\"Closed\",\"Open\")","v":"Open"},{"$f":"IF((COUNTIF('HOLIDAYS NF'!$B:$DZ,CONCATENATE(LEFT($A22,2),AM$2))<>0),\"Closed\",\"Open\")","v":"Open"},{"$f":"IF((COUNTIF('HOLIDAYS NF'!$B:$DZ,CONCATENATE(LEFT($A22,2),AN$2))<>0),\"Closed\",\"Open\")","v":"Open"},{"$f":"IF((COUNTIF('HOLIDAYS NF'!$B:$DZ,CONCATENATE(LEFT($A22,2),AO$2))<>0),\"Closed\",\"Open\")","v":"Open"},{"$f":"IF((COUNTIF('HOLIDAYS NF'!$B:$DZ,CONCATENATE(LEFT($A22,2),AP$2))<>0),\"Closed\",\"Open\")","v":"Open"},{"$f":"IF((COUNTIF('HOLIDAYS NF'!$B:$DZ,CONCATENATE(LEFT($A22,2),AQ$2))<>0),\"Closed\",\"Open\")","v":"Open"},{"$f":"IF((COUNTIF('HOLIDAYS NF'!$B:$DZ,CONCATENATE(LEFT($A22,2),AR$2))<>0),\"Closed\",\"Open\")","v":"Open"},{"$f":"IF((COUNTIF('HOLIDAYS NF'!$B:$DZ,CONCATENATE(LEFT($A22,2),AS$2))<>0),\"Closed\",\"Open\")","v":"Open"},{"$f":"IF((COUNTIF('HOLIDAYS NF'!$B:$DZ,CONCATENATE(LEFT($A22,2),AT$2))<>0),\"Closed\",\"Open\")","v":"Open"},{"$f":"IF((COUNTIF('HOLIDAYS NF'!$B:$DZ,CONCATENATE(LEFT($A22,2),AU$2))<>0),\"Closed\",\"Open\")","v":"Open"},{"$f":"IF((COUNTIF('HOLIDAYS NF'!$B:$DZ,CONCATENATE(LEFT($A22,2),AV$2))<>0),\"Closed\",\"Open\")","v":"Open"},{"$f":"IF((COUNTIF('HOLIDAYS NF'!$B:$DZ,CONCATENATE(LEFT($A22,2),AW$2))<>0),\"Closed\",\"Open\")","v":"Open"},{"$f":"IF((COUNTIF('HOLIDAYS NF'!$B:$DZ,CONCATENATE(LEFT($A22,2),AX$2))<>0),\"Closed\",\"Open\")","v":"Open"},{"$f":"IF((COUNTIF('HOLIDAYS NF'!$B:$DZ,CONCATENATE(LEFT($A22,2),AY$2))<>0),\"Closed\",\"Open\")","v":"Open"},{"$f":"IF((COUNTIF('HOLIDAYS NF'!$B:$DZ,CONCATENATE(LEFT($A22,2),AZ$2))<>0),\"Closed\",\"Open\")","v":"Open"},{"$f":"IF((COUNTIF('HOLIDAYS NF'!$B:$DZ,CONCATENATE(LEFT($A22,2),BA$2))<>0),\"Closed\",\"Open\")","v":"Open"},{"$f":"IF((COUNTIF('HOLIDAYS NF'!$B:$DZ,CONCATENATE(LEFT($A22,2),BB$2))<>0),\"Closed\",\"Open\")","v":"Open"},{"$f":"IF((COUNTIF('HOLIDAYS NF'!$B:$DZ,CONCATENATE(LEFT($A22,2),BC$2))<>0),\"Closed\",\"Open\")","v":"Open"},{"$f":"IF((COUNTIF('HOLIDAYS NF'!$B:$DZ,CONCATENATE(LEFT($A22,2),BD$2))<>0),\"Closed\",\"Open\")","v":"Open"},{"$f":"IF((COUNTIF('HOLIDAYS NF'!$B:$DZ,CONCATENATE(LEFT($A22,2),BE$2))<>0),\"Closed\",\"Open\")","v":"Open"},{"$f":"IF((COUNTIF('HOLIDAYS NF'!$B:$DZ,CONCATENATE(LEFT($A22,2),BF$2))<>0),\"Closed\",\"Open\")","v":"Open"},{"$f":"IF((COUNTIF('HOLIDAYS NF'!$B:$DZ,CONCATENATE(LEFT($A22,2),BG$2))<>0),\"Closed\",\"Open\")","v":"Open"},{"$f":"IF((COUNTIF('HOLIDAYS NF'!$B:$DZ,CONCATENATE(LEFT($A22,2),BH$2))<>0),\"Closed\",\"Open\")","v":"Open"},{"$f":"IF((COUNTIF('HOLIDAYS NF'!$B:$DZ,CONCATENATE(LEFT($A22,2),BI$2))<>0),\"Closed\",\"Open\")","v":"Open"},{"$f":"IF((COUNTIF('HOLIDAYS NF'!$B:$DZ,CONCATENATE(LEFT($A22,2),BJ$2))<>0),\"Closed\",\"Open\")","v":"Open"}]
["FI",{"$f":"SUMIF(Holdings!G:G,(CONCATENATE($B$1,\"-\",A23,)),Holdings!H:H)","v":0},{"$f":"HLOOKUP(A23,'[1]HOLIDAYS NF'!B$1:BR$65536,6,FALSE)","v":"Finland"},{"$f":"IF((COUNTIF('HOLIDAYS NF'!$B:$DZ,CONCATENATE(LEFT($A23,2),D$2))<>0),\"Closed\",\"Open\")","v":"Open"},{"$f":"IF((COUNTIF('HOLIDAYS NF'!$B:$DZ,CONCATENATE(LEFT($A23,2),E$2))<>0),\"Closed\",\"Open\")","v":"Open"},{"$f":"IF((COUNTIF('HOLIDAYS NF'!$B:$DZ,CONCATENATE(LEFT($A23,2),F$2))<>0),\"Closed\",\"Open\")","v":"Open"},{"$f":"IF((COUNTIF('HOLIDAYS NF'!$B:$DZ,CONCATENATE(LEFT($A23,2),G$2))<>0),\"Closed\",\"Open\")","v":"Open"},{"$f":"IF((COUNTIF('HOLIDAYS NF'!$B:$DZ,CONCATENATE(LEFT($A23,2),H$2))<>0),\"Closed\",\"Open\")","v":"Open"},{"$f":"IF((COUNTIF('HOLIDAYS NF'!$B:$DZ,CONCATENATE(LEFT($A23,2),I$2))<>0),\"Closed\",\"Open\")","v":"Open"},{"$f":"IF((COUNTIF('HOLIDAYS NF'!$B:$DZ,CONCATENATE(LEFT($A23,2),J$2))<>0),\"Closed\",\"Open\")","v":"Open"},{"$f":"IF((COUNTIF('HOLIDAYS NF'!$B:$DZ,CONCATENATE(LEFT($A23,2),K$2))<>0),\"Closed\",\"Open\")","v":"Open"},{"$f":"IF((COUNTIF('HOLIDAYS NF'!$B:$DZ,CONCATENATE(LEFT($A23,2),L$2))<>0),\"Closed\",\"Open\")","v":"Open"},{"$f":"IF((COUNTIF('HOLIDAYS NF'!$B:$DZ,CONCATENATE(LEFT($A23,2),M$2))<>0),\"Closed\",\"Open\")","v":"Open"},{"$f":"IF((COUNTIF('HOLIDAYS NF'!$B:$DZ,CONCATENATE(LEFT($A23,2),N$2))<>0),\"Closed\",\"Open\")","v":"Open"},{"$f":"IF((COUNTIF('HOLIDAYS NF'!$B:$DZ,CONCATENATE(LEFT($A23,2),O$2))<>0),\"Closed\",\"Open\")","v":"Open"},{"$f":"IF((COUNTIF('HOLIDAYS NF'!$B:$DZ,CONCATENATE(LEFT($A23,2),P$2))<>0),\"Closed\",\"Open\")","v":"Open"},{"$f":"IF((COUNTIF('HOLIDAYS NF'!$B:$DZ,CONCATENATE(LEFT($A23,2),Q$2))<>0),\"Closed\",\"Open\")","v":"Open"},{"$f":"IF((COUNTIF('HOLIDAYS NF'!$B:$DZ,CONCATENATE(LEFT($A23,2),R$2))<>0),\"Closed\",\"Open\")","v":"Open"},{"$f":"IF((COUNTIF('HOLIDAYS NF'!$B:$DZ,CONCATENATE(LEFT($A23,2),S$2))<>0),\"Closed\",\"Open\")","v":"Open"},{"$f":"IF((COUNTIF('HOLIDAYS NF'!$B:$DZ,CONCATENATE(LEFT($A23,2),T$2))<>0),\"Closed\",\"Open\")","v":"Open"},{"$f":"IF((COUNTIF('HOLIDAYS NF'!$B:$DZ,CONCATENATE(LEFT($A23,2),U$2))<>0),\"Closed\",\"Open\")","v":"Open"},{"$f":"IF((COUNTIF('HOLIDAYS NF'!$B:$DZ,CONCATENATE(LEFT($A23,2),V$2))<>0),\"Closed\",\"Open\")","v":"Open"},{"$f":"IF((COUNTIF('HOLIDAYS NF'!$B:$DZ,CONCATENATE(LEFT($A23,2),W$2))<>0),\"Closed\",\"Open\")","v":"Open"},{"$f":"IF((COUNTIF('HOLIDAYS NF'!$B:$DZ,CONCATENATE(LEFT($A23,2),X$2))<>0),\"Closed\",\"Open\")","v":"Open"},{"$f":"IF((COUNTIF('HOLIDAYS NF'!$B:$DZ,CONCATENATE(LEFT($A23,2),Y$2))<>0),\"Closed\",\"Open\")","v":"Open"},{"$f":"IF((COUNTIF('HOLIDAYS NF'!$B:$DZ,CONCATENATE(LEFT($A23,2),Z$2))<>0),\"Closed\",\"Open\")","v":"Open"},{"$f":"IF((COUNTIF('HOLIDAYS NF'!$B:$DZ,CONCATENATE(LEFT($A23,2),AA$2))<>0),\"Closed\",\"Open\")","v":"Open"},{"$f":"IF((COUNTIF('HOLIDAYS NF'!$B:$DZ,CONCATENATE(LEFT($A23,2),AB$2))<>0),\"Closed\",\"Open\")","v":"Open"},{"$f":"IF((COUNTIF('HOLIDAYS NF'!$B:$DZ,CONCATENATE(LEFT($A23,2),AC$2))<>0),\"Closed\",\"Open\")","v":"Open"},{"$f":"IF((COUNTIF('HOLIDAYS NF'!$B:$DZ,CONCATENATE(LEFT($A23,2),AD$2))<>0),\"Closed\",\"Open\")","v":"Open"},{"$f":"IF((COUNTIF('HOLIDAYS NF'!$B:$DZ,CONCATENATE(LEFT($A23,2),AE$2))<>0),\"Closed\",\"Open\")","v":"Open"},{"$f":"IF((COUNTIF('HOLIDAYS NF'!$B:$DZ,CONCATENATE(LEFT($A23,2),AF$2))<>0),\"Closed\",\"Open\")","v":"Open"},{"$f":"IF((COUNTIF('HOLIDAYS NF'!$B:$DZ,CONCATENATE(LEFT($A23,2),AG$2))<>0),\"Closed\",\"Open\")","v":"Open"},{"$f":"IF((COUNTIF('HOLIDAYS NF'!$B:$DZ,CONCATENATE(LEFT($A23,2),AH$2))<>0),\"Closed\",\"Open\")","v":"Open"},{"$f":"IF((COUNTIF('HOLIDAYS NF'!$B:$DZ,CONCATENATE(LEFT($A23,2),AI$2))<>0),\"Closed\",\"Open\")","v":"Open"},{"$f":"IF((COUNTIF('HOLIDAYS NF'!$B:$DZ,CONCATENATE(LEFT($A23,2),AJ$2))<>0),\"Closed\",\"Open\")","v":"Open"},{"$f":"IF((COUNTIF('HOLIDAYS NF'!$B:$DZ,CONCATENATE(LEFT($A23,2),AK$2))<>0),\"Closed\",\"Open\")","v":"Open"},{"$f":"IF((COUNTIF('HOLIDAYS NF'!$B:$DZ,CONCATENATE(LEFT($A23,2),AL$2))<>0),\"Closed\",\"Open\")","v":"Open"},{"$f":"IF((COUNTIF('HOLIDAYS NF'!$B:$DZ,CONCATENATE(LEFT($A23,2),AM$2))<>0),\"Closed\",\"Open\")","v":"Open"},{"$f":"IF((COUNTIF('HOLIDAYS NF'!$B:$DZ,CONCATENATE(LEFT($A23,2),AN$2))<>0),\"Closed\",\"Open\")","v":"Open"},{"$f":"IF((COUNTIF('HOLIDAYS NF'!$B:$DZ,CONCATENATE(LEFT($A23,2),AO$2))<>0),\"Closed\",\"Open\")","v":"Open"},{"$f":"IF((COUNTIF('HOLIDAYS NF'!$B:$DZ,CONCATENATE(LEFT($A23,2),AP$2))<>0),\"Closed\",\"Open\")","v":"Open"},{"$f":"IF((COUNTIF('HOLIDAYS NF'!$B:$DZ,CONCATENATE(LEFT($A23,2),AQ$2))<>0),\"Closed\",\"Open\")","v":"Open"},{"$f":"IF((COUNTIF('HOLIDAYS NF'!$B:$DZ,CONCATENATE(LEFT($A23,2),AR$2))<>0),\"Closed\",\"Open\")","v":"Open"},{"$f":"IF((COUNTIF('HOLIDAYS NF'!$B:$DZ,CONCATENATE(LEFT($A23,2),AS$2))<>0),\"Closed\",\"Open\")","v":"Open"},{"$f":"IF((COUNTIF('HOLIDAYS NF'!$B:$DZ,CONCATENATE(LEFT($A23,2),AT$2))<>0),\"Closed\",\"Open\")","v":"Open"},{"$f":"IF((COUNTIF('HOLIDAYS NF'!$B:$DZ,CONCATENATE(LEFT($A23,2),AU$2))<>0),\"Closed\",\"Open\")","v":"Open"},{"$f":"IF((COUNTIF('HOLIDAYS NF'!$B:$DZ,CONCATENATE(LEFT($A23,2),AV$2))<>0),\"Closed\",\"Open\")","v":"Open"},{"$f":"IF((COUNTIF('HOLIDAYS NF'!$B:$DZ,CONCATENATE(LEFT($A23,2),AW$2))<>0),\"Closed\",\"Open\")","v":"Open"},{"$f":"IF((COUNTIF('HOLIDAYS NF'!$B:$DZ,CONCATENATE(LEFT($A23,2),AX$2))<>0),\"Closed\",\"Open\")","v":"Open"},{"$f":"IF((COUNTIF('HOLIDAYS NF'!$B:$DZ,CONCATENATE(LEFT($A23,2),AY$2))<>0),\"Closed\",\"Open\")","v":"Open"},{"$f":"IF((COUNTIF('HOLIDAYS NF'!$B:$DZ,CONCATENATE(LEFT($A23,2),AZ$2))<>0),\"Closed\",\"Open\")","v":"Open"},{"$f":"IF((COUNTIF('HOLIDAYS NF'!$B:$DZ,CONCATENATE(LEFT($A23,2),BA$2))<>0),\"Closed\",\"Open\")","v":"Open"},{"$f":"IF((COUNTIF('HOLIDAYS NF'!$B:$DZ,CONCATENATE(LEFT($A23,2),BB$2))<>0),\"Closed\",\"Open\")","v":"Open"},{"$f":"IF((COUNTIF('HOLIDAYS NF'!$B:$DZ,CONCATENATE(LEFT($A23,2),BC$2))<>0),\"Closed\",\"Open\")","v":"Open"},{"$f":"IF((COUNTIF('HOLIDAYS NF'!$B:$DZ,CONCATENATE(LEFT($A23,2),BD$2))<>0),\"Closed\",\"Open\")","v":"Open"},{"$f":"IF((COUNTIF('HOLIDAYS NF'!$B:$DZ,CONCATENATE(LEFT($A23,2),BE$2))<>0),\"Closed\",\"Open\")","v":"Open"},{"$f":"IF((COUNTIF('HOLIDAYS NF'!$B:$DZ,CONCATENATE(LEFT($A23,2),BF$2))<>0),\"Closed\",\"Open\")","v":"Open"},{"$f":"IF((COUNTIF('HOLIDAYS NF'!$B:$DZ,CONCATENATE(LEFT($A23,2),BG$2))<>0),\"Closed\",\"Open\")","v":"Open"},{"$f":"IF((COUNTIF('HOLIDAYS NF'!$B:$DZ,CONCATENATE(LEFT($A23,2),BH$2))<>0),\"Closed\",\"Open\")","v":"Open"},{"$f":"IF((COUNTIF('HOLIDAYS NF'!$B:$DZ,CONCATENATE(LEFT($A23,2),BI$2))<>0),\"Closed\",\"Open\")","v":"Open"},{"$f":"IF((COUNTIF('HOLIDAYS NF'!$B:$DZ,CONCATENATE(LEFT($A23,2),BJ$2))<>0),\"Closed\",\"Open\")","v":"Open"}]
["FR",{"$f":"SUMIF(Holdings!G:G,(CONCATENATE($B$1,\"-\",A24,)),Holdings!H:H)","v":0},{"$f":"HLOOKUP(A24,'[1]HOLIDAYS NF'!B$1:BR$65536,6,FALSE)","v":"France"},{"$f":"IF((COUNTIF('HOLIDAYS NF'!$B:$DZ,CONCATENATE(LEFT($A24,2),D$2))<>0),\"Closed\",\"Open\")","v":"Open"},{"$f":"IF((COUNTIF('HOLIDAYS NF'!$B:$DZ,CONCATENATE(LEFT($A24,2),E$2))<>0),\"Closed\",\"Open\")","v":"Open"},{"$f":"IF((COUNTIF('HOLIDAYS NF'!$B:$DZ,CONCATENATE(LEFT($A24,2),F$2))<>0),\"Closed\",\"Open\")","v":"Open"},{"$f":"IF((COUNTIF('HOLIDAYS NF'!$B:$DZ,CONCATENATE(LEFT($A24,2),G$2))<>0),\"Closed\",\"Open\")","v":"Open"},{"$f":"IF((COUNTIF('HOLIDAYS NF'!$B:$DZ,CONCATENATE(LEFT($A24,2),H$2))<>0),\"Closed\",\"Open\")","v":"Open"},{"$f":"IF((COUNTIF('HOLIDAYS NF'!$B:$DZ,CONCATENATE(LEFT($A24,2),I$2))<>0),\"Closed\",\"Open\")","v":"Open"},{"$f":"IF((COUNTIF('HOLIDAYS NF'!$B:$DZ,CONCATENATE(LEFT($A24,2),J$2))<>0),\"Closed\",\"Open\")","v":"Open"},{"$f":"IF((COUNTIF('HOLIDAYS NF'!$B:$DZ,CONCATENATE(LEFT($A24,2),K$2))<>0),\"Closed\",\"Open\")","v":"Open"},{"$f":"IF((COUNTIF('HOLIDAYS NF'!$B:$DZ,CONCATENATE(LEFT($A24,2),L$2))<>0),\"Closed\",\"Open\")","v":"Open"},{"$f":"IF((COUNTIF('HOLIDAYS NF'!$B:$DZ,CONCATENATE(LEFT($A24,2),M$2))<>0),\"Closed\",\"Open\")","v":"Open"},{"$f":"IF((COUNTIF('HOLIDAYS NF'!$B:$DZ,CONCATENATE(LEFT($A24,2),N$2))<>0),\"Closed\",\"Open\")","v":"Open"},{"$f":"IF((COUNTIF('HOLIDAYS NF'!$B:$DZ,CONCATENATE(LEFT($A24,2),O$2))<>0),\"Closed\",\"Open\")","v":"Open"},{"$f":"IF((COUNTIF('HOLIDAYS NF'!$B:$DZ,CONCATENATE(LEFT($A24,2),P$2))<>0),\"Closed\",\"Open\")","v":"Open"},{"$f":"IF((COUNTIF('HOLIDAYS NF'!$B:$DZ,CONCATENATE(LEFT($A24,2),Q$2))<>0),\"Closed\",\"Open\")","v":"Open"},{"$f":"IF((COUNTIF('HOLIDAYS NF'!$B:$DZ,CONCATENATE(LEFT($A24,2),R$2))<>0),\"Closed\",\"Open\")","v":"Open"},{"$f":"IF((COUNTIF('HOLIDAYS NF'!$B:$DZ,CONCATENATE(LEFT($A24,2),S$2))<>0),\"Closed\",\"Open\")","v":"Open"},{"$f":"IF((COUNTIF('HOLIDAYS NF'!$B:$DZ,CONCATENATE(LEFT($A24,2),T$2))<>0),\"Closed\",\"Open\")","v":"Open"},{"$f":"IF((COUNTIF('HOLIDAYS NF'!$B:$DZ,CONCATENATE(LEFT($A24,2),U$2))<>0),\"Closed\",\"Open\")","v":"Open"},{"$f":"IF((COUNTIF('HOLIDAYS NF'!$B:$DZ,CONCATENATE(LEFT($A24,2),V$2))<>0),\"Closed\",\"Open\")","v":"Open"},{"$f":"IF((COUNTIF('HOLIDAYS NF'!$B:$DZ,CONCATENATE(LEFT($A24,2),W$2))<>0),\"Closed\",\"Open\")","v":"Open"},{"$f":"IF((COUNTIF('HOLIDAYS NF'!$B:$DZ,CONCATENATE(LEFT($A24,2),X$2))<>0),\"Closed\",\"Open\")","v":"Open"},{"$f":"IF((COUNTIF('HOLIDAYS NF'!$B:$DZ,CONCATENATE(LEFT($A24,2),Y$2))<>0),\"Closed\",\"Open\")","v":"Open"},{"$f":"IF((COUNTIF('HOLIDAYS NF'!$B:$DZ,CONCATENATE(LEFT($A24,2),Z$2))<>0),\"Closed\",\"Open\")","v":"Open"},{"$f":"IF((COUNTIF('HOLIDAYS NF'!$B:$DZ,CONCATENATE(LEFT($A24,2),AA$2))<>0),\"Closed\",\"Open\")","v":"Open"},{"$f":"IF((COUNTIF('HOLIDAYS NF'!$B:$DZ,CONCATENATE(LEFT($A24,2),AB$2))<>0),\"Closed\",\"Open\")","v":"Open"},{"$f":"IF((COUNTIF('HOLIDAYS NF'!$B:$DZ,CONCATENATE(LEFT($A24,2),AC$2))<>0),\"Closed\",\"Open\")","v":"Open"},{"$f":"IF((COUNTIF('HOLIDAYS NF'!$B:$DZ,CONCATENATE(LEFT($A24,2),AD$2))<>0),\"Closed\",\"Open\")","v":"Open"},{"$f":"IF((COUNTIF('HOLIDAYS NF'!$B:$DZ,CONCATENATE(LEFT($A24,2),AE$2))<>0),\"Closed\",\"Open\")","v":"Open"},{"$f":"IF((COUNTIF('HOLIDAYS NF'!$B:$DZ,CONCATENATE(LEFT($A24,2),AF$2))<>0),\"Closed\",\"Open\")","v":"Open"},{"$f":"IF((COUNTIF('HOLIDAYS NF'!$B:$DZ,CONCATENATE(LEFT($A24,2),AG$2))<>0),\"Closed\",\"Open\")","v":"Open"},{"$f":"IF((COUNTIF('HOLIDAYS NF'!$B:$DZ,CONCATENATE(LEFT($A24,2),AH$2))<>0),\"Closed\",\"Open\")","v":"Open"},{"$f":"IF((COUNTIF('HOLIDAYS NF'!$B:$DZ,CONCATENATE(LEFT($A24,2),AI$2))<>0),\"Closed\",\"Open\")","v":"Open"},{"$f":"IF((COUNTIF('HOLIDAYS NF'!$B:$DZ,CONCATENATE(LEFT($A24,2),AJ$2))<>0),\"Closed\",\"Open\")","v":"Open"},{"$f":"IF((COUNTIF('HOLIDAYS NF'!$B:$DZ,CONCATENATE(LEFT($A24,2),AK$2))<>0),\"Closed\",\"Open\")","v":"Open"},{"$f":"IF((COUNTIF('HOLIDAYS NF'!$B:$DZ,CONCATENATE(LEFT($A24,2),AL$2))<>0),\"Closed\",\"Open\")","v":"Open"},{"$f":"IF((COUNTIF('HOLIDAYS NF'!$B:$DZ,CONCATENATE(LEFT($A24,2),AM$2))<>0),\"Closed\",\"Open\")","v":"Open"},{"$f":"IF((COUNTIF('HOLIDAYS NF'!$B:$DZ,CONCATENATE(LEFT($A24,2),AN$2))<>0),\"Closed\",\"Open\")","v":"Open"},{"$f":"IF((COUNTIF('HOLIDAYS NF'!$B:$DZ,CONCATENATE(LEFT($A24,2),AO$2))<>0),\"Closed\",\"Open\")","v":"Open"},{"$f":"IF((COUNTIF('HOLIDAYS NF'!$B:$DZ,CONCATENATE(LEFT($A24,2),AP$2))<>0),\"Closed\",\"Open\")","v":"Open"},{"$f":"IF((COUNTIF('HOLIDAYS NF'!$B:$DZ,CONCATENATE(LEFT($A24,2),AQ$2))<>0),\"Closed\",\"Open\")","v":"Open"},{"$f":"IF((COUNTIF('HOLIDAYS NF'!$B:$DZ,CONCATENATE(LEFT($A24,2),AR$2))<>0),\"Closed\",\"Open\")","v":"Open"},{"$f":"IF((COUNTIF('HOLIDAYS NF'!$B:$DZ,CONCATENATE(LEFT($A24,2),AS$2))<>0),\"Closed\",\"Open\")","v":"Open"},{"$f":"IF((COUNTIF('HOLIDAYS NF'!$B:$DZ,CONCATENATE(LEFT($A24,2),AT$2))<>0),\"Closed\",\"Open\")","v":"Open"},{"$f":"IF((COUNTIF('HOLIDAYS NF'!$B:$DZ,CONCATENATE(LEFT($A24,2),AU$2))<>0),\"Closed\",\"Open\")","v":"Open"},{"$f":"IF((COUNTIF('HOLIDAYS NF'!$B:$DZ,CONCATENATE(LEFT($A24,2),AV$2))<>0),\"Closed\",\"Open\")","v":"Open"},{"$f":"IF((COUNTIF('HOLIDAYS NF'!$B:$DZ,CONCATENATE(LEFT($A24,2),AW$2))<>0),\"Closed\",\"Open\")","v":"Open"},{"$f":"IF((COUNTIF('HOLIDAYS NF'!$B:$DZ,CONCATENATE(LEFT($A24,2),AX$2))<>0),\"Closed\",\"Open\")","v":"Open"},{"$f":"IF((COUNTIF('HOLIDAYS NF'!$B:$DZ,CONCATENATE(LEFT($A24,2),AY$2))<>0),\"Closed\",\"Open\")","v":"Open"},{"$f":"IF((COUNTIF('HOLIDAYS NF'!$B:$DZ,CONCATENATE(LEFT($A24,2),AZ$2))<>0),\"Closed\",\"Open\")","v":"Open"},{"$f":"IF((COUNTIF('HOLIDAYS NF'!$B:$DZ,CONCATENATE(LEFT($A24,2),BA$2))<>0),\"Closed\",\"Open\")","v":"Open"},{"$f":"IF((COUNTIF('HOLIDAYS NF'!$B:$DZ,CONCATENATE(LEFT($A24,2),BB$2))<>0),\"Closed\",\"Open\")","v":"Open"},{"$f":"IF((COUNTIF('HOLIDAYS NF'!$B:$DZ,CONCATENATE(LEFT($A24,2),BC$2))<>0),\"Closed\",\"Open\")","v":"Open"},{"$f":"IF((COUNTIF('HOLIDAYS NF'!$B:$DZ,CONCATENATE(LEFT($A24,2),BD$2))<>0),\"Closed\",\"Open\")","v":"Open"},{"$f":"IF((COUNTIF('HOLIDAYS NF'!$B:$DZ,CONCATENATE(LEFT($A24,2),BE$2))<>0),\"Closed\",\"Open\")","v":"Open"},{"$f":"IF((COUNTIF('HOLIDAYS NF'!$B:$DZ,CONCATENATE(LEFT($A24,2),BF$2))<>0),\"Closed\",\"Open\")","v":"Open"},{"$f":"IF((COUNTIF('HOLIDAYS NF'!$B:$DZ,CONCATENATE(LEFT($A24,2),BG$2))<>0),\"Closed\",\"Open\")","v":"Open"},{"$f":"IF((COUNTIF('HOLIDAYS NF'!$B:$DZ,CONCATENATE(LEFT($A24,2),BH$2))<>0),\"Closed\",\"Open\")","v":"Open"},{"$f":"IF((COUNTIF('HOLIDAYS NF'!$B:$DZ,CONCATENATE(LEFT($A24,2),BI$2))<>0),\"Closed\",\"Open\")","v":"Open"},{"$f":"IF((COUNTIF('HOLIDAYS NF'!$B:$DZ,CONCATENATE(LEFT($A24,2),BJ$2))<>0),\"Closed\",\"Open\")","v":"Open"}]
["GB",{"$f":"SUMIF(Holdings!G:G,(CONCATENATE($B$1,\"-\",A25,)),Holdings!H:H)","v":0},{"$f":"HLOOKUP(A25,'[1]HOLIDAYS NF'!B$1:BR$65536,6,FALSE)","v":"United Kingdom"},{"$f":"IF((COUNTIF('HOLIDAYS NF'!$B:$DZ,CONCATENATE(LEFT($A25,2),D$2))<>0),\"Closed\",\"Open\")","v":"Open"},{"$f":"IF((COUNTIF('HOLIDAYS NF'!$B:$DZ,CONCATENATE(LEFT($A25,2),E$2))<>0),\"Closed\",\"Open\")","v":"Open"},{"$f":"IF((COUNTIF('HOLIDAYS NF'!$B:$DZ,CONCATENATE(LEFT($A25,2),F$2))<>0),\"Closed\",\"Open\")","v":"Open"},{"$f":"IF((COUNTIF('HOLIDAYS NF'!$B:$DZ,CONCATENATE(LEFT($A25,2),G$2))<>0),\"Closed\",\"Open\")","v":"Open"},{"$f":"IF((COUNTIF('HOLIDAYS NF'!$B:$DZ,CONCATENATE(LEFT($A25,2),H$2))<>0),\"Closed\",\"Open\")","v":"Open"},{"$f":"IF((COUNTIF('HOLIDAYS NF'!$B:$DZ,CONCATENATE(LEFT($A25,2),I$2))<>0),\"Closed\",\"Open\")","v":"Open"},{"$f":"IF((COUNTIF('HOLIDAYS NF'!$B:$DZ,CONCATENATE(LEFT($A25,2),J$2))<>0),\"Closed\",\"Open\")","v":"Open"},{"$f":"IF((COUNTIF('HOLIDAYS NF'!$B:$DZ,CONCATENATE(LEFT($A25,2),K$2))<>0),\"Closed\",\"Open\")","v":"Open"},{"$f":"IF((COUNTIF('HOLIDAYS NF'!$B:$DZ,CONCATENATE(LEFT($A25,2),L$2))<>0),\"Closed\",\"Open\")","v":"Open"},{"$f":"IF((COUNTIF('HOLIDAYS NF'!$B:$DZ,CONCATENATE(LEFT($A25,2),M$2))<>0),\"Closed\",\"Open\")","v":"Open"},{"$f":"IF((COUNTIF('HOLIDAYS NF'!$B:$DZ,CONCATENATE(LEFT($A25,2),N$2))<>0),\"Closed\",\"Open\")","v":"Open"},{"$f":"IF((COUNTIF('HOLIDAYS NF'!$B:$DZ,CONCATENATE(LEFT($A25,2),O$2))<>0),\"Closed\",\"Open\")","v":"Open"},{"$f":"IF((COUNTIF('HOLIDAYS NF'!$B:$DZ,CONCATENATE(LEFT($A25,2),P$2))<>0),\"Closed\",\"Open\")","v":"Open"},{"$f":"IF((COUNTIF('HOLIDAYS NF'!$B:$DZ,CONCATENATE(LEFT($A25,2),Q$2))<>0),\"Closed\",\"Open\")","v":"Open"},{"$f":"IF((COUNTIF('HOLIDAYS NF'!$B:$DZ,CONCATENATE(LEFT($A25,2),R$2))<>0),\"Closed\",\"Open\")","v":"Open"},{"$f":"IF((COUNTIF('HOLIDAYS NF'!$B:$DZ,CONCATENATE(LEFT($A25,2),S$2))<>0),\"Closed\",\"Open\")","v":"Open"},{"$f":"IF((COUNTIF('HOLIDAYS NF'!$B:$DZ,CONCATENATE(LEFT($A25,2),T$2))<>0),\"Closed\",\"Open\")","v":"Open"},{"$f":"IF((COUNTIF('HOLIDAYS NF'!$B:$DZ,CONCATENATE(LEFT($A25,2),U$2))<>0),\"Closed\",\"Open\")","v":"Open"},{"$f":"IF((COUNTIF('HOLIDAYS NF'!$B:$DZ,CONCATENATE(LEFT($A25,2),V$2))<>0),\"Closed\",\"Open\")","v":"Open"},{"$f":"IF((COUNTIF('HOLIDAYS NF'!$B:$DZ,CONCATENATE(LEFT($A25,2),W$2))<>0),\"Closed\",\"Open\")","v":"Open"},{"$f":"IF((COUNTIF('HOLIDAYS NF'!$B:$DZ,CONCATENATE(LEFT($A25,2),X$2))<>0),\"Closed\",\"Open\")","v":"Open"},{"$f":"IF((COUNTIF('HOLIDAYS NF'!$B:$DZ,CONCATENATE(LEFT($A25,2),Y$2))<>0),\"Closed\",\"Open\")","v":"Open"},{"$f":"IF((COUNTIF('HOLIDAYS NF'!$B:$DZ,CONCATENATE(LEFT($A25,2),Z$2))<>0),\"Closed\",\"Open\")","v":"Open"},{"$f":"IF((COUNTIF('HOLIDAYS NF'!$B:$DZ,CONCATENATE(LEFT($A25,2),AA$2))<>0),\"Closed\",\"Open\")","v":"Open"},{"$f":"IF((COUNTIF('HOLIDAYS NF'!$B:$DZ,CONCATENATE(LEFT($A25,2),AB$2))<>0),\"Closed\",\"Open\")","v":"Open"},{"$f":"IF((COUNTIF('HOLIDAYS NF'!$B:$DZ,CONCATENATE(LEFT($A25,2),AC$2))<>0),\"Closed\",\"Open\")","v":"Open"},{"$f":"IF((COUNTIF('HOLIDAYS NF'!$B:$DZ,CONCATENATE(LEFT($A25,2),AD$2))<>0),\"Closed\",\"Open\")","v":"Open"},{"$f":"IF((COUNTIF('HOLIDAYS NF'!$B:$DZ,CONCATENATE(LEFT($A25,2),AE$2))<>0),\"Closed\",\"Open\")","v":"Open"},{"$f":"IF((COUNTIF('HOLIDAYS NF'!$B:$DZ,CONCATENATE(LEFT($A25,2),AF$2))<>0),\"Closed\",\"Open\")","v":"Open"},{"$f":"IF((COUNTIF('HOLIDAYS NF'!$B:$DZ,CONCATENATE(LEFT($A25,2),AG$2))<>0),\"Closed\",\"Open\")","v":"Open"},{"$f":"IF((COUNTIF('HOLIDAYS NF'!$B:$DZ,CONCATENATE(LEFT($A25,2),AH$2))<>0),\"Closed\",\"Open\")","v":"Open"},{"$f":"IF((COUNTIF('HOLIDAYS NF'!$B:$DZ,CONCATENATE(LEFT($A25,2),AI$2))<>0),\"Closed\",\"Open\")","v":"Open"},{"$f":"IF((COUNTIF('HOLIDAYS NF'!$B:$DZ,CONCATENATE(LEFT($A25,2),AJ$2))<>0),\"Closed\",\"Open\")","v":"Open"},{"$f":"IF((COUNTIF('HOLIDAYS NF'!$B:$DZ,CONCATENATE(LEFT($A25,2),AK$2))<>0),\"Closed\",\"Open\")","v":"Open"},{"$f":"IF((COUNTIF('HOLIDAYS NF'!$B:$DZ,CONCATENATE(LEFT($A25,2),AL$2))<>0),\"Closed\",\"Open\")","v":"Open"},{"$f":"IF((COUNTIF('HOLIDAYS NF'!$B:$DZ,CONCATENATE(LEFT($A25,2),AM$2))<>0),\"Closed\",\"Open\")","v":"Open"},{"$f":"IF((COUNTIF('HOLIDAYS NF'!$B:$DZ,CONCATENATE(LEFT($A25,2),AN$2))<>0),\"Closed\",\"Open\")","v":"Open"},{"$f":"IF((COUNTIF('HOLIDAYS NF'!$B:$DZ,CONCATENATE(LEFT($A25,2),AO$2))<>0),\"Closed\",\"Open\")","v":"Open"},{"$f":"IF((COUNTIF('HOLIDAYS NF'!$B:$DZ,CONCATENATE(LEFT($A25,2),AP$2))<>0),\"Closed\",\"Open\")","v":"Open"},{"$f":"IF((COUNTIF('HOLIDAYS NF'!$B:$DZ,CONCATENATE(LEFT($A25,2),AQ$2))<>0),\"Closed\",\"Open\")","v":"Open"},{"$f":"IF((COUNTIF('HOLIDAYS NF'!$B:$DZ,CONCATENATE(LEFT($A25,2),AR$2))<>0),\"Closed\",\"Open\")","v":"Open"},{"$f":"IF((COUNTIF('HOLIDAYS NF'!$B:$DZ,CONCATENATE(LEFT($A25,2),AS$2))<>0),\"Closed\",\"Open\")","v":"Open"},{"$f":"IF((COUNTIF('HOLIDAYS NF'!$B:$DZ,CONCATENATE(LEFT($A25,2),AT$2))<>0),\"Closed\",\"Open\")","v":"Open"},{"$f":"IF((COUNTIF('HOLIDAYS NF'!$B:$DZ,CONCATENATE(LEFT($A25,2),AU$2))<>0),\"Closed\",\"Open\")","v":"Open"},{"$f":"IF((COUNTIF('HOLIDAYS NF'!$B:$DZ,CONCATENATE(LEFT($A25,2),AV$2))<>0),\"Closed\",\"Open\")","v":"Open"},{"$f":"IF((COUNTIF('HOLIDAYS NF'!$B:$DZ,CONCATENATE(LEFT($A25,2),AW$2))<>0),\"Closed\",\"Open\")","v":"Open"},{"$f":"IF((COUNTIF('HOLIDAYS NF'!$B:$DZ,CONCATENATE(LEFT($A25,2),AX$2))<>0),\"Closed\",\"Open\")","v":"Open"},{"$f":"IF((COUNTIF('HOLIDAYS NF'!$B:$DZ,CONCATENATE(LEFT($A25,2),AY$2))<>0),\"Closed\",\"Open\")","v":"Open"},{"$f":"IF((COUNTIF('HOLIDAYS NF'!$B:$DZ,CONCATENATE(LEFT($A25,2),AZ$2))<>0),\"Closed\",\"Open\")","v":"Open"},{"$f":"IF((COUNTIF('HOLIDAYS NF'!$B:$DZ,CONCATENATE(LEFT($A25,2),BA$2))<>0),\"Closed\",\"Open\")","v":"Open"},{"$f":"IF((COUNTIF('HOLIDAYS NF'!$B:$DZ,CONCATENATE(LEFT($A25,2),BB$2))<>0),\"Closed\",\"Open\")","v":"Open"},{"$f":"IF((COUNTIF('HOLIDAYS NF'!$B:$DZ,CONCATENATE(LEFT($A25,2),BC$2))<>0),\"Closed\",\"Open\")","v":"Open"},{"$f":"IF((COUNTIF('HOLIDAYS NF'!$B:$DZ,CONCATENATE(LEFT($A25,2),BD$2))<>0),\"Closed\",\"Open\")","v":"Open"},{"$f":"IF((COUNTIF('HOLIDAYS NF'!$B:$DZ,CONCATENATE(LEFT($A25,2),BE$2))<>0),\"Closed\",\"Open\")","v":"Open"},{"$f":"IF((COUNTIF('HOLIDAYS NF'!$B:$DZ,CONCATENATE(LEFT($A25,2),BF$2))<>0),\"Closed\",\"Open\")","v":"Open"},{"$f":"IF((COUNTIF('HOLIDAYS NF'!$B:$DZ,CONCATENATE(LEFT($A25,2),BG$2))<>0),\"Closed\",\"Open\")","v":"Open"},{"$f":"IF((COUNTIF('HOLIDAYS NF'!$B:$DZ,CONCATENATE(LEFT($A25,2),BH$2))<>0),\"Closed\",\"Open\")","v":"Open"},{"$f":"IF((COUNTIF('HOLIDAYS NF'!$B:$DZ,CONCATENATE(LEFT($A25,2),BI$2))<>0),\"Closed\",\"Open\")","v":"Open"},{"$f":"IF((COUNTIF('HOLIDAYS NF'!$B:$DZ,CONCATENATE(LEFT($A25,2),BJ$2))<>0),\"Closed\",\"Open\")","v":"Open"}]
["GG",{"$f":"SUMIF(Holdings!G:G,(CONCATENATE($B$1,\"-\",A26,)),Holdings!H:H)","v":0},{"$f":"HLOOKUP(A26,'[1]HOLIDAYS NF'!B$1:BR$65536,6,FALSE)","v":"Guernsey"},{"$f":"IF((COUNTIF('HOLIDAYS NF'!$B:$DZ,CONCATENATE(LEFT($A26,2),D$2))<>0),\"Closed\",\"Open\")","v":"Open"},{"$f":"IF((COUNTIF('HOLIDAYS NF'!$B:$DZ,CONCATENATE(LEFT($A26,2),E$2))<>0),\"Closed\",\"Open\")","v":"Open"},{"$f":"IF((COUNTIF('HOLIDAYS NF'!$B:$DZ,CONCATENATE(LEFT($A26,2),F$2))<>0),\"Closed\",\"Open\")","v":"Open"},{"$f":"IF((COUNTIF('HOLIDAYS NF'!$B:$DZ,CONCATENATE(LEFT($A26,2),G$2))<>0),\"Closed\",\"Open\")","v":"Open"},{"$f":"IF((COUNTIF('HOLIDAYS NF'!$B:$DZ,CONCATENATE(LEFT($A26,2),H$2))<>0),\"Closed\",\"Open\")","v":"Open"},{"$f":"IF((COUNTIF('HOLIDAYS NF'!$B:$DZ,CONCATENATE(LEFT($A26,2),I$2))<>0),\"Closed\",\"Open\")","v":"Open"},{"$f":"IF((COUNTIF('HOLIDAYS NF'!$B:$DZ,CONCATENATE(LEFT($A26,2),J$2))<>0),\"Closed\",\"Open\")","v":"Open"},{"$f":"IF((COUNTIF('HOLIDAYS NF'!$B:$DZ,CONCATENATE(LEFT($A26,2),K$2))<>0),\"Closed\",\"Open\")","v":"Open"},{"$f":"IF((COUNTIF('HOLIDAYS NF'!$B:$DZ,CONCATENATE(LEFT($A26,2),L$2))<>0),\"Closed\",\"Open\")","v":"Open"},{"$f":"IF((COUNTIF('HOLIDAYS NF'!$B:$DZ,CONCATENATE(LEFT($A26,2),M$2))<>0),\"Closed\",\"Open\")","v":"Open"},{"$f":"IF((COUNTIF('HOLIDAYS NF'!$B:$DZ,CONCATENATE(LEFT($A26,2),N$2))<>0),\"Closed\",\"Open\")","v":"Open"},{"$f":"IF((COUNTIF('HOLIDAYS NF'!$B:$DZ,CONCATENATE(LEFT($A26,2),O$2))<>0),\"Closed\",\"Open\")","v":"Open"},{"$f":"IF((COUNTIF('HOLIDAYS NF'!$B:$DZ,CONCATENATE(LEFT($A26,2),P$2))<>0),\"Closed\",\"Open\")","v":"Open"},{"$f":"IF((COUNTIF('HOLIDAYS NF'!$B:$DZ,CONCATENATE(LEFT($A26,2),Q$2))<>0),\"Closed\",\"Open\")","v":"Open"},{"$f":"IF((COUNTIF('HOLIDAYS NF'!$B:$DZ,CONCATENATE(LEFT($A26,2),R$2))<>0),\"Closed\",\"Open\")","v":"Open"},{"$f":"IF((COUNTIF('HOLIDAYS NF'!$B:$DZ,CONCATENATE(LEFT($A26,2),S$2))<>0),\"Closed\",\"Open\")","v":"Open"},{"$f":"IF((COUNTIF('HOLIDAYS NF'!$B:$DZ,CONCATENATE(LEFT($A26,2),T$2))<>0),\"Closed\",\"Open\")","v":"Open"},{"$f":"IF((COUNTIF('HOLIDAYS NF'!$B:$DZ,CONCATENATE(LEFT($A26,2),U$2))<>0),\"Closed\",\"Open\")","v":"Open"},{"$f":"IF((COUNTIF('HOLIDAYS NF'!$B:$DZ,CONCATENATE(LEFT($A26,2),V$2))<>0),\"Closed\",\"Open\")","v":"Open"},{"$f":"IF((COUNTIF('HOLIDAYS NF'!$B:$DZ,CONCATENATE(LEFT($A26,2),W$2))<>0),\"Closed\",\"Open\")","v":"Open"},{"$f":"IF((COUNTIF('HOLIDAYS NF'!$B:$DZ,CONCATENATE(LEFT($A26,2),X$2))<>0),\"Closed\",\"Open\")","v":"Open"},{"$f":"IF((COUNTIF('HOLIDAYS NF'!$B:$DZ,CONCATENATE(LEFT($A26,2),Y$2))<>0),\"Closed\",\"Open\")","v":"Open"},{"$f":"IF((COUNTIF('HOLIDAYS NF'!$B:$DZ,CONCATENATE(LEFT($A26,2),Z$2))<>0),\"Closed\",\"Open\")","v":"Open"},{"$f":"IF((COUNTIF('HOLIDAYS NF'!$B:$DZ,CONCATENATE(LEFT($A26,2),AA$2))<>0),\"Closed\",\"Open\")","v":"Open"},{"$f":"IF((COUNTIF('HOLIDAYS NF'!$B:$DZ,CONCATENATE(LEFT($A26,2),AB$2))<>0),\"Closed\",\"Open\")","v":"Open"},{"$f":"IF((COUNTIF('HOLIDAYS NF'!$B:$DZ,CONCATENATE(LEFT($A26,2),AC$2))<>0),\"Closed\",\"Open\")","v":"Open"},{"$f":"IF((COUNTIF('HOLIDAYS NF'!$B:$DZ,CONCATENATE(LEFT($A26,2),AD$2))<>0),\"Closed\",\"Open\")","v":"Open"},{"$f":"IF((COUNTIF('HOLIDAYS NF'!$B:$DZ,CONCATENATE(LEFT($A26,2),AE$2))<>0),\"Closed\",\"Open\")","v":"Open"},{"$f":"IF((COUNTIF('HOLIDAYS NF'!$B:$DZ,CONCATENATE(LEFT($A26,2),AF$2))<>0),\"Closed\",\"Open\")","v":"Open"},{"$f":"IF((COUNTIF('HOLIDAYS NF'!$B:$DZ,CONCATENATE(LEFT($A26,2),AG$2))<>0),\"Closed\",\"Open\")","v":"Open"},{"$f":"IF((COUNTIF('HOLIDAYS NF'!$B:$DZ,CONCATENATE(LEFT($A26,2),AH$2))<>0),\"Closed\",\"Open\")","v":"Open"},{"$f":"IF((COUNTIF('HOLIDAYS NF'!$B:$DZ,CONCATENATE(LEFT($A26,2),AI$2))<>0),\"Closed\",\"Open\")","v":"Open"},{"$f":"IF((COUNTIF('HOLIDAYS NF'!$B:$DZ,CONCATENATE(LEFT($A26,2),AJ$2))<>0),\"Closed\",\"Open\")","v":"Open"},{"$f":"IF((COUNTIF('HOLIDAYS NF'!$B:$DZ,CONCATENATE(LEFT($A26,2),AK$2))<>0),\"Closed\",\"Open\")","v":"Open"},{"$f":"IF((COUNTIF('HOLIDAYS NF'!$B:$DZ,CONCATENATE(LEFT($A26,2),AL$2))<>0),\"Closed\",\"Open\")","v":"Open"},{"$f":"IF((COUNTIF('HOLIDAYS NF'!$B:$DZ,CONCATENATE(LEFT($A26,2),AM$2))<>0),\"Closed\",\"Open\")","v":"Open"},{"$f":"IF((COUNTIF('HOLIDAYS NF'!$B:$DZ,CONCATENATE(LEFT($A26,2),AN$2))<>0),\"Closed\",\"Open\")","v":"Open"},{"$f":"IF((COUNTIF('HOLIDAYS NF'!$B:$DZ,CONCATENATE(LEFT($A26,2),AO$2))<>0),\"Closed\",\"Open\")","v":"Open"},{"$f":"IF((COUNTIF('HOLIDAYS NF'!$B:$DZ,CONCATENATE(LEFT($A26,2),AP$2))<>0),\"Closed\",\"Open\")","v":"Open"},{"$f":"IF((COUNTIF('HOLIDAYS NF'!$B:$DZ,CONCATENATE(LEFT($A26,2),AQ$2))<>0),\"Closed\",\"Open\")","v":"Open"},{"$f":"IF((COUNTIF('HOLIDAYS NF'!$B:$DZ,CONCATENATE(LEFT($A26,2),AR$2))<>0),\"Closed\",\"Open\")","v":"Open"},{"$f":"IF((COUNTIF('HOLIDAYS NF'!$B:$DZ,CONCATENATE(LEFT($A26,2),AS$2))<>0),\"Closed\",\"Open\")","v":"Open"},{"$f":"IF((COUNTIF('HOLIDAYS NF'!$B:$DZ,CONCATENATE(LEFT($A26,2),AT$2))<>0),\"Closed\",\"Open\")","v":"Open"},{"$f":"IF((COUNTIF('HOLIDAYS NF'!$B:$DZ,CONCATENATE(LEFT($A26,2),AU$2))<>0),\"Closed\",\"Open\")","v":"Open"},{"$f":"IF((COUNTIF('HOLIDAYS NF'!$B:$DZ,CONCATENATE(LEFT($A26,2),AV$2))<>0),\"Closed\",\"Open\")","v":"Open"},{"$f":"IF((COUNTIF('HOLIDAYS NF'!$B:$DZ,CONCATENATE(LEFT($A26,2),AW$2))<>0),\"Closed\",\"Open\")","v":"Open"},{"$f":"IF((COUNTIF('HOLIDAYS NF'!$B:$DZ,CONCATENATE(LEFT($A26,2),AX$2))<>0),\"Closed\",\"Open\")","v":"Open"},{"$f":"IF((COUNTIF('HOLIDAYS NF'!$B:$DZ,CONCATENATE(LEFT($A26,2),AY$2))<>0),\"Closed\",\"Open\")","v":"Open"},{"$f":"IF((COUNTIF('HOLIDAYS NF'!$B:$DZ,CONCATENATE(LEFT($A26,2),AZ$2))<>0),\"Closed\",\"Open\")","v":"Open"},{"$f":"IF((COUNTIF('HOLIDAYS NF'!$B:$DZ,CONCATENATE(LEFT($A26,2),BA$2))<>0),\"Closed\",\"Open\")","v":"Open"},{"$f":"IF((COUNTIF('HOLIDAYS NF'!$B:$DZ,CONCATENATE(LEFT($A26,2),BB$2))<>0),\"Closed\",\"Open\")","v":"Open"},{"$f":"IF((COUNTIF('HOLIDAYS NF'!$B:$DZ,CONCATENATE(LEFT($A26,2),BC$2))<>0),\"Closed\",\"Open\")","v":"Open"},{"$f":"IF((COUNTIF('HOLIDAYS NF'!$B:$DZ,CONCATENATE(LEFT($A26,2),BD$2))<>0),\"Closed\",\"Open\")","v":"Open"},{"$f":"IF((COUNTIF('HOLIDAYS NF'!$B:$DZ,CONCATENATE(LEFT($A26,2),BE$2))<>0),\"Closed\",\"Open\")","v":"Open"},{"$f":"IF((COUNTIF('HOLIDAYS NF'!$B:$DZ,CONCATENATE(LEFT($A26,2),BF$2))<>0),\"Closed\",\"Open\")","v":"Open"},{"$f":"IF((COUNTIF('HOLIDAYS NF'!$B:$DZ,CONCATENATE(LEFT($A26,2),BG$2))<>0),\"Closed\",\"Open\")","v":"Open"},{"$f":"IF((COUNTIF('HOLIDAYS NF'!$B:$DZ,CONCATENATE(LEFT($A26,2),BH$2))<>0),\"Closed\",\"Open\")","v":"Open"},{"$f":"IF((COUNTIF('HOLIDAYS NF'!$B:$DZ,CONCATENATE(LEFT($A26,2),BI$2))<>0),\"Closed\",\"Open\")","v":"Open"},{"$f":"IF((COUNTIF('HOLIDAYS NF'!$B:$DZ,CONCATENATE(LEFT($A26,2),BJ$2))<>0),\"Closed\",\"Open\")","v":"Open"}]
["GI",{"$f":"SUMIF(Holdings!G:G,(CONCATENATE($B$1,\"-\",A27,)),Holdings!H:H)","v":0},{"$f":"HLOOKUP(A27,'[1]HOLIDAYS NF'!B$1:BR$65536,6,FALSE)","v":"Gibraltar"},{"$f":"IF((COUNTIF('HOLIDAYS NF'!$B:$DZ,CONCATENATE(LEFT($A27,2),D$2))<>0),\"Closed\",\"Open\")","v":"Open"},{"$f":"IF((COUNTIF('HOLIDAYS NF'!$B:$DZ,CONCATENATE(LEFT($A27,2),E$2))<>0),\"Closed\",\"Open\")","v":"Open"},{"$f":"IF((COUNTIF('HOLIDAYS NF'!$B:$DZ,CONCATENATE(LEFT($A27,2),F$2))<>0),\"Closed\",\"Open\")","v":"Open"},{"$f":"IF((COUNTIF('HOLIDAYS NF'!$B:$DZ,CONCATENATE(LEFT($A27,2),G$2))<>0),\"Closed\",\"Open\")","v":"Open"},{"$f":"IF((COUNTIF('HOLIDAYS NF'!$B:$DZ,CONCATENATE(LEFT($A27,2),H$2))<>0),\"Closed\",\"Open\")","v":"Open"},{"$f":"IF((COUNTIF('HOLIDAYS NF'!$B:$DZ,CONCATENATE(LEFT($A27,2),I$2))<>0),\"Closed\",\"Open\")","v":"Open"},{"$f":"IF((COUNTIF('HOLIDAYS NF'!$B:$DZ,CONCATENATE(LEFT($A27,2),J$2))<>0),\"Closed\",\"Open\")","v":"Open"},{"$f":"IF((COUNTIF('HOLIDAYS NF'!$B:$DZ,CONCATENATE(LEFT($A27,2),K$2))<>0),\"Closed\",\"Open\")","v":"Open"},{"$f":"IF((COUNTIF('HOLIDAYS NF'!$B:$DZ,CONCATENATE(LEFT($A27,2),L$2))<>0),\"Closed\",\"Open\")","v":"Open"},{"$f":"IF((COUNTIF('HOLIDAYS NF'!$B:$DZ,CONCATENATE(LEFT($A27,2),M$2))<>0),\"Closed\",\"Open\")","v":"Open"},{"$f":"IF((COUNTIF('HOLIDAYS NF'!$B:$DZ,CONCATENATE(LEFT($A27,2),N$2))<>0),\"Closed\",\"Open\")","v":"Open"},{"$f":"IF((COUNTIF('HOLIDAYS NF'!$B:$DZ,CONCATENATE(LEFT($A27,2),O$2))<>0),\"Closed\",\"Open\")","v":"Open"},{"$f":"IF((COUNTIF('HOLIDAYS NF'!$B:$DZ,CONCATENATE(LEFT($A27,2),P$2))<>0),\"Closed\",\"Open\")","v":"Open"},{"$f":"IF((COUNTIF('HOLIDAYS NF'!$B:$DZ,CONCATENATE(LEFT($A27,2),Q$2))<>0),\"Closed\",\"Open\")","v":"Open"},{"$f":"IF((COUNTIF('HOLIDAYS NF'!$B:$DZ,CONCATENATE(LEFT($A27,2),R$2))<>0),\"Closed\",\"Open\")","v":"Open"},{"$f":"IF((COUNTIF('HOLIDAYS NF'!$B:$DZ,CONCATENATE(LEFT($A27,2),S$2))<>0),\"Closed\",\"Open\")","v":"Open"},{"$f":"IF((COUNTIF('HOLIDAYS NF'!$B:$DZ,CONCATENATE(LEFT($A27,2),T$2))<>0),\"Closed\",\"Open\")","v":"Open"},{"$f":"IF((COUNTIF('HOLIDAYS NF'!$B:$DZ,CONCATENATE(LEFT($A27,2),U$2))<>0),\"Closed\",\"Open\")","v":"Open"},{"$f":"IF((COUNTIF('HOLIDAYS NF'!$B:$DZ,CONCATENATE(LEFT($A27,2),V$2))<>0),\"Closed\",\"Open\")","v":"Open"},{"$f":"IF((COUNTIF('HOLIDAYS NF'!$B:$DZ,CONCATENATE(LEFT($A27,2),W$2))<>0),\"Closed\",\"Open\")","v":"Open"},{"$f":"IF((COUNTIF('HOLIDAYS NF'!$B:$DZ,CONCATENATE(LEFT($A27,2),X$2))<>0),\"Closed\",\"Open\")","v":"Open"},{"$f":"IF((COUNTIF('HOLIDAYS NF'!$B:$DZ,CONCATENATE(LEFT($A27,2),Y$2))<>0),\"Closed\",\"Open\")","v":"Open"},{"$f":"IF((COUNTIF('HOLIDAYS NF'!$B:$DZ,CONCATENATE(LEFT($A27,2),Z$2))<>0),\"Closed\",\"Open\")","v":"Open"},{"$f":"IF((COUNTIF('HOLIDAYS NF'!$B:$DZ,CONCATENATE(LEFT($A27,2),AA$2))<>0),\"Closed\",\"Open\")","v":"Open"},{"$f":"IF((COUNTIF('HOLIDAYS NF'!$B:$DZ,CONCATENATE(LEFT($A27,2),AB$2))<>0),\"Closed\",\"Open\")","v":"Open"},{"$f":"IF((COUNTIF('HOLIDAYS NF'!$B:$DZ,CONCATENATE(LEFT($A27,2),AC$2))<>0),\"Closed\",\"Open\")","v":"Open"},{"$f":"IF((COUNTIF('HOLIDAYS NF'!$B:$DZ,CONCATENATE(LEFT($A27,2),AD$2))<>0),\"Closed\",\"Open\")","v":"Open"},{"$f":"IF((COUNTIF('HOLIDAYS NF'!$B:$DZ,CONCATENATE(LEFT($A27,2),AE$2))<>0),\"Closed\",\"Open\")","v":"Open"},{"$f":"IF((COUNTIF('HOLIDAYS NF'!$B:$DZ,CONCATENATE(LEFT($A27,2),AF$2))<>0),\"Closed\",\"Open\")","v":"Open"},{"$f":"IF((COUNTIF('HOLIDAYS NF'!$B:$DZ,CONCATENATE(LEFT($A27,2),AG$2))<>0),\"Closed\",\"Open\")","v":"Open"},{"$f":"IF((COUNTIF('HOLIDAYS NF'!$B:$DZ,CONCATENATE(LEFT($A27,2),AH$2))<>0),\"Closed\",\"Open\")","v":"Open"},{"$f":"IF((COUNTIF('HOLIDAYS NF'!$B:$DZ,CONCATENATE(LEFT($A27,2),AI$2))<>0),\"Closed\",\"Open\")","v":"Open"},{"$f":"IF((COUNTIF('HOLIDAYS NF'!$B:$DZ,CONCATENATE(LEFT($A27,2),AJ$2))<>0),\"Closed\",\"Open\")","v":"Open"},{"$f":"IF((COUNTIF('HOLIDAYS NF'!$B:$DZ,CONCATENATE(LEFT($A27,2),AK$2))<>0),\"Closed\",\"Open\")","v":"Open"},{"$f":"IF((COUNTIF('HOLIDAYS NF'!$B:$DZ,CONCATENATE(LEFT($A27,2),AL$2))<>0),\"Closed\",\"Open\")","v":"Open"},{"$f":"IF((COUNTIF('HOLIDAYS NF'!$B:$DZ,CONCATENATE(LEFT($A27,2),AM$2))<>0),\"Closed\",\"Open\")","v":"Open"},{"$f":"IF((COUNTIF('HOLIDAYS NF'!$B:$DZ,CONCATENATE(LEFT($A27,2),AN$2))<>0),\"Closed\",\"Open\")","v":"Open"},{"$f":"IF((COUNTIF('HOLIDAYS NF'!$B:$DZ,CONCATENATE(LEFT($A27,2),AO$2))<>0),\"Closed\",\"Open\")","v":"Open"},{"$f":"IF((COUNTIF('HOLIDAYS NF'!$B:$DZ,CONCATENATE(LEFT($A27,2),AP$2))<>0),\"Closed\",\"Open\")","v":"Open"},{"$f":"IF((COUNTIF('HOLIDAYS NF'!$B:$DZ,CONCATENATE(LEFT($A27,2),AQ$2))<>0),\"Closed\",\"Open\")","v":"Open"},{"$f":"IF((COUNTIF('HOLIDAYS NF'!$B:$DZ,CONCATENATE(LEFT($A27,2),AR$2))<>0),\"Closed\",\"Open\")","v":"Open"},{"$f":"IF((COUNTIF('HOLIDAYS NF'!$B:$DZ,CONCATENATE(LEFT($A27,2),AS$2))<>0),\"Closed\",\"Open\")","v":"Open"},{"$f":"IF((COUNTIF('HOLIDAYS NF'!$B:$DZ,CONCATENATE(LEFT($A27,2),AT$2))<>0),\"Closed\",\"Open\")","v":"Open"},{"$f":"IF((COUNTIF('HOLIDAYS NF'!$B:$DZ,CONCATENATE(LEFT($A27,2),AU$2))<>0),\"Closed\",\"Open\")","v":"Open"},{"$f":"IF((COUNTIF('HOLIDAYS NF'!$B:$DZ,CONCATENATE(LEFT($A27,2),AV$2))<>0),\"Closed\",\"Open\")","v":"Open"},{"$f":"IF((COUNTIF('HOLIDAYS NF'!$B:$DZ,CONCATENATE(LEFT($A27,2),AW$2))<>0),\"Closed\",\"Open\")","v":"Open"},{"$f":"IF((COUNTIF('HOLIDAYS NF'!$B:$DZ,CONCATENATE(LEFT($A27,2),AX$2))<>0),\"Closed\",\"Open\")","v":"Open"},{"$f":"IF((COUNTIF('HOLIDAYS NF'!$B:$DZ,CONCATENATE(LEFT($A27,2),AY$2))<>0),\"Closed\",\"Open\")","v":"Open"},{"$f":"IF((COUNTIF('HOLIDAYS NF'!$B:$DZ,CONCATENATE(LEFT($A27,2),AZ$2))<>0),\"Closed\",\"Open\")","v":"Open"},{"$f":"IF((COUNTIF('HOLIDAYS NF'!$B:$DZ,CONCATENATE(LEFT($A27,2),BA$2))<>0),\"Closed\",\"Open\")","v":"Open"},{"$f":"IF((COUNTIF('HOLIDAYS NF'!$B:$DZ,CONCATENATE(LEFT($A27,2),BB$2))<>0),\"Closed\",\"Open\")","v":"Open"},{"$f":"IF((COUNTIF('HOLIDAYS NF'!$B:$DZ,CONCATENATE(LEFT($A27,2),BC$2))<>0),\"Closed\",\"Open\")","v":"Open"},{"$f":"IF((COUNTIF('HOLIDAYS NF'!$B:$DZ,CONCATENATE(LEFT($A27,2),BD$2))<>0),\"Closed\",\"Open\")","v":"Open"},{"$f":"IF((COUNTIF('HOLIDAYS NF'!$B:$DZ,CONCATENATE(LEFT($A27,2),BE$2))<>0),\"Closed\",\"Open\")","v":"Open"},{"$f":"IF((COUNTIF('HOLIDAYS NF'!$B:$DZ,CONCATENATE(LEFT($A27,2),BF$2))<>0),\"Closed\",\"Open\")","v":"Open"},{"$f":"IF((COUNTIF('HOLIDAYS NF'!$B:$DZ,CONCATENATE(LEFT($A27,2),BG$2))<>0),\"Closed\",\"Open\")","v":"Open"},{"$f":"IF((COUNTIF('HOLIDAYS NF'!$B:$DZ,CONCATENATE(LEFT($A27,2),BH$2))<>0),\"Closed\",\"Open\")","v":"Open"},{"$f":"IF((COUNTIF('HOLIDAYS NF'!$B:$DZ,CONCATENATE(LEFT($A27,2),BI$2))<>0),\"Closed\",\"Open\")","v":"Open"},{"$f":"IF((COUNTIF('HOLIDAYS NF'!$B:$DZ,CONCATENATE(LEFT($A27,2),BJ$2))<>0),\"Closed\",\"Open\")","v":"Open"}]
["GR",{"$f":"SUMIF(Holdings!G:G,(CONCATENATE($B$1,\"-\",A28,)),Holdings!H:H)","v":0},{"$f":"HLOOKUP(A28,'[1]HOLIDAYS NF'!B$1:BR$65536,6,FALSE)","v":"Greece"},{"$f":"IF((COUNTIF('HOLIDAYS NF'!$B:$DZ,CONCATENATE(LEFT($A28,2),D$2))<>0),\"Closed\",\"Open\")","v":"Open"},{"$f":"IF((COUNTIF('HOLIDAYS NF'!$B:$DZ,CONCATENATE(LEFT($A28,2),E$2))<>0),\"Closed\",\"Open\")","v":"Open"},{"$f":"IF((COUNTIF('HOLIDAYS NF'!$B:$DZ,CONCATENATE(LEFT($A28,2),F$2))<>0),\"Closed\",\"Open\")","v":"Open"},{"$f":"IF((COUNTIF('HOLIDAYS NF'!$B:$DZ,CONCATENATE(LEFT($A28,2),G$2))<>0),\"Closed\",\"Open\")","v":"Open"},{"$f":"IF((COUNTIF('HOLIDAYS NF'!$B:$DZ,CONCATENATE(LEFT($A28,2),H$2))<>0),\"Closed\",\"Open\")","v":"Open"},{"$f":"IF((COUNTIF('HOLIDAYS NF'!$B:$DZ,CONCATENATE(LEFT($A28,2),I$2))<>0),\"Closed\",\"Open\")","v":"Open"},{"$f":"IF((COUNTIF('HOLIDAYS NF'!$B:$DZ,CONCATENATE(LEFT($A28,2),J$2))<>0),\"Closed\",\"Open\")","v":"Open"},{"$f":"IF((COUNTIF('HOLIDAYS NF'!$B:$DZ,CONCATENATE(LEFT($A28,2),K$2))<>0),\"Closed\",\"Open\")","v":"Open"},{"$f":"IF((COUNTIF('HOLIDAYS NF'!$B:$DZ,CONCATENATE(LEFT($A28,2),L$2))<>0),\"Closed\",\"Open\")","v":"Open"},{"$f":"IF((COUNTIF('HOLIDAYS NF'!$B:$DZ,CONCATENATE(LEFT($A28,2),M$2))<>0),\"Closed\",\"Open\")","v":"Open"},{"$f":"IF((COUNTIF('HOLIDAYS NF'!$B:$DZ,CONCATENATE(LEFT($A28,2),N$2))<>0),\"Closed\",\"Open\")","v":"Open"},{"$f":"IF((COUNTIF('HOLIDAYS NF'!$B:$DZ,CONCATENATE(LEFT($A28,2),O$2))<>0),\"Closed\",\"Open\")","v":"Open"},{"$f":"IF((COUNTIF('HOLIDAYS NF'!$B:$DZ,CONCATENATE(LEFT($A28,2),P$2))<>0),\"Closed\",\"Open\")","v":"Open"},{"$f":"IF((COUNTIF('HOLIDAYS NF'!$B:$DZ,CONCATENATE(LEFT($A28,2),Q$2))<>0),\"Closed\",\"Open\")","v":"Open"},{"$f":"IF((COUNTIF('HOLIDAYS NF'!$B:$DZ,CONCATENATE(LEFT($A28,2),R$2))<>0),\"Closed\",\"Open\")","v":"Open"},{"$f":"IF((COUNTIF('HOLIDAYS NF'!$B:$DZ,CONCATENATE(LEFT($A28,2),S$2))<>0),\"Closed\",\"Open\")","v":"Open"},{"$f":"IF((COUNTIF('HOLIDAYS NF'!$B:$DZ,CONCATENATE(LEFT($A28,2),T$2))<>0),\"Closed\",\"Open\")","v":"Open"},{"$f":"IF((COUNTIF('HOLIDAYS NF'!$B:$DZ,CONCATENATE(LEFT($A28,2),U$2))<>0),\"Closed\",\"Open\")","v":"Open"},{"$f":"IF((COUNTIF('HOLIDAYS NF'!$B:$DZ,CONCATENATE(LEFT($A28,2),V$2))<>0),\"Closed\",\"Open\")","v":"Open"},{"$f":"IF((COUNTIF('HOLIDAYS NF'!$B:$DZ,CONCATENATE(LEFT($A28,2),W$2))<>0),\"Closed\",\"Open\")","v":"Open"},{"$f":"IF((COUNTIF('HOLIDAYS NF'!$B:$DZ,CONCATENATE(LEFT($A28,2),X$2))<>0),\"Closed\",\"Open\")","v":"Open"},{"$f":"IF((COUNTIF('HOLIDAYS NF'!$B:$DZ,CONCATENATE(LEFT($A28,2),Y$2))<>0),\"Closed\",\"Open\")","v":"Open"},{"$f":"IF((COUNTIF('HOLIDAYS NF'!$B:$DZ,CONCATENATE(LEFT($A28,2),Z$2))<>0),\"Closed\",\"Open\")","v":"Open"},{"$f":"IF((COUNTIF('HOLIDAYS NF'!$B:$DZ,CONCATENATE(LEFT($A28,2),AA$2))<>0),\"Closed\",\"Open\")","v":"Open"},{"$f":"IF((COUNTIF('HOLIDAYS NF'!$B:$DZ,CONCATENATE(LEFT($A28,2),AB$2))<>0),\"Closed\",\"Open\")","v":"Open"},{"$f":"IF((COUNTIF('HOLIDAYS NF'!$B:$DZ,CONCATENATE(LEFT($A28,2),AC$2))<>0),\"Closed\",\"Open\")","v":"Open"},{"$f":"IF((COUNTIF('HOLIDAYS NF'!$B:$DZ,CONCATENATE(LEFT($A28,2),AD$2))<>0),\"Closed\",\"Open\")","v":"Open"},{"$f":"IF((COUNTIF('HOLIDAYS NF'!$B:$DZ,CONCATENATE(LEFT($A28,2),AE$2))<>0),\"Closed\",\"Open\")","v":"Open"},{"$f":"IF((COUNTIF('HOLIDAYS NF'!$B:$DZ,CONCATENATE(LEFT($A28,2),AF$2))<>0),\"Closed\",\"Open\")","v":"Open"},{"$f":"IF((COUNTIF('HOLIDAYS NF'!$B:$DZ,CONCATENATE(LEFT($A28,2),AG$2))<>0),\"Closed\",\"Open\")","v":"Open"},{"$f":"IF((COUNTIF('HOLIDAYS NF'!$B:$DZ,CONCATENATE(LEFT($A28,2),AH$2))<>0),\"Closed\",\"Open\")","v":"Open"},{"$f":"IF((COUNTIF('HOLIDAYS NF'!$B:$DZ,CONCATENATE(LEFT($A28,2),AI$2))<>0),\"Closed\",\"Open\")","v":"Open"},{"$f":"IF((COUNTIF('HOLIDAYS NF'!$B:$DZ,CONCATENATE(LEFT($A28,2),AJ$2))<>0),\"Closed\",\"Open\")","v":"Open"},{"$f":"IF((COUNTIF('HOLIDAYS NF'!$B:$DZ,CONCATENATE(LEFT($A28,2),AK$2))<>0),\"Closed\",\"Open\")","v":"Open"},{"$f":"IF((COUNTIF('HOLIDAYS NF'!$B:$DZ,CONCATENATE(LEFT($A28,2),AL$2))<>0),\"Closed\",\"Open\")","v":"Open"},{"$f":"IF((COUNTIF('HOLIDAYS NF'!$B:$DZ,CONCATENATE(LEFT($A28,2),AM$2))<>0),\"Closed\",\"Open\")","v":"Open"},{"$f":"IF((COUNTIF('HOLIDAYS NF'!$B:$DZ,CONCATENATE(LEFT($A28,2),AN$2))<>0),\"Closed\",\"Open\")","v":"Open"},{"$f":"IF((COUNTIF('HOLIDAYS NF'!$B:$DZ,CONCATENATE(LEFT($A28,2),AO$2))<>0),\"Closed\",\"Open\")","v":"Open"},{"$f":"IF((COUNTIF('HOLIDAYS NF'!$B:$DZ,CONCATENATE(LEFT($A28,2),AP$2))<>0),\"Closed\",\"Open\")","v":"Open"},{"$f":"IF((COUNTIF('HOLIDAYS NF'!$B:$DZ,CONCATENATE(LEFT($A28,2),AQ$2))<>0),\"Closed\",\"Open\")","v":"Open"},{"$f":"IF((COUNTIF('HOLIDAYS NF'!$B:$DZ,CONCATENATE(LEFT($A28,2),AR$2))<>0),\"Closed\",\"Open\")","v":"Open"},{"$f":"IF((COUNTIF('HOLIDAYS NF'!$B:$DZ,CONCATENATE(LEFT($A28,2),AS$2))<>0),\"Closed\",\"Open\")","v":"Open"},{"$f":"IF((COUNTIF('HOLIDAYS NF'!$B:$DZ,CONCATENATE(LEFT($A28,2),AT$2))<>0),\"Closed\",\"Open\")","v":"Open"},{"$f":"IF((COUNTIF('HOLIDAYS NF'!$B:$DZ,CONCATENATE(LEFT($A28,2),AU$2))<>0),\"Closed\",\"Open\")","v":"Open"},{"$f":"IF((COUNTIF('HOLIDAYS NF'!$B:$DZ,CONCATENATE(LEFT($A28,2),AV$2))<>0),\"Closed\",\"Open\")","v":"Open"},{"$f":"IF((COUNTIF('HOLIDAYS NF'!$B:$DZ,CONCATENATE(LEFT($A28,2),AW$2))<>0),\"Closed\",\"Open\")","v":"Open"},{"$f":"IF((COUNTIF('HOLIDAYS NF'!$B:$DZ,CONCATENATE(LEFT($A28,2),AX$2))<>0),\"Closed\",\"Open\")","v":"Open"},{"$f":"IF((COUNTIF('HOLIDAYS NF'!$B:$DZ,CONCATENATE(LEFT($A28,2),AY$2))<>0),\"Closed\",\"Open\")","v":"Open"},{"$f":"IF((COUNTIF('HOLIDAYS NF'!$B:$DZ,CONCATENATE(LEFT($A28,2),AZ$2))<>0),\"Closed\",\"Open\")","v":"Open"},{"$f":"IF((COUNTIF('HOLIDAYS NF'!$B:$DZ,CONCATENATE(LEFT($A28,2),BA$2))<>0),\"Closed\",\"Open\")","v":"Open"},{"$f":"IF((COUNTIF('HOLIDAYS NF'!$B:$DZ,CONCATENATE(LEFT($A28,2),BB$2))<>0),\"Closed\",\"Open\")","v":"Open"},{"$f":"IF((COUNTIF('HOLIDAYS NF'!$B:$DZ,CONCATENATE(LEFT($A28,2),BC$2))<>0),\"Closed\",\"Open\")","v":"Open"},{"$f":"IF((COUNTIF('HOLIDAYS NF'!$B:$DZ,CONCATENATE(LEFT($A28,2),BD$2))<>0),\"Closed\",\"Open\")","v":"Open"},{"$f":"IF((COUNTIF('HOLIDAYS NF'!$B:$DZ,CONCATENATE(LEFT($A28,2),BE$2))<>0),\"Closed\",\"Open\")","v":"Open"},{"$f":"IF((COUNTIF('HOLIDAYS NF'!$B:$DZ,CONCATENATE(LEFT($A28,2),BF$2))<>0),\"Closed\",\"Open\")","v":"Open"},{"$f":"IF((COUNTIF('HOLIDAYS NF'!$B:$DZ,CONCATENATE(LEFT($A28,2),BG$2))<>0),\"Closed\",\"Open\")","v":"Open"},{"$f":"IF((COUNTIF('HOLIDAYS NF'!$B:$DZ,CONCATENATE(LEFT($A28,2),BH$2))<>0),\"Closed\",\"Open\")","v":"Open"},{"$f":"IF((COUNTIF('HOLIDAYS NF'!$B:$DZ,CONCATENATE(LEFT($A28,2),BI$2))<>0),\"Closed\",\"Open\")","v":"Open"},{"$f":"IF((COUNTIF('HOLIDAYS NF'!$B:$DZ,CONCATENATE(LEFT($A28,2),BJ$2))<>0),\"Closed\",\"Open\")","v":"Open"}]
["HK",{"$f":"SUMIF(Holdings!G:G,(CONCATENATE($B$1,\"-\",A29,)),Holdings!H:H)","v":0},{"$f":"HLOOKUP(A29,'[1]HOLIDAYS NF'!B$1:BR$65536,6,FALSE)","v":"Hong Kong"},{"$f":"IF((COUNTIF('HOLIDAYS NF'!$B:$DZ,CONCATENATE(LEFT($A29,2),D$2))<>0),\"Closed\",\"Open\")","v":"Open"},{"$f":"IF((COUNTIF('HOLIDAYS NF'!$B:$DZ,CONCATENATE(LEFT($A29,2),E$2))<>0),\"Closed\",\"Open\")","v":"Open"},{"$f":"IF((COUNTIF('HOLIDAYS NF'!$B:$DZ,CONCATENATE(LEFT($A29,2),F$2))<>0),\"Closed\",\"Open\")","v":"Open"},{"$f":"IF((COUNTIF('HOLIDAYS NF'!$B:$DZ,CONCATENATE(LEFT($A29,2),G$2))<>0),\"Closed\",\"Open\")","v":"Open"},{"$f":"IF((COUNTIF('HOLIDAYS NF'!$B:$DZ,CONCATENATE(LEFT($A29,2),H$2))<>0),\"Closed\",\"Open\")","v":"Open"},{"$f":"IF((COUNTIF('HOLIDAYS NF'!$B:$DZ,CONCATENATE(LEFT($A29,2),I$2))<>0),\"Closed\",\"Open\")","v":"Open"},{"$f":"IF((COUNTIF('HOLIDAYS NF'!$B:$DZ,CONCATENATE(LEFT($A29,2),J$2))<>0),\"Closed\",\"Open\")","v":"Open"},{"$f":"IF((COUNTIF('HOLIDAYS NF'!$B:$DZ,CONCATENATE(LEFT($A29,2),K$2))<>0),\"Closed\",\"Open\")","v":"Open"},{"$f":"IF((COUNTIF('HOLIDAYS NF'!$B:$DZ,CONCATENATE(LEFT($A29,2),L$2))<>0),\"Closed\",\"Open\")","v":"Open"},{"$f":"IF((COUNTIF('HOLIDAYS NF'!$B:$DZ,CONCATENATE(LEFT($A29,2),M$2))<>0),\"Closed\",\"Open\")","v":"Open"},{"$f":"IF((COUNTIF('HOLIDAYS NF'!$B:$DZ,CONCATENATE(LEFT($A29,2),N$2))<>0),\"Closed\",\"Open\")","v":"Open"},{"$f":"IF((COUNTIF('HOLIDAYS NF'!$B:$DZ,CONCATENATE(LEFT($A29,2),O$2))<>0),\"Closed\",\"Open\")","v":"Open"},{"$f":"IF((COUNTIF('HOLIDAYS NF'!$B:$DZ,CONCATENATE(LEFT($A29,2),P$2))<>0),\"Closed\",\"Open\")","v":"Open"},{"$f":"IF((COUNTIF('HOLIDAYS NF'!$B:$DZ,CONCATENATE(LEFT($A29,2),Q$2))<>0),\"Closed\",\"Open\")","v":"Open"},{"$f":"IF((COUNTIF('HOLIDAYS NF'!$B:$DZ,CONCATENATE(LEFT($A29,2),R$2))<>0),\"Closed\",\"Open\")","v":"Open"},{"$f":"IF((COUNTIF('HOLIDAYS NF'!$B:$DZ,CONCATENATE(LEFT($A29,2),S$2))<>0),\"Closed\",\"Open\")","v":"Open"},{"$f":"IF((COUNTIF('HOLIDAYS NF'!$B:$DZ,CONCATENATE(LEFT($A29,2),T$2))<>0),\"Closed\",\"Open\")","v":"Open"},{"$f":"IF((COUNTIF('HOLIDAYS NF'!$B:$DZ,CONCATENATE(LEFT($A29,2),U$2))<>0),\"Closed\",\"Open\")","v":"Open"},{"$f":"IF((COUNTIF('HOLIDAYS NF'!$B:$DZ,CONCATENATE(LEFT($A29,2),V$2))<>0),\"Closed\",\"Open\")","v":"Open"},{"$f":"IF((COUNTIF('HOLIDAYS NF'!$B:$DZ,CONCATENATE(LEFT($A29,2),W$2))<>0),\"Closed\",\"Open\")","v":"Open"},{"$f":"IF((COUNTIF('HOLIDAYS NF'!$B:$DZ,CONCATENATE(LEFT($A29,2),X$2))<>0),\"Closed\",\"Open\")","v":"Open"},{"$f":"IF((COUNTIF('HOLIDAYS NF'!$B:$DZ,CONCATENATE(LEFT($A29,2),Y$2))<>0),\"Closed\",\"Open\")","v":"Open"},{"$f":"IF((COUNTIF('HOLIDAYS NF'!$B:$DZ,CONCATENATE(LEFT($A29,2),Z$2))<>0),\"Closed\",\"Open\")","v":"Open"},{"$f":"IF((COUNTIF('HOLIDAYS NF'!$B:$DZ,CONCATENATE(LEFT($A29,2),AA$2))<>0),\"Closed\",\"Open\")","v":"Open"},{"$f":"IF((COUNTIF('HOLIDAYS NF'!$B:$DZ,CONCATENATE(LEFT($A29,2),AB$2))<>0),\"Closed\",\"Open\")","v":"Open"},{"$f":"IF((COUNTIF('HOLIDAYS NF'!$B:$DZ,CONCATENATE(LEFT($A29,2),AC$2))<>0),\"Closed\",\"Open\")","v":"Open"},{"$f":"IF((COUNTIF('HOLIDAYS NF'!$B:$DZ,CONCATENATE(LEFT($A29,2),AD$2))<>0),\"Closed\",\"Open\")","v":"Open"},{"$f":"IF((COUNTIF('HOLIDAYS NF'!$B:$DZ,CONCATENATE(LEFT($A29,2),AE$2))<>0),\"Closed\",\"Open\")","v":"Open"},{"$f":"IF((COUNTIF('HOLIDAYS NF'!$B:$DZ,CONCATENATE(LEFT($A29,2),AF$2))<>0),\"Closed\",\"Open\")","v":"Open"},{"$f":"IF((COUNTIF('HOLIDAYS NF'!$B:$DZ,CONCATENATE(LEFT($A29,2),AG$2))<>0),\"Closed\",\"Open\")","v":"Open"},{"$f":"IF((COUNTIF('HOLIDAYS NF'!$B:$DZ,CONCATENATE(LEFT($A29,2),AH$2))<>0),\"Closed\",\"Open\")","v":"Open"},{"$f":"IF((COUNTIF('HOLIDAYS NF'!$B:$DZ,CONCATENATE(LEFT($A29,2),AI$2))<>0),\"Closed\",\"Open\")","v":"Open"},{"$f":"IF((COUNTIF('HOLIDAYS NF'!$B:$DZ,CONCATENATE(LEFT($A29,2),AJ$2))<>0),\"Closed\",\"Open\")","v":"Open"},{"$f":"IF((COUNTIF('HOLIDAYS NF'!$B:$DZ,CONCATENATE(LEFT($A29,2),AK$2))<>0),\"Closed\",\"Open\")","v":"Open"},{"$f":"IF((COUNTIF('HOLIDAYS NF'!$B:$DZ,CONCATENATE(LEFT($A29,2),AL$2))<>0),\"Closed\",\"Open\")","v":"Open"},{"$f":"IF((COUNTIF('HOLIDAYS NF'!$B:$DZ,CONCATENATE(LEFT($A29,2),AM$2))<>0),\"Closed\",\"Open\")","v":"Open"},{"$f":"IF((COUNTIF('HOLIDAYS NF'!$B:$DZ,CONCATENATE(LEFT($A29,2),AN$2))<>0),\"Closed\",\"Open\")","v":"Open"},{"$f":"IF((COUNTIF('HOLIDAYS NF'!$B:$DZ,CONCATENATE(LEFT($A29,2),AO$2))<>0),\"Closed\",\"Open\")","v":"Open"},{"$f":"IF((COUNTIF('HOLIDAYS NF'!$B:$DZ,CONCATENATE(LEFT($A29,2),AP$2))<>0),\"Closed\",\"Open\")","v":"Open"},{"$f":"IF((COUNTIF('HOLIDAYS NF'!$B:$DZ,CONCATENATE(LEFT($A29,2),AQ$2))<>0),\"Closed\",\"Open\")","v":"Open"},{"$f":"IF((COUNTIF('HOLIDAYS NF'!$B:$DZ,CONCATENATE(LEFT($A29,2),AR$2))<>0),\"Closed\",\"Open\")","v":"Open"},{"$f":"IF((COUNTIF('HOLIDAYS NF'!$B:$DZ,CONCATENATE(LEFT($A29,2),AS$2))<>0),\"Closed\",\"Open\")","v":"Open"},{"$f":"IF((COUNTIF('HOLIDAYS NF'!$B:$DZ,CONCATENATE(LEFT($A29,2),AT$2))<>0),\"Closed\",\"Open\")","v":"Open"},{"$f":"IF((COUNTIF('HOLIDAYS NF'!$B:$DZ,CONCATENATE(LEFT($A29,2),AU$2))<>0),\"Closed\",\"Open\")","v":"Open"},{"$f":"IF((COUNTIF('HOLIDAYS NF'!$B:$DZ,CONCATENATE(LEFT($A29,2),AV$2))<>0),\"Closed\",\"Open\")","v":"Open"},{"$f":"IF((COUNTIF('HOLIDAYS NF'!$B:$DZ,CONCATENATE(LEFT($A29,2),AW$2))<>0),\"Closed\",\"Open\")","v":"Open"},{"$f":"IF((COUNTIF('HOLIDAYS NF'!$B:$DZ,CONCATENATE(LEFT($A29,2),AX$2))<>0),\"Closed\",\"Open\")","v":"Open"},{"$f":"IF((COUNTIF('HOLIDAYS NF'!$B:$DZ,CONCATENATE(LEFT($A29,2),AY$2))<>0),\"Closed\",\"Open\")","v":"Open"},{"$f":"IF((COUNTIF('HOLIDAYS NF'!$B:$DZ,CONCATENATE(LEFT($A29,2),AZ$2))<>0),\"Closed\",\"Open\")","v":"Open"},{"$f":"IF((COUNTIF('HOLIDAYS NF'!$B:$DZ,CONCATENATE(LEFT($A29,2),BA$2))<>0),\"Closed\",\"Open\")","v":"Open"},{"$f":"IF((COUNTIF('HOLIDAYS NF'!$B:$DZ,CONCATENATE(LEFT($A29,2),BB$2))<>0),\"Closed\",\"Open\")","v":"Open"},{"$f":"IF((COUNTIF('HOLIDAYS NF'!$B:$DZ,CONCATENATE(LEFT($A29,2),BC$2))<>0),\"Closed\",\"Open\")","v":"Open"},{"$f":"IF((COUNTIF('HOLIDAYS NF'!$B:$DZ,CONCATENATE(LEFT($A29,2),BD$2))<>0),\"Closed\",\"Open\")","v":"Open"},{"$f":"IF((COUNTIF('HOLIDAYS NF'!$B:$DZ,CONCATENATE(LEFT($A29,2),BE$2))<>0),\"Closed\",\"Open\")","v":"Open"},{"$f":"IF((COUNTIF('HOLIDAYS NF'!$B:$DZ,CONCATENATE(LEFT($A29,2),BF$2))<>0),\"Closed\",\"Open\")","v":"Open"},{"$f":"IF((COUNTIF('HOLIDAYS NF'!$B:$DZ,CONCATENATE(LEFT($A29,2),BG$2))<>0),\"Closed\",\"Open\")","v":"Open"},{"$f":"IF((COUNTIF('HOLIDAYS NF'!$B:$DZ,CONCATENATE(LEFT($A29,2),BH$2))<>0),\"Closed\",\"Open\")","v":"Open"},{"$f":"IF((COUNTIF('HOLIDAYS NF'!$B:$DZ,CONCATENATE(LEFT($A29,2),BI$2))<>0),\"Closed\",\"Open\")","v":"Open"},{"$f":"IF((COUNTIF('HOLIDAYS NF'!$B:$DZ,CONCATENATE(LEFT($A29,2),BJ$2))<>0),\"Closed\",\"Open\")","v":"Open"}]
["HU",{"$f":"SUMIF(Holdings!G:G,(CONCATENATE($B$1,\"-\",A30,)),Holdings!H:H)","v":0},{"$f":"HLOOKUP(A30,'[1]HOLIDAYS NF'!B$1:BR$65536,6,FALSE)","v":"Hungary"},{"$f":"IF((COUNTIF('HOLIDAYS NF'!$B:$DZ,CONCATENATE(LEFT($A30,2),D$2))<>0),\"Closed\",\"Open\")","v":"Open"},{"$f":"IF((COUNTIF('HOLIDAYS NF'!$B:$DZ,CONCATENATE(LEFT($A30,2),E$2))<>0),\"Closed\",\"Open\")","v":"Open"},{"$f":"IF((COUNTIF('HOLIDAYS NF'!$B:$DZ,CONCATENATE(LEFT($A30,2),F$2))<>0),\"Closed\",\"Open\")","v":"Open"},{"$f":"IF((COUNTIF('HOLIDAYS NF'!$B:$DZ,CONCATENATE(LEFT($A30,2),G$2))<>0),\"Closed\",\"Open\")","v":"Open"},{"$f":"IF((COUNTIF('HOLIDAYS NF'!$B:$DZ,CONCATENATE(LEFT($A30,2),H$2))<>0),\"Closed\",\"Open\")","v":"Open"},{"$f":"IF((COUNTIF('HOLIDAYS NF'!$B:$DZ,CONCATENATE(LEFT($A30,2),I$2))<>0),\"Closed\",\"Open\")","v":"Open"},{"$f":"IF((COUNTIF('HOLIDAYS NF'!$B:$DZ,CONCATENATE(LEFT($A30,2),J$2))<>0),\"Closed\",\"Open\")","v":"Open"},{"$f":"IF((COUNTIF('HOLIDAYS NF'!$B:$DZ,CONCATENATE(LEFT($A30,2),K$2))<>0),\"Closed\",\"Open\")","v":"Open"},{"$f":"IF((COUNTIF('HOLIDAYS NF'!$B:$DZ,CONCATENATE(LEFT($A30,2),L$2))<>0),\"Closed\",\"Open\")","v":"Open"},{"$f":"IF((COUNTIF('HOLIDAYS NF'!$B:$DZ,CONCATENATE(LEFT($A30,2),M$2))<>0),\"Closed\",\"Open\")","v":"Open"},{"$f":"IF((COUNTIF('HOLIDAYS NF'!$B:$DZ,CONCATENATE(LEFT($A30,2),N$2))<>0),\"Closed\",\"Open\")","v":"Open"},{"$f":"IF((COUNTIF('HOLIDAYS NF'!$B:$DZ,CONCATENATE(LEFT($A30,2),O$2))<>0),\"Closed\",\"Open\")","v":"Open"},{"$f":"IF((COUNTIF('HOLIDAYS NF'!$B:$DZ,CONCATENATE(LEFT($A30,2),P$2))<>0),\"Closed\",\"Open\")","v":"Open"},{"$f":"IF((COUNTIF('HOLIDAYS NF'!$B:$DZ,CONCATENATE(LEFT($A30,2),Q$2))<>0),\"Closed\",\"Open\")","v":"Open"},{"$f":"IF((COUNTIF('HOLIDAYS NF'!$B:$DZ,CONCATENATE(LEFT($A30,2),R$2))<>0),\"Closed\",\"Open\")","v":"Open"},{"$f":"IF((COUNTIF('HOLIDAYS NF'!$B:$DZ,CONCATENATE(LEFT($A30,2),S$2))<>0),\"Closed\",\"Open\")","v":"Open"},{"$f":"IF((COUNTIF('HOLIDAYS NF'!$B:$DZ,CONCATENATE(LEFT($A30,2),T$2))<>0),\"Closed\",\"Open\")","v":"Open"},{"$f":"IF((COUNTIF('HOLIDAYS NF'!$B:$DZ,CONCATENATE(LEFT($A30,2),U$2))<>0),\"Closed\",\"Open\")","v":"Open"},{"$f":"IF((COUNTIF('HOLIDAYS NF'!$B:$DZ,CONCATENATE(LEFT($A30,2),V$2))<>0),\"Closed\",\"Open\")","v":"Open"},{"$f":"IF((COUNTIF('HOLIDAYS NF'!$B:$DZ,CONCATENATE(LEFT($A30,2),W$2))<>0),\"Closed\",\"Open\")","v":"Open"},{"$f":"IF((COUNTIF('HOLIDAYS NF'!$B:$DZ,CONCATENATE(LEFT($A30,2),X$2))<>0),\"Closed\",\"Open\")","v":"Open"},{"$f":"IF((COUNTIF('HOLIDAYS NF'!$B:$DZ,CONCATENATE(LEFT($A30,2),Y$2))<>0),\"Closed\",\"Open\")","v":"Open"},{"$f":"IF((COUNTIF('HOLIDAYS NF'!$B:$DZ,CONCATENATE(LEFT($A30,2),Z$2))<>0),\"Closed\",\"Open\")","v":"Open"},{"$f":"IF((COUNTIF('HOLIDAYS NF'!$B:$DZ,CONCATENATE(LEFT($A30,2),AA$2))<>0),\"Closed\",\"Open\")","v":"Open"},{"$f":"IF((COUNTIF('HOLIDAYS NF'!$B:$DZ,CONCATENATE(LEFT($A30,2),AB$2))<>0),\"Closed\",\"Open\")","v":"Open"},{"$f":"IF((COUNTIF('HOLIDAYS NF'!$B:$DZ,CONCATENATE(LEFT($A30,2),AC$2))<>0),\"Closed\",\"Open\")","v":"Open"},{"$f":"IF((COUNTIF('HOLIDAYS NF'!$B:$DZ,CONCATENATE(LEFT($A30,2),AD$2))<>0),\"Closed\",\"Open\")","v":"Open"},{"$f":"IF((COUNTIF('HOLIDAYS NF'!$B:$DZ,CONCATENATE(LEFT($A30,2),AE$2))<>0),\"Closed\",\"Open\")","v":"Open"},{"$f":"IF((COUNTIF('HOLIDAYS NF'!$B:$DZ,CONCATENATE(LEFT($A30,2),AF$2))<>0),\"Closed\",\"Open\")","v":"Open"},{"$f":"IF((COUNTIF('HOLIDAYS NF'!$B:$DZ,CONCATENATE(LEFT($A30,2),AG$2))<>0),\"Closed\",\"Open\")","v":"Open"},{"$f":"IF((COUNTIF('HOLIDAYS NF'!$B:$DZ,CONCATENATE(LEFT($A30,2),AH$2))<>0),\"Closed\",\"Open\")","v":"Open"},{"$f":"IF((COUNTIF('HOLIDAYS NF'!$B:$DZ,CONCATENATE(LEFT($A30,2),AI$2))<>0),\"Closed\",\"Open\")","v":"Open"},{"$f":"IF((COUNTIF('HOLIDAYS NF'!$B:$DZ,CONCATENATE(LEFT($A30,2),AJ$2))<>0),\"Closed\",\"Open\")","v":"Open"},{"$f":"IF((COUNTIF('HOLIDAYS NF'!$B:$DZ,CONCATENATE(LEFT($A30,2),AK$2))<>0),\"Closed\",\"Open\")","v":"Open"},{"$f":"IF((COUNTIF('HOLIDAYS NF'!$B:$DZ,CONCATENATE(LEFT($A30,2),AL$2))<>0),\"Closed\",\"Open\")","v":"Open"},{"$f":"IF((COUNTIF('HOLIDAYS NF'!$B:$DZ,CONCATENATE(LEFT($A30,2),AM$2))<>0),\"Closed\",\"Open\")","v":"Open"},{"$f":"IF((COUNTIF('HOLIDAYS NF'!$B:$DZ,CONCATENATE(LEFT($A30,2),AN$2))<>0),\"Closed\",\"Open\")","v":"Open"},{"$f":"IF((COUNTIF('HOLIDAYS NF'!$B:$DZ,CONCATENATE(LEFT($A30,2),AO$2))<>0),\"Closed\",\"Open\")","v":"Open"},{"$f":"IF((COUNTIF('HOLIDAYS NF'!$B:$DZ,CONCATENATE(LEFT($A30,2),AP$2))<>0),\"Closed\",\"Open\")","v":"Open"},{"$f":"IF((COUNTIF('HOLIDAYS NF'!$B:$DZ,CONCATENATE(LEFT($A30,2),AQ$2))<>0),\"Closed\",\"Open\")","v":"Open"},{"$f":"IF((COUNTIF('HOLIDAYS NF'!$B:$DZ,CONCATENATE(LEFT($A30,2),AR$2))<>0),\"Closed\",\"Open\")","v":"Open"},{"$f":"IF((COUNTIF('HOLIDAYS NF'!$B:$DZ,CONCATENATE(LEFT($A30,2),AS$2))<>0),\"Closed\",\"Open\")","v":"Open"},{"$f":"IF((COUNTIF('HOLIDAYS NF'!$B:$DZ,CONCATENATE(LEFT($A30,2),AT$2))<>0),\"Closed\",\"Open\")","v":"Open"},{"$f":"IF((COUNTIF('HOLIDAYS NF'!$B:$DZ,CONCATENATE(LEFT($A30,2),AU$2))<>0),\"Closed\",\"Open\")","v":"Open"},{"$f":"IF((COUNTIF('HOLIDAYS NF'!$B:$DZ,CONCATENATE(LEFT($A30,2),AV$2))<>0),\"Closed\",\"Open\")","v":"Open"},{"$f":"IF((COUNTIF('HOLIDAYS NF'!$B:$DZ,CONCATENATE(LEFT($A30,2),AW$2))<>0),\"Closed\",\"Open\")","v":"Open"},{"$f":"IF((COUNTIF('HOLIDAYS NF'!$B:$DZ,CONCATENATE(LEFT($A30,2),AX$2))<>0),\"Closed\",\"Open\")","v":"Open"},{"$f":"IF((COUNTIF('HOLIDAYS NF'!$B:$DZ,CONCATENATE(LEFT($A30,2),AY$2))<>0),\"Closed\",\"Open\")","v":"Open"},{"$f":"IF((COUNTIF('HOLIDAYS NF'!$B:$DZ,CONCATENATE(LEFT($A30,2),AZ$2))<>0),\"Closed\",\"Open\")","v":"Open"},{"$f":"IF((COUNTIF('HOLIDAYS NF'!$B:$DZ,CONCATENATE(LEFT($A30,2),BA$2))<>0),\"Closed\",\"Open\")","v":"Open"},{"$f":"IF((COUNTIF('HOLIDAYS NF'!$B:$DZ,CONCATENATE(LEFT($A30,2),BB$2))<>0),\"Closed\",\"Open\")","v":"Open"},{"$f":"IF((COUNTIF('HOLIDAYS NF'!$B:$DZ,CONCATENATE(LEFT($A30,2),BC$2))<>0),\"Closed\",\"Open\")","v":"Open"},{"$f":"IF((COUNTIF('HOLIDAYS NF'!$B:$DZ,CONCATENATE(LEFT($A30,2),BD$2))<>0),\"Closed\",\"Open\")","v":"Open"},{"$f":"IF((COUNTIF('HOLIDAYS NF'!$B:$DZ,CONCATENATE(LEFT($A30,2),BE$2))<>0),\"Closed\",\"Open\")","v":"Open"},{"$f":"IF((COUNTIF('HOLIDAYS NF'!$B:$DZ,CONCATENATE(LEFT($A30,2),BF$2))<>0),\"Closed\",\"Open\")","v":"Open"},{"$f":"IF((COUNTIF('HOLIDAYS NF'!$B:$DZ,CONCATENATE(LEFT($A30,2),BG$2))<>0),\"Closed\",\"Open\")","v":"Open"},{"$f":"IF((COUNTIF('HOLIDAYS NF'!$B:$DZ,CONCATENATE(LEFT($A30,2),BH$2))<>0),\"Closed\",\"Open\")","v":"Open"},{"$f":"IF((COUNTIF('HOLIDAYS NF'!$B:$DZ,CONCATENATE(LEFT($A30,2),BI$2))<>0),\"Closed\",\"Open\")","v":"Open"},{"$f":"IF((COUNTIF('HOLIDAYS NF'!$B:$DZ,CONCATENATE(LEFT($A30,2),BJ$2))<>0),\"Closed\",\"Open\")","v":"Open"}]
["ID",{"$f":"SUMIF(Holdings!G:G,(CONCATENATE($B$1,\"-\",A31,)),Holdings!H:H)","v":0},{"$f":"HLOOKUP(A31,'[1]HOLIDAYS NF'!B$1:BR$65536,6,FALSE)","v":"Indonesia"},{"$f":"IF((COUNTIF('HOLIDAYS NF'!$B:$DZ,CONCATENATE(LEFT($A31,2),D$2))<>0),\"Closed\",\"Open\")","v":"Open"},{"$f":"IF((COUNTIF('HOLIDAYS NF'!$B:$DZ,CONCATENATE(LEFT($A31,2),E$2))<>0),\"Closed\",\"Open\")","v":"Open"},{"$f":"IF((COUNTIF('HOLIDAYS NF'!$B:$DZ,CONCATENATE(LEFT($A31,2),F$2))<>0),\"Closed\",\"Open\")","v":"Open"},{"$f":"IF((COUNTIF('HOLIDAYS NF'!$B:$DZ,CONCATENATE(LEFT($A31,2),G$2))<>0),\"Closed\",\"Open\")","v":"Open"},{"$f":"IF((COUNTIF('HOLIDAYS NF'!$B:$DZ,CONCATENATE(LEFT($A31,2),H$2))<>0),\"Closed\",\"Open\")","v":"Open"},{"$f":"IF((COUNTIF('HOLIDAYS NF'!$B:$DZ,CONCATENATE(LEFT($A31,2),I$2))<>0),\"Closed\",\"Open\")","v":"Open"},{"$f":"IF((COUNTIF('HOLIDAYS NF'!$B:$DZ,CONCATENATE(LEFT($A31,2),J$2))<>0),\"Closed\",\"Open\")","v":"Open"},{"$f":"IF((COUNTIF('HOLIDAYS NF'!$B:$DZ,CONCATENATE(LEFT($A31,2),K$2))<>0),\"Closed\",\"Open\")","v":"Open"},{"$f":"IF((COUNTIF('HOLIDAYS NF'!$B:$DZ,CONCATENATE(LEFT($A31,2),L$2))<>0),\"Closed\",\"Open\")","v":"Open"},{"$f":"IF((COUNTIF('HOLIDAYS NF'!$B:$DZ,CONCATENATE(LEFT($A31,2),M$2))<>0),\"Closed\",\"Open\")","v":"Open"},{"$f":"IF((COUNTIF('HOLIDAYS NF'!$B:$DZ,CONCATENATE(LEFT($A31,2),N$2))<>0),\"Closed\",\"Open\")","v":"Open"},{"$f":"IF((COUNTIF('HOLIDAYS NF'!$B:$DZ,CONCATENATE(LEFT($A31,2),O$2))<>0),\"Closed\",\"Open\")","v":"Open"},{"$f":"IF((COUNTIF('HOLIDAYS NF'!$B:$DZ,CONCATENATE(LEFT($A31,2),P$2))<>0),\"Closed\",\"Open\")","v":"Open"},{"$f":"IF((COUNTIF('HOLIDAYS NF'!$B:$DZ,CONCATENATE(LEFT($A31,2),Q$2))<>0),\"Closed\",\"Open\")","v":"Open"},{"$f":"IF((COUNTIF('HOLIDAYS NF'!$B:$DZ,CONCATENATE(LEFT($A31,2),R$2))<>0),\"Closed\",\"Open\")","v":"Open"},{"$f":"IF((COUNTIF('HOLIDAYS NF'!$B:$DZ,CONCATENATE(LEFT($A31,2),S$2))<>0),\"Closed\",\"Open\")","v":"Open"},{"$f":"IF((COUNTIF('HOLIDAYS NF'!$B:$DZ,CONCATENATE(LEFT($A31,2),T$2))<>0),\"Closed\",\"Open\")","v":"Open"},{"$f":"IF((COUNTIF('HOLIDAYS NF'!$B:$DZ,CONCATENATE(LEFT($A31,2),U$2))<>0),\"Closed\",\"Open\")","v":"Open"},{"$f":"IF((COUNTIF('HOLIDAYS NF'!$B:$DZ,CONCATENATE(LEFT($A31,2),V$2))<>0),\"Closed\",\"Open\")","v":"Open"},{"$f":"IF((COUNTIF('HOLIDAYS NF'!$B:$DZ,CONCATENATE(LEFT($A31,2),W$2))<>0),\"Closed\",\"Open\")","v":"Open"},{"$f":"IF((COUNTIF('HOLIDAYS NF'!$B:$DZ,CONCATENATE(LEFT($A31,2),X$2))<>0),\"Closed\",\"Open\")","v":"Open"},{"$f":"IF((COUNTIF('HOLIDAYS NF'!$B:$DZ,CONCATENATE(LEFT($A31,2),Y$2))<>0),\"Closed\",\"Open\")","v":"Open"},{"$f":"IF((COUNTIF('HOLIDAYS NF'!$B:$DZ,CONCATENATE(LEFT($A31,2),Z$2))<>0),\"Closed\",\"Open\")","v":"Open"},{"$f":"IF((COUNTIF('HOLIDAYS NF'!$B:$DZ,CONCATENATE(LEFT($A31,2),AA$2))<>0),\"Closed\",\"Open\")","v":"Open"},{"$f":"IF((COUNTIF('HOLIDAYS NF'!$B:$DZ,CONCATENATE(LEFT($A31,2),AB$2))<>0),\"Closed\",\"Open\")","v":"Open"},{"$f":"IF((COUNTIF('HOLIDAYS NF'!$B:$DZ,CONCATENATE(LEFT($A31,2),AC$2))<>0),\"Closed\",\"Open\")","v":"Open"},{"$f":"IF((COUNTIF('HOLIDAYS NF'!$B:$DZ,CONCATENATE(LEFT($A31,2),AD$2))<>0),\"Closed\",\"Open\")","v":"Open"},{"$f":"IF((COUNTIF('HOLIDAYS NF'!$B:$DZ,CONCATENATE(LEFT($A31,2),AE$2))<>0),\"Closed\",\"Open\")","v":"Open"},{"$f":"IF((COUNTIF('HOLIDAYS NF'!$B:$DZ,CONCATENATE(LEFT($A31,2),AF$2))<>0),\"Closed\",\"Open\")","v":"Open"},{"$f":"IF((COUNTIF('HOLIDAYS NF'!$B:$DZ,CONCATENATE(LEFT($A31,2),AG$2))<>0),\"Closed\",\"Open\")","v":"Open"},{"$f":"IF((COUNTIF('HOLIDAYS NF'!$B:$DZ,CONCATENATE(LEFT($A31,2),AH$2))<>0),\"Closed\",\"Open\")","v":"Open"},{"$f":"IF((COUNTIF('HOLIDAYS NF'!$B:$DZ,CONCATENATE(LEFT($A31,2),AI$2))<>0),\"Closed\",\"Open\")","v":"Open"},{"$f":"IF((COUNTIF('HOLIDAYS NF'!$B:$DZ,CONCATENATE(LEFT($A31,2),AJ$2))<>0),\"Closed\",\"Open\")","v":"Open"},{"$f":"IF((COUNTIF('HOLIDAYS NF'!$B:$DZ,CONCATENATE(LEFT($A31,2),AK$2))<>0),\"Closed\",\"Open\")","v":"Open"},{"$f":"IF((COUNTIF('HOLIDAYS NF'!$B:$DZ,CONCATENATE(LEFT($A31,2),AL$2))<>0),\"Closed\",\"Open\")","v":"Open"},{"$f":"IF((COUNTIF('HOLIDAYS NF'!$B:$DZ,CONCATENATE(LEFT($A31,2),AM$2))<>0),\"Closed\",\"Open\")","v":"Open"},{"$f":"IF((COUNTIF('HOLIDAYS NF'!$B:$DZ,CONCATENATE(LEFT($A31,2),AN$2))<>0),\"Closed\",\"Open\")","v":"Open"},{"$f":"IF((COUNTIF('HOLIDAYS NF'!$B:$DZ,CONCATENATE(LEFT($A31,2),AO$2))<>0),\"Closed\",\"Open\")","v":"Open"},{"$f":"IF((COUNTIF('HOLIDAYS NF'!$B:$DZ,CONCATENATE(LEFT($A31,2),AP$2))<>0),\"Closed\",\"Open\")","v":"Open"},{"$f":"IF((COUNTIF('HOLIDAYS NF'!$B:$DZ,CONCATENATE(LEFT($A31,2),AQ$2))<>0),\"Closed\",\"Open\")","v":"Open"},{"$f":"IF((COUNTIF('HOLIDAYS NF'!$B:$DZ,CONCATENATE(LEFT($A31,2),AR$2))<>0),\"Closed\",\"Open\")","v":"Open"},{"$f":"IF((COUNTIF('HOLIDAYS NF'!$B:$DZ,CONCATENATE(LEFT($A31,2),AS$2))<>0),\"Closed\",\"Open\")","v":"Open"},{"$f":"IF((COUNTIF('HOLIDAYS NF'!$B:$DZ,CONCATENATE(LEFT($A31,2),AT$2))<>0),\"Closed\",\"Open\")","v":"Open"},{"$f":"IF((COUNTIF('HOLIDAYS NF'!$B:$DZ,CONCATENATE(LEFT($A31,2),AU$2))<>0),\"Closed\",\"Open\")","v":"Open"},{"$f":"IF((COUNTIF('HOLIDAYS NF'!$B:$DZ,CONCATENATE(LEFT($A31,2),AV$2))<>0),\"Closed\",\"Open\")","v":"Open"},{"$f":"IF((COUNTIF('HOLIDAYS NF'!$B:$DZ,CONCATENATE(LEFT($A31,2),AW$2))<>0),\"Closed\",\"Open\")","v":"Open"},{"$f":"IF((COUNTIF('HOLIDAYS NF'!$B:$DZ,CONCATENATE(LEFT($A31,2),AX$2))<>0),\"Closed\",\"Open\")","v":"Open"},{"$f":"IF((COUNTIF('HOLIDAYS NF'!$B:$DZ,CONCATENATE(LEFT($A31,2),AY$2))<>0),\"Closed\",\"Open\")","v":"Open"},{"$f":"IF((COUNTIF('HOLIDAYS NF'!$B:$DZ,CONCATENATE(LEFT($A31,2),AZ$2))<>0),\"Closed\",\"Open\")","v":"Open"},{"$f":"IF((COUNTIF('HOLIDAYS NF'!$B:$DZ,CONCATENATE(LEFT($A31,2),BA$2))<>0),\"Closed\",\"Open\")","v":"Open"},{"$f":"IF((COUNTIF('HOLIDAYS NF'!$B:$DZ,CONCATENATE(LEFT($A31,2),BB$2))<>0),\"Closed\",\"Open\")","v":"Open"},{"$f":"IF((COUNTIF('HOLIDAYS NF'!$B:$DZ,CONCATENATE(LEFT($A31,2),BC$2))<>0),\"Closed\",\"Open\")","v":"Open"},{"$f":"IF((COUNTIF('HOLIDAYS NF'!$B:$DZ,CONCATENATE(LEFT($A31,2),BD$2))<>0),\"Closed\",\"Open\")","v":"Open"},{"$f":"IF((COUNTIF('HOLIDAYS NF'!$B:$DZ,CONCATENATE(LEFT($A31,2),BE$2))<>0),\"Closed\",\"Open\")","v":"Open"},{"$f":"IF((COUNTIF('HOLIDAYS NF'!$B:$DZ,CONCATENATE(LEFT($A31,2),BF$2))<>0),\"Closed\",\"Open\")","v":"Open"},{"$f":"IF((COUNTIF('HOLIDAYS NF'!$B:$DZ,CONCATENATE(LEFT($A31,2),BG$2))<>0),\"Closed\",\"Open\")","v":"Open"},{"$f":"IF((COUNTIF('HOLIDAYS NF'!$B:$DZ,CONCATENATE(LEFT($A31,2),BH$2))<>0),\"Closed\",\"Open\")","v":"Open"},{"$f":"IF((COUNTIF('HOLIDAYS NF'!$B:$DZ,CONCATENATE(LEFT($A31,2),BI$2))<>0),\"Closed\",\"Open\")","v":"Open"},{"$f":"IF((COUNTIF('HOLIDAYS NF'!$B:$DZ,CONCATENATE(LEFT($A31,2),BJ$2))<>0),\"Closed\",\"Open\")","v":"Open"}]
["IE",{"$f":"SUMIF(Holdings!G:G,(CONCATENATE($B$1,\"-\",A32,)),Holdings!H:H)","v":0},{"$f":"HLOOKUP(A32,'[1]HOLIDAYS NF'!B$1:BR$65536,6,FALSE)","v":"Ireland"},{"$f":"IF((COUNTIF('HOLIDAYS NF'!$B:$DZ,CONCATENATE(LEFT($A32,2),D$2))<>0),\"Closed\",\"Open\")","v":"Open"},{"$f":"IF((COUNTIF('HOLIDAYS NF'!$B:$DZ,CONCATENATE(LEFT($A32,2),E$2))<>0),\"Closed\",\"Open\")","v":"Open"},{"$f":"IF((COUNTIF('HOLIDAYS NF'!$B:$DZ,CONCATENATE(LEFT($A32,2),F$2))<>0),\"Closed\",\"Open\")","v":"Open"},{"$f":"IF((COUNTIF('HOLIDAYS NF'!$B:$DZ,CONCATENATE(LEFT($A32,2),G$2))<>0),\"Closed\",\"Open\")","v":"Open"},{"$f":"IF((COUNTIF('HOLIDAYS NF'!$B:$DZ,CONCATENATE(LEFT($A32,2),H$2))<>0),\"Closed\",\"Open\")","v":"Open"},{"$f":"IF((COUNTIF('HOLIDAYS NF'!$B:$DZ,CONCATENATE(LEFT($A32,2),I$2))<>0),\"Closed\",\"Open\")","v":"Open"},{"$f":"IF((COUNTIF('HOLIDAYS NF'!$B:$DZ,CONCATENATE(LEFT($A32,2),J$2))<>0),\"Closed\",\"Open\")","v":"Open"},{"$f":"IF((COUNTIF('HOLIDAYS NF'!$B:$DZ,CONCATENATE(LEFT($A32,2),K$2))<>0),\"Closed\",\"Open\")","v":"Open"},{"$f":"IF((COUNTIF('HOLIDAYS NF'!$B:$DZ,CONCATENATE(LEFT($A32,2),L$2))<>0),\"Closed\",\"Open\")","v":"Open"},{"$f":"IF((COUNTIF('HOLIDAYS NF'!$B:$DZ,CONCATENATE(LEFT($A32,2),M$2))<>0),\"Closed\",\"Open\")","v":"Open"},{"$f":"IF((COUNTIF('HOLIDAYS NF'!$B:$DZ,CONCATENATE(LEFT($A32,2),N$2))<>0),\"Closed\",\"Open\")","v":"Open"},{"$f":"IF((COUNTIF('HOLIDAYS NF'!$B:$DZ,CONCATENATE(LEFT($A32,2),O$2))<>0),\"Closed\",\"Open\")","v":"Open"},{"$f":"IF((COUNTIF('HOLIDAYS NF'!$B:$DZ,CONCATENATE(LEFT($A32,2),P$2))<>0),\"Closed\",\"Open\")","v":"Open"},{"$f":"IF((COUNTIF('HOLIDAYS NF'!$B:$DZ,CONCATENATE(LEFT($A32,2),Q$2))<>0),\"Closed\",\"Open\")","v":"Open"},{"$f":"IF((COUNTIF('HOLIDAYS NF'!$B:$DZ,CONCATENATE(LEFT($A32,2),R$2))<>0),\"Closed\",\"Open\")","v":"Open"},{"$f":"IF((COUNTIF('HOLIDAYS NF'!$B:$DZ,CONCATENATE(LEFT($A32,2),S$2))<>0),\"Closed\",\"Open\")","v":"Open"},{"$f":"IF((COUNTIF('HOLIDAYS NF'!$B:$DZ,CONCATENATE(LEFT($A32,2),T$2))<>0),\"Closed\",\"Open\")","v":"Open"},{"$f":"IF((COUNTIF('HOLIDAYS NF'!$B:$DZ,CONCATENATE(LEFT($A32,2),U$2))<>0),\"Closed\",\"Open\")","v":"Open"},{"$f":"IF((COUNTIF('HOLIDAYS NF'!$B:$DZ,CONCATENATE(LEFT($A32,2),V$2))<>0),\"Closed\",\"Open\")","v":"Open"},{"$f":"IF((COUNTIF('HOLIDAYS NF'!$B:$DZ,CONCATENATE(LEFT($A32,2),W$2))<>0),\"Closed\",\"Open\")","v":"Open"},{"$f":"IF((COUNTIF('HOLIDAYS NF'!$B:$DZ,CONCATENATE(LEFT($A32,2),X$2))<>0),\"Closed\",\"Open\")","v":"Open"},{"$f":"IF((COUNTIF('HOLIDAYS NF'!$B:$DZ,CONCATENATE(LEFT($A32,2),Y$2))<>0),\"Closed\",\"Open\")","v":"Open"},{"$f":"IF((COUNTIF('HOLIDAYS NF'!$B:$DZ,CONCATENATE(LEFT($A32,2),Z$2))<>0),\"Closed\",\"Open\")","v":"Open"},{"$f":"IF((COUNTIF('HOLIDAYS NF'!$B:$DZ,CONCATENATE(LEFT($A32,2),AA$2))<>0),\"Closed\",\"Open\")","v":"Open"},{"$f":"IF((COUNTIF('HOLIDAYS NF'!$B:$DZ,CONCATENATE(LEFT($A32,2),AB$2))<>0),\"Closed\",\"Open\")","v":"Open"},{"$f":"IF((COUNTIF('HOLIDAYS NF'!$B:$DZ,CONCATENATE(LEFT($A32,2),AC$2))<>0),\"Closed\",\"Open\")","v":"Open"},{"$f":"IF((COUNTIF('HOLIDAYS NF'!$B:$DZ,CONCATENATE(LEFT($A32,2),AD$2))<>0),\"Closed\",\"Open\")","v":"Open"},{"$f":"IF((COUNTIF('HOLIDAYS NF'!$B:$DZ,CONCATENATE(LEFT($A32,2),AE$2))<>0),\"Closed\",\"Open\")","v":"Open"},{"$f":"IF((COUNTIF('HOLIDAYS NF'!$B:$DZ,CONCATENATE(LEFT($A32,2),AF$2))<>0),\"Closed\",\"Open\")","v":"Open"},{"$f":"IF((COUNTIF('HOLIDAYS NF'!$B:$DZ,CONCATENATE(LEFT($A32,2),AG$2))<>0),\"Closed\",\"Open\")","v":"Open"},{"$f":"IF((COUNTIF('HOLIDAYS NF'!$B:$DZ,CONCATENATE(LEFT($A32,2),AH$2))<>0),\"Closed\",\"Open\")","v":"Open"},{"$f":"IF((COUNTIF('HOLIDAYS NF'!$B:$DZ,CONCATENATE(LEFT($A32,2),AI$2))<>0),\"Closed\",\"Open\")","v":"Open"},{"$f":"IF((COUNTIF('HOLIDAYS NF'!$B:$DZ,CONCATENATE(LEFT($A32,2),AJ$2))<>0),\"Closed\",\"Open\")","v":"Open"},{"$f":"IF((COUNTIF('HOLIDAYS NF'!$B:$DZ,CONCATENATE(LEFT($A32,2),AK$2))<>0),\"Closed\",\"Open\")","v":"Open"},{"$f":"IF((COUNTIF('HOLIDAYS NF'!$B:$DZ,CONCATENATE(LEFT($A32,2),AL$2))<>0),\"Closed\",\"Open\")","v":"Open"},{"$f":"IF((COUNTIF('HOLIDAYS NF'!$B:$DZ,CONCATENATE(LEFT($A32,2),AM$2))<>0),\"Closed\",\"Open\")","v":"Open"},{"$f":"IF((COUNTIF('HOLIDAYS NF'!$B:$DZ,CONCATENATE(LEFT($A32,2),AN$2))<>0),\"Closed\",\"Open\")","v":"Open"},{"$f":"IF((COUNTIF('HOLIDAYS NF'!$B:$DZ,CONCATENATE(LEFT($A32,2),AO$2))<>0),\"Closed\",\"Open\")","v":"Open"},{"$f":"IF((COUNTIF('HOLIDAYS NF'!$B:$DZ,CONCATENATE(LEFT($A32,2),AP$2))<>0),\"Closed\",\"Open\")","v":"Open"},{"$f":"IF((COUNTIF('HOLIDAYS NF'!$B:$DZ,CONCATENATE(LEFT($A32,2),AQ$2))<>0),\"Closed\",\"Open\")","v":"Open"},{"$f":"IF((COUNTIF('HOLIDAYS NF'!$B:$DZ,CONCATENATE(LEFT($A32,2),AR$2))<>0),\"Closed\",\"Open\")","v":"Open"},{"$f":"IF((COUNTIF('HOLIDAYS NF'!$B:$DZ,CONCATENATE(LEFT($A32,2),AS$2))<>0),\"Closed\",\"Open\")","v":"Open"},{"$f":"IF((COUNTIF('HOLIDAYS NF'!$B:$DZ,CONCATENATE(LEFT($A32,2),AT$2))<>0),\"Closed\",\"Open\")","v":"Open"},{"$f":"IF((COUNTIF('HOLIDAYS NF'!$B:$DZ,CONCATENATE(LEFT($A32,2),AU$2))<>0),\"Closed\",\"Open\")","v":"Open"},{"$f":"IF((COUNTIF('HOLIDAYS NF'!$B:$DZ,CONCATENATE(LEFT($A32,2),AV$2))<>0),\"Closed\",\"Open\")","v":"Open"},{"$f":"IF((COUNTIF('HOLIDAYS NF'!$B:$DZ,CONCATENATE(LEFT($A32,2),AW$2))<>0),\"Closed\",\"Open\")","v":"Open"},{"$f":"IF((COUNTIF('HOLIDAYS NF'!$B:$DZ,CONCATENATE(LEFT($A32,2),AX$2))<>0),\"Closed\",\"Open\")","v":"Open"},{"$f":"IF((COUNTIF('HOLIDAYS NF'!$B:$DZ,CONCATENATE(LEFT($A32,2),AY$2))<>0),\"Closed\",\"Open\")","v":"Open"},{"$f":"IF((COUNTIF('HOLIDAYS NF'!$B:$DZ,CONCATENATE(LEFT($A32,2),AZ$2))<>0),\"Closed\",\"Open\")","v":"Open"},{"$f":"IF((COUNTIF('HOLIDAYS NF'!$B:$DZ,CONCATENATE(LEFT($A32,2),BA$2))<>0),\"Closed\",\"Open\")","v":"Open"},{"$f":"IF((COUNTIF('HOLIDAYS NF'!$B:$DZ,CONCATENATE(LEFT($A32,2),BB$2))<>0),\"Closed\",\"Open\")","v":"Open"},{"$f":"IF((COUNTIF('HOLIDAYS NF'!$B:$DZ,CONCATENATE(LEFT($A32,2),BC$2))<>0),\"Closed\",\"Open\")","v":"Open"},{"$f":"IF((COUNTIF('HOLIDAYS NF'!$B:$DZ,CONCATENATE(LEFT($A32,2),BD$2))<>0),\"Closed\",\"Open\")","v":"Open"},{"$f":"IF((COUNTIF('HOLIDAYS NF'!$B:$DZ,CONCATENATE(LEFT($A32,2),BE$2))<>0),\"Closed\",\"Open\")","v":"Open"},{"$f":"IF((COUNTIF('HOLIDAYS NF'!$B:$DZ,CONCATENATE(LEFT($A32,2),BF$2))<>0),\"Closed\",\"Open\")","v":"Open"},{"$f":"IF((COUNTIF('HOLIDAYS NF'!$B:$DZ,CONCATENATE(LEFT($A32,2),BG$2))<>0),\"Closed\",\"Open\")","v":"Open"},{"$f":"IF((COUNTIF('HOLIDAYS NF'!$B:$DZ,CONCATENATE(LEFT($A32,2),BH$2))<>0),\"Closed\",\"Open\")","v":"Open"},{"$f":"IF((COUNTIF('HOLIDAYS NF'!$B:$DZ,CONCATENATE(LEFT($A32,2),BI$2))<>0),\"Closed\",\"Open\")","v":"Open"},{"$f":"IF((COUNTIF('HOLIDAYS NF'!$B:$DZ,CONCATENATE(LEFT($A32,2),BJ$2))<>0),\"Closed\",\"Open\")","v":"Open"}]
["IL",{"$f":"SUMIF(Holdings!G:G,(CONCATENATE($B$1,\"-\",A33,)),Holdings!H:H)","v":0},{"$f":"HLOOKUP(A33,'[1]HOLIDAYS NF'!B$1:BR$65536,6,FALSE)","v":"Israel"},{"$f":"IF((COUNTIF('HOLIDAYS NF'!$B:$DZ,CONCATENATE(LEFT($A33,2),D$2))<>0),\"Closed\",\"Open\")","v":"Open"},{"$f":"IF((COUNTIF('HOLIDAYS NF'!$B:$DZ,CONCATENATE(LEFT($A33,2),E$2))<>0),\"Closed\",\"Open\")","v":"Open"},{"$f":"IF((COUNTIF('HOLIDAYS NF'!$B:$DZ,CONCATENATE(LEFT($A33,2),F$2))<>0),\"Closed\",\"Open\")","v":"Open"},{"$f":"IF((COUNTIF('HOLIDAYS NF'!$B:$DZ,CONCATENATE(LEFT($A33,2),G$2))<>0),\"Closed\",\"Open\")","v":"Open"},{"$f":"IF((COUNTIF('HOLIDAYS NF'!$B:$DZ,CONCATENATE(LEFT($A33,2),H$2))<>0),\"Closed\",\"Open\")","v":"Open"},{"$f":"IF((COUNTIF('HOLIDAYS NF'!$B:$DZ,CONCATENATE(LEFT($A33,2),I$2))<>0),\"Closed\",\"Open\")","v":"Open"},{"$f":"IF((COUNTIF('HOLIDAYS NF'!$B:$DZ,CONCATENATE(LEFT($A33,2),J$2))<>0),\"Closed\",\"Open\")","v":"Open"},{"$f":"IF((COUNTIF('HOLIDAYS NF'!$B:$DZ,CONCATENATE(LEFT($A33,2),K$2))<>0),\"Closed\",\"Open\")","v":"Open"},{"$f":"IF((COUNTIF('HOLIDAYS NF'!$B:$DZ,CONCATENATE(LEFT($A33,2),L$2))<>0),\"Closed\",\"Open\")","v":"Open"},{"$f":"IF((COUNTIF('HOLIDAYS NF'!$B:$DZ,CONCATENATE(LEFT($A33,2),M$2))<>0),\"Closed\",\"Open\")","v":"Open"},{"$f":"IF((COUNTIF('HOLIDAYS NF'!$B:$DZ,CONCATENATE(LEFT($A33,2),N$2))<>0),\"Closed\",\"Open\")","v":"Open"},{"$f":"IF((COUNTIF('HOLIDAYS NF'!$B:$DZ,CONCATENATE(LEFT($A33,2),O$2))<>0),\"Closed\",\"Open\")","v":"Open"},{"$f":"IF((COUNTIF('HOLIDAYS NF'!$B:$DZ,CONCATENATE(LEFT($A33,2),P$2))<>0),\"Closed\",\"Open\")","v":"Open"},{"$f":"IF((COUNTIF('HOLIDAYS NF'!$B:$DZ,CONCATENATE(LEFT($A33,2),Q$2))<>0),\"Closed\",\"Open\")","v":"Open"},{"$f":"IF((COUNTIF('HOLIDAYS NF'!$B:$DZ,CONCATENATE(LEFT($A33,2),R$2))<>0),\"Closed\",\"Open\")","v":"Open"},{"$f":"IF((COUNTIF('HOLIDAYS NF'!$B:$DZ,CONCATENATE(LEFT($A33,2),S$2))<>0),\"Closed\",\"Open\")","v":"Open"},{"$f":"IF((COUNTIF('HOLIDAYS NF'!$B:$DZ,CONCATENATE(LEFT($A33,2),T$2))<>0),\"Closed\",\"Open\")","v":"Open"},{"$f":"IF((COUNTIF('HOLIDAYS NF'!$B:$DZ,CONCATENATE(LEFT($A33,2),U$2))<>0),\"Closed\",\"Open\")","v":"Open"},{"$f":"IF((COUNTIF('HOLIDAYS NF'!$B:$DZ,CONCATENATE(LEFT($A33,2),V$2))<>0),\"Closed\",\"Open\")","v":"Open"},{"$f":"IF((COUNTIF('HOLIDAYS NF'!$B:$DZ,CONCATENATE(LEFT($A33,2),W$2))<>0),\"Closed\",\"Open\")","v":"Open"},{"$f":"IF((COUNTIF('HOLIDAYS NF'!$B:$DZ,CONCATENATE(LEFT($A33,2),X$2))<>0),\"Closed\",\"Open\")","v":"Open"},{"$f":"IF((COUNTIF('HOLIDAYS NF'!$B:$DZ,CONCATENATE(LEFT($A33,2),Y$2))<>0),\"Closed\",\"Open\")","v":"Open"},{"$f":"IF((COUNTIF('HOLIDAYS NF'!$B:$DZ,CONCATENATE(LEFT($A33,2),Z$2))<>0),\"Closed\",\"Open\")","v":"Open"},{"$f":"IF((COUNTIF('HOLIDAYS NF'!$B:$DZ,CONCATENATE(LEFT($A33,2),AA$2))<>0),\"Closed\",\"Open\")","v":"Open"},{"$f":"IF((COUNTIF('HOLIDAYS NF'!$B:$DZ,CONCATENATE(LEFT($A33,2),AB$2))<>0),\"Closed\",\"Open\")","v":"Open"},{"$f":"IF((COUNTIF('HOLIDAYS NF'!$B:$DZ,CONCATENATE(LEFT($A33,2),AC$2))<>0),\"Closed\",\"Open\")","v":"Open"},{"$f":"IF((COUNTIF('HOLIDAYS NF'!$B:$DZ,CONCATENATE(LEFT($A33,2),AD$2))<>0),\"Closed\",\"Open\")","v":"Open"},{"$f":"IF((COUNTIF('HOLIDAYS NF'!$B:$DZ,CONCATENATE(LEFT($A33,2),AE$2))<>0),\"Closed\",\"Open\")","v":"Open"},{"$f":"IF((COUNTIF('HOLIDAYS NF'!$B:$DZ,CONCATENATE(LEFT($A33,2),AF$2))<>0),\"Closed\",\"Open\")","v":"Open"},{"$f":"IF((COUNTIF('HOLIDAYS NF'!$B:$DZ,CONCATENATE(LEFT($A33,2),AG$2))<>0),\"Closed\",\"Open\")","v":"Open"},{"$f":"IF((COUNTIF('HOLIDAYS NF'!$B:$DZ,CONCATENATE(LEFT($A33,2),AH$2))<>0),\"Closed\",\"Open\")","v":"Open"},{"$f":"IF((COUNTIF('HOLIDAYS NF'!$B:$DZ,CONCATENATE(LEFT($A33,2),AI$2))<>0),\"Closed\",\"Open\")","v":"Open"},{"$f":"IF((COUNTIF('HOLIDAYS NF'!$B:$DZ,CONCATENATE(LEFT($A33,2),AJ$2))<>0),\"Closed\",\"Open\")","v":"Open"},{"$f":"IF((COUNTIF('HOLIDAYS NF'!$B:$DZ,CONCATENATE(LEFT($A33,2),AK$2))<>0),\"Closed\",\"Open\")","v":"Open"},{"$f":"IF((COUNTIF('HOLIDAYS NF'!$B:$DZ,CONCATENATE(LEFT($A33,2),AL$2))<>0),\"Closed\",\"Open\")","v":"Open"},{"$f":"IF((COUNTIF('HOLIDAYS NF'!$B:$DZ,CONCATENATE(LEFT($A33,2),AM$2))<>0),\"Closed\",\"Open\")","v":"Open"},{"$f":"IF((COUNTIF('HOLIDAYS NF'!$B:$DZ,CONCATENATE(LEFT($A33,2),AN$2))<>0),\"Closed\",\"Open\")","v":"Open"},{"$f":"IF((COUNTIF('HOLIDAYS NF'!$B:$DZ,CONCATENATE(LEFT($A33,2),AO$2))<>0),\"Closed\",\"Open\")","v":"Open"},{"$f":"IF((COUNTIF('HOLIDAYS NF'!$B:$DZ,CONCATENATE(LEFT($A33,2),AP$2))<>0),\"Closed\",\"Open\")","v":"Open"},{"$f":"IF((COUNTIF('HOLIDAYS NF'!$B:$DZ,CONCATENATE(LEFT($A33,2),AQ$2))<>0),\"Closed\",\"Open\")","v":"Open"},{"$f":"IF((COUNTIF('HOLIDAYS NF'!$B:$DZ,CONCATENATE(LEFT($A33,2),AR$2))<>0),\"Closed\",\"Open\")","v":"Open"},{"$f":"IF((COUNTIF('HOLIDAYS NF'!$B:$DZ,CONCATENATE(LEFT($A33,2),AS$2))<>0),\"Closed\",\"Open\")","v":"Open"},{"$f":"IF((COUNTIF('HOLIDAYS NF'!$B:$DZ,CONCATENATE(LEFT($A33,2),AT$2))<>0),\"Closed\",\"Open\")","v":"Open"},{"$f":"IF((COUNTIF('HOLIDAYS NF'!$B:$DZ,CONCATENATE(LEFT($A33,2),AU$2))<>0),\"Closed\",\"Open\")","v":"Open"},{"$f":"IF((COUNTIF('HOLIDAYS NF'!$B:$DZ,CONCATENATE(LEFT($A33,2),AV$2))<>0),\"Closed\",\"Open\")","v":"Open"},{"$f":"IF((COUNTIF('HOLIDAYS NF'!$B:$DZ,CONCATENATE(LEFT($A33,2),AW$2))<>0),\"Closed\",\"Open\")","v":"Open"},{"$f":"IF((COUNTIF('HOLIDAYS NF'!$B:$DZ,CONCATENATE(LEFT($A33,2),AX$2))<>0),\"Closed\",\"Open\")","v":"Open"},{"$f":"IF((COUNTIF('HOLIDAYS NF'!$B:$DZ,CONCATENATE(LEFT($A33,2),AY$2))<>0),\"Closed\",\"Open\")","v":"Open"},{"$f":"IF((COUNTIF('HOLIDAYS NF'!$B:$DZ,CONCATENATE(LEFT($A33,2),AZ$2))<>0),\"Closed\",\"Open\")","v":"Open"},{"$f":"IF((COUNTIF('HOLIDAYS NF'!$B:$DZ,CONCATENATE(LEFT($A33,2),BA$2))<>0),\"Closed\",\"Open\")","v":"Open"},{"$f":"IF((COUNTIF('HOLIDAYS NF'!$B:$DZ,CONCATENATE(LEFT($A33,2),BB$2))<>0),\"Closed\",\"Open\")","v":"Open"},{"$f":"IF((COUNTIF('HOLIDAYS NF'!$B:$DZ,CONCATENATE(LEFT($A33,2),BC$2))<>0),\"Closed\",\"Open\")","v":"Open"},{"$f":"IF((COUNTIF('HOLIDAYS NF'!$B:$DZ,CONCATENATE(LEFT($A33,2),BD$2))<>0),\"Closed\",\"Open\")","v":"Open"},{"$f":"IF((COUNTIF('HOLIDAYS NF'!$B:$DZ,CONCATENATE(LEFT($A33,2),BE$2))<>0),\"Closed\",\"Open\")","v":"Open"},{"$f":"IF((COUNTIF('HOLIDAYS NF'!$B:$DZ,CONCATENATE(LEFT($A33,2),BF$2))<>0),\"Closed\",\"Open\")","v":"Open"},{"$f":"IF((COUNTIF('HOLIDAYS NF'!$B:$DZ,CONCATENATE(LEFT($A33,2),BG$2))<>0),\"Closed\",\"Open\")","v":"Open"},{"$f":"IF((COUNTIF('HOLIDAYS NF'!$B:$DZ,CONCATENATE(LEFT($A33,2),BH$2))<>0),\"Closed\",\"Open\")","v":"Open"},{"$f":"IF((COUNTIF('HOLIDAYS NF'!$B:$DZ,CONCATENATE(LEFT($A33,2),BI$2))<>0),\"Closed\",\"Open\")","v":"Open"},{"$f":"IF((COUNTIF('HOLIDAYS NF'!$B:$DZ,CONCATENATE(LEFT($A33,2),BJ$2))<>0),\"Closed\",\"Open\")","v":"Open"}]
["IN",{"$f":"SUMIF(Holdings!G:G,(CONCATENATE($B$1,\"-\",A34,)),Holdings!H:H)","v":0},{"$f":"HLOOKUP(A34,'[1]HOLIDAYS NF'!B$1:BR$65536,6,FALSE)","v":"India"},{"$f":"IF((COUNTIF('HOLIDAYS NF'!$B:$DZ,CONCATENATE(LEFT($A34,2),D$2))<>0),\"Closed\",\"Open\")","v":"Open"},{"$f":"IF((COUNTIF('HOLIDAYS NF'!$B:$DZ,CONCATENATE(LEFT($A34,2),E$2))<>0),\"Closed\",\"Open\")","v":"Open"},{"$f":"IF((COUNTIF('HOLIDAYS NF'!$B:$DZ,CONCATENATE(LEFT($A34,2),F$2))<>0),\"Closed\",\"Open\")","v":"Open"},{"$f":"IF((COUNTIF('HOLIDAYS NF'!$B:$DZ,CONCATENATE(LEFT($A34,2),G$2))<>0),\"Closed\",\"Open\")","v":"Open"},{"$f":"IF((COUNTIF('HOLIDAYS NF'!$B:$DZ,CONCATENATE(LEFT($A34,2),H$2))<>0),\"Closed\",\"Open\")","v":"Open"},{"$f":"IF((COUNTIF('HOLIDAYS NF'!$B:$DZ,CONCATENATE(LEFT($A34,2),I$2))<>0),\"Closed\",\"Open\")","v":"Open"},{"$f":"IF((COUNTIF('HOLIDAYS NF'!$B:$DZ,CONCATENATE(LEFT($A34,2),J$2))<>0),\"Closed\",\"Open\")","v":"Open"},{"$f":"IF((COUNTIF('HOLIDAYS NF'!$B:$DZ,CONCATENATE(LEFT($A34,2),K$2))<>0),\"Closed\",\"Open\")","v":"Open"},{"$f":"IF((COUNTIF('HOLIDAYS NF'!$B:$DZ,CONCATENATE(LEFT($A34,2),L$2))<>0),\"Closed\",\"Open\")","v":"Open"},{"$f":"IF((COUNTIF('HOLIDAYS NF'!$B:$DZ,CONCATENATE(LEFT($A34,2),M$2))<>0),\"Closed\",\"Open\")","v":"Open"},{"$f":"IF((COUNTIF('HOLIDAYS NF'!$B:$DZ,CONCATENATE(LEFT($A34,2),N$2))<>0),\"Closed\",\"Open\")","v":"Open"},{"$f":"IF((COUNTIF('HOLIDAYS NF'!$B:$DZ,CONCATENATE(LEFT($A34,2),O$2))<>0),\"Closed\",\"Open\")","v":"Open"},{"$f":"IF((COUNTIF('HOLIDAYS NF'!$B:$DZ,CONCATENATE(LEFT($A34,2),P$2))<>0),\"Closed\",\"Open\")","v":"Open"},{"$f":"IF((COUNTIF('HOLIDAYS NF'!$B:$DZ,CONCATENATE(LEFT($A34,2),Q$2))<>0),\"Closed\",\"Open\")","v":"Open"},{"$f":"IF((COUNTIF('HOLIDAYS NF'!$B:$DZ,CONCATENATE(LEFT($A34,2),R$2))<>0),\"Closed\",\"Open\")","v":"Open"},{"$f":"IF((COUNTIF('HOLIDAYS NF'!$B:$DZ,CONCATENATE(LEFT($A34,2),S$2))<>0),\"Closed\",\"Open\")","v":"Open"},{"$f":"IF((COUNTIF('HOLIDAYS NF'!$B:$DZ,CONCATENATE(LEFT($A34,2),T$2))<>0),\"Closed\",\"Open\")","v":"Open"},{"$f":"IF((COUNTIF('HOLIDAYS NF'!$B:$DZ,CONCATENATE(LEFT($A34,2),U$2))<>0),\"Closed\",\"Open\")","v":"Open"},{"$f":"IF((COUNTIF('HOLIDAYS NF'!$B:$DZ,CONCATENATE(LEFT($A34,2),V$2))<>0),\"Closed\",\"Open\")","v":"Open"},{"$f":"IF((COUNTIF('HOLIDAYS NF'!$B:$DZ,CONCATENATE(LEFT($A34,2),W$2))<>0),\"Closed\",\"Open\")","v":"Open"},{"$f":"IF((COUNTIF('HOLIDAYS NF'!$B:$DZ,CONCATENATE(LEFT($A34,2),X$2))<>0),\"Closed\",\"Open\")","v":"Open"},{"$f":"IF((COUNTIF('HOLIDAYS NF'!$B:$DZ,CONCATENATE(LEFT($A34,2),Y$2))<>0),\"Closed\",\"Open\")","v":"Open"},{"$f":"IF((COUNTIF('HOLIDAYS NF'!$B:$DZ,CONCATENATE(LEFT($A34,2),Z$2))<>0),\"Closed\",\"Open\")","v":"Open"},{"$f":"IF((COUNTIF('HOLIDAYS NF'!$B:$DZ,CONCATENATE(LEFT($A34,2),AA$2))<>0),\"Closed\",\"Open\")","v":"Open"},{"$f":"IF((COUNTIF('HOLIDAYS NF'!$B:$DZ,CONCATENATE(LEFT($A34,2),AB$2))<>0),\"Closed\",\"Open\")","v":"Open"},{"$f":"IF((COUNTIF('HOLIDAYS NF'!$B:$DZ,CONCATENATE(LEFT($A34,2),AC$2))<>0),\"Closed\",\"Open\")","v":"Open"},{"$f":"IF((COUNTIF('HOLIDAYS NF'!$B:$DZ,CONCATENATE(LEFT($A34,2),AD$2))<>0),\"Closed\",\"Open\")","v":"Open"},{"$f":"IF((COUNTIF('HOLIDAYS NF'!$B:$DZ,CONCATENATE(LEFT($A34,2),AE$2))<>0),\"Closed\",\"Open\")","v":"Open"},{"$f":"IF((COUNTIF('HOLIDAYS NF'!$B:$DZ,CONCATENATE(LEFT($A34,2),AF$2))<>0),\"Closed\",\"Open\")","v":"Open"},{"$f":"IF((COUNTIF('HOLIDAYS NF'!$B:$DZ,CONCATENATE(LEFT($A34,2),AG$2))<>0),\"Closed\",\"Open\")","v":"Open"},{"$f":"IF((COUNTIF('HOLIDAYS NF'!$B:$DZ,CONCATENATE(LEFT($A34,2),AH$2))<>0),\"Closed\",\"Open\")","v":"Open"},{"$f":"IF((COUNTIF('HOLIDAYS NF'!$B:$DZ,CONCATENATE(LEFT($A34,2),AI$2))<>0),\"Closed\",\"Open\")","v":"Open"},{"$f":"IF((COUNTIF('HOLIDAYS NF'!$B:$DZ,CONCATENATE(LEFT($A34,2),AJ$2))<>0),\"Closed\",\"Open\")","v":"Open"},{"$f":"IF((COUNTIF('HOLIDAYS NF'!$B:$DZ,CONCATENATE(LEFT($A34,2),AK$2))<>0),\"Closed\",\"Open\")","v":"Open"},{"$f":"IF((COUNTIF('HOLIDAYS NF'!$B:$DZ,CONCATENATE(LEFT($A34,2),AL$2))<>0),\"Closed\",\"Open\")","v":"Open"},{"$f":"IF((COUNTIF('HOLIDAYS NF'!$B:$DZ,CONCATENATE(LEFT($A34,2),AM$2))<>0),\"Closed\",\"Open\")","v":"Open"},{"$f":"IF((COUNTIF('HOLIDAYS NF'!$B:$DZ,CONCATENATE(LEFT($A34,2),AN$2))<>0),\"Closed\",\"Open\")","v":"Open"},{"$f":"IF((COUNTIF('HOLIDAYS NF'!$B:$DZ,CONCATENATE(LEFT($A34,2),AO$2))<>0),\"Closed\",\"Open\")","v":"Open"},{"$f":"IF((COUNTIF('HOLIDAYS NF'!$B:$DZ,CONCATENATE(LEFT($A34,2),AP$2))<>0),\"Closed\",\"Open\")","v":"Open"},{"$f":"IF((COUNTIF('HOLIDAYS NF'!$B:$DZ,CONCATENATE(LEFT($A34,2),AQ$2))<>0),\"Closed\",\"Open\")","v":"Open"},{"$f":"IF((COUNTIF('HOLIDAYS NF'!$B:$DZ,CONCATENATE(LEFT($A34,2),AR$2))<>0),\"Closed\",\"Open\")","v":"Open"},{"$f":"IF((COUNTIF('HOLIDAYS NF'!$B:$DZ,CONCATENATE(LEFT($A34,2),AS$2))<>0),\"Closed\",\"Open\")","v":"Open"},{"$f":"IF((COUNTIF('HOLIDAYS NF'!$B:$DZ,CONCATENATE(LEFT($A34,2),AT$2))<>0),\"Closed\",\"Open\")","v":"Open"},{"$f":"IF((COUNTIF('HOLIDAYS NF'!$B:$DZ,CONCATENATE(LEFT($A34,2),AU$2))<>0),\"Closed\",\"Open\")","v":"Open"},{"$f":"IF((COUNTIF('HOLIDAYS NF'!$B:$DZ,CONCATENATE(LEFT($A34,2),AV$2))<>0),\"Closed\",\"Open\")","v":"Open"},{"$f":"IF((COUNTIF('HOLIDAYS NF'!$B:$DZ,CONCATENATE(LEFT($A34,2),AW$2))<>0),\"Closed\",\"Open\")","v":"Open"},{"$f":"IF((COUNTIF('HOLIDAYS NF'!$B:$DZ,CONCATENATE(LEFT($A34,2),AX$2))<>0),\"Closed\",\"Open\")","v":"Open"},{"$f":"IF((COUNTIF('HOLIDAYS NF'!$B:$DZ,CONCATENATE(LEFT($A34,2),AY$2))<>0),\"Closed\",\"Open\")","v":"Open"},{"$f":"IF((COUNTIF('HOLIDAYS NF'!$B:$DZ,CONCATENATE(LEFT($A34,2),AZ$2))<>0),\"Closed\",\"Open\")","v":"Open"},{"$f":"IF((COUNTIF('HOLIDAYS NF'!$B:$DZ,CONCATENATE(LEFT($A34,2),BA$2))<>0),\"Closed\",\"Open\")","v":"Open"},{"$f":"IF((COUNTIF('HOLIDAYS NF'!$B:$DZ,CONCATENATE(LEFT($A34,2),BB$2))<>0),\"Closed\",\"Open\")","v":"Open"},{"$f":"IF((COUNTIF('HOLIDAYS NF'!$B:$DZ,CONCATENATE(LEFT($A34,2),BC$2))<>0),\"Closed\",\"Open\")","v":"Open"},{"$f":"IF((COUNTIF('HOLIDAYS NF'!$B:$DZ,CONCATENATE(LEFT($A34,2),BD$2))<>0),\"Closed\",\"Open\")","v":"Open"},{"$f":"IF((COUNTIF('HOLIDAYS NF'!$B:$DZ,CONCATENATE(LEFT($A34,2),BE$2))<>0),\"Closed\",\"Open\")","v":"Open"},{"$f":"IF((COUNTIF('HOLIDAYS NF'!$B:$DZ,CONCATENATE(LEFT($A34,2),BF$2))<>0),\"Closed\",\"Open\")","v":"Open"},{"$f":"IF((COUNTIF('HOLIDAYS NF'!$B:$DZ,CONCATENATE(LEFT($A34,2),BG$2))<>0),\"Closed\",\"Open\")","v":"Open"},{"$f":"IF((COUNTIF('HOLIDAYS NF'!$B:$DZ,CONCATENATE(LEFT($A34,2),BH$2))<>0),\"Closed\",\"Open\")","v":"Open"},{"$f":"IF((COUNTIF('HOLIDAYS NF'!$B:$DZ,CONCATENATE(LEFT($A34,2),BI$2))<>0),\"Closed\",\"Open\")","v":"Open"},{"$f":"IF((COUNTIF('HOLIDAYS NF'!$B:$DZ,CONCATENATE(LEFT($A34,2),BJ$2))<>0),\"Closed\",\"Open\")","v":"Open"}]
["IQ",{"$f":"SUMIF(Holdings!G:G,(CONCATENATE($B$1,\"-\",A35,)),Holdings!H:H)","v":0},{"$f":"HLOOKUP(A35,'[1]HOLIDAYS NF'!B$1:BR$65536,6,FALSE)","v":"Iraq"},{"$f":"IF((COUNTIF('HOLIDAYS NF'!$B:$DZ,CONCATENATE(LEFT($A35,2),D$2))<>0),\"Closed\",\"Open\")","v":"Open"},{"$f":"IF((COUNTIF('HOLIDAYS NF'!$B:$DZ,CONCATENATE(LEFT($A35,2),E$2))<>0),\"Closed\",\"Open\")","v":"Open"},{"$f":"IF((COUNTIF('HOLIDAYS NF'!$B:$DZ,CONCATENATE(LEFT($A35,2),F$2))<>0),\"Closed\",\"Open\")","v":"Open"},{"$f":"IF((COUNTIF('HOLIDAYS NF'!$B:$DZ,CONCATENATE(LEFT($A35,2),G$2))<>0),\"Closed\",\"Open\")","v":"Open"},{"$f":"IF((COUNTIF('HOLIDAYS NF'!$B:$DZ,CONCATENATE(LEFT($A35,2),H$2))<>0),\"Closed\",\"Open\")","v":"Open"},{"$f":"IF((COUNTIF('HOLIDAYS NF'!$B:$DZ,CONCATENATE(LEFT($A35,2),I$2))<>0),\"Closed\",\"Open\")","v":"Open"},{"$f":"IF((COUNTIF('HOLIDAYS NF'!$B:$DZ,CONCATENATE(LEFT($A35,2),J$2))<>0),\"Closed\",\"Open\")","v":"Open"},{"$f":"IF((COUNTIF('HOLIDAYS NF'!$B:$DZ,CONCATENATE(LEFT($A35,2),K$2))<>0),\"Closed\",\"Open\")","v":"Open"},{"$f":"IF((COUNTIF('HOLIDAYS NF'!$B:$DZ,CONCATENATE(LEFT($A35,2),L$2))<>0),\"Closed\",\"Open\")","v":"Open"},{"$f":"IF((COUNTIF('HOLIDAYS NF'!$B:$DZ,CONCATENATE(LEFT($A35,2),M$2))<>0),\"Closed\",\"Open\")","v":"Open"},{"$f":"IF((COUNTIF('HOLIDAYS NF'!$B:$DZ,CONCATENATE(LEFT($A35,2),N$2))<>0),\"Closed\",\"Open\")","v":"Open"},{"$f":"IF((COUNTIF('HOLIDAYS NF'!$B:$DZ,CONCATENATE(LEFT($A35,2),O$2))<>0),\"Closed\",\"Open\")","v":"Open"},{"$f":"IF((COUNTIF('HOLIDAYS NF'!$B:$DZ,CONCATENATE(LEFT($A35,2),P$2))<>0),\"Closed\",\"Open\")","v":"Open"},{"$f":"IF((COUNTIF('HOLIDAYS NF'!$B:$DZ,CONCATENATE(LEFT($A35,2),Q$2))<>0),\"Closed\",\"Open\")","v":"Open"},{"$f":"IF((COUNTIF('HOLIDAYS NF'!$B:$DZ,CONCATENATE(LEFT($A35,2),R$2))<>0),\"Closed\",\"Open\")","v":"Open"},{"$f":"IF((COUNTIF('HOLIDAYS NF'!$B:$DZ,CONCATENATE(LEFT($A35,2),S$2))<>0),\"Closed\",\"Open\")","v":"Open"},{"$f":"IF((COUNTIF('HOLIDAYS NF'!$B:$DZ,CONCATENATE(LEFT($A35,2),T$2))<>0),\"Closed\",\"Open\")","v":"Open"},{"$f":"IF((COUNTIF('HOLIDAYS NF'!$B:$DZ,CONCATENATE(LEFT($A35,2),U$2))<>0),\"Closed\",\"Open\")","v":"Open"},{"$f":"IF((COUNTIF('HOLIDAYS NF'!$B:$DZ,CONCATENATE(LEFT($A35,2),V$2))<>0),\"Closed\",\"Open\")","v":"Open"},{"$f":"IF((COUNTIF('HOLIDAYS NF'!$B:$DZ,CONCATENATE(LEFT($A35,2),W$2))<>0),\"Closed\",\"Open\")","v":"Open"},{"$f":"IF((COUNTIF('HOLIDAYS NF'!$B:$DZ,CONCATENATE(LEFT($A35,2),X$2))<>0),\"Closed\",\"Open\")","v":"Open"},{"$f":"IF((COUNTIF('HOLIDAYS NF'!$B:$DZ,CONCATENATE(LEFT($A35,2),Y$2))<>0),\"Closed\",\"Open\")","v":"Open"},{"$f":"IF((COUNTIF('HOLIDAYS NF'!$B:$DZ,CONCATENATE(LEFT($A35,2),Z$2))<>0),\"Closed\",\"Open\")","v":"Open"},{"$f":"IF((COUNTIF('HOLIDAYS NF'!$B:$DZ,CONCATENATE(LEFT($A35,2),AA$2))<>0),\"Closed\",\"Open\")","v":"Open"},{"$f":"IF((COUNTIF('HOLIDAYS NF'!$B:$DZ,CONCATENATE(LEFT($A35,2),AB$2))<>0),\"Closed\",\"Open\")","v":"Open"},{"$f":"IF((COUNTIF('HOLIDAYS NF'!$B:$DZ,CONCATENATE(LEFT($A35,2),AC$2))<>0),\"Closed\",\"Open\")","v":"Open"},{"$f":"IF((COUNTIF('HOLIDAYS NF'!$B:$DZ,CONCATENATE(LEFT($A35,2),AD$2))<>0),\"Closed\",\"Open\")","v":"Open"},{"$f":"IF((COUNTIF('HOLIDAYS NF'!$B:$DZ,CONCATENATE(LEFT($A35,2),AE$2))<>0),\"Closed\",\"Open\")","v":"Open"},{"$f":"IF((COUNTIF('HOLIDAYS NF'!$B:$DZ,CONCATENATE(LEFT($A35,2),AF$2))<>0),\"Closed\",\"Open\")","v":"Open"},{"$f":"IF((COUNTIF('HOLIDAYS NF'!$B:$DZ,CONCATENATE(LEFT($A35,2),AG$2))<>0),\"Closed\",\"Open\")","v":"Open"},{"$f":"IF((COUNTIF('HOLIDAYS NF'!$B:$DZ,CONCATENATE(LEFT($A35,2),AH$2))<>0),\"Closed\",\"Open\")","v":"Open"},{"$f":"IF((COUNTIF('HOLIDAYS NF'!$B:$DZ,CONCATENATE(LEFT($A35,2),AI$2))<>0),\"Closed\",\"Open\")","v":"Open"},{"$f":"IF((COUNTIF('HOLIDAYS NF'!$B:$DZ,CONCATENATE(LEFT($A35,2),AJ$2))<>0),\"Closed\",\"Open\")","v":"Open"},{"$f":"IF((COUNTIF('HOLIDAYS NF'!$B:$DZ,CONCATENATE(LEFT($A35,2),AK$2))<>0),\"Closed\",\"Open\")","v":"Open"},{"$f":"IF((COUNTIF('HOLIDAYS NF'!$B:$DZ,CONCATENATE(LEFT($A35,2),AL$2))<>0),\"Closed\",\"Open\")","v":"Open"},{"$f":"IF((COUNTIF('HOLIDAYS NF'!$B:$DZ,CONCATENATE(LEFT($A35,2),AM$2))<>0),\"Closed\",\"Open\")","v":"Open"},{"$f":"IF((COUNTIF('HOLIDAYS NF'!$B:$DZ,CONCATENATE(LEFT($A35,2),AN$2))<>0),\"Closed\",\"Open\")","v":"Open"},{"$f":"IF((COUNTIF('HOLIDAYS NF'!$B:$DZ,CONCATENATE(LEFT($A35,2),AO$2))<>0),\"Closed\",\"Open\")","v":"Open"},{"$f":"IF((COUNTIF('HOLIDAYS NF'!$B:$DZ,CONCATENATE(LEFT($A35,2),AP$2))<>0),\"Closed\",\"Open\")","v":"Open"},{"$f":"IF((COUNTIF('HOLIDAYS NF'!$B:$DZ,CONCATENATE(LEFT($A35,2),AQ$2))<>0),\"Closed\",\"Open\")","v":"Open"},{"$f":"IF((COUNTIF('HOLIDAYS NF'!$B:$DZ,CONCATENATE(LEFT($A35,2),AR$2))<>0),\"Closed\",\"Open\")","v":"Open"},{"$f":"IF((COUNTIF('HOLIDAYS NF'!$B:$DZ,CONCATENATE(LEFT($A35,2),AS$2))<>0),\"Closed\",\"Open\")","v":"Open"},{"$f":"IF((COUNTIF('HOLIDAYS NF'!$B:$DZ,CONCATENATE(LEFT($A35,2),AT$2))<>0),\"Closed\",\"Open\")","v":"Open"},{"$f":"IF((COUNTIF('HOLIDAYS NF'!$B:$DZ,CONCATENATE(LEFT($A35,2),AU$2))<>0),\"Closed\",\"Open\")","v":"Open"},{"$f":"IF((COUNTIF('HOLIDAYS NF'!$B:$DZ,CONCATENATE(LEFT($A35,2),AV$2))<>0),\"Closed\",\"Open\")","v":"Open"},{"$f":"IF((COUNTIF('HOLIDAYS NF'!$B:$DZ,CONCATENATE(LEFT($A35,2),AW$2))<>0),\"Closed\",\"Open\")","v":"Open"},{"$f":"IF((COUNTIF('HOLIDAYS NF'!$B:$DZ,CONCATENATE(LEFT($A35,2),AX$2))<>0),\"Closed\",\"Open\")","v":"Open"},{"$f":"IF((COUNTIF('HOLIDAYS NF'!$B:$DZ,CONCATENATE(LEFT($A35,2),AY$2))<>0),\"Closed\",\"Open\")","v":"Open"},{"$f":"IF((COUNTIF('HOLIDAYS NF'!$B:$DZ,CONCATENATE(LEFT($A35,2),AZ$2))<>0),\"Closed\",\"Open\")","v":"Open"},{"$f":"IF((COUNTIF('HOLIDAYS NF'!$B:$DZ,CONCATENATE(LEFT($A35,2),BA$2))<>0),\"Closed\",\"Open\")","v":"Open"},{"$f":"IF((COUNTIF('HOLIDAYS NF'!$B:$DZ,CONCATENATE(LEFT($A35,2),BB$2))<>0),\"Closed\",\"Open\")","v":"Open"},{"$f":"IF((COUNTIF('HOLIDAYS NF'!$B:$DZ,CONCATENATE(LEFT($A35,2),BC$2))<>0),\"Closed\",\"Open\")","v":"Open"},{"$f":"IF((COUNTIF('HOLIDAYS NF'!$B:$DZ,CONCATENATE(LEFT($A35,2),BD$2))<>0),\"Closed\",\"Open\")","v":"Open"},{"$f":"IF((COUNTIF('HOLIDAYS NF'!$B:$DZ,CONCATENATE(LEFT($A35,2),BE$2))<>0),\"Closed\",\"Open\")","v":"Open"},{"$f":"IF((COUNTIF('HOLIDAYS NF'!$B:$DZ,CONCATENATE(LEFT($A35,2),BF$2))<>0),\"Closed\",\"Open\")","v":"Open"},{"$f":"IF((COUNTIF('HOLIDAYS NF'!$B:$DZ,CONCATENATE(LEFT($A35,2),BG$2))<>0),\"Closed\",\"Open\")","v":"Open"},{"$f":"IF((COUNTIF('HOLIDAYS NF'!$B:$DZ,CONCATENATE(LEFT($A35,2),BH$2))<>0),\"Closed\",\"Open\")","v":"Open"},{"$f":"IF((COUNTIF('HOLIDAYS NF'!$B:$DZ,CONCATENATE(LEFT($A35,2),BI$2))<>0),\"Closed\",\"Open\")","v":"Open"},{"$f":"IF((COUNTIF('HOLIDAYS NF'!$B:$DZ,CONCATENATE(LEFT($A35,2),BJ$2))<>0),\"Closed\",\"Open\")","v":"Open"}]
["IT",{"$f":"SUMIF(Holdings!G:G,(CONCATENATE($B$1,\"-\",A36,)),Holdings!H:H)","v":0},{"$f":"HLOOKUP(A36,'[1]HOLIDAYS NF'!B$1:BR$65536,6,FALSE)","v":"Italy"},{"$f":"IF((COUNTIF('HOLIDAYS NF'!$B:$DZ,CONCATENATE(LEFT($A36,2),D$2))<>0),\"Closed\",\"Open\")","v":"Open"},{"$f":"IF((COUNTIF('HOLIDAYS NF'!$B:$DZ,CONCATENATE(LEFT($A36,2),E$2))<>0),\"Closed\",\"Open\")","v":"Open"},{"$f":"IF((COUNTIF('HOLIDAYS NF'!$B:$DZ,CONCATENATE(LEFT($A36,2),F$2))<>0),\"Closed\",\"Open\")","v":"Open"},{"$f":"IF((COUNTIF('HOLIDAYS NF'!$B:$DZ,CONCATENATE(LEFT($A36,2),G$2))<>0),\"Closed\",\"Open\")","v":"Open"},{"$f":"IF((COUNTIF('HOLIDAYS NF'!$B:$DZ,CONCATENATE(LEFT($A36,2),H$2))<>0),\"Closed\",\"Open\")","v":"Open"},{"$f":"IF((COUNTIF('HOLIDAYS NF'!$B:$DZ,CONCATENATE(LEFT($A36,2),I$2))<>0),\"Closed\",\"Open\")","v":"Open"},{"$f":"IF((COUNTIF('HOLIDAYS NF'!$B:$DZ,CONCATENATE(LEFT($A36,2),J$2))<>0),\"Closed\",\"Open\")","v":"Open"},{"$f":"IF((COUNTIF('HOLIDAYS NF'!$B:$DZ,CONCATENATE(LEFT($A36,2),K$2))<>0),\"Closed\",\"Open\")","v":"Open"},{"$f":"IF((COUNTIF('HOLIDAYS NF'!$B:$DZ,CONCATENATE(LEFT($A36,2),L$2))<>0),\"Closed\",\"Open\")","v":"Open"},{"$f":"IF((COUNTIF('HOLIDAYS NF'!$B:$DZ,CONCATENATE(LEFT($A36,2),M$2))<>0),\"Closed\",\"Open\")","v":"Open"},{"$f":"IF((COUNTIF('HOLIDAYS NF'!$B:$DZ,CONCATENATE(LEFT($A36,2),N$2))<>0),\"Closed\",\"Open\")","v":"Open"},{"$f":"IF((COUNTIF('HOLIDAYS NF'!$B:$DZ,CONCATENATE(LEFT($A36,2),O$2))<>0),\"Closed\",\"Open\")","v":"Open"},{"$f":"IF((COUNTIF('HOLIDAYS NF'!$B:$DZ,CONCATENATE(LEFT($A36,2),P$2))<>0),\"Closed\",\"Open\")","v":"Open"},{"$f":"IF((COUNTIF('HOLIDAYS NF'!$B:$DZ,CONCATENATE(LEFT($A36,2),Q$2))<>0),\"Closed\",\"Open\")","v":"Open"},{"$f":"IF((COUNTIF('HOLIDAYS NF'!$B:$DZ,CONCATENATE(LEFT($A36,2),R$2))<>0),\"Closed\",\"Open\")","v":"Open"},{"$f":"IF((COUNTIF('HOLIDAYS NF'!$B:$DZ,CONCATENATE(LEFT($A36,2),S$2))<>0),\"Closed\",\"Open\")","v":"Open"},{"$f":"IF((COUNTIF('HOLIDAYS NF'!$B:$DZ,CONCATENATE(LEFT($A36,2),T$2))<>0),\"Closed\",\"Open\")","v":"Open"},{"$f":"IF((COUNTIF('HOLIDAYS NF'!$B:$DZ,CONCATENATE(LEFT($A36,2),U$2))<>0),\"Closed\",\"Open\")","v":"Open"},{"$f":"IF((COUNTIF('HOLIDAYS NF'!$B:$DZ,CONCATENATE(LEFT($A36,2),V$2))<>0),\"Closed\",\"Open\")","v":"Open"},{"$f":"IF((COUNTIF('HOLIDAYS NF'!$B:$DZ,CONCATENATE(LEFT($A36,2),W$2))<>0),\"Closed\",\"Open\")","v":"Open"},{"$f":"IF((COUNTIF('HOLIDAYS NF'!$B:$DZ,CONCATENATE(LEFT($A36,2),X$2))<>0),\"Closed\",\"Open\")","v":"Open"},{"$f":"IF((COUNTIF('HOLIDAYS NF'!$B:$DZ,CONCATENATE(LEFT($A36,2),Y$2))<>0),\"Closed\",\"Open\")","v":"Open"},{"$f":"IF((COUNTIF('HOLIDAYS NF'!$B:$DZ,CONCATENATE(LEFT($A36,2),Z$2))<>0),\"Closed\",\"Open\")","v":"Open"},{"$f":"IF((COUNTIF('HOLIDAYS NF'!$B:$DZ,CONCATENATE(LEFT($A36,2),AA$2))<>0),\"Closed\",\"Open\")","v":"Open"},{"$f":"IF((COUNTIF('HOLIDAYS NF'!$B:$DZ,CONCATENATE(LEFT($A36,2),AB$2))<>0),\"Closed\",\"Open\")","v":"Open"},{"$f":"IF((COUNTIF('HOLIDAYS NF'!$B:$DZ,CONCATENATE(LEFT($A36,2),AC$2))<>0),\"Closed\",\"Open\")","v":"Open"},{"$f":"IF((COUNTIF('HOLIDAYS NF'!$B:$DZ,CONCATENATE(LEFT($A36,2),AD$2))<>0),\"Closed\",\"Open\")","v":"Open"},{"$f":"IF((COUNTIF('HOLIDAYS NF'!$B:$DZ,CONCATENATE(LEFT($A36,2),AE$2))<>0),\"Closed\",\"Open\")","v":"Open"},{"$f":"IF((COUNTIF('HOLIDAYS NF'!$B:$DZ,CONCATENATE(LEFT($A36,2),AF$2))<>0),\"Closed\",\"Open\")","v":"Open"},{"$f":"IF((COUNTIF('HOLIDAYS NF'!$B:$DZ,CONCATENATE(LEFT($A36,2),AG$2))<>0),\"Closed\",\"Open\")","v":"Open"},{"$f":"IF((COUNTIF('HOLIDAYS NF'!$B:$DZ,CONCATENATE(LEFT($A36,2),AH$2))<>0),\"Closed\",\"Open\")","v":"Open"},{"$f":"IF((COUNTIF('HOLIDAYS NF'!$B:$DZ,CONCATENATE(LEFT($A36,2),AI$2))<>0),\"Closed\",\"Open\")","v":"Open"},{"$f":"IF((COUNTIF('HOLIDAYS NF'!$B:$DZ,CONCATENATE(LEFT($A36,2),AJ$2))<>0),\"Closed\",\"Open\")","v":"Open"},{"$f":"IF((COUNTIF('HOLIDAYS NF'!$B:$DZ,CONCATENATE(LEFT($A36,2),AK$2))<>0),\"Closed\",\"Open\")","v":"Open"},{"$f":"IF((COUNTIF('HOLIDAYS NF'!$B:$DZ,CONCATENATE(LEFT($A36,2),AL$2))<>0),\"Closed\",\"Open\")","v":"Open"},{"$f":"IF((COUNTIF('HOLIDAYS NF'!$B:$DZ,CONCATENATE(LEFT($A36,2),AM$2))<>0),\"Closed\",\"Open\")","v":"Open"},{"$f":"IF((COUNTIF('HOLIDAYS NF'!$B:$DZ,CONCATENATE(LEFT($A36,2),AN$2))<>0),\"Closed\",\"Open\")","v":"Open"},{"$f":"IF((COUNTIF('HOLIDAYS NF'!$B:$DZ,CONCATENATE(LEFT($A36,2),AO$2))<>0),\"Closed\",\"Open\")","v":"Open"},{"$f":"IF((COUNTIF('HOLIDAYS NF'!$B:$DZ,CONCATENATE(LEFT($A36,2),AP$2))<>0),\"Closed\",\"Open\")","v":"Open"},{"$f":"IF((COUNTIF('HOLIDAYS NF'!$B:$DZ,CONCATENATE(LEFT($A36,2),AQ$2))<>0),\"Closed\",\"Open\")","v":"Open"},{"$f":"IF((COUNTIF('HOLIDAYS NF'!$B:$DZ,CONCATENATE(LEFT($A36,2),AR$2))<>0),\"Closed\",\"Open\")","v":"Open"},{"$f":"IF((COUNTIF('HOLIDAYS NF'!$B:$DZ,CONCATENATE(LEFT($A36,2),AS$2))<>0),\"Closed\",\"Open\")","v":"Open"},{"$f":"IF((COUNTIF('HOLIDAYS NF'!$B:$DZ,CONCATENATE(LEFT($A36,2),AT$2))<>0),\"Closed\",\"Open\")","v":"Open"},{"$f":"IF((COUNTIF('HOLIDAYS NF'!$B:$DZ,CONCATENATE(LEFT($A36,2),AU$2))<>0),\"Closed\",\"Open\")","v":"Open"},{"$f":"IF((COUNTIF('HOLIDAYS NF'!$B:$DZ,CONCATENATE(LEFT($A36,2),AV$2))<>0),\"Closed\",\"Open\")","v":"Open"},{"$f":"IF((COUNTIF('HOLIDAYS NF'!$B:$DZ,CONCATENATE(LEFT($A36,2),AW$2))<>0),\"Closed\",\"Open\")","v":"Open"},{"$f":"IF((COUNTIF('HOLIDAYS NF'!$B:$DZ,CONCATENATE(LEFT($A36,2),AX$2))<>0),\"Closed\",\"Open\")","v":"Open"},{"$f":"IF((COUNTIF('HOLIDAYS NF'!$B:$DZ,CONCATENATE(LEFT($A36,2),AY$2))<>0),\"Closed\",\"Open\")","v":"Open"},{"$f":"IF((COUNTIF('HOLIDAYS NF'!$B:$DZ,CONCATENATE(LEFT($A36,2),AZ$2))<>0),\"Closed\",\"Open\")","v":"Open"},{"$f":"IF((COUNTIF('HOLIDAYS NF'!$B:$DZ,CONCATENATE(LEFT($A36,2),BA$2))<>0),\"Closed\",\"Open\")","v":"Open"},{"$f":"IF((COUNTIF('HOLIDAYS NF'!$B:$DZ,CONCATENATE(LEFT($A36,2),BB$2))<>0),\"Closed\",\"Open\")","v":"Open"},{"$f":"IF((COUNTIF('HOLIDAYS NF'!$B:$DZ,CONCATENATE(LEFT($A36,2),BC$2))<>0),\"Closed\",\"Open\")","v":"Open"},{"$f":"IF((COUNTIF('HOLIDAYS NF'!$B:$DZ,CONCATENATE(LEFT($A36,2),BD$2))<>0),\"Closed\",\"Open\")","v":"Open"},{"$f":"IF((COUNTIF('HOLIDAYS NF'!$B:$DZ,CONCATENATE(LEFT($A36,2),BE$2))<>0),\"Closed\",\"Open\")","v":"Open"},{"$f":"IF((COUNTIF('HOLIDAYS NF'!$B:$DZ,CONCATENATE(LEFT($A36,2),BF$2))<>0),\"Closed\",\"Open\")","v":"Open"},{"$f":"IF((COUNTIF('HOLIDAYS NF'!$B:$DZ,CONCATENATE(LEFT($A36,2),BG$2))<>0),\"Closed\",\"Open\")","v":"Open"},{"$f":"IF((COUNTIF('HOLIDAYS NF'!$B:$DZ,CONCATENATE(LEFT($A36,2),BH$2))<>0),\"Closed\",\"Open\")","v":"Open"},{"$f":"IF((COUNTIF('HOLIDAYS NF'!$B:$DZ,CONCATENATE(LEFT($A36,2),BI$2))<>0),\"Closed\",\"Open\")","v":"Open"},{"$f":"IF((COUNTIF('HOLIDAYS NF'!$B:$DZ,CONCATENATE(LEFT($A36,2),BJ$2))<>0),\"Closed\",\"Open\")","v":"Open"}]
["JE",{"$f":"SUMIF(Holdings!G:G,(CONCATENATE($B$1,\"-\",A37,)),Holdings!H:H)","v":0},{"$f":"HLOOKUP(A37,'[1]HOLIDAYS NF'!B$1:BR$65536,6,FALSE)","v":"Jersey"},{"$f":"IF((COUNTIF('HOLIDAYS NF'!$B:$DZ,CONCATENATE(LEFT($A37,2),D$2))<>0),\"Closed\",\"Open\")","v":"Open"},{"$f":"IF((COUNTIF('HOLIDAYS NF'!$B:$DZ,CONCATENATE(LEFT($A37,2),E$2))<>0),\"Closed\",\"Open\")","v":"Open"},{"$f":"IF((COUNTIF('HOLIDAYS NF'!$B:$DZ,CONCATENATE(LEFT($A37,2),F$2))<>0),\"Closed\",\"Open\")","v":"Open"},{"$f":"IF((COUNTIF('HOLIDAYS NF'!$B:$DZ,CONCATENATE(LEFT($A37,2),G$2))<>0),\"Closed\",\"Open\")","v":"Open"},{"$f":"IF((COUNTIF('HOLIDAYS NF'!$B:$DZ,CONCATENATE(LEFT($A37,2),H$2))<>0),\"Closed\",\"Open\")","v":"Open"},{"$f":"IF((COUNTIF('HOLIDAYS NF'!$B:$DZ,CONCATENATE(LEFT($A37,2),I$2))<>0),\"Closed\",\"Open\")","v":"Open"},{"$f":"IF((COUNTIF('HOLIDAYS NF'!$B:$DZ,CONCATENATE(LEFT($A37,2),J$2))<>0),\"Closed\",\"Open\")","v":"Open"},{"$f":"IF((COUNTIF('HOLIDAYS NF'!$B:$DZ,CONCATENATE(LEFT($A37,2),K$2))<>0),\"Closed\",\"Open\")","v":"Open"},{"$f":"IF((COUNTIF('HOLIDAYS NF'!$B:$DZ,CONCATENATE(LEFT($A37,2),L$2))<>0),\"Closed\",\"Open\")","v":"Open"},{"$f":"IF((COUNTIF('HOLIDAYS NF'!$B:$DZ,CONCATENATE(LEFT($A37,2),M$2))<>0),\"Closed\",\"Open\")","v":"Open"},{"$f":"IF((COUNTIF('HOLIDAYS NF'!$B:$DZ,CONCATENATE(LEFT($A37,2),N$2))<>0),\"Closed\",\"Open\")","v":"Open"},{"$f":"IF((COUNTIF('HOLIDAYS NF'!$B:$DZ,CONCATENATE(LEFT($A37,2),O$2))<>0),\"Closed\",\"Open\")","v":"Open"},{"$f":"IF((COUNTIF('HOLIDAYS NF'!$B:$DZ,CONCATENATE(LEFT($A37,2),P$2))<>0),\"Closed\",\"Open\")","v":"Open"},{"$f":"IF((COUNTIF('HOLIDAYS NF'!$B:$DZ,CONCATENATE(LEFT($A37,2),Q$2))<>0),\"Closed\",\"Open\")","v":"Open"},{"$f":"IF((COUNTIF('HOLIDAYS NF'!$B:$DZ,CONCATENATE(LEFT($A37,2),R$2))<>0),\"Closed\",\"Open\")","v":"Open"},{"$f":"IF((COUNTIF('HOLIDAYS NF'!$B:$DZ,CONCATENATE(LEFT($A37,2),S$2))<>0),\"Closed\",\"Open\")","v":"Open"},{"$f":"IF((COUNTIF('HOLIDAYS NF'!$B:$DZ,CONCATENATE(LEFT($A37,2),T$2))<>0),\"Closed\",\"Open\")","v":"Open"},{"$f":"IF((COUNTIF('HOLIDAYS NF'!$B:$DZ,CONCATENATE(LEFT($A37,2),U$2))<>0),\"Closed\",\"Open\")","v":"Open"},{"$f":"IF((COUNTIF('HOLIDAYS NF'!$B:$DZ,CONCATENATE(LEFT($A37,2),V$2))<>0),\"Closed\",\"Open\")","v":"Open"},{"$f":"IF((COUNTIF('HOLIDAYS NF'!$B:$DZ,CONCATENATE(LEFT($A37,2),W$2))<>0),\"Closed\",\"Open\")","v":"Open"},{"$f":"IF((COUNTIF('HOLIDAYS NF'!$B:$DZ,CONCATENATE(LEFT($A37,2),X$2))<>0),\"Closed\",\"Open\")","v":"Open"},{"$f":"IF((COUNTIF('HOLIDAYS NF'!$B:$DZ,CONCATENATE(LEFT($A37,2),Y$2))<>0),\"Closed\",\"Open\")","v":"Open"},{"$f":"IF((COUNTIF('HOLIDAYS NF'!$B:$DZ,CONCATENATE(LEFT($A37,2),Z$2))<>0),\"Closed\",\"Open\")","v":"Open"},{"$f":"IF((COUNTIF('HOLIDAYS NF'!$B:$DZ,CONCATENATE(LEFT($A37,2),AA$2))<>0),\"Closed\",\"Open\")","v":"Open"},{"$f":"IF((COUNTIF('HOLIDAYS NF'!$B:$DZ,CONCATENATE(LEFT($A37,2),AB$2))<>0),\"Closed\",\"Open\")","v":"Open"},{"$f":"IF((COUNTIF('HOLIDAYS NF'!$B:$DZ,CONCATENATE(LEFT($A37,2),AC$2))<>0),\"Closed\",\"Open\")","v":"Open"},{"$f":"IF((COUNTIF('HOLIDAYS NF'!$B:$DZ,CONCATENATE(LEFT($A37,2),AD$2))<>0),\"Closed\",\"Open\")","v":"Open"},{"$f":"IF((COUNTIF('HOLIDAYS NF'!$B:$DZ,CONCATENATE(LEFT($A37,2),AE$2))<>0),\"Closed\",\"Open\")","v":"Open"},{"$f":"IF((COUNTIF('HOLIDAYS NF'!$B:$DZ,CONCATENATE(LEFT($A37,2),AF$2))<>0),\"Closed\",\"Open\")","v":"Open"},{"$f":"IF((COUNTIF('HOLIDAYS NF'!$B:$DZ,CONCATENATE(LEFT($A37,2),AG$2))<>0),\"Closed\",\"Open\")","v":"Open"},{"$f":"IF((COUNTIF('HOLIDAYS NF'!$B:$DZ,CONCATENATE(LEFT($A37,2),AH$2))<>0),\"Closed\",\"Open\")","v":"Open"},{"$f":"IF((COUNTIF('HOLIDAYS NF'!$B:$DZ,CONCATENATE(LEFT($A37,2),AI$2))<>0),\"Closed\",\"Open\")","v":"Open"},{"$f":"IF((COUNTIF('HOLIDAYS NF'!$B:$DZ,CONCATENATE(LEFT($A37,2),AJ$2))<>0),\"Closed\",\"Open\")","v":"Open"},{"$f":"IF((COUNTIF('HOLIDAYS NF'!$B:$DZ,CONCATENATE(LEFT($A37,2),AK$2))<>0),\"Closed\",\"Open\")","v":"Open"},{"$f":"IF((COUNTIF('HOLIDAYS NF'!$B:$DZ,CONCATENATE(LEFT($A37,2),AL$2))<>0),\"Closed\",\"Open\")","v":"Open"},{"$f":"IF((COUNTIF('HOLIDAYS NF'!$B:$DZ,CONCATENATE(LEFT($A37,2),AM$2))<>0),\"Closed\",\"Open\")","v":"Open"},{"$f":"IF((COUNTIF('HOLIDAYS NF'!$B:$DZ,CONCATENATE(LEFT($A37,2),AN$2))<>0),\"Closed\",\"Open\")","v":"Open"},{"$f":"IF((COUNTIF('HOLIDAYS NF'!$B:$DZ,CONCATENATE(LEFT($A37,2),AO$2))<>0),\"Closed\",\"Open\")","v":"Open"},{"$f":"IF((COUNTIF('HOLIDAYS NF'!$B:$DZ,CONCATENATE(LEFT($A37,2),AP$2))<>0),\"Closed\",\"Open\")","v":"Open"},{"$f":"IF((COUNTIF('HOLIDAYS NF'!$B:$DZ,CONCATENATE(LEFT($A37,2),AQ$2))<>0),\"Closed\",\"Open\")","v":"Open"},{"$f":"IF((COUNTIF('HOLIDAYS NF'!$B:$DZ,CONCATENATE(LEFT($A37,2),AR$2))<>0),\"Closed\",\"Open\")","v":"Open"},{"$f":"IF((COUNTIF('HOLIDAYS NF'!$B:$DZ,CONCATENATE(LEFT($A37,2),AS$2))<>0),\"Closed\",\"Open\")","v":"Open"},{"$f":"IF((COUNTIF('HOLIDAYS NF'!$B:$DZ,CONCATENATE(LEFT($A37,2),AT$2))<>0),\"Closed\",\"Open\")","v":"Open"},{"$f":"IF((COUNTIF('HOLIDAYS NF'!$B:$DZ,CONCATENATE(LEFT($A37,2),AU$2))<>0),\"Closed\",\"Open\")","v":"Open"},{"$f":"IF((COUNTIF('HOLIDAYS NF'!$B:$DZ,CONCATENATE(LEFT($A37,2),AV$2))<>0),\"Closed\",\"Open\")","v":"Open"},{"$f":"IF((COUNTIF('HOLIDAYS NF'!$B:$DZ,CONCATENATE(LEFT($A37,2),AW$2))<>0),\"Closed\",\"Open\")","v":"Open"},{"$f":"IF((COUNTIF('HOLIDAYS NF'!$B:$DZ,CONCATENATE(LEFT($A37,2),AX$2))<>0),\"Closed\",\"Open\")","v":"Open"},{"$f":"IF((COUNTIF('HOLIDAYS NF'!$B:$DZ,CONCATENATE(LEFT($A37,2),AY$2))<>0),\"Closed\",\"Open\")","v":"Open"},{"$f":"IF((COUNTIF('HOLIDAYS NF'!$B:$DZ,CONCATENATE(LEFT($A37,2),AZ$2))<>0),\"Closed\",\"Open\")","v":"Open"},{"$f":"IF((COUNTIF('HOLIDAYS NF'!$B:$DZ,CONCATENATE(LEFT($A37,2),BA$2))<>0),\"Closed\",\"Open\")","v":"Open"},{"$f":"IF((COUNTIF('HOLIDAYS NF'!$B:$DZ,CONCATENATE(LEFT($A37,2),BB$2))<>0),\"Closed\",\"Open\")","v":"Open"},{"$f":"IF((COUNTIF('HOLIDAYS NF'!$B:$DZ,CONCATENATE(LEFT($A37,2),BC$2))<>0),\"Closed\",\"Open\")","v":"Open"},{"$f":"IF((COUNTIF('HOLIDAYS NF'!$B:$DZ,CONCATENATE(LEFT($A37,2),BD$2))<>0),\"Closed\",\"Open\")","v":"Open"},{"$f":"IF((COUNTIF('HOLIDAYS NF'!$B:$DZ,CONCATENATE(LEFT($A37,2),BE$2))<>0),\"Closed\",\"Open\")","v":"Open"},{"$f":"IF((COUNTIF('HOLIDAYS NF'!$B:$DZ,CONCATENATE(LEFT($A37,2),BF$2))<>0),\"Closed\",\"Open\")","v":"Open"},{"$f":"IF((COUNTIF('HOLIDAYS NF'!$B:$DZ,CONCATENATE(LEFT($A37,2),BG$2))<>0),\"Closed\",\"Open\")","v":"Open"},{"$f":"IF((COUNTIF('HOLIDAYS NF'!$B:$DZ,CONCATENATE(LEFT($A37,2),BH$2))<>0),\"Closed\",\"Open\")","v":"Open"},{"$f":"IF((COUNTIF('HOLIDAYS NF'!$B:$DZ,CONCATENATE(LEFT($A37,2),BI$2))<>0),\"Closed\",\"Open\")","v":"Open"},{"$f":"IF((COUNTIF('HOLIDAYS NF'!$B:$DZ,CONCATENATE(LEFT($A37,2),BJ$2))<>0),\"Closed\",\"Open\")","v":"Open"}]
["JP",{"$f":"SUMIF(Holdings!G:G,(CONCATENATE($B$1,\"-\",A38,)),Holdings!H:H)","v":0},{"$f":"HLOOKUP(A38,'[1]HOLIDAYS NF'!B$1:BR$65536,6,FALSE)","v":"Japan"},{"$f":"IF((COUNTIF('HOLIDAYS NF'!$B:$DZ,CONCATENATE(LEFT($A38,2),D$2))<>0),\"Closed\",\"Open\")","v":"Open"},{"$f":"IF((COUNTIF('HOLIDAYS NF'!$B:$DZ,CONCATENATE(LEFT($A38,2),E$2))<>0),\"Closed\",\"Open\")","v":"Open"},{"$f":"IF((COUNTIF('HOLIDAYS NF'!$B:$DZ,CONCATENATE(LEFT($A38,2),F$2))<>0),\"Closed\",\"Open\")","v":"Open"},{"$f":"IF((COUNTIF('HOLIDAYS NF'!$B:$DZ,CONCATENATE(LEFT($A38,2),G$2))<>0),\"Closed\",\"Open\")","v":"Open"},{"$f":"IF((COUNTIF('HOLIDAYS NF'!$B:$DZ,CONCATENATE(LEFT($A38,2),H$2))<>0),\"Closed\",\"Open\")","v":"Open"},{"$f":"IF((COUNTIF('HOLIDAYS NF'!$B:$DZ,CONCATENATE(LEFT($A38,2),I$2))<>0),\"Closed\",\"Open\")","v":"Open"},{"$f":"IF((COUNTIF('HOLIDAYS NF'!$B:$DZ,CONCATENATE(LEFT($A38,2),J$2))<>0),\"Closed\",\"Open\")","v":"Open"},{"$f":"IF((COUNTIF('HOLIDAYS NF'!$B:$DZ,CONCATENATE(LEFT($A38,2),K$2))<>0),\"Closed\",\"Open\")","v":"Open"},{"$f":"IF((COUNTIF('HOLIDAYS NF'!$B:$DZ,CONCATENATE(LEFT($A38,2),L$2))<>0),\"Closed\",\"Open\")","v":"Open"},{"$f":"IF((COUNTIF('HOLIDAYS NF'!$B:$DZ,CONCATENATE(LEFT($A38,2),M$2))<>0),\"Closed\",\"Open\")","v":"Open"},{"$f":"IF((COUNTIF('HOLIDAYS NF'!$B:$DZ,CONCATENATE(LEFT($A38,2),N$2))<>0),\"Closed\",\"Open\")","v":"Open"},{"$f":"IF((COUNTIF('HOLIDAYS NF'!$B:$DZ,CONCATENATE(LEFT($A38,2),O$2))<>0),\"Closed\",\"Open\")","v":"Open"},{"$f":"IF((COUNTIF('HOLIDAYS NF'!$B:$DZ,CONCATENATE(LEFT($A38,2),P$2))<>0),\"Closed\",\"Open\")","v":"Open"},{"$f":"IF((COUNTIF('HOLIDAYS NF'!$B:$DZ,CONCATENATE(LEFT($A38,2),Q$2))<>0),\"Closed\",\"Open\")","v":"Open"},{"$f":"IF((COUNTIF('HOLIDAYS NF'!$B:$DZ,CONCATENATE(LEFT($A38,2),R$2))<>0),\"Closed\",\"Open\")","v":"Open"},{"$f":"IF((COUNTIF('HOLIDAYS NF'!$B:$DZ,CONCATENATE(LEFT($A38,2),S$2))<>0),\"Closed\",\"Open\")","v":"Open"},{"$f":"IF((COUNTIF('HOLIDAYS NF'!$B:$DZ,CONCATENATE(LEFT($A38,2),T$2))<>0),\"Closed\",\"Open\")","v":"Open"},{"$f":"IF((COUNTIF('HOLIDAYS NF'!$B:$DZ,CONCATENATE(LEFT($A38,2),U$2))<>0),\"Closed\",\"Open\")","v":"Open"},{"$f":"IF((COUNTIF('HOLIDAYS NF'!$B:$DZ,CONCATENATE(LEFT($A38,2),V$2))<>0),\"Closed\",\"Open\")","v":"Open"},{"$f":"IF((COUNTIF('HOLIDAYS NF'!$B:$DZ,CONCATENATE(LEFT($A38,2),W$2))<>0),\"Closed\",\"Open\")","v":"Open"},{"$f":"IF((COUNTIF('HOLIDAYS NF'!$B:$DZ,CONCATENATE(LEFT($A38,2),X$2))<>0),\"Closed\",\"Open\")","v":"Open"},{"$f":"IF((COUNTIF('HOLIDAYS NF'!$B:$DZ,CONCATENATE(LEFT($A38,2),Y$2))<>0),\"Closed\",\"Open\")","v":"Open"},{"$f":"IF((COUNTIF('HOLIDAYS NF'!$B:$DZ,CONCATENATE(LEFT($A38,2),Z$2))<>0),\"Closed\",\"Open\")","v":"Open"},{"$f":"IF((COUNTIF('HOLIDAYS NF'!$B:$DZ,CONCATENATE(LEFT($A38,2),AA$2))<>0),\"Closed\",\"Open\")","v":"Open"},{"$f":"IF((COUNTIF('HOLIDAYS NF'!$B:$DZ,CONCATENATE(LEFT($A38,2),AB$2))<>0),\"Closed\",\"Open\")","v":"Open"},{"$f":"IF((COUNTIF('HOLIDAYS NF'!$B:$DZ,CONCATENATE(LEFT($A38,2),AC$2))<>0),\"Closed\",\"Open\")","v":"Open"},{"$f":"IF((COUNTIF('HOLIDAYS NF'!$B:$DZ,CONCATENATE(LEFT($A38,2),AD$2))<>0),\"Closed\",\"Open\")","v":"Open"},{"$f":"IF((COUNTIF('HOLIDAYS NF'!$B:$DZ,CONCATENATE(LEFT($A38,2),AE$2))<>0),\"Closed\",\"Open\")","v":"Open"},{"$f":"IF((COUNTIF('HOLIDAYS NF'!$B:$DZ,CONCATENATE(LEFT($A38,2),AF$2))<>0),\"Closed\",\"Open\")","v":"Open"},{"$f":"IF((COUNTIF('HOLIDAYS NF'!$B:$DZ,CONCATENATE(LEFT($A38,2),AG$2))<>0),\"Closed\",\"Open\")","v":"Open"},{"$f":"IF((COUNTIF('HOLIDAYS NF'!$B:$DZ,CONCATENATE(LEFT($A38,2),AH$2))<>0),\"Closed\",\"Open\")","v":"Open"},{"$f":"IF((COUNTIF('HOLIDAYS NF'!$B:$DZ,CONCATENATE(LEFT($A38,2),AI$2))<>0),\"Closed\",\"Open\")","v":"Open"},{"$f":"IF((COUNTIF('HOLIDAYS NF'!$B:$DZ,CONCATENATE(LEFT($A38,2),AJ$2))<>0),\"Closed\",\"Open\")","v":"Open"},{"$f":"IF((COUNTIF('HOLIDAYS NF'!$B:$DZ,CONCATENATE(LEFT($A38,2),AK$2))<>0),\"Closed\",\"Open\")","v":"Open"},{"$f":"IF((COUNTIF('HOLIDAYS NF'!$B:$DZ,CONCATENATE(LEFT($A38,2),AL$2))<>0),\"Closed\",\"Open\")","v":"Open"},{"$f":"IF((COUNTIF('HOLIDAYS NF'!$B:$DZ,CONCATENATE(LEFT($A38,2),AM$2))<>0),\"Closed\",\"Open\")","v":"Open"},{"$f":"IF((COUNTIF('HOLIDAYS NF'!$B:$DZ,CONCATENATE(LEFT($A38,2),AN$2))<>0),\"Closed\",\"Open\")","v":"Open"},{"$f":"IF((COUNTIF('HOLIDAYS NF'!$B:$DZ,CONCATENATE(LEFT($A38,2),AO$2))<>0),\"Closed\",\"Open\")","v":"Open"},{"$f":"IF((COUNTIF('HOLIDAYS NF'!$B:$DZ,CONCATENATE(LEFT($A38,2),AP$2))<>0),\"Closed\",\"Open\")","v":"Open"},{"$f":"IF((COUNTIF('HOLIDAYS NF'!$B:$DZ,CONCATENATE(LEFT($A38,2),AQ$2))<>0),\"Closed\",\"Open\")","v":"Open"},{"$f":"IF((COUNTIF('HOLIDAYS NF'!$B:$DZ,CONCATENATE(LEFT($A38,2),AR$2))<>0),\"Closed\",\"Open\")","v":"Open"},{"$f":"IF((COUNTIF('HOLIDAYS NF'!$B:$DZ,CONCATENATE(LEFT($A38,2),AS$2))<>0),\"Closed\",\"Open\")","v":"Open"},{"$f":"IF((COUNTIF('HOLIDAYS NF'!$B:$DZ,CONCATENATE(LEFT($A38,2),AT$2))<>0),\"Closed\",\"Open\")","v":"Open"},{"$f":"IF((COUNTIF('HOLIDAYS NF'!$B:$DZ,CONCATENATE(LEFT($A38,2),AU$2))<>0),\"Closed\",\"Open\")","v":"Open"},{"$f":"IF((COUNTIF('HOLIDAYS NF'!$B:$DZ,CONCATENATE(LEFT($A38,2),AV$2))<>0),\"Closed\",\"Open\")","v":"Open"},{"$f":"IF((COUNTIF('HOLIDAYS NF'!$B:$DZ,CONCATENATE(LEFT($A38,2),AW$2))<>0),\"Closed\",\"Open\")","v":"Open"},{"$f":"IF((COUNTIF('HOLIDAYS NF'!$B:$DZ,CONCATENATE(LEFT($A38,2),AX$2))<>0),\"Closed\",\"Open\")","v":"Open"},{"$f":"IF((COUNTIF('HOLIDAYS NF'!$B:$DZ,CONCATENATE(LEFT($A38,2),AY$2))<>0),\"Closed\",\"Open\")","v":"Open"},{"$f":"IF((COUNTIF('HOLIDAYS NF'!$B:$DZ,CONCATENATE(LEFT($A38,2),AZ$2))<>0),\"Closed\",\"Open\")","v":"Open"},{"$f":"IF((COUNTIF('HOLIDAYS NF'!$B:$DZ,CONCATENATE(LEFT($A38,2),BA$2))<>0),\"Closed\",\"Open\")","v":"Open"},{"$f":"IF((COUNTIF('HOLIDAYS NF'!$B:$DZ,CONCATENATE(LEFT($A38,2),BB$2))<>0),\"Closed\",\"Open\")","v":"Open"},{"$f":"IF((COUNTIF('HOLIDAYS NF'!$B:$DZ,CONCATENATE(LEFT($A38,2),BC$2))<>0),\"Closed\",\"Open\")","v":"Open"},{"$f":"IF((COUNTIF('HOLIDAYS NF'!$B:$DZ,CONCATENATE(LEFT($A38,2),BD$2))<>0),\"Closed\",\"Open\")","v":"Open"},{"$f":"IF((COUNTIF('HOLIDAYS NF'!$B:$DZ,CONCATENATE(LEFT($A38,2),BE$2))<>0),\"Closed\",\"Open\")","v":"Open"},{"$f":"IF((COUNTIF('HOLIDAYS NF'!$B:$DZ,CONCATENATE(LEFT($A38,2),BF$2))<>0),\"Closed\",\"Open\")","v":"Open"},{"$f":"IF((COUNTIF('HOLIDAYS NF'!$B:$DZ,CONCATENATE(LEFT($A38,2),BG$2))<>0),\"Closed\",\"Open\")","v":"Open"},{"$f":"IF((COUNTIF('HOLIDAYS NF'!$B:$DZ,CONCATENATE(LEFT($A38,2),BH$2))<>0),\"Closed\",\"Open\")","v":"Open"},{"$f":"IF((COUNTIF('HOLIDAYS NF'!$B:$DZ,CONCATENATE(LEFT($A38,2),BI$2))<>0),\"Closed\",\"Open\")","v":"Open"},{"$f":"IF((COUNTIF('HOLIDAYS NF'!$B:$DZ,CONCATENATE(LEFT($A38,2),BJ$2))<>0),\"Closed\",\"Open\")","v":"Open"}]
["KR",{"$f":"SUMIF(Holdings!G:G,(CONCATENATE($B$1,\"-\",A39,)),Holdings!H:H)","v":0},{"$f":"HLOOKUP(A39,'[1]HOLIDAYS NF'!B$1:BR$65536,6,FALSE)","v":"Korea, Republic of"},{"$f":"IF((COUNTIF('HOLIDAYS NF'!$B:$DZ,CONCATENATE(LEFT($A39,2),D$2))<>0),\"Closed\",\"Open\")","v":"Open"},{"$f":"IF((COUNTIF('HOLIDAYS NF'!$B:$DZ,CONCATENATE(LEFT($A39,2),E$2))<>0),\"Closed\",\"Open\")","v":"Open"},{"$f":"IF((COUNTIF('HOLIDAYS NF'!$B:$DZ,CONCATENATE(LEFT($A39,2),F$2))<>0),\"Closed\",\"Open\")","v":"Open"},{"$f":"IF((COUNTIF('HOLIDAYS NF'!$B:$DZ,CONCATENATE(LEFT($A39,2),G$2))<>0),\"Closed\",\"Open\")","v":"Open"},{"$f":"IF((COUNTIF('HOLIDAYS NF'!$B:$DZ,CONCATENATE(LEFT($A39,2),H$2))<>0),\"Closed\",\"Open\")","v":"Open"},{"$f":"IF((COUNTIF('HOLIDAYS NF'!$B:$DZ,CONCATENATE(LEFT($A39,2),I$2))<>0),\"Closed\",\"Open\")","v":"Open"},{"$f":"IF((COUNTIF('HOLIDAYS NF'!$B:$DZ,CONCATENATE(LEFT($A39,2),J$2))<>0),\"Closed\",\"Open\")","v":"Open"},{"$f":"IF((COUNTIF('HOLIDAYS NF'!$B:$DZ,CONCATENATE(LEFT($A39,2),K$2))<>0),\"Closed\",\"Open\")","v":"Open"},{"$f":"IF((COUNTIF('HOLIDAYS NF'!$B:$DZ,CONCATENATE(LEFT($A39,2),L$2))<>0),\"Closed\",\"Open\")","v":"Open"},{"$f":"IF((COUNTIF('HOLIDAYS NF'!$B:$DZ,CONCATENATE(LEFT($A39,2),M$2))<>0),\"Closed\",\"Open\")","v":"Open"},{"$f":"IF((COUNTIF('HOLIDAYS NF'!$B:$DZ,CONCATENATE(LEFT($A39,2),N$2))<>0),\"Closed\",\"Open\")","v":"Open"},{"$f":"IF((COUNTIF('HOLIDAYS NF'!$B:$DZ,CONCATENATE(LEFT($A39,2),O$2))<>0),\"Closed\",\"Open\")","v":"Open"},{"$f":"IF((COUNTIF('HOLIDAYS NF'!$B:$DZ,CONCATENATE(LEFT($A39,2),P$2))<>0),\"Closed\",\"Open\")","v":"Open"},{"$f":"IF((COUNTIF('HOLIDAYS NF'!$B:$DZ,CONCATENATE(LEFT($A39,2),Q$2))<>0),\"Closed\",\"Open\")","v":"Open"},{"$f":"IF((COUNTIF('HOLIDAYS NF'!$B:$DZ,CONCATENATE(LEFT($A39,2),R$2))<>0),\"Closed\",\"Open\")","v":"Open"},{"$f":"IF((COUNTIF('HOLIDAYS NF'!$B:$DZ,CONCATENATE(LEFT($A39,2),S$2))<>0),\"Closed\",\"Open\")","v":"Open"},{"$f":"IF((COUNTIF('HOLIDAYS NF'!$B:$DZ,CONCATENATE(LEFT($A39,2),T$2))<>0),\"Closed\",\"Open\")","v":"Open"},{"$f":"IF((COUNTIF('HOLIDAYS NF'!$B:$DZ,CONCATENATE(LEFT($A39,2),U$2))<>0),\"Closed\",\"Open\")","v":"Open"},{"$f":"IF((COUNTIF('HOLIDAYS NF'!$B:$DZ,CONCATENATE(LEFT($A39,2),V$2))<>0),\"Closed\",\"Open\")","v":"Open"},{"$f":"IF((COUNTIF('HOLIDAYS NF'!$B:$DZ,CONCATENATE(LEFT($A39,2),W$2))<>0),\"Closed\",\"Open\")","v":"Open"},{"$f":"IF((COUNTIF('HOLIDAYS NF'!$B:$DZ,CONCATENATE(LEFT($A39,2),X$2))<>0),\"Closed\",\"Open\")","v":"Open"},{"$f":"IF((COUNTIF('HOLIDAYS NF'!$B:$DZ,CONCATENATE(LEFT($A39,2),Y$2))<>0),\"Closed\",\"Open\")","v":"Open"},{"$f":"IF((COUNTIF('HOLIDAYS NF'!$B:$DZ,CONCATENATE(LEFT($A39,2),Z$2))<>0),\"Closed\",\"Open\")","v":"Open"},{"$f":"IF((COUNTIF('HOLIDAYS NF'!$B:$DZ,CONCATENATE(LEFT($A39,2),AA$2))<>0),\"Closed\",\"Open\")","v":"Open"},{"$f":"IF((COUNTIF('HOLIDAYS NF'!$B:$DZ,CONCATENATE(LEFT($A39,2),AB$2))<>0),\"Closed\",\"Open\")","v":"Open"},{"$f":"IF((COUNTIF('HOLIDAYS NF'!$B:$DZ,CONCATENATE(LEFT($A39,2),AC$2))<>0),\"Closed\",\"Open\")","v":"Open"},{"$f":"IF((COUNTIF('HOLIDAYS NF'!$B:$DZ,CONCATENATE(LEFT($A39,2),AD$2))<>0),\"Closed\",\"Open\")","v":"Open"},{"$f":"IF((COUNTIF('HOLIDAYS NF'!$B:$DZ,CONCATENATE(LEFT($A39,2),AE$2))<>0),\"Closed\",\"Open\")","v":"Open"},{"$f":"IF((COUNTIF('HOLIDAYS NF'!$B:$DZ,CONCATENATE(LEFT($A39,2),AF$2))<>0),\"Closed\",\"Open\")","v":"Open"},{"$f":"IF((COUNTIF('HOLIDAYS NF'!$B:$DZ,CONCATENATE(LEFT($A39,2),AG$2))<>0),\"Closed\",\"Open\")","v":"Open"},{"$f":"IF((COUNTIF('HOLIDAYS NF'!$B:$DZ,CONCATENATE(LEFT($A39,2),AH$2))<>0),\"Closed\",\"Open\")","v":"Open"},{"$f":"IF((COUNTIF('HOLIDAYS NF'!$B:$DZ,CONCATENATE(LEFT($A39,2),AI$2))<>0),\"Closed\",\"Open\")","v":"Open"},{"$f":"IF((COUNTIF('HOLIDAYS NF'!$B:$DZ,CONCATENATE(LEFT($A39,2),AJ$2))<>0),\"Closed\",\"Open\")","v":"Open"},{"$f":"IF((COUNTIF('HOLIDAYS NF'!$B:$DZ,CONCATENATE(LEFT($A39,2),AK$2))<>0),\"Closed\",\"Open\")","v":"Open"},{"$f":"IF((COUNTIF('HOLIDAYS NF'!$B:$DZ,CONCATENATE(LEFT($A39,2),AL$2))<>0),\"Closed\",\"Open\")","v":"Open"},{"$f":"IF((COUNTIF('HOLIDAYS NF'!$B:$DZ,CONCATENATE(LEFT($A39,2),AM$2))<>0),\"Closed\",\"Open\")","v":"Open"},{"$f":"IF((COUNTIF('HOLIDAYS NF'!$B:$DZ,CONCATENATE(LEFT($A39,2),AN$2))<>0),\"Closed\",\"Open\")","v":"Open"},{"$f":"IF((COUNTIF('HOLIDAYS NF'!$B:$DZ,CONCATENATE(LEFT($A39,2),AO$2))<>0),\"Closed\",\"Open\")","v":"Open"},{"$f":"IF((COUNTIF('HOLIDAYS NF'!$B:$DZ,CONCATENATE(LEFT($A39,2),AP$2))<>0),\"Closed\",\"Open\")","v":"Open"},{"$f":"IF((COUNTIF('HOLIDAYS NF'!$B:$DZ,CONCATENATE(LEFT($A39,2),AQ$2))<>0),\"Closed\",\"Open\")","v":"Open"},{"$f":"IF((COUNTIF('HOLIDAYS NF'!$B:$DZ,CONCATENATE(LEFT($A39,2),AR$2))<>0),\"Closed\",\"Open\")","v":"Open"},{"$f":"IF((COUNTIF('HOLIDAYS NF'!$B:$DZ,CONCATENATE(LEFT($A39,2),AS$2))<>0),\"Closed\",\"Open\")","v":"Open"},{"$f":"IF((COUNTIF('HOLIDAYS NF'!$B:$DZ,CONCATENATE(LEFT($A39,2),AT$2))<>0),\"Closed\",\"Open\")","v":"Open"},{"$f":"IF((COUNTIF('HOLIDAYS NF'!$B:$DZ,CONCATENATE(LEFT($A39,2),AU$2))<>0),\"Closed\",\"Open\")","v":"Open"},{"$f":"IF((COUNTIF('HOLIDAYS NF'!$B:$DZ,CONCATENATE(LEFT($A39,2),AV$2))<>0),\"Closed\",\"Open\")","v":"Open"},{"$f":"IF((COUNTIF('HOLIDAYS NF'!$B:$DZ,CONCATENATE(LEFT($A39,2),AW$2))<>0),\"Closed\",\"Open\")","v":"Open"},{"$f":"IF((COUNTIF('HOLIDAYS NF'!$B:$DZ,CONCATENATE(LEFT($A39,2),AX$2))<>0),\"Closed\",\"Open\")","v":"Open"},{"$f":"IF((COUNTIF('HOLIDAYS NF'!$B:$DZ,CONCATENATE(LEFT($A39,2),AY$2))<>0),\"Closed\",\"Open\")","v":"Open"},{"$f":"IF((COUNTIF('HOLIDAYS NF'!$B:$DZ,CONCATENATE(LEFT($A39,2),AZ$2))<>0),\"Closed\",\"Open\")","v":"Open"},{"$f":"IF((COUNTIF('HOLIDAYS NF'!$B:$DZ,CONCATENATE(LEFT($A39,2),BA$2))<>0),\"Closed\",\"Open\")","v":"Open"},{"$f":"IF((COUNTIF('HOLIDAYS NF'!$B:$DZ,CONCATENATE(LEFT($A39,2),BB$2))<>0),\"Closed\",\"Open\")","v":"Open"},{"$f":"IF((COUNTIF('HOLIDAYS NF'!$B:$DZ,CONCATENATE(LEFT($A39,2),BC$2))<>0),\"Closed\",\"Open\")","v":"Open"},{"$f":"IF((COUNTIF('HOLIDAYS NF'!$B:$DZ,CONCATENATE(LEFT($A39,2),BD$2))<>0),\"Closed\",\"Open\")","v":"Open"},{"$f":"IF((COUNTIF('HOLIDAYS NF'!$B:$DZ,CONCATENATE(LEFT($A39,2),BE$2))<>0),\"Closed\",\"Open\")","v":"Open"},{"$f":"IF((COUNTIF('HOLIDAYS NF'!$B:$DZ,CONCATENATE(LEFT($A39,2),BF$2))<>0),\"Closed\",\"Open\")","v":"Open"},{"$f":"IF((COUNTIF('HOLIDAYS NF'!$B:$DZ,CONCATENATE(LEFT($A39,2),BG$2))<>0),\"Closed\",\"Open\")","v":"Open"},{"$f":"IF((COUNTIF('HOLIDAYS NF'!$B:$DZ,CONCATENATE(LEFT($A39,2),BH$2))<>0),\"Closed\",\"Open\")","v":"Open"},{"$f":"IF((COUNTIF('HOLIDAYS NF'!$B:$DZ,CONCATENATE(LEFT($A39,2),BI$2))<>0),\"Closed\",\"Open\")","v":"Open"},{"$f":"IF((COUNTIF('HOLIDAYS NF'!$B:$DZ,CONCATENATE(LEFT($A39,2),BJ$2))<>0),\"Closed\",\"Open\")","v":"Open"}]
["KW",{"$f":"SUMIF(Holdings!G:G,(CONCATENATE($B$1,\"-\",A40,)),Holdings!H:H)","v":0},{"$f":"HLOOKUP(A40,'[1]HOLIDAYS NF'!B$1:BR$65536,6,FALSE)","v":"Kuwait"},{"$f":"IF((COUNTIF('HOLIDAYS NF'!$B:$DZ,CONCATENATE(LEFT($A40,2),D$2))<>0),\"Closed\",\"Open\")","v":"Open"},{"$f":"IF((COUNTIF('HOLIDAYS NF'!$B:$DZ,CONCATENATE(LEFT($A40,2),E$2))<>0),\"Closed\",\"Open\")","v":"Open"},{"$f":"IF((COUNTIF('HOLIDAYS NF'!$B:$DZ,CONCATENATE(LEFT($A40,2),F$2))<>0),\"Closed\",\"Open\")","v":"Open"},{"$f":"IF((COUNTIF('HOLIDAYS NF'!$B:$DZ,CONCATENATE(LEFT($A40,2),G$2))<>0),\"Closed\",\"Open\")","v":"Open"},{"$f":"IF((COUNTIF('HOLIDAYS NF'!$B:$DZ,CONCATENATE(LEFT($A40,2),H$2))<>0),\"Closed\",\"Open\")","v":"Open"},{"$f":"IF((COUNTIF('HOLIDAYS NF'!$B:$DZ,CONCATENATE(LEFT($A40,2),I$2))<>0),\"Closed\",\"Open\")","v":"Open"},{"$f":"IF((COUNTIF('HOLIDAYS NF'!$B:$DZ,CONCATENATE(LEFT($A40,2),J$2))<>0),\"Closed\",\"Open\")","v":"Open"},{"$f":"IF((COUNTIF('HOLIDAYS NF'!$B:$DZ,CONCATENATE(LEFT($A40,2),K$2))<>0),\"Closed\",\"Open\")","v":"Open"},{"$f":"IF((COUNTIF('HOLIDAYS NF'!$B:$DZ,CONCATENATE(LEFT($A40,2),L$2))<>0),\"Closed\",\"Open\")","v":"Open"},{"$f":"IF((COUNTIF('HOLIDAYS NF'!$B:$DZ,CONCATENATE(LEFT($A40,2),M$2))<>0),\"Closed\",\"Open\")","v":"Open"},{"$f":"IF((COUNTIF('HOLIDAYS NF'!$B:$DZ,CONCATENATE(LEFT($A40,2),N$2))<>0),\"Closed\",\"Open\")","v":"Open"},{"$f":"IF((COUNTIF('HOLIDAYS NF'!$B:$DZ,CONCATENATE(LEFT($A40,2),O$2))<>0),\"Closed\",\"Open\")","v":"Open"},{"$f":"IF((COUNTIF('HOLIDAYS NF'!$B:$DZ,CONCATENATE(LEFT($A40,2),P$2))<>0),\"Closed\",\"Open\")","v":"Open"},{"$f":"IF((COUNTIF('HOLIDAYS NF'!$B:$DZ,CONCATENATE(LEFT($A40,2),Q$2))<>0),\"Closed\",\"Open\")","v":"Open"},{"$f":"IF((COUNTIF('HOLIDAYS NF'!$B:$DZ,CONCATENATE(LEFT($A40,2),R$2))<>0),\"Closed\",\"Open\")","v":"Open"},{"$f":"IF((COUNTIF('HOLIDAYS NF'!$B:$DZ,CONCATENATE(LEFT($A40,2),S$2))<>0),\"Closed\",\"Open\")","v":"Open"},{"$f":"IF((COUNTIF('HOLIDAYS NF'!$B:$DZ,CONCATENATE(LEFT($A40,2),T$2))<>0),\"Closed\",\"Open\")","v":"Open"},{"$f":"IF((COUNTIF('HOLIDAYS NF'!$B:$DZ,CONCATENATE(LEFT($A40,2),U$2))<>0),\"Closed\",\"Open\")","v":"Open"},{"$f":"IF((COUNTIF('HOLIDAYS NF'!$B:$DZ,CONCATENATE(LEFT($A40,2),V$2))<>0),\"Closed\",\"Open\")","v":"Open"},{"$f":"IF((COUNTIF('HOLIDAYS NF'!$B:$DZ,CONCATENATE(LEFT($A40,2),W$2))<>0),\"Closed\",\"Open\")","v":"Open"},{"$f":"IF((COUNTIF('HOLIDAYS NF'!$B:$DZ,CONCATENATE(LEFT($A40,2),X$2))<>0),\"Closed\",\"Open\")","v":"Open"},{"$f":"IF((COUNTIF('HOLIDAYS NF'!$B:$DZ,CONCATENATE(LEFT($A40,2),Y$2))<>0),\"Closed\",\"Open\")","v":"Open"},{"$f":"IF((COUNTIF('HOLIDAYS NF'!$B:$DZ,CONCATENATE(LEFT($A40,2),Z$2))<>0),\"Closed\",\"Open\")","v":"Open"},{"$f":"IF((COUNTIF('HOLIDAYS NF'!$B:$DZ,CONCATENATE(LEFT($A40,2),AA$2))<>0),\"Closed\",\"Open\")","v":"Open"},{"$f":"IF((COUNTIF('HOLIDAYS NF'!$B:$DZ,CONCATENATE(LEFT($A40,2),AB$2))<>0),\"Closed\",\"Open\")","v":"Open"},{"$f":"IF((COUNTIF('HOLIDAYS NF'!$B:$DZ,CONCATENATE(LEFT($A40,2),AC$2))<>0),\"Closed\",\"Open\")","v":"Open"},{"$f":"IF((COUNTIF('HOLIDAYS NF'!$B:$DZ,CONCATENATE(LEFT($A40,2),AD$2))<>0),\"Closed\",\"Open\")","v":"Open"},{"$f":"IF((COUNTIF('HOLIDAYS NF'!$B:$DZ,CONCATENATE(LEFT($A40,2),AE$2))<>0),\"Closed\",\"Open\")","v":"Open"},{"$f":"IF((COUNTIF('HOLIDAYS NF'!$B:$DZ,CONCATENATE(LEFT($A40,2),AF$2))<>0),\"Closed\",\"Open\")","v":"Open"},{"$f":"IF((COUNTIF('HOLIDAYS NF'!$B:$DZ,CONCATENATE(LEFT($A40,2),AG$2))<>0),\"Closed\",\"Open\")","v":"Open"},{"$f":"IF((COUNTIF('HOLIDAYS NF'!$B:$DZ,CONCATENATE(LEFT($A40,2),AH$2))<>0),\"Closed\",\"Open\")","v":"Open"},{"$f":"IF((COUNTIF('HOLIDAYS NF'!$B:$DZ,CONCATENATE(LEFT($A40,2),AI$2))<>0),\"Closed\",\"Open\")","v":"Open"},{"$f":"IF((COUNTIF('HOLIDAYS NF'!$B:$DZ,CONCATENATE(LEFT($A40,2),AJ$2))<>0),\"Closed\",\"Open\")","v":"Open"},{"$f":"IF((COUNTIF('HOLIDAYS NF'!$B:$DZ,CONCATENATE(LEFT($A40,2),AK$2))<>0),\"Closed\",\"Open\")","v":"Open"},{"$f":"IF((COUNTIF('HOLIDAYS NF'!$B:$DZ,CONCATENATE(LEFT($A40,2),AL$2))<>0),\"Closed\",\"Open\")","v":"Open"},{"$f":"IF((COUNTIF('HOLIDAYS NF'!$B:$DZ,CONCATENATE(LEFT($A40,2),AM$2))<>0),\"Closed\",\"Open\")","v":"Open"},{"$f":"IF((COUNTIF('HOLIDAYS NF'!$B:$DZ,CONCATENATE(LEFT($A40,2),AN$2))<>0),\"Closed\",\"Open\")","v":"Open"},{"$f":"IF((COUNTIF('HOLIDAYS NF'!$B:$DZ,CONCATENATE(LEFT($A40,2),AO$2))<>0),\"Closed\",\"Open\")","v":"Open"},{"$f":"IF((COUNTIF('HOLIDAYS NF'!$B:$DZ,CONCATENATE(LEFT($A40,2),AP$2))<>0),\"Closed\",\"Open\")","v":"Open"},{"$f":"IF((COUNTIF('HOLIDAYS NF'!$B:$DZ,CONCATENATE(LEFT($A40,2),AQ$2))<>0),\"Closed\",\"Open\")","v":"Open"},{"$f":"IF((COUNTIF('HOLIDAYS NF'!$B:$DZ,CONCATENATE(LEFT($A40,2),AR$2))<>0),\"Closed\",\"Open\")","v":"Open"},{"$f":"IF((COUNTIF('HOLIDAYS NF'!$B:$DZ,CONCATENATE(LEFT($A40,2),AS$2))<>0),\"Closed\",\"Open\")","v":"Open"},{"$f":"IF((COUNTIF('HOLIDAYS NF'!$B:$DZ,CONCATENATE(LEFT($A40,2),AT$2))<>0),\"Closed\",\"Open\")","v":"Open"},{"$f":"IF((COUNTIF('HOLIDAYS NF'!$B:$DZ,CONCATENATE(LEFT($A40,2),AU$2))<>0),\"Closed\",\"Open\")","v":"Open"},{"$f":"IF((COUNTIF('HOLIDAYS NF'!$B:$DZ,CONCATENATE(LEFT($A40,2),AV$2))<>0),\"Closed\",\"Open\")","v":"Open"},{"$f":"IF((COUNTIF('HOLIDAYS NF'!$B:$DZ,CONCATENATE(LEFT($A40,2),AW$2))<>0),\"Closed\",\"Open\")","v":"Open"},{"$f":"IF((COUNTIF('HOLIDAYS NF'!$B:$DZ,CONCATENATE(LEFT($A40,2),AX$2))<>0),\"Closed\",\"Open\")","v":"Open"},{"$f":"IF((COUNTIF('HOLIDAYS NF'!$B:$DZ,CONCATENATE(LEFT($A40,2),AY$2))<>0),\"Closed\",\"Open\")","v":"Open"},{"$f":"IF((COUNTIF('HOLIDAYS NF'!$B:$DZ,CONCATENATE(LEFT($A40,2),AZ$2))<>0),\"Closed\",\"Open\")","v":"Open"},{"$f":"IF((COUNTIF('HOLIDAYS NF'!$B:$DZ,CONCATENATE(LEFT($A40,2),BA$2))<>0),\"Closed\",\"Open\")","v":"Open"},{"$f":"IF((COUNTIF('HOLIDAYS NF'!$B:$DZ,CONCATENATE(LEFT($A40,2),BB$2))<>0),\"Closed\",\"Open\")","v":"Open"},{"$f":"IF((COUNTIF('HOLIDAYS NF'!$B:$DZ,CONCATENATE(LEFT($A40,2),BC$2))<>0),\"Closed\",\"Open\")","v":"Open"},{"$f":"IF((COUNTIF('HOLIDAYS NF'!$B:$DZ,CONCATENATE(LEFT($A40,2),BD$2))<>0),\"Closed\",\"Open\")","v":"Open"},{"$f":"IF((COUNTIF('HOLIDAYS NF'!$B:$DZ,CONCATENATE(LEFT($A40,2),BE$2))<>0),\"Closed\",\"Open\")","v":"Open"},{"$f":"IF((COUNTIF('HOLIDAYS NF'!$B:$DZ,CONCATENATE(LEFT($A40,2),BF$2))<>0),\"Closed\",\"Open\")","v":"Open"},{"$f":"IF((COUNTIF('HOLIDAYS NF'!$B:$DZ,CONCATENATE(LEFT($A40,2),BG$2))<>0),\"Closed\",\"Open\")","v":"Open"},{"$f":"IF((COUNTIF('HOLIDAYS NF'!$B:$DZ,CONCATENATE(LEFT($A40,2),BH$2))<>0),\"Closed\",\"Open\")","v":"Open"},{"$f":"IF((COUNTIF('HOLIDAYS NF'!$B:$DZ,CONCATENATE(LEFT($A40,2),BI$2))<>0),\"Closed\",\"Open\")","v":"Open"},{"$f":"IF((COUNTIF('HOLIDAYS NF'!$B:$DZ,CONCATENATE(LEFT($A40,2),BJ$2))<>0),\"Closed\",\"Open\")","v":"Open"}]
["KY",{"$f":"SUMIF(Holdings!G:G,(CONCATENATE($B$1,\"-\",A41,)),Holdings!H:H)","v":0},{"$f":"HLOOKUP(A41,'[1]HOLIDAYS NF'!B$1:BR$65536,6,FALSE)","v":"Cayman Islands"},{"$f":"IF((COUNTIF('HOLIDAYS NF'!$B:$DZ,CONCATENATE(LEFT($A41,2),D$2))<>0),\"Closed\",\"Open\")","v":"Open"},{"$f":"IF((COUNTIF('HOLIDAYS NF'!$B:$DZ,CONCATENATE(LEFT($A41,2),E$2))<>0),\"Closed\",\"Open\")","v":"Open"},{"$f":"IF((COUNTIF('HOLIDAYS NF'!$B:$DZ,CONCATENATE(LEFT($A41,2),F$2))<>0),\"Closed\",\"Open\")","v":"Open"},{"$f":"IF((COUNTIF('HOLIDAYS NF'!$B:$DZ,CONCATENATE(LEFT($A41,2),G$2))<>0),\"Closed\",\"Open\")","v":"Open"},{"$f":"IF((COUNTIF('HOLIDAYS NF'!$B:$DZ,CONCATENATE(LEFT($A41,2),H$2))<>0),\"Closed\",\"Open\")","v":"Open"},{"$f":"IF((COUNTIF('HOLIDAYS NF'!$B:$DZ,CONCATENATE(LEFT($A41,2),I$2))<>0),\"Closed\",\"Open\")","v":"Open"},{"$f":"IF((COUNTIF('HOLIDAYS NF'!$B:$DZ,CONCATENATE(LEFT($A41,2),J$2))<>0),\"Closed\",\"Open\")","v":"Open"},{"$f":"IF((COUNTIF('HOLIDAYS NF'!$B:$DZ,CONCATENATE(LEFT($A41,2),K$2))<>0),\"Closed\",\"Open\")","v":"Open"},{"$f":"IF((COUNTIF('HOLIDAYS NF'!$B:$DZ,CONCATENATE(LEFT($A41,2),L$2))<>0),\"Closed\",\"Open\")","v":"Open"},{"$f":"IF((COUNTIF('HOLIDAYS NF'!$B:$DZ,CONCATENATE(LEFT($A41,2),M$2))<>0),\"Closed\",\"Open\")","v":"Open"},{"$f":"IF((COUNTIF('HOLIDAYS NF'!$B:$DZ,CONCATENATE(LEFT($A41,2),N$2))<>0),\"Closed\",\"Open\")","v":"Open"},{"$f":"IF((COUNTIF('HOLIDAYS NF'!$B:$DZ,CONCATENATE(LEFT($A41,2),O$2))<>0),\"Closed\",\"Open\")","v":"Open"},{"$f":"IF((COUNTIF('HOLIDAYS NF'!$B:$DZ,CONCATENATE(LEFT($A41,2),P$2))<>0),\"Closed\",\"Open\")","v":"Open"},{"$f":"IF((COUNTIF('HOLIDAYS NF'!$B:$DZ,CONCATENATE(LEFT($A41,2),Q$2))<>0),\"Closed\",\"Open\")","v":"Open"},{"$f":"IF((COUNTIF('HOLIDAYS NF'!$B:$DZ,CONCATENATE(LEFT($A41,2),R$2))<>0),\"Closed\",\"Open\")","v":"Open"},{"$f":"IF((COUNTIF('HOLIDAYS NF'!$B:$DZ,CONCATENATE(LEFT($A41,2),S$2))<>0),\"Closed\",\"Open\")","v":"Open"},{"$f":"IF((COUNTIF('HOLIDAYS NF'!$B:$DZ,CONCATENATE(LEFT($A41,2),T$2))<>0),\"Closed\",\"Open\")","v":"Open"},{"$f":"IF((COUNTIF('HOLIDAYS NF'!$B:$DZ,CONCATENATE(LEFT($A41,2),U$2))<>0),\"Closed\",\"Open\")","v":"Open"},{"$f":"IF((COUNTIF('HOLIDAYS NF'!$B:$DZ,CONCATENATE(LEFT($A41,2),V$2))<>0),\"Closed\",\"Open\")","v":"Open"},{"$f":"IF((COUNTIF('HOLIDAYS NF'!$B:$DZ,CONCATENATE(LEFT($A41,2),W$2))<>0),\"Closed\",\"Open\")","v":"Open"},{"$f":"IF((COUNTIF('HOLIDAYS NF'!$B:$DZ,CONCATENATE(LEFT($A41,2),X$2))<>0),\"Closed\",\"Open\")","v":"Open"},{"$f":"IF((COUNTIF('HOLIDAYS NF'!$B:$DZ,CONCATENATE(LEFT($A41,2),Y$2))<>0),\"Closed\",\"Open\")","v":"Open"},{"$f":"IF((COUNTIF('HOLIDAYS NF'!$B:$DZ,CONCATENATE(LEFT($A41,2),Z$2))<>0),\"Closed\",\"Open\")","v":"Open"},{"$f":"IF((COUNTIF('HOLIDAYS NF'!$B:$DZ,CONCATENATE(LEFT($A41,2),AA$2))<>0),\"Closed\",\"Open\")","v":"Open"},{"$f":"IF((COUNTIF('HOLIDAYS NF'!$B:$DZ,CONCATENATE(LEFT($A41,2),AB$2))<>0),\"Closed\",\"Open\")","v":"Open"},{"$f":"IF((COUNTIF('HOLIDAYS NF'!$B:$DZ,CONCATENATE(LEFT($A41,2),AC$2))<>0),\"Closed\",\"Open\")","v":"Open"},{"$f":"IF((COUNTIF('HOLIDAYS NF'!$B:$DZ,CONCATENATE(LEFT($A41,2),AD$2))<>0),\"Closed\",\"Open\")","v":"Open"},{"$f":"IF((COUNTIF('HOLIDAYS NF'!$B:$DZ,CONCATENATE(LEFT($A41,2),AE$2))<>0),\"Closed\",\"Open\")","v":"Open"},{"$f":"IF((COUNTIF('HOLIDAYS NF'!$B:$DZ,CONCATENATE(LEFT($A41,2),AF$2))<>0),\"Closed\",\"Open\")","v":"Open"},{"$f":"IF((COUNTIF('HOLIDAYS NF'!$B:$DZ,CONCATENATE(LEFT($A41,2),AG$2))<>0),\"Closed\",\"Open\")","v":"Open"},{"$f":"IF((COUNTIF('HOLIDAYS NF'!$B:$DZ,CONCATENATE(LEFT($A41,2),AH$2))<>0),\"Closed\",\"Open\")","v":"Open"},{"$f":"IF((COUNTIF('HOLIDAYS NF'!$B:$DZ,CONCATENATE(LEFT($A41,2),AI$2))<>0),\"Closed\",\"Open\")","v":"Open"},{"$f":"IF((COUNTIF('HOLIDAYS NF'!$B:$DZ,CONCATENATE(LEFT($A41,2),AJ$2))<>0),\"Closed\",\"Open\")","v":"Open"},{"$f":"IF((COUNTIF('HOLIDAYS NF'!$B:$DZ,CONCATENATE(LEFT($A41,2),AK$2))<>0),\"Closed\",\"Open\")","v":"Open"},{"$f":"IF((COUNTIF('HOLIDAYS NF'!$B:$DZ,CONCATENATE(LEFT($A41,2),AL$2))<>0),\"Closed\",\"Open\")","v":"Open"},{"$f":"IF((COUNTIF('HOLIDAYS NF'!$B:$DZ,CONCATENATE(LEFT($A41,2),AM$2))<>0),\"Closed\",\"Open\")","v":"Open"},{"$f":"IF((COUNTIF('HOLIDAYS NF'!$B:$DZ,CONCATENATE(LEFT($A41,2),AN$2))<>0),\"Closed\",\"Open\")","v":"Open"},{"$f":"IF((COUNTIF('HOLIDAYS NF'!$B:$DZ,CONCATENATE(LEFT($A41,2),AO$2))<>0),\"Closed\",\"Open\")","v":"Open"},{"$f":"IF((COUNTIF('HOLIDAYS NF'!$B:$DZ,CONCATENATE(LEFT($A41,2),AP$2))<>0),\"Closed\",\"Open\")","v":"Open"},{"$f":"IF((COUNTIF('HOLIDAYS NF'!$B:$DZ,CONCATENATE(LEFT($A41,2),AQ$2))<>0),\"Closed\",\"Open\")","v":"Open"},{"$f":"IF((COUNTIF('HOLIDAYS NF'!$B:$DZ,CONCATENATE(LEFT($A41,2),AR$2))<>0),\"Closed\",\"Open\")","v":"Open"},{"$f":"IF((COUNTIF('HOLIDAYS NF'!$B:$DZ,CONCATENATE(LEFT($A41,2),AS$2))<>0),\"Closed\",\"Open\")","v":"Open"},{"$f":"IF((COUNTIF('HOLIDAYS NF'!$B:$DZ,CONCATENATE(LEFT($A41,2),AT$2))<>0),\"Closed\",\"Open\")","v":"Open"},{"$f":"IF((COUNTIF('HOLIDAYS NF'!$B:$DZ,CONCATENATE(LEFT($A41,2),AU$2))<>0),\"Closed\",\"Open\")","v":"Open"},{"$f":"IF((COUNTIF('HOLIDAYS NF'!$B:$DZ,CONCATENATE(LEFT($A41,2),AV$2))<>0),\"Closed\",\"Open\")","v":"Open"},{"$f":"IF((COUNTIF('HOLIDAYS NF'!$B:$DZ,CONCATENATE(LEFT($A41,2),AW$2))<>0),\"Closed\",\"Open\")","v":"Open"},{"$f":"IF((COUNTIF('HOLIDAYS NF'!$B:$DZ,CONCATENATE(LEFT($A41,2),AX$2))<>0),\"Closed\",\"Open\")","v":"Open"},{"$f":"IF((COUNTIF('HOLIDAYS NF'!$B:$DZ,CONCATENATE(LEFT($A41,2),AY$2))<>0),\"Closed\",\"Open\")","v":"Open"},{"$f":"IF((COUNTIF('HOLIDAYS NF'!$B:$DZ,CONCATENATE(LEFT($A41,2),AZ$2))<>0),\"Closed\",\"Open\")","v":"Open"},{"$f":"IF((COUNTIF('HOLIDAYS NF'!$B:$DZ,CONCATENATE(LEFT($A41,2),BA$2))<>0),\"Closed\",\"Open\")","v":"Open"},{"$f":"IF((COUNTIF('HOLIDAYS NF'!$B:$DZ,CONCATENATE(LEFT($A41,2),BB$2))<>0),\"Closed\",\"Open\")","v":"Open"},{"$f":"IF((COUNTIF('HOLIDAYS NF'!$B:$DZ,CONCATENATE(LEFT($A41,2),BC$2))<>0),\"Closed\",\"Open\")","v":"Open"},{"$f":"IF((COUNTIF('HOLIDAYS NF'!$B:$DZ,CONCATENATE(LEFT($A41,2),BD$2))<>0),\"Closed\",\"Open\")","v":"Open"},{"$f":"IF((COUNTIF('HOLIDAYS NF'!$B:$DZ,CONCATENATE(LEFT($A41,2),BE$2))<>0),\"Closed\",\"Open\")","v":"Open"},{"$f":"IF((COUNTIF('HOLIDAYS NF'!$B:$DZ,CONCATENATE(LEFT($A41,2),BF$2))<>0),\"Closed\",\"Open\")","v":"Open"},{"$f":"IF((COUNTIF('HOLIDAYS NF'!$B:$DZ,CONCATENATE(LEFT($A41,2),BG$2))<>0),\"Closed\",\"Open\")","v":"Open"},{"$f":"IF((COUNTIF('HOLIDAYS NF'!$B:$DZ,CONCATENATE(LEFT($A41,2),BH$2))<>0),\"Closed\",\"Open\")","v":"Open"},{"$f":"IF((COUNTIF('HOLIDAYS NF'!$B:$DZ,CONCATENATE(LEFT($A41,2),BI$2))<>0),\"Closed\",\"Open\")","v":"Open"},{"$f":"IF((COUNTIF('HOLIDAYS NF'!$B:$DZ,CONCATENATE(LEFT($A41,2),BJ$2))<>0),\"Closed\",\"Open\")","v":"Open"}]
["LT",{"$f":"SUMIF(Holdings!G:G,(CONCATENATE($B$1,\"-\",A42,)),Holdings!H:H)","v":0},{"$f":"HLOOKUP(A42,'[1]HOLIDAYS NF'!B$1:BR$65536,6,FALSE)","v":"Lithuania"},{"$f":"IF((COUNTIF('HOLIDAYS NF'!$B:$DZ,CONCATENATE(LEFT($A42,2),D$2))<>0),\"Closed\",\"Open\")","v":"Open"},{"$f":"IF((COUNTIF('HOLIDAYS NF'!$B:$DZ,CONCATENATE(LEFT($A42,2),E$2))<>0),\"Closed\",\"Open\")","v":"Open"},{"$f":"IF((COUNTIF('HOLIDAYS NF'!$B:$DZ,CONCATENATE(LEFT($A42,2),F$2))<>0),\"Closed\",\"Open\")","v":"Open"},{"$f":"IF((COUNTIF('HOLIDAYS NF'!$B:$DZ,CONCATENATE(LEFT($A42,2),G$2))<>0),\"Closed\",\"Open\")","v":"Open"},{"$f":"IF((COUNTIF('HOLIDAYS NF'!$B:$DZ,CONCATENATE(LEFT($A42,2),H$2))<>0),\"Closed\",\"Open\")","v":"Open"},{"$f":"IF((COUNTIF('HOLIDAYS NF'!$B:$DZ,CONCATENATE(LEFT($A42,2),I$2))<>0),\"Closed\",\"Open\")","v":"Open"},{"$f":"IF((COUNTIF('HOLIDAYS NF'!$B:$DZ,CONCATENATE(LEFT($A42,2),J$2))<>0),\"Closed\",\"Open\")","v":"Open"},{"$f":"IF((COUNTIF('HOLIDAYS NF'!$B:$DZ,CONCATENATE(LEFT($A42,2),K$2))<>0),\"Closed\",\"Open\")","v":"Open"},{"$f":"IF((COUNTIF('HOLIDAYS NF'!$B:$DZ,CONCATENATE(LEFT($A42,2),L$2))<>0),\"Closed\",\"Open\")","v":"Open"},{"$f":"IF((COUNTIF('HOLIDAYS NF'!$B:$DZ,CONCATENATE(LEFT($A42,2),M$2))<>0),\"Closed\",\"Open\")","v":"Open"},{"$f":"IF((COUNTIF('HOLIDAYS NF'!$B:$DZ,CONCATENATE(LEFT($A42,2),N$2))<>0),\"Closed\",\"Open\")","v":"Open"},{"$f":"IF((COUNTIF('HOLIDAYS NF'!$B:$DZ,CONCATENATE(LEFT($A42,2),O$2))<>0),\"Closed\",\"Open\")","v":"Open"},{"$f":"IF((COUNTIF('HOLIDAYS NF'!$B:$DZ,CONCATENATE(LEFT($A42,2),P$2))<>0),\"Closed\",\"Open\")","v":"Open"},{"$f":"IF((COUNTIF('HOLIDAYS NF'!$B:$DZ,CONCATENATE(LEFT($A42,2),Q$2))<>0),\"Closed\",\"Open\")","v":"Open"},{"$f":"IF((COUNTIF('HOLIDAYS NF'!$B:$DZ,CONCATENATE(LEFT($A42,2),R$2))<>0),\"Closed\",\"Open\")","v":"Open"},{"$f":"IF((COUNTIF('HOLIDAYS NF'!$B:$DZ,CONCATENATE(LEFT($A42,2),S$2))<>0),\"Closed\",\"Open\")","v":"Open"},{"$f":"IF((COUNTIF('HOLIDAYS NF'!$B:$DZ,CONCATENATE(LEFT($A42,2),T$2))<>0),\"Closed\",\"Open\")","v":"Open"},{"$f":"IF((COUNTIF('HOLIDAYS NF'!$B:$DZ,CONCATENATE(LEFT($A42,2),U$2))<>0),\"Closed\",\"Open\")","v":"Open"},{"$f":"IF((COUNTIF('HOLIDAYS NF'!$B:$DZ,CONCATENATE(LEFT($A42,2),V$2))<>0),\"Closed\",\"Open\")","v":"Open"},{"$f":"IF((COUNTIF('HOLIDAYS NF'!$B:$DZ,CONCATENATE(LEFT($A42,2),W$2))<>0),\"Closed\",\"Open\")","v":"Open"},{"$f":"IF((COUNTIF('HOLIDAYS NF'!$B:$DZ,CONCATENATE(LEFT($A42,2),X$2))<>0),\"Closed\",\"Open\")","v":"Open"},{"$f":"IF((COUNTIF('HOLIDAYS NF'!$B:$DZ,CONCATENATE(LEFT($A42,2),Y$2))<>0),\"Closed\",\"Open\")","v":"Open"},{"$f":"IF((COUNTIF('HOLIDAYS NF'!$B:$DZ,CONCATENATE(LEFT($A42,2),Z$2))<>0),\"Closed\",\"Open\")","v":"Open"},{"$f":"IF((COUNTIF('HOLIDAYS NF'!$B:$DZ,CONCATENATE(LEFT($A42,2),AA$2))<>0),\"Closed\",\"Open\")","v":"Open"},{"$f":"IF((COUNTIF('HOLIDAYS NF'!$B:$DZ,CONCATENATE(LEFT($A42,2),AB$2))<>0),\"Closed\",\"Open\")","v":"Open"},{"$f":"IF((COUNTIF('HOLIDAYS NF'!$B:$DZ,CONCATENATE(LEFT($A42,2),AC$2))<>0),\"Closed\",\"Open\")","v":"Open"},{"$f":"IF((COUNTIF('HOLIDAYS NF'!$B:$DZ,CONCATENATE(LEFT($A42,2),AD$2))<>0),\"Closed\",\"Open\")","v":"Open"},{"$f":"IF((COUNTIF('HOLIDAYS NF'!$B:$DZ,CONCATENATE(LEFT($A42,2),AE$2))<>0),\"Closed\",\"Open\")","v":"Open"},{"$f":"IF((COUNTIF('HOLIDAYS NF'!$B:$DZ,CONCATENATE(LEFT($A42,2),AF$2))<>0),\"Closed\",\"Open\")","v":"Open"},{"$f":"IF((COUNTIF('HOLIDAYS NF'!$B:$DZ,CONCATENATE(LEFT($A42,2),AG$2))<>0),\"Closed\",\"Open\")","v":"Open"},{"$f":"IF((COUNTIF('HOLIDAYS NF'!$B:$DZ,CONCATENATE(LEFT($A42,2),AH$2))<>0),\"Closed\",\"Open\")","v":"Open"},{"$f":"IF((COUNTIF('HOLIDAYS NF'!$B:$DZ,CONCATENATE(LEFT($A42,2),AI$2))<>0),\"Closed\",\"Open\")","v":"Open"},{"$f":"IF((COUNTIF('HOLIDAYS NF'!$B:$DZ,CONCATENATE(LEFT($A42,2),AJ$2))<>0),\"Closed\",\"Open\")","v":"Open"},{"$f":"IF((COUNTIF('HOLIDAYS NF'!$B:$DZ,CONCATENATE(LEFT($A42,2),AK$2))<>0),\"Closed\",\"Open\")","v":"Open"},{"$f":"IF((COUNTIF('HOLIDAYS NF'!$B:$DZ,CONCATENATE(LEFT($A42,2),AL$2))<>0),\"Closed\",\"Open\")","v":"Open"},{"$f":"IF((COUNTIF('HOLIDAYS NF'!$B:$DZ,CONCATENATE(LEFT($A42,2),AM$2))<>0),\"Closed\",\"Open\")","v":"Open"},{"$f":"IF((COUNTIF('HOLIDAYS NF'!$B:$DZ,CONCATENATE(LEFT($A42,2),AN$2))<>0),\"Closed\",\"Open\")","v":"Open"},{"$f":"IF((COUNTIF('HOLIDAYS NF'!$B:$DZ,CONCATENATE(LEFT($A42,2),AO$2))<>0),\"Closed\",\"Open\")","v":"Open"},{"$f":"IF((COUNTIF('HOLIDAYS NF'!$B:$DZ,CONCATENATE(LEFT($A42,2),AP$2))<>0),\"Closed\",\"Open\")","v":"Open"},{"$f":"IF((COUNTIF('HOLIDAYS NF'!$B:$DZ,CONCATENATE(LEFT($A42,2),AQ$2))<>0),\"Closed\",\"Open\")","v":"Open"},{"$f":"IF((COUNTIF('HOLIDAYS NF'!$B:$DZ,CONCATENATE(LEFT($A42,2),AR$2))<>0),\"Closed\",\"Open\")","v":"Open"},{"$f":"IF((COUNTIF('HOLIDAYS NF'!$B:$DZ,CONCATENATE(LEFT($A42,2),AS$2))<>0),\"Closed\",\"Open\")","v":"Open"},{"$f":"IF((COUNTIF('HOLIDAYS NF'!$B:$DZ,CONCATENATE(LEFT($A42,2),AT$2))<>0),\"Closed\",\"Open\")","v":"Open"},{"$f":"IF((COUNTIF('HOLIDAYS NF'!$B:$DZ,CONCATENATE(LEFT($A42,2),AU$2))<>0),\"Closed\",\"Open\")","v":"Open"},{"$f":"IF((COUNTIF('HOLIDAYS NF'!$B:$DZ,CONCATENATE(LEFT($A42,2),AV$2))<>0),\"Closed\",\"Open\")","v":"Open"},{"$f":"IF((COUNTIF('HOLIDAYS NF'!$B:$DZ,CONCATENATE(LEFT($A42,2),AW$2))<>0),\"Closed\",\"Open\")","v":"Open"},{"$f":"IF((COUNTIF('HOLIDAYS NF'!$B:$DZ,CONCATENATE(LEFT($A42,2),AX$2))<>0),\"Closed\",\"Open\")","v":"Open"},{"$f":"IF((COUNTIF('HOLIDAYS NF'!$B:$DZ,CONCATENATE(LEFT($A42,2),AY$2))<>0),\"Closed\",\"Open\")","v":"Open"},{"$f":"IF((COUNTIF('HOLIDAYS NF'!$B:$DZ,CONCATENATE(LEFT($A42,2),AZ$2))<>0),\"Closed\",\"Open\")","v":"Open"},{"$f":"IF((COUNTIF('HOLIDAYS NF'!$B:$DZ,CONCATENATE(LEFT($A42,2),BA$2))<>0),\"Closed\",\"Open\")","v":"Open"},{"$f":"IF((COUNTIF('HOLIDAYS NF'!$B:$DZ,CONCATENATE(LEFT($A42,2),BB$2))<>0),\"Closed\",\"Open\")","v":"Open"},{"$f":"IF((COUNTIF('HOLIDAYS NF'!$B:$DZ,CONCATENATE(LEFT($A42,2),BC$2))<>0),\"Closed\",\"Open\")","v":"Open"},{"$f":"IF((COUNTIF('HOLIDAYS NF'!$B:$DZ,CONCATENATE(LEFT($A42,2),BD$2))<>0),\"Closed\",\"Open\")","v":"Open"},{"$f":"IF((COUNTIF('HOLIDAYS NF'!$B:$DZ,CONCATENATE(LEFT($A42,2),BE$2))<>0),\"Closed\",\"Open\")","v":"Open"},{"$f":"IF((COUNTIF('HOLIDAYS NF'!$B:$DZ,CONCATENATE(LEFT($A42,2),BF$2))<>0),\"Closed\",\"Open\")","v":"Open"},{"$f":"IF((COUNTIF('HOLIDAYS NF'!$B:$DZ,CONCATENATE(LEFT($A42,2),BG$2))<>0),\"Closed\",\"Open\")","v":"Open"},{"$f":"IF((COUNTIF('HOLIDAYS NF'!$B:$DZ,CONCATENATE(LEFT($A42,2),BH$2))<>0),\"Closed\",\"Open\")","v":"Open"},{"$f":"IF((COUNTIF('HOLIDAYS NF'!$B:$DZ,CONCATENATE(LEFT($A42,2),BI$2))<>0),\"Closed\",\"Open\")","v":"Open"},{"$f":"IF((COUNTIF('HOLIDAYS NF'!$B:$DZ,CONCATENATE(LEFT($A42,2),BJ$2))<>0),\"Closed\",\"Open\")","v":"Open"}]
["LU",{"$f":"SUMIF(Holdings!G:G,(CONCATENATE($B$1,\"-\",A43,)),Holdings!H:H)","v":0},{"$f":"HLOOKUP(A43,'[1]HOLIDAYS NF'!B$1:BR$65536,6,FALSE)","v":"Luxembourg"},{"$f":"IF((COUNTIF('HOLIDAYS NF'!$B:$DZ,CONCATENATE(LEFT($A43,2),D$2))<>0),\"Closed\",\"Open\")","v":"Open"},{"$f":"IF((COUNTIF('HOLIDAYS NF'!$B:$DZ,CONCATENATE(LEFT($A43,2),E$2))<>0),\"Closed\",\"Open\")","v":"Open"},{"$f":"IF((COUNTIF('HOLIDAYS NF'!$B:$DZ,CONCATENATE(LEFT($A43,2),F$2))<>0),\"Closed\",\"Open\")","v":"Open"},{"$f":"IF((COUNTIF('HOLIDAYS NF'!$B:$DZ,CONCATENATE(LEFT($A43,2),G$2))<>0),\"Closed\",\"Open\")","v":"Open"},{"$f":"IF((COUNTIF('HOLIDAYS NF'!$B:$DZ,CONCATENATE(LEFT($A43,2),H$2))<>0),\"Closed\",\"Open\")","v":"Open"},{"$f":"IF((COUNTIF('HOLIDAYS NF'!$B:$DZ,CONCATENATE(LEFT($A43,2),I$2))<>0),\"Closed\",\"Open\")","v":"Open"},{"$f":"IF((COUNTIF('HOLIDAYS NF'!$B:$DZ,CONCATENATE(LEFT($A43,2),J$2))<>0),\"Closed\",\"Open\")","v":"Open"},{"$f":"IF((COUNTIF('HOLIDAYS NF'!$B:$DZ,CONCATENATE(LEFT($A43,2),K$2))<>0),\"Closed\",\"Open\")","v":"Open"},{"$f":"IF((COUNTIF('HOLIDAYS NF'!$B:$DZ,CONCATENATE(LEFT($A43,2),L$2))<>0),\"Closed\",\"Open\")","v":"Open"},{"$f":"IF((COUNTIF('HOLIDAYS NF'!$B:$DZ,CONCATENATE(LEFT($A43,2),M$2))<>0),\"Closed\",\"Open\")","v":"Open"},{"$f":"IF((COUNTIF('HOLIDAYS NF'!$B:$DZ,CONCATENATE(LEFT($A43,2),N$2))<>0),\"Closed\",\"Open\")","v":"Open"},{"$f":"IF((COUNTIF('HOLIDAYS NF'!$B:$DZ,CONCATENATE(LEFT($A43,2),O$2))<>0),\"Closed\",\"Open\")","v":"Open"},{"$f":"IF((COUNTIF('HOLIDAYS NF'!$B:$DZ,CONCATENATE(LEFT($A43,2),P$2))<>0),\"Closed\",\"Open\")","v":"Open"},{"$f":"IF((COUNTIF('HOLIDAYS NF'!$B:$DZ,CONCATENATE(LEFT($A43,2),Q$2))<>0),\"Closed\",\"Open\")","v":"Open"},{"$f":"IF((COUNTIF('HOLIDAYS NF'!$B:$DZ,CONCATENATE(LEFT($A43,2),R$2))<>0),\"Closed\",\"Open\")","v":"Open"},{"$f":"IF((COUNTIF('HOLIDAYS NF'!$B:$DZ,CONCATENATE(LEFT($A43,2),S$2))<>0),\"Closed\",\"Open\")","v":"Open"},{"$f":"IF((COUNTIF('HOLIDAYS NF'!$B:$DZ,CONCATENATE(LEFT($A43,2),T$2))<>0),\"Closed\",\"Open\")","v":"Open"},{"$f":"IF((COUNTIF('HOLIDAYS NF'!$B:$DZ,CONCATENATE(LEFT($A43,2),U$2))<>0),\"Closed\",\"Open\")","v":"Open"},{"$f":"IF((COUNTIF('HOLIDAYS NF'!$B:$DZ,CONCATENATE(LEFT($A43,2),V$2))<>0),\"Closed\",\"Open\")","v":"Open"},{"$f":"IF((COUNTIF('HOLIDAYS NF'!$B:$DZ,CONCATENATE(LEFT($A43,2),W$2))<>0),\"Closed\",\"Open\")","v":"Open"},{"$f":"IF((COUNTIF('HOLIDAYS NF'!$B:$DZ,CONCATENATE(LEFT($A43,2),X$2))<>0),\"Closed\",\"Open\")","v":"Open"},{"$f":"IF((COUNTIF('HOLIDAYS NF'!$B:$DZ,CONCATENATE(LEFT($A43,2),Y$2))<>0),\"Closed\",\"Open\")","v":"Open"},{"$f":"IF((COUNTIF('HOLIDAYS NF'!$B:$DZ,CONCATENATE(LEFT($A43,2),Z$2))<>0),\"Closed\",\"Open\")","v":"Open"},{"$f":"IF((COUNTIF('HOLIDAYS NF'!$B:$DZ,CONCATENATE(LEFT($A43,2),AA$2))<>0),\"Closed\",\"Open\")","v":"Open"},{"$f":"IF((COUNTIF('HOLIDAYS NF'!$B:$DZ,CONCATENATE(LEFT($A43,2),AB$2))<>0),\"Closed\",\"Open\")","v":"Open"},{"$f":"IF((COUNTIF('HOLIDAYS NF'!$B:$DZ,CONCATENATE(LEFT($A43,2),AC$2))<>0),\"Closed\",\"Open\")","v":"Open"},{"$f":"IF((COUNTIF('HOLIDAYS NF'!$B:$DZ,CONCATENATE(LEFT($A43,2),AD$2))<>0),\"Closed\",\"Open\")","v":"Open"},{"$f":"IF((COUNTIF('HOLIDAYS NF'!$B:$DZ,CONCATENATE(LEFT($A43,2),AE$2))<>0),\"Closed\",\"Open\")","v":"Open"},{"$f":"IF((COUNTIF('HOLIDAYS NF'!$B:$DZ,CONCATENATE(LEFT($A43,2),AF$2))<>0),\"Closed\",\"Open\")","v":"Open"},{"$f":"IF((COUNTIF('HOLIDAYS NF'!$B:$DZ,CONCATENATE(LEFT($A43,2),AG$2))<>0),\"Closed\",\"Open\")","v":"Open"},{"$f":"IF((COUNTIF('HOLIDAYS NF'!$B:$DZ,CONCATENATE(LEFT($A43,2),AH$2))<>0),\"Closed\",\"Open\")","v":"Open"},{"$f":"IF((COUNTIF('HOLIDAYS NF'!$B:$DZ,CONCATENATE(LEFT($A43,2),AI$2))<>0),\"Closed\",\"Open\")","v":"Open"},{"$f":"IF((COUNTIF('HOLIDAYS NF'!$B:$DZ,CONCATENATE(LEFT($A43,2),AJ$2))<>0),\"Closed\",\"Open\")","v":"Open"},{"$f":"IF((COUNTIF('HOLIDAYS NF'!$B:$DZ,CONCATENATE(LEFT($A43,2),AK$2))<>0),\"Closed\",\"Open\")","v":"Open"},{"$f":"IF((COUNTIF('HOLIDAYS NF'!$B:$DZ,CONCATENATE(LEFT($A43,2),AL$2))<>0),\"Closed\",\"Open\")","v":"Open"},{"$f":"IF((COUNTIF('HOLIDAYS NF'!$B:$DZ,CONCATENATE(LEFT($A43,2),AM$2))<>0),\"Closed\",\"Open\")","v":"Open"},{"$f":"IF((COUNTIF('HOLIDAYS NF'!$B:$DZ,CONCATENATE(LEFT($A43,2),AN$2))<>0),\"Closed\",\"Open\")","v":"Open"},{"$f":"IF((COUNTIF('HOLIDAYS NF'!$B:$DZ,CONCATENATE(LEFT($A43,2),AO$2))<>0),\"Closed\",\"Open\")","v":"Open"},{"$f":"IF((COUNTIF('HOLIDAYS NF'!$B:$DZ,CONCATENATE(LEFT($A43,2),AP$2))<>0),\"Closed\",\"Open\")","v":"Open"},{"$f":"IF((COUNTIF('HOLIDAYS NF'!$B:$DZ,CONCATENATE(LEFT($A43,2),AQ$2))<>0),\"Closed\",\"Open\")","v":"Open"},{"$f":"IF((COUNTIF('HOLIDAYS NF'!$B:$DZ,CONCATENATE(LEFT($A43,2),AR$2))<>0),\"Closed\",\"Open\")","v":"Open"},{"$f":"IF((COUNTIF('HOLIDAYS NF'!$B:$DZ,CONCATENATE(LEFT($A43,2),AS$2))<>0),\"Closed\",\"Open\")","v":"Open"},{"$f":"IF((COUNTIF('HOLIDAYS NF'!$B:$DZ,CONCATENATE(LEFT($A43,2),AT$2))<>0),\"Closed\",\"Open\")","v":"Open"},{"$f":"IF((COUNTIF('HOLIDAYS NF'!$B:$DZ,CONCATENATE(LEFT($A43,2),AU$2))<>0),\"Closed\",\"Open\")","v":"Open"},{"$f":"IF((COUNTIF('HOLIDAYS NF'!$B:$DZ,CONCATENATE(LEFT($A43,2),AV$2))<>0),\"Closed\",\"Open\")","v":"Open"},{"$f":"IF((COUNTIF('HOLIDAYS NF'!$B:$DZ,CONCATENATE(LEFT($A43,2),AW$2))<>0),\"Closed\",\"Open\")","v":"Open"},{"$f":"IF((COUNTIF('HOLIDAYS NF'!$B:$DZ,CONCATENATE(LEFT($A43,2),AX$2))<>0),\"Closed\",\"Open\")","v":"Open"},{"$f":"IF((COUNTIF('HOLIDAYS NF'!$B:$DZ,CONCATENATE(LEFT($A43,2),AY$2))<>0),\"Closed\",\"Open\")","v":"Open"},{"$f":"IF((COUNTIF('HOLIDAYS NF'!$B:$DZ,CONCATENATE(LEFT($A43,2),AZ$2))<>0),\"Closed\",\"Open\")","v":"Open"},{"$f":"IF((COUNTIF('HOLIDAYS NF'!$B:$DZ,CONCATENATE(LEFT($A43,2),BA$2))<>0),\"Closed\",\"Open\")","v":"Open"},{"$f":"IF((COUNTIF('HOLIDAYS NF'!$B:$DZ,CONCATENATE(LEFT($A43,2),BB$2))<>0),\"Closed\",\"Open\")","v":"Open"},{"$f":"IF((COUNTIF('HOLIDAYS NF'!$B:$DZ,CONCATENATE(LEFT($A43,2),BC$2))<>0),\"Closed\",\"Open\")","v":"Open"},{"$f":"IF((COUNTIF('HOLIDAYS NF'!$B:$DZ,CONCATENATE(LEFT($A43,2),BD$2))<>0),\"Closed\",\"Open\")","v":"Open"},{"$f":"IF((COUNTIF('HOLIDAYS NF'!$B:$DZ,CONCATENATE(LEFT($A43,2),BE$2))<>0),\"Closed\",\"Open\")","v":"Open"},{"$f":"IF((COUNTIF('HOLIDAYS NF'!$B:$DZ,CONCATENATE(LEFT($A43,2),BF$2))<>0),\"Closed\",\"Open\")","v":"Open"},{"$f":"IF((COUNTIF('HOLIDAYS NF'!$B:$DZ,CONCATENATE(LEFT($A43,2),BG$2))<>0),\"Closed\",\"Open\")","v":"Open"},{"$f":"IF((COUNTIF('HOLIDAYS NF'!$B:$DZ,CONCATENATE(LEFT($A43,2),BH$2))<>0),\"Closed\",\"Open\")","v":"Open"},{"$f":"IF((COUNTIF('HOLIDAYS NF'!$B:$DZ,CONCATENATE(LEFT($A43,2),BI$2))<>0),\"Closed\",\"Open\")","v":"Open"},{"$f":"IF((COUNTIF('HOLIDAYS NF'!$B:$DZ,CONCATENATE(LEFT($A43,2),BJ$2))<>0),\"Closed\",\"Open\")","v":"Open"}]
["MX",{"$f":"SUMIF(Holdings!G:G,(CONCATENATE($B$1,\"-\",A44,)),Holdings!H:H)","v":0},{"$f":"HLOOKUP(A44,'[1]HOLIDAYS NF'!B$1:BR$65536,6,FALSE)","v":"Mexico"},{"$f":"IF((COUNTIF('HOLIDAYS NF'!$B:$DZ,CONCATENATE(LEFT($A44,2),D$2))<>0),\"Closed\",\"Open\")","v":"Open"},{"$f":"IF((COUNTIF('HOLIDAYS NF'!$B:$DZ,CONCATENATE(LEFT($A44,2),E$2))<>0),\"Closed\",\"Open\")","v":"Open"},{"$f":"IF((COUNTIF('HOLIDAYS NF'!$B:$DZ,CONCATENATE(LEFT($A44,2),F$2))<>0),\"Closed\",\"Open\")","v":"Open"},{"$f":"IF((COUNTIF('HOLIDAYS NF'!$B:$DZ,CONCATENATE(LEFT($A44,2),G$2))<>0),\"Closed\",\"Open\")","v":"Open"},{"$f":"IF((COUNTIF('HOLIDAYS NF'!$B:$DZ,CONCATENATE(LEFT($A44,2),H$2))<>0),\"Closed\",\"Open\")","v":"Open"},{"$f":"IF((COUNTIF('HOLIDAYS NF'!$B:$DZ,CONCATENATE(LEFT($A44,2),I$2))<>0),\"Closed\",\"Open\")","v":"Open"},{"$f":"IF((COUNTIF('HOLIDAYS NF'!$B:$DZ,CONCATENATE(LEFT($A44,2),J$2))<>0),\"Closed\",\"Open\")","v":"Open"},{"$f":"IF((COUNTIF('HOLIDAYS NF'!$B:$DZ,CONCATENATE(LEFT($A44,2),K$2))<>0),\"Closed\",\"Open\")","v":"Open"},{"$f":"IF((COUNTIF('HOLIDAYS NF'!$B:$DZ,CONCATENATE(LEFT($A44,2),L$2))<>0),\"Closed\",\"Open\")","v":"Open"},{"$f":"IF((COUNTIF('HOLIDAYS NF'!$B:$DZ,CONCATENATE(LEFT($A44,2),M$2))<>0),\"Closed\",\"Open\")","v":"Open"},{"$f":"IF((COUNTIF('HOLIDAYS NF'!$B:$DZ,CONCATENATE(LEFT($A44,2),N$2))<>0),\"Closed\",\"Open\")","v":"Open"},{"$f":"IF((COUNTIF('HOLIDAYS NF'!$B:$DZ,CONCATENATE(LEFT($A44,2),O$2))<>0),\"Closed\",\"Open\")","v":"Open"},{"$f":"IF((COUNTIF('HOLIDAYS NF'!$B:$DZ,CONCATENATE(LEFT($A44,2),P$2))<>0),\"Closed\",\"Open\")","v":"Open"},{"$f":"IF((COUNTIF('HOLIDAYS NF'!$B:$DZ,CONCATENATE(LEFT($A44,2),Q$2))<>0),\"Closed\",\"Open\")","v":"Open"},{"$f":"IF((COUNTIF('HOLIDAYS NF'!$B:$DZ,CONCATENATE(LEFT($A44,2),R$2))<>0),\"Closed\",\"Open\")","v":"Open"},{"$f":"IF((COUNTIF('HOLIDAYS NF'!$B:$DZ,CONCATENATE(LEFT($A44,2),S$2))<>0),\"Closed\",\"Open\")","v":"Open"},{"$f":"IF((COUNTIF('HOLIDAYS NF'!$B:$DZ,CONCATENATE(LEFT($A44,2),T$2))<>0),\"Closed\",\"Open\")","v":"Open"},{"$f":"IF((COUNTIF('HOLIDAYS NF'!$B:$DZ,CONCATENATE(LEFT($A44,2),U$2))<>0),\"Closed\",\"Open\")","v":"Open"},{"$f":"IF((COUNTIF('HOLIDAYS NF'!$B:$DZ,CONCATENATE(LEFT($A44,2),V$2))<>0),\"Closed\",\"Open\")","v":"Open"},{"$f":"IF((COUNTIF('HOLIDAYS NF'!$B:$DZ,CONCATENATE(LEFT($A44,2),W$2))<>0),\"Closed\",\"Open\")","v":"Open"},{"$f":"IF((COUNTIF('HOLIDAYS NF'!$B:$DZ,CONCATENATE(LEFT($A44,2),X$2))<>0),\"Closed\",\"Open\")","v":"Open"},{"$f":"IF((COUNTIF('HOLIDAYS NF'!$B:$DZ,CONCATENATE(LEFT($A44,2),Y$2))<>0),\"Closed\",\"Open\")","v":"Open"},{"$f":"IF((COUNTIF('HOLIDAYS NF'!$B:$DZ,CONCATENATE(LEFT($A44,2),Z$2))<>0),\"Closed\",\"Open\")","v":"Open"},{"$f":"IF((COUNTIF('HOLIDAYS NF'!$B:$DZ,CONCATENATE(LEFT($A44,2),AA$2))<>0),\"Closed\",\"Open\")","v":"Open"},{"$f":"IF((COUNTIF('HOLIDAYS NF'!$B:$DZ,CONCATENATE(LEFT($A44,2),AB$2))<>0),\"Closed\",\"Open\")","v":"Open"},{"$f":"IF((COUNTIF('HOLIDAYS NF'!$B:$DZ,CONCATENATE(LEFT($A44,2),AC$2))<>0),\"Closed\",\"Open\")","v":"Open"},{"$f":"IF((COUNTIF('HOLIDAYS NF'!$B:$DZ,CONCATENATE(LEFT($A44,2),AD$2))<>0),\"Closed\",\"Open\")","v":"Open"},{"$f":"IF((COUNTIF('HOLIDAYS NF'!$B:$DZ,CONCATENATE(LEFT($A44,2),AE$2))<>0),\"Closed\",\"Open\")","v":"Open"},{"$f":"IF((COUNTIF('HOLIDAYS NF'!$B:$DZ,CONCATENATE(LEFT($A44,2),AF$2))<>0),\"Closed\",\"Open\")","v":"Open"},{"$f":"IF((COUNTIF('HOLIDAYS NF'!$B:$DZ,CONCATENATE(LEFT($A44,2),AG$2))<>0),\"Closed\",\"Open\")","v":"Open"},{"$f":"IF((COUNTIF('HOLIDAYS NF'!$B:$DZ,CONCATENATE(LEFT($A44,2),AH$2))<>0),\"Closed\",\"Open\")","v":"Open"},{"$f":"IF((COUNTIF('HOLIDAYS NF'!$B:$DZ,CONCATENATE(LEFT($A44,2),AI$2))<>0),\"Closed\",\"Open\")","v":"Open"},{"$f":"IF((COUNTIF('HOLIDAYS NF'!$B:$DZ,CONCATENATE(LEFT($A44,2),AJ$2))<>0),\"Closed\",\"Open\")","v":"Open"},{"$f":"IF((COUNTIF('HOLIDAYS NF'!$B:$DZ,CONCATENATE(LEFT($A44,2),AK$2))<>0),\"Closed\",\"Open\")","v":"Open"},{"$f":"IF((COUNTIF('HOLIDAYS NF'!$B:$DZ,CONCATENATE(LEFT($A44,2),AL$2))<>0),\"Closed\",\"Open\")","v":"Open"},{"$f":"IF((COUNTIF('HOLIDAYS NF'!$B:$DZ,CONCATENATE(LEFT($A44,2),AM$2))<>0),\"Closed\",\"Open\")","v":"Open"},{"$f":"IF((COUNTIF('HOLIDAYS NF'!$B:$DZ,CONCATENATE(LEFT($A44,2),AN$2))<>0),\"Closed\",\"Open\")","v":"Open"},{"$f":"IF((COUNTIF('HOLIDAYS NF'!$B:$DZ,CONCATENATE(LEFT($A44,2),AO$2))<>0),\"Closed\",\"Open\")","v":"Open"},{"$f":"IF((COUNTIF('HOLIDAYS NF'!$B:$DZ,CONCATENATE(LEFT($A44,2),AP$2))<>0),\"Closed\",\"Open\")","v":"Open"},{"$f":"IF((COUNTIF('HOLIDAYS NF'!$B:$DZ,CONCATENATE(LEFT($A44,2),AQ$2))<>0),\"Closed\",\"Open\")","v":"Open"},{"$f":"IF((COUNTIF('HOLIDAYS NF'!$B:$DZ,CONCATENATE(LEFT($A44,2),AR$2))<>0),\"Closed\",\"Open\")","v":"Open"},{"$f":"IF((COUNTIF('HOLIDAYS NF'!$B:$DZ,CONCATENATE(LEFT($A44,2),AS$2))<>0),\"Closed\",\"Open\")","v":"Open"},{"$f":"IF((COUNTIF('HOLIDAYS NF'!$B:$DZ,CONCATENATE(LEFT($A44,2),AT$2))<>0),\"Closed\",\"Open\")","v":"Open"},{"$f":"IF((COUNTIF('HOLIDAYS NF'!$B:$DZ,CONCATENATE(LEFT($A44,2),AU$2))<>0),\"Closed\",\"Open\")","v":"Open"},{"$f":"IF((COUNTIF('HOLIDAYS NF'!$B:$DZ,CONCATENATE(LEFT($A44,2),AV$2))<>0),\"Closed\",\"Open\")","v":"Open"},{"$f":"IF((COUNTIF('HOLIDAYS NF'!$B:$DZ,CONCATENATE(LEFT($A44,2),AW$2))<>0),\"Closed\",\"Open\")","v":"Open"},{"$f":"IF((COUNTIF('HOLIDAYS NF'!$B:$DZ,CONCATENATE(LEFT($A44,2),AX$2))<>0),\"Closed\",\"Open\")","v":"Open"},{"$f":"IF((COUNTIF('HOLIDAYS NF'!$B:$DZ,CONCATENATE(LEFT($A44,2),AY$2))<>0),\"Closed\",\"Open\")","v":"Open"},{"$f":"IF((COUNTIF('HOLIDAYS NF'!$B:$DZ,CONCATENATE(LEFT($A44,2),AZ$2))<>0),\"Closed\",\"Open\")","v":"Open"},{"$f":"IF((COUNTIF('HOLIDAYS NF'!$B:$DZ,CONCATENATE(LEFT($A44,2),BA$2))<>0),\"Closed\",\"Open\")","v":"Open"},{"$f":"IF((COUNTIF('HOLIDAYS NF'!$B:$DZ,CONCATENATE(LEFT($A44,2),BB$2))<>0),\"Closed\",\"Open\")","v":"Open"},{"$f":"IF((COUNTIF('HOLIDAYS NF'!$B:$DZ,CONCATENATE(LEFT($A44,2),BC$2))<>0),\"Closed\",\"Open\")","v":"Open"},{"$f":"IF((COUNTIF('HOLIDAYS NF'!$B:$DZ,CONCATENATE(LEFT($A44,2),BD$2))<>0),\"Closed\",\"Open\")","v":"Open"},{"$f":"IF((COUNTIF('HOLIDAYS NF'!$B:$DZ,CONCATENATE(LEFT($A44,2),BE$2))<>0),\"Closed\",\"Open\")","v":"Open"},{"$f":"IF((COUNTIF('HOLIDAYS NF'!$B:$DZ,CONCATENATE(LEFT($A44,2),BF$2))<>0),\"Closed\",\"Open\")","v":"Open"},{"$f":"IF((COUNTIF('HOLIDAYS NF'!$B:$DZ,CONCATENATE(LEFT($A44,2),BG$2))<>0),\"Closed\",\"Open\")","v":"Open"},{"$f":"IF((COUNTIF('HOLIDAYS NF'!$B:$DZ,CONCATENATE(LEFT($A44,2),BH$2))<>0),\"Closed\",\"Open\")","v":"Open"},{"$f":"IF((COUNTIF('HOLIDAYS NF'!$B:$DZ,CONCATENATE(LEFT($A44,2),BI$2))<>0),\"Closed\",\"Open\")","v":"Open"},{"$f":"IF((COUNTIF('HOLIDAYS NF'!$B:$DZ,CONCATENATE(LEFT($A44,2),BJ$2))<>0),\"Closed\",\"Open\")","v":"Open"}]
["MY",{"$f":"SUMIF(Holdings!G:G,(CONCATENATE($B$1,\"-\",A45,)),Holdings!H:H)","v":0},{"$f":"HLOOKUP(A45,'[1]HOLIDAYS NF'!B$1:BR$65536,6,FALSE)","v":"Malaysia"},{"$f":"IF((COUNTIF('HOLIDAYS NF'!$B:$DZ,CONCATENATE(LEFT($A45,2),D$2))<>0),\"Closed\",\"Open\")","v":"Open"},{"$f":"IF((COUNTIF('HOLIDAYS NF'!$B:$DZ,CONCATENATE(LEFT($A45,2),E$2))<>0),\"Closed\",\"Open\")","v":"Open"},{"$f":"IF((COUNTIF('HOLIDAYS NF'!$B:$DZ,CONCATENATE(LEFT($A45,2),F$2))<>0),\"Closed\",\"Open\")","v":"Open"},{"$f":"IF((COUNTIF('HOLIDAYS NF'!$B:$DZ,CONCATENATE(LEFT($A45,2),G$2))<>0),\"Closed\",\"Open\")","v":"Open"},{"$f":"IF((COUNTIF('HOLIDAYS NF'!$B:$DZ,CONCATENATE(LEFT($A45,2),H$2))<>0),\"Closed\",\"Open\")","v":"Open"},{"$f":"IF((COUNTIF('HOLIDAYS NF'!$B:$DZ,CONCATENATE(LEFT($A45,2),I$2))<>0),\"Closed\",\"Open\")","v":"Open"},{"$f":"IF((COUNTIF('HOLIDAYS NF'!$B:$DZ,CONCATENATE(LEFT($A45,2),J$2))<>0),\"Closed\",\"Open\")","v":"Open"},{"$f":"IF((COUNTIF('HOLIDAYS NF'!$B:$DZ,CONCATENATE(LEFT($A45,2),K$2))<>0),\"Closed\",\"Open\")","v":"Open"},{"$f":"IF((COUNTIF('HOLIDAYS NF'!$B:$DZ,CONCATENATE(LEFT($A45,2),L$2))<>0),\"Closed\",\"Open\")","v":"Open"},{"$f":"IF((COUNTIF('HOLIDAYS NF'!$B:$DZ,CONCATENATE(LEFT($A45,2),M$2))<>0),\"Closed\",\"Open\")","v":"Open"},{"$f":"IF((COUNTIF('HOLIDAYS NF'!$B:$DZ,CONCATENATE(LEFT($A45,2),N$2))<>0),\"Closed\",\"Open\")","v":"Open"},{"$f":"IF((COUNTIF('HOLIDAYS NF'!$B:$DZ,CONCATENATE(LEFT($A45,2),O$2))<>0),\"Closed\",\"Open\")","v":"Open"},{"$f":"IF((COUNTIF('HOLIDAYS NF'!$B:$DZ,CONCATENATE(LEFT($A45,2),P$2))<>0),\"Closed\",\"Open\")","v":"Open"},{"$f":"IF((COUNTIF('HOLIDAYS NF'!$B:$DZ,CONCATENATE(LEFT($A45,2),Q$2))<>0),\"Closed\",\"Open\")","v":"Open"},{"$f":"IF((COUNTIF('HOLIDAYS NF'!$B:$DZ,CONCATENATE(LEFT($A45,2),R$2))<>0),\"Closed\",\"Open\")","v":"Open"},{"$f":"IF((COUNTIF('HOLIDAYS NF'!$B:$DZ,CONCATENATE(LEFT($A45,2),S$2))<>0),\"Closed\",\"Open\")","v":"Open"},{"$f":"IF((COUNTIF('HOLIDAYS NF'!$B:$DZ,CONCATENATE(LEFT($A45,2),T$2))<>0),\"Closed\",\"Open\")","v":"Open"},{"$f":"IF((COUNTIF('HOLIDAYS NF'!$B:$DZ,CONCATENATE(LEFT($A45,2),U$2))<>0),\"Closed\",\"Open\")","v":"Open"},{"$f":"IF((COUNTIF('HOLIDAYS NF'!$B:$DZ,CONCATENATE(LEFT($A45,2),V$2))<>0),\"Closed\",\"Open\")","v":"Open"},{"$f":"IF((COUNTIF('HOLIDAYS NF'!$B:$DZ,CONCATENATE(LEFT($A45,2),W$2))<>0),\"Closed\",\"Open\")","v":"Open"},{"$f":"IF((COUNTIF('HOLIDAYS NF'!$B:$DZ,CONCATENATE(LEFT($A45,2),X$2))<>0),\"Closed\",\"Open\")","v":"Open"},{"$f":"IF((COUNTIF('HOLIDAYS NF'!$B:$DZ,CONCATENATE(LEFT($A45,2),Y$2))<>0),\"Closed\",\"Open\")","v":"Open"},{"$f":"IF((COUNTIF('HOLIDAYS NF'!$B:$DZ,CONCATENATE(LEFT($A45,2),Z$2))<>0),\"Closed\",\"Open\")","v":"Open"},{"$f":"IF((COUNTIF('HOLIDAYS NF'!$B:$DZ,CONCATENATE(LEFT($A45,2),AA$2))<>0),\"Closed\",\"Open\")","v":"Open"},{"$f":"IF((COUNTIF('HOLIDAYS NF'!$B:$DZ,CONCATENATE(LEFT($A45,2),AB$2))<>0),\"Closed\",\"Open\")","v":"Open"},{"$f":"IF((COUNTIF('HOLIDAYS NF'!$B:$DZ,CONCATENATE(LEFT($A45,2),AC$2))<>0),\"Closed\",\"Open\")","v":"Open"},{"$f":"IF((COUNTIF('HOLIDAYS NF'!$B:$DZ,CONCATENATE(LEFT($A45,2),AD$2))<>0),\"Closed\",\"Open\")","v":"Open"},{"$f":"IF((COUNTIF('HOLIDAYS NF'!$B:$DZ,CONCATENATE(LEFT($A45,2),AE$2))<>0),\"Closed\",\"Open\")","v":"Open"},{"$f":"IF((COUNTIF('HOLIDAYS NF'!$B:$DZ,CONCATENATE(LEFT($A45,2),AF$2))<>0),\"Closed\",\"Open\")","v":"Open"},{"$f":"IF((COUNTIF('HOLIDAYS NF'!$B:$DZ,CONCATENATE(LEFT($A45,2),AG$2))<>0),\"Closed\",\"Open\")","v":"Open"},{"$f":"IF((COUNTIF('HOLIDAYS NF'!$B:$DZ,CONCATENATE(LEFT($A45,2),AH$2))<>0),\"Closed\",\"Open\")","v":"Open"},{"$f":"IF((COUNTIF('HOLIDAYS NF'!$B:$DZ,CONCATENATE(LEFT($A45,2),AI$2))<>0),\"Closed\",\"Open\")","v":"Open"},{"$f":"IF((COUNTIF('HOLIDAYS NF'!$B:$DZ,CONCATENATE(LEFT($A45,2),AJ$2))<>0),\"Closed\",\"Open\")","v":"Open"},{"$f":"IF((COUNTIF('HOLIDAYS NF'!$B:$DZ,CONCATENATE(LEFT($A45,2),AK$2))<>0),\"Closed\",\"Open\")","v":"Open"},{"$f":"IF((COUNTIF('HOLIDAYS NF'!$B:$DZ,CONCATENATE(LEFT($A45,2),AL$2))<>0),\"Closed\",\"Open\")","v":"Open"},{"$f":"IF((COUNTIF('HOLIDAYS NF'!$B:$DZ,CONCATENATE(LEFT($A45,2),AM$2))<>0),\"Closed\",\"Open\")","v":"Open"},{"$f":"IF((COUNTIF('HOLIDAYS NF'!$B:$DZ,CONCATENATE(LEFT($A45,2),AN$2))<>0),\"Closed\",\"Open\")","v":"Open"},{"$f":"IF((COUNTIF('HOLIDAYS NF'!$B:$DZ,CONCATENATE(LEFT($A45,2),AO$2))<>0),\"Closed\",\"Open\")","v":"Open"},{"$f":"IF((COUNTIF('HOLIDAYS NF'!$B:$DZ,CONCATENATE(LEFT($A45,2),AP$2))<>0),\"Closed\",\"Open\")","v":"Open"},{"$f":"IF((COUNTIF('HOLIDAYS NF'!$B:$DZ,CONCATENATE(LEFT($A45,2),AQ$2))<>0),\"Closed\",\"Open\")","v":"Open"},{"$f":"IF((COUNTIF('HOLIDAYS NF'!$B:$DZ,CONCATENATE(LEFT($A45,2),AR$2))<>0),\"Closed\",\"Open\")","v":"Open"},{"$f":"IF((COUNTIF('HOLIDAYS NF'!$B:$DZ,CONCATENATE(LEFT($A45,2),AS$2))<>0),\"Closed\",\"Open\")","v":"Open"},{"$f":"IF((COUNTIF('HOLIDAYS NF'!$B:$DZ,CONCATENATE(LEFT($A45,2),AT$2))<>0),\"Closed\",\"Open\")","v":"Open"},{"$f":"IF((COUNTIF('HOLIDAYS NF'!$B:$DZ,CONCATENATE(LEFT($A45,2),AU$2))<>0),\"Closed\",\"Open\")","v":"Open"},{"$f":"IF((COUNTIF('HOLIDAYS NF'!$B:$DZ,CONCATENATE(LEFT($A45,2),AV$2))<>0),\"Closed\",\"Open\")","v":"Open"},{"$f":"IF((COUNTIF('HOLIDAYS NF'!$B:$DZ,CONCATENATE(LEFT($A45,2),AW$2))<>0),\"Closed\",\"Open\")","v":"Open"},{"$f":"IF((COUNTIF('HOLIDAYS NF'!$B:$DZ,CONCATENATE(LEFT($A45,2),AX$2))<>0),\"Closed\",\"Open\")","v":"Open"},{"$f":"IF((COUNTIF('HOLIDAYS NF'!$B:$DZ,CONCATENATE(LEFT($A45,2),AY$2))<>0),\"Closed\",\"Open\")","v":"Open"},{"$f":"IF((COUNTIF('HOLIDAYS NF'!$B:$DZ,CONCATENATE(LEFT($A45,2),AZ$2))<>0),\"Closed\",\"Open\")","v":"Open"},{"$f":"IF((COUNTIF('HOLIDAYS NF'!$B:$DZ,CONCATENATE(LEFT($A45,2),BA$2))<>0),\"Closed\",\"Open\")","v":"Open"},{"$f":"IF((COUNTIF('HOLIDAYS NF'!$B:$DZ,CONCATENATE(LEFT($A45,2),BB$2))<>0),\"Closed\",\"Open\")","v":"Open"},{"$f":"IF((COUNTIF('HOLIDAYS NF'!$B:$DZ,CONCATENATE(LEFT($A45,2),BC$2))<>0),\"Closed\",\"Open\")","v":"Open"},{"$f":"IF((COUNTIF('HOLIDAYS NF'!$B:$DZ,CONCATENATE(LEFT($A45,2),BD$2))<>0),\"Closed\",\"Open\")","v":"Open"},{"$f":"IF((COUNTIF('HOLIDAYS NF'!$B:$DZ,CONCATENATE(LEFT($A45,2),BE$2))<>0),\"Closed\",\"Open\")","v":"Open"},{"$f":"IF((COUNTIF('HOLIDAYS NF'!$B:$DZ,CONCATENATE(LEFT($A45,2),BF$2))<>0),\"Closed\",\"Open\")","v":"Open"},{"$f":"IF((COUNTIF('HOLIDAYS NF'!$B:$DZ,CONCATENATE(LEFT($A45,2),BG$2))<>0),\"Closed\",\"Open\")","v":"Open"},{"$f":"IF((COUNTIF('HOLIDAYS NF'!$B:$DZ,CONCATENATE(LEFT($A45,2),BH$2))<>0),\"Closed\",\"Open\")","v":"Open"},{"$f":"IF((COUNTIF('HOLIDAYS NF'!$B:$DZ,CONCATENATE(LEFT($A45,2),BI$2))<>0),\"Closed\",\"Open\")","v":"Open"},{"$f":"IF((COUNTIF('HOLIDAYS NF'!$B:$DZ,CONCATENATE(LEFT($A45,2),BJ$2))<>0),\"Closed\",\"Open\")","v":"Open"}]
["NL",{"$f":"SUMIF(Holdings!G:G,(CONCATENATE($B$1,\"-\",A46,)),Holdings!H:H)","v":0},{"$f":"HLOOKUP(A46,'[1]HOLIDAYS NF'!B$1:BR$65536,6,FALSE)","v":"Netherlands"},{"$f":"IF((COUNTIF('HOLIDAYS NF'!$B:$DZ,CONCATENATE(LEFT($A46,2),D$2))<>0),\"Closed\",\"Open\")","v":"Open"},{"$f":"IF((COUNTIF('HOLIDAYS NF'!$B:$DZ,CONCATENATE(LEFT($A46,2),E$2))<>0),\"Closed\",\"Open\")","v":"Open"},{"$f":"IF((COUNTIF('HOLIDAYS NF'!$B:$DZ,CONCATENATE(LEFT($A46,2),F$2))<>0),\"Closed\",\"Open\")","v":"Open"},{"$f":"IF((COUNTIF('HOLIDAYS NF'!$B:$DZ,CONCATENATE(LEFT($A46,2),G$2))<>0),\"Closed\",\"Open\")","v":"Open"},{"$f":"IF((COUNTIF('HOLIDAYS NF'!$B:$DZ,CONCATENATE(LEFT($A46,2),H$2))<>0),\"Closed\",\"Open\")","v":"Open"},{"$f":"IF((COUNTIF('HOLIDAYS NF'!$B:$DZ,CONCATENATE(LEFT($A46,2),I$2))<>0),\"Closed\",\"Open\")","v":"Open"},{"$f":"IF((COUNTIF('HOLIDAYS NF'!$B:$DZ,CONCATENATE(LEFT($A46,2),J$2))<>0),\"Closed\",\"Open\")","v":"Open"},{"$f":"IF((COUNTIF('HOLIDAYS NF'!$B:$DZ,CONCATENATE(LEFT($A46,2),K$2))<>0),\"Closed\",\"Open\")","v":"Open"},{"$f":"IF((COUNTIF('HOLIDAYS NF'!$B:$DZ,CONCATENATE(LEFT($A46,2),L$2))<>0),\"Closed\",\"Open\")","v":"Open"},{"$f":"IF((COUNTIF('HOLIDAYS NF'!$B:$DZ,CONCATENATE(LEFT($A46,2),M$2))<>0),\"Closed\",\"Open\")","v":"Open"},{"$f":"IF((COUNTIF('HOLIDAYS NF'!$B:$DZ,CONCATENATE(LEFT($A46,2),N$2))<>0),\"Closed\",\"Open\")","v":"Open"},{"$f":"IF((COUNTIF('HOLIDAYS NF'!$B:$DZ,CONCATENATE(LEFT($A46,2),O$2))<>0),\"Closed\",\"Open\")","v":"Open"},{"$f":"IF((COUNTIF('HOLIDAYS NF'!$B:$DZ,CONCATENATE(LEFT($A46,2),P$2))<>0),\"Closed\",\"Open\")","v":"Open"},{"$f":"IF((COUNTIF('HOLIDAYS NF'!$B:$DZ,CONCATENATE(LEFT($A46,2),Q$2))<>0),\"Closed\",\"Open\")","v":"Open"},{"$f":"IF((COUNTIF('HOLIDAYS NF'!$B:$DZ,CONCATENATE(LEFT($A46,2),R$2))<>0),\"Closed\",\"Open\")","v":"Open"},{"$f":"IF((COUNTIF('HOLIDAYS NF'!$B:$DZ,CONCATENATE(LEFT($A46,2),S$2))<>0),\"Closed\",\"Open\")","v":"Open"},{"$f":"IF((COUNTIF('HOLIDAYS NF'!$B:$DZ,CONCATENATE(LEFT($A46,2),T$2))<>0),\"Closed\",\"Open\")","v":"Open"},{"$f":"IF((COUNTIF('HOLIDAYS NF'!$B:$DZ,CONCATENATE(LEFT($A46,2),U$2))<>0),\"Closed\",\"Open\")","v":"Open"},{"$f":"IF((COUNTIF('HOLIDAYS NF'!$B:$DZ,CONCATENATE(LEFT($A46,2),V$2))<>0),\"Closed\",\"Open\")","v":"Open"},{"$f":"IF((COUNTIF('HOLIDAYS NF'!$B:$DZ,CONCATENATE(LEFT($A46,2),W$2))<>0),\"Closed\",\"Open\")","v":"Open"},{"$f":"IF((COUNTIF('HOLIDAYS NF'!$B:$DZ,CONCATENATE(LEFT($A46,2),X$2))<>0),\"Closed\",\"Open\")","v":"Open"},{"$f":"IF((COUNTIF('HOLIDAYS NF'!$B:$DZ,CONCATENATE(LEFT($A46,2),Y$2))<>0),\"Closed\",\"Open\")","v":"Open"},{"$f":"IF((COUNTIF('HOLIDAYS NF'!$B:$DZ,CONCATENATE(LEFT($A46,2),Z$2))<>0),\"Closed\",\"Open\")","v":"Open"},{"$f":"IF((COUNTIF('HOLIDAYS NF'!$B:$DZ,CONCATENATE(LEFT($A46,2),AA$2))<>0),\"Closed\",\"Open\")","v":"Open"},{"$f":"IF((COUNTIF('HOLIDAYS NF'!$B:$DZ,CONCATENATE(LEFT($A46,2),AB$2))<>0),\"Closed\",\"Open\")","v":"Open"},{"$f":"IF((COUNTIF('HOLIDAYS NF'!$B:$DZ,CONCATENATE(LEFT($A46,2),AC$2))<>0),\"Closed\",\"Open\")","v":"Open"},{"$f":"IF((COUNTIF('HOLIDAYS NF'!$B:$DZ,CONCATENATE(LEFT($A46,2),AD$2))<>0),\"Closed\",\"Open\")","v":"Open"},{"$f":"IF((COUNTIF('HOLIDAYS NF'!$B:$DZ,CONCATENATE(LEFT($A46,2),AE$2))<>0),\"Closed\",\"Open\")","v":"Open"},{"$f":"IF((COUNTIF('HOLIDAYS NF'!$B:$DZ,CONCATENATE(LEFT($A46,2),AF$2))<>0),\"Closed\",\"Open\")","v":"Open"},{"$f":"IF((COUNTIF('HOLIDAYS NF'!$B:$DZ,CONCATENATE(LEFT($A46,2),AG$2))<>0),\"Closed\",\"Open\")","v":"Open"},{"$f":"IF((COUNTIF('HOLIDAYS NF'!$B:$DZ,CONCATENATE(LEFT($A46,2),AH$2))<>0),\"Closed\",\"Open\")","v":"Open"},{"$f":"IF((COUNTIF('HOLIDAYS NF'!$B:$DZ,CONCATENATE(LEFT($A46,2),AI$2))<>0),\"Closed\",\"Open\")","v":"Open"},{"$f":"IF((COUNTIF('HOLIDAYS NF'!$B:$DZ,CONCATENATE(LEFT($A46,2),AJ$2))<>0),\"Closed\",\"Open\")","v":"Open"},{"$f":"IF((COUNTIF('HOLIDAYS NF'!$B:$DZ,CONCATENATE(LEFT($A46,2),AK$2))<>0),\"Closed\",\"Open\")","v":"Open"},{"$f":"IF((COUNTIF('HOLIDAYS NF'!$B:$DZ,CONCATENATE(LEFT($A46,2),AL$2))<>0),\"Closed\",\"Open\")","v":"Open"},{"$f":"IF((COUNTIF('HOLIDAYS NF'!$B:$DZ,CONCATENATE(LEFT($A46,2),AM$2))<>0),\"Closed\",\"Open\")","v":"Open"},{"$f":"IF((COUNTIF('HOLIDAYS NF'!$B:$DZ,CONCATENATE(LEFT($A46,2),AN$2))<>0),\"Closed\",\"Open\")","v":"Open"},{"$f":"IF((COUNTIF('HOLIDAYS NF'!$B:$DZ,CONCATENATE(LEFT($A46,2),AO$2))<>0),\"Closed\",\"Open\")","v":"Open"},{"$f":"IF((COUNTIF('HOLIDAYS NF'!$B:$DZ,CONCATENATE(LEFT($A46,2),AP$2))<>0),\"Closed\",\"Open\")","v":"Open"},{"$f":"IF((COUNTIF('HOLIDAYS NF'!$B:$DZ,CONCATENATE(LEFT($A46,2),AQ$2))<>0),\"Closed\",\"Open\")","v":"Open"},{"$f":"IF((COUNTIF('HOLIDAYS NF'!$B:$DZ,CONCATENATE(LEFT($A46,2),AR$2))<>0),\"Closed\",\"Open\")","v":"Open"},{"$f":"IF((COUNTIF('HOLIDAYS NF'!$B:$DZ,CONCATENATE(LEFT($A46,2),AS$2))<>0),\"Closed\",\"Open\")","v":"Open"},{"$f":"IF((COUNTIF('HOLIDAYS NF'!$B:$DZ,CONCATENATE(LEFT($A46,2),AT$2))<>0),\"Closed\",\"Open\")","v":"Open"},{"$f":"IF((COUNTIF('HOLIDAYS NF'!$B:$DZ,CONCATENATE(LEFT($A46,2),AU$2))<>0),\"Closed\",\"Open\")","v":"Open"},{"$f":"IF((COUNTIF('HOLIDAYS NF'!$B:$DZ,CONCATENATE(LEFT($A46,2),AV$2))<>0),\"Closed\",\"Open\")","v":"Open"},{"$f":"IF((COUNTIF('HOLIDAYS NF'!$B:$DZ,CONCATENATE(LEFT($A46,2),AW$2))<>0),\"Closed\",\"Open\")","v":"Open"},{"$f":"IF((COUNTIF('HOLIDAYS NF'!$B:$DZ,CONCATENATE(LEFT($A46,2),AX$2))<>0),\"Closed\",\"Open\")","v":"Open"},{"$f":"IF((COUNTIF('HOLIDAYS NF'!$B:$DZ,CONCATENATE(LEFT($A46,2),AY$2))<>0),\"Closed\",\"Open\")","v":"Open"},{"$f":"IF((COUNTIF('HOLIDAYS NF'!$B:$DZ,CONCATENATE(LEFT($A46,2),AZ$2))<>0),\"Closed\",\"Open\")","v":"Open"},{"$f":"IF((COUNTIF('HOLIDAYS NF'!$B:$DZ,CONCATENATE(LEFT($A46,2),BA$2))<>0),\"Closed\",\"Open\")","v":"Open"},{"$f":"IF((COUNTIF('HOLIDAYS NF'!$B:$DZ,CONCATENATE(LEFT($A46,2),BB$2))<>0),\"Closed\",\"Open\")","v":"Open"},{"$f":"IF((COUNTIF('HOLIDAYS NF'!$B:$DZ,CONCATENATE(LEFT($A46,2),BC$2))<>0),\"Closed\",\"Open\")","v":"Open"},{"$f":"IF((COUNTIF('HOLIDAYS NF'!$B:$DZ,CONCATENATE(LEFT($A46,2),BD$2))<>0),\"Closed\",\"Open\")","v":"Open"},{"$f":"IF((COUNTIF('HOLIDAYS NF'!$B:$DZ,CONCATENATE(LEFT($A46,2),BE$2))<>0),\"Closed\",\"Open\")","v":"Open"},{"$f":"IF((COUNTIF('HOLIDAYS NF'!$B:$DZ,CONCATENATE(LEFT($A46,2),BF$2))<>0),\"Closed\",\"Open\")","v":"Open"},{"$f":"IF((COUNTIF('HOLIDAYS NF'!$B:$DZ,CONCATENATE(LEFT($A46,2),BG$2))<>0),\"Closed\",\"Open\")","v":"Open"},{"$f":"IF((COUNTIF('HOLIDAYS NF'!$B:$DZ,CONCATENATE(LEFT($A46,2),BH$2))<>0),\"Closed\",\"Open\")","v":"Open"},{"$f":"IF((COUNTIF('HOLIDAYS NF'!$B:$DZ,CONCATENATE(LEFT($A46,2),BI$2))<>0),\"Closed\",\"Open\")","v":"Open"},{"$f":"IF((COUNTIF('HOLIDAYS NF'!$B:$DZ,CONCATENATE(LEFT($A46,2),BJ$2))<>0),\"Closed\",\"Open\")","v":"Open"}]
["NO",{"$f":"SUMIF(Holdings!G:G,(CONCATENATE($B$1,\"-\",A47,)),Holdings!H:H)","v":0},{"$f":"HLOOKUP(A47,'[1]HOLIDAYS NF'!B$1:BR$65536,6,FALSE)","v":"Norway"},{"$f":"IF((COUNTIF('HOLIDAYS NF'!$B:$DZ,CONCATENATE(LEFT($A47,2),D$2))<>0),\"Closed\",\"Open\")","v":"Open"},{"$f":"IF((COUNTIF('HOLIDAYS NF'!$B:$DZ,CONCATENATE(LEFT($A47,2),E$2))<>0),\"Closed\",\"Open\")","v":"Open"},{"$f":"IF((COUNTIF('HOLIDAYS NF'!$B:$DZ,CONCATENATE(LEFT($A47,2),F$2))<>0),\"Closed\",\"Open\")","v":"Open"},{"$f":"IF((COUNTIF('HOLIDAYS NF'!$B:$DZ,CONCATENATE(LEFT($A47,2),G$2))<>0),\"Closed\",\"Open\")","v":"Open"},{"$f":"IF((COUNTIF('HOLIDAYS NF'!$B:$DZ,CONCATENATE(LEFT($A47,2),H$2))<>0),\"Closed\",\"Open\")","v":"Open"},{"$f":"IF((COUNTIF('HOLIDAYS NF'!$B:$DZ,CONCATENATE(LEFT($A47,2),I$2))<>0),\"Closed\",\"Open\")","v":"Open"},{"$f":"IF((COUNTIF('HOLIDAYS NF'!$B:$DZ,CONCATENATE(LEFT($A47,2),J$2))<>0),\"Closed\",\"Open\")","v":"Open"},{"$f":"IF((COUNTIF('HOLIDAYS NF'!$B:$DZ,CONCATENATE(LEFT($A47,2),K$2))<>0),\"Closed\",\"Open\")","v":"Open"},{"$f":"IF((COUNTIF('HOLIDAYS NF'!$B:$DZ,CONCATENATE(LEFT($A47,2),L$2))<>0),\"Closed\",\"Open\")","v":"Open"},{"$f":"IF((COUNTIF('HOLIDAYS NF'!$B:$DZ,CONCATENATE(LEFT($A47,2),M$2))<>0),\"Closed\",\"Open\")","v":"Open"},{"$f":"IF((COUNTIF('HOLIDAYS NF'!$B:$DZ,CONCATENATE(LEFT($A47,2),N$2))<>0),\"Closed\",\"Open\")","v":"Open"},{"$f":"IF((COUNTIF('HOLIDAYS NF'!$B:$DZ,CONCATENATE(LEFT($A47,2),O$2))<>0),\"Closed\",\"Open\")","v":"Open"},{"$f":"IF((COUNTIF('HOLIDAYS NF'!$B:$DZ,CONCATENATE(LEFT($A47,2),P$2))<>0),\"Closed\",\"Open\")","v":"Open"},{"$f":"IF((COUNTIF('HOLIDAYS NF'!$B:$DZ,CONCATENATE(LEFT($A47,2),Q$2))<>0),\"Closed\",\"Open\")","v":"Open"},{"$f":"IF((COUNTIF('HOLIDAYS NF'!$B:$DZ,CONCATENATE(LEFT($A47,2),R$2))<>0),\"Closed\",\"Open\")","v":"Open"},{"$f":"IF((COUNTIF('HOLIDAYS NF'!$B:$DZ,CONCATENATE(LEFT($A47,2),S$2))<>0),\"Closed\",\"Open\")","v":"Open"},{"$f":"IF((COUNTIF('HOLIDAYS NF'!$B:$DZ,CONCATENATE(LEFT($A47,2),T$2))<>0),\"Closed\",\"Open\")","v":"Open"},{"$f":"IF((COUNTIF('HOLIDAYS NF'!$B:$DZ,CONCATENATE(LEFT($A47,2),U$2))<>0),\"Closed\",\"Open\")","v":"Open"},{"$f":"IF((COUNTIF('HOLIDAYS NF'!$B:$DZ,CONCATENATE(LEFT($A47,2),V$2))<>0),\"Closed\",\"Open\")","v":"Open"},{"$f":"IF((COUNTIF('HOLIDAYS NF'!$B:$DZ,CONCATENATE(LEFT($A47,2),W$2))<>0),\"Closed\",\"Open\")","v":"Open"},{"$f":"IF((COUNTIF('HOLIDAYS NF'!$B:$DZ,CONCATENATE(LEFT($A47,2),X$2))<>0),\"Closed\",\"Open\")","v":"Open"},{"$f":"IF((COUNTIF('HOLIDAYS NF'!$B:$DZ,CONCATENATE(LEFT($A47,2),Y$2))<>0),\"Closed\",\"Open\")","v":"Open"},{"$f":"IF((COUNTIF('HOLIDAYS NF'!$B:$DZ,CONCATENATE(LEFT($A47,2),Z$2))<>0),\"Closed\",\"Open\")","v":"Open"},{"$f":"IF((COUNTIF('HOLIDAYS NF'!$B:$DZ,CONCATENATE(LEFT($A47,2),AA$2))<>0),\"Closed\",\"Open\")","v":"Open"},{"$f":"IF((COUNTIF('HOLIDAYS NF'!$B:$DZ,CONCATENATE(LEFT($A47,2),AB$2))<>0),\"Closed\",\"Open\")","v":"Open"},{"$f":"IF((COUNTIF('HOLIDAYS NF'!$B:$DZ,CONCATENATE(LEFT($A47,2),AC$2))<>0),\"Closed\",\"Open\")","v":"Open"},{"$f":"IF((COUNTIF('HOLIDAYS NF'!$B:$DZ,CONCATENATE(LEFT($A47,2),AD$2))<>0),\"Closed\",\"Open\")","v":"Open"},{"$f":"IF((COUNTIF('HOLIDAYS NF'!$B:$DZ,CONCATENATE(LEFT($A47,2),AE$2))<>0),\"Closed\",\"Open\")","v":"Open"},{"$f":"IF((COUNTIF('HOLIDAYS NF'!$B:$DZ,CONCATENATE(LEFT($A47,2),AF$2))<>0),\"Closed\",\"Open\")","v":"Open"},{"$f":"IF((COUNTIF('HOLIDAYS NF'!$B:$DZ,CONCATENATE(LEFT($A47,2),AG$2))<>0),\"Closed\",\"Open\")","v":"Open"},{"$f":"IF((COUNTIF('HOLIDAYS NF'!$B:$DZ,CONCATENATE(LEFT($A47,2),AH$2))<>0),\"Closed\",\"Open\")","v":"Open"},{"$f":"IF((COUNTIF('HOLIDAYS NF'!$B:$DZ,CONCATENATE(LEFT($A47,2),AI$2))<>0),\"Closed\",\"Open\")","v":"Open"},{"$f":"IF((COUNTIF('HOLIDAYS NF'!$B:$DZ,CONCATENATE(LEFT($A47,2),AJ$2))<>0),\"Closed\",\"Open\")","v":"Open"},{"$f":"IF((COUNTIF('HOLIDAYS NF'!$B:$DZ,CONCATENATE(LEFT($A47,2),AK$2))<>0),\"Closed\",\"Open\")","v":"Open"},{"$f":"IF((COUNTIF('HOLIDAYS NF'!$B:$DZ,CONCATENATE(LEFT($A47,2),AL$2))<>0),\"Closed\",\"Open\")","v":"Open"},{"$f":"IF((COUNTIF('HOLIDAYS NF'!$B:$DZ,CONCATENATE(LEFT($A47,2),AM$2))<>0),\"Closed\",\"Open\")","v":"Open"},{"$f":"IF((COUNTIF('HOLIDAYS NF'!$B:$DZ,CONCATENATE(LEFT($A47,2),AN$2))<>0),\"Closed\",\"Open\")","v":"Open"},{"$f":"IF((COUNTIF('HOLIDAYS NF'!$B:$DZ,CONCATENATE(LEFT($A47,2),AO$2))<>0),\"Closed\",\"Open\")","v":"Open"},{"$f":"IF((COUNTIF('HOLIDAYS NF'!$B:$DZ,CONCATENATE(LEFT($A47,2),AP$2))<>0),\"Closed\",\"Open\")","v":"Open"},{"$f":"IF((COUNTIF('HOLIDAYS NF'!$B:$DZ,CONCATENATE(LEFT($A47,2),AQ$2))<>0),\"Closed\",\"Open\")","v":"Open"},{"$f":"IF((COUNTIF('HOLIDAYS NF'!$B:$DZ,CONCATENATE(LEFT($A47,2),AR$2))<>0),\"Closed\",\"Open\")","v":"Open"},{"$f":"IF((COUNTIF('HOLIDAYS NF'!$B:$DZ,CONCATENATE(LEFT($A47,2),AS$2))<>0),\"Closed\",\"Open\")","v":"Open"},{"$f":"IF((COUNTIF('HOLIDAYS NF'!$B:$DZ,CONCATENATE(LEFT($A47,2),AT$2))<>0),\"Closed\",\"Open\")","v":"Open"},{"$f":"IF((COUNTIF('HOLIDAYS NF'!$B:$DZ,CONCATENATE(LEFT($A47,2),AU$2))<>0),\"Closed\",\"Open\")","v":"Open"},{"$f":"IF((COUNTIF('HOLIDAYS NF'!$B:$DZ,CONCATENATE(LEFT($A47,2),AV$2))<>0),\"Closed\",\"Open\")","v":"Open"},{"$f":"IF((COUNTIF('HOLIDAYS NF'!$B:$DZ,CONCATENATE(LEFT($A47,2),AW$2))<>0),\"Closed\",\"Open\")","v":"Open"},{"$f":"IF((COUNTIF('HOLIDAYS NF'!$B:$DZ,CONCATENATE(LEFT($A47,2),AX$2))<>0),\"Closed\",\"Open\")","v":"Open"},{"$f":"IF((COUNTIF('HOLIDAYS NF'!$B:$DZ,CONCATENATE(LEFT($A47,2),AY$2))<>0),\"Closed\",\"Open\")","v":"Open"},{"$f":"IF((COUNTIF('HOLIDAYS NF'!$B:$DZ,CONCATENATE(LEFT($A47,2),AZ$2))<>0),\"Closed\",\"Open\")","v":"Open"},{"$f":"IF((COUNTIF('HOLIDAYS NF'!$B:$DZ,CONCATENATE(LEFT($A47,2),BA$2))<>0),\"Closed\",\"Open\")","v":"Open"},{"$f":"IF((COUNTIF('HOLIDAYS NF'!$B:$DZ,CONCATENATE(LEFT($A47,2),BB$2))<>0),\"Closed\",\"Open\")","v":"Open"},{"$f":"IF((COUNTIF('HOLIDAYS NF'!$B:$DZ,CONCATENATE(LEFT($A47,2),BC$2))<>0),\"Closed\",\"Open\")","v":"Open"},{"$f":"IF((COUNTIF('HOLIDAYS NF'!$B:$DZ,CONCATENATE(LEFT($A47,2),BD$2))<>0),\"Closed\",\"Open\")","v":"Open"},{"$f":"IF((COUNTIF('HOLIDAYS NF'!$B:$DZ,CONCATENATE(LEFT($A47,2),BE$2))<>0),\"Closed\",\"Open\")","v":"Open"},{"$f":"IF((COUNTIF('HOLIDAYS NF'!$B:$DZ,CONCATENATE(LEFT($A47,2),BF$2))<>0),\"Closed\",\"Open\")","v":"Open"},{"$f":"IF((COUNTIF('HOLIDAYS NF'!$B:$DZ,CONCATENATE(LEFT($A47,2),BG$2))<>0),\"Closed\",\"Open\")","v":"Open"},{"$f":"IF((COUNTIF('HOLIDAYS NF'!$B:$DZ,CONCATENATE(LEFT($A47,2),BH$2))<>0),\"Closed\",\"Open\")","v":"Open"},{"$f":"IF((COUNTIF('HOLIDAYS NF'!$B:$DZ,CONCATENATE(LEFT($A47,2),BI$2))<>0),\"Closed\",\"Open\")","v":"Open"},{"$f":"IF((COUNTIF('HOLIDAYS NF'!$B:$DZ,CONCATENATE(LEFT($A47,2),BJ$2))<>0),\"Closed\",\"Open\")","v":"Open"}]
["NZ",{"$f":"SUMIF(Holdings!G:G,(CONCATENATE($B$1,\"-\",A48,)),Holdings!H:H)","v":0},{"$f":"HLOOKUP(A48,'[1]HOLIDAYS NF'!B$1:BR$65536,6,FALSE)","v":"New Zealand"},{"$f":"IF((COUNTIF('HOLIDAYS NF'!$B:$DZ,CONCATENATE(LEFT($A48,2),D$2))<>0),\"Closed\",\"Open\")","v":"Open"},{"$f":"IF((COUNTIF('HOLIDAYS NF'!$B:$DZ,CONCATENATE(LEFT($A48,2),E$2))<>0),\"Closed\",\"Open\")","v":"Open"},{"$f":"IF((COUNTIF('HOLIDAYS NF'!$B:$DZ,CONCATENATE(LEFT($A48,2),F$2))<>0),\"Closed\",\"Open\")","v":"Open"},{"$f":"IF((COUNTIF('HOLIDAYS NF'!$B:$DZ,CONCATENATE(LEFT($A48,2),G$2))<>0),\"Closed\",\"Open\")","v":"Open"},{"$f":"IF((COUNTIF('HOLIDAYS NF'!$B:$DZ,CONCATENATE(LEFT($A48,2),H$2))<>0),\"Closed\",\"Open\")","v":"Open"},{"$f":"IF((COUNTIF('HOLIDAYS NF'!$B:$DZ,CONCATENATE(LEFT($A48,2),I$2))<>0),\"Closed\",\"Open\")","v":"Open"},{"$f":"IF((COUNTIF('HOLIDAYS NF'!$B:$DZ,CONCATENATE(LEFT($A48,2),J$2))<>0),\"Closed\",\"Open\")","v":"Open"},{"$f":"IF((COUNTIF('HOLIDAYS NF'!$B:$DZ,CONCATENATE(LEFT($A48,2),K$2))<>0),\"Closed\",\"Open\")","v":"Open"},{"$f":"IF((COUNTIF('HOLIDAYS NF'!$B:$DZ,CONCATENATE(LEFT($A48,2),L$2))<>0),\"Closed\",\"Open\")","v":"Open"},{"$f":"IF((COUNTIF('HOLIDAYS NF'!$B:$DZ,CONCATENATE(LEFT($A48,2),M$2))<>0),\"Closed\",\"Open\")","v":"Open"},{"$f":"IF((COUNTIF('HOLIDAYS NF'!$B:$DZ,CONCATENATE(LEFT($A48,2),N$2))<>0),\"Closed\",\"Open\")","v":"Open"},{"$f":"IF((COUNTIF('HOLIDAYS NF'!$B:$DZ,CONCATENATE(LEFT($A48,2),O$2))<>0),\"Closed\",\"Open\")","v":"Open"},{"$f":"IF((COUNTIF('HOLIDAYS NF'!$B:$DZ,CONCATENATE(LEFT($A48,2),P$2))<>0),\"Closed\",\"Open\")","v":"Open"},{"$f":"IF((COUNTIF('HOLIDAYS NF'!$B:$DZ,CONCATENATE(LEFT($A48,2),Q$2))<>0),\"Closed\",\"Open\")","v":"Open"},{"$f":"IF((COUNTIF('HOLIDAYS NF'!$B:$DZ,CONCATENATE(LEFT($A48,2),R$2))<>0),\"Closed\",\"Open\")","v":"Open"},{"$f":"IF((COUNTIF('HOLIDAYS NF'!$B:$DZ,CONCATENATE(LEFT($A48,2),S$2))<>0),\"Closed\",\"Open\")","v":"Open"},{"$f":"IF((COUNTIF('HOLIDAYS NF'!$B:$DZ,CONCATENATE(LEFT($A48,2),T$2))<>0),\"Closed\",\"Open\")","v":"Open"},{"$f":"IF((COUNTIF('HOLIDAYS NF'!$B:$DZ,CONCATENATE(LEFT($A48,2),U$2))<>0),\"Closed\",\"Open\")","v":"Open"},{"$f":"IF((COUNTIF('HOLIDAYS NF'!$B:$DZ,CONCATENATE(LEFT($A48,2),V$2))<>0),\"Closed\",\"Open\")","v":"Open"},{"$f":"IF((COUNTIF('HOLIDAYS NF'!$B:$DZ,CONCATENATE(LEFT($A48,2),W$2))<>0),\"Closed\",\"Open\")","v":"Open"},{"$f":"IF((COUNTIF('HOLIDAYS NF'!$B:$DZ,CONCATENATE(LEFT($A48,2),X$2))<>0),\"Closed\",\"Open\")","v":"Open"},{"$f":"IF((COUNTIF('HOLIDAYS NF'!$B:$DZ,CONCATENATE(LEFT($A48,2),Y$2))<>0),\"Closed\",\"Open\")","v":"Open"},{"$f":"IF((COUNTIF('HOLIDAYS NF'!$B:$DZ,CONCATENATE(LEFT($A48,2),Z$2))<>0),\"Closed\",\"Open\")","v":"Open"},{"$f":"IF((COUNTIF('HOLIDAYS NF'!$B:$DZ,CONCATENATE(LEFT($A48,2),AA$2))<>0),\"Closed\",\"Open\")","v":"Open"},{"$f":"IF((COUNTIF('HOLIDAYS NF'!$B:$DZ,CONCATENATE(LEFT($A48,2),AB$2))<>0),\"Closed\",\"Open\")","v":"Open"},{"$f":"IF((COUNTIF('HOLIDAYS NF'!$B:$DZ,CONCATENATE(LEFT($A48,2),AC$2))<>0),\"Closed\",\"Open\")","v":"Open"},{"$f":"IF((COUNTIF('HOLIDAYS NF'!$B:$DZ,CONCATENATE(LEFT($A48,2),AD$2))<>0),\"Closed\",\"Open\")","v":"Open"},{"$f":"IF((COUNTIF('HOLIDAYS NF'!$B:$DZ,CONCATENATE(LEFT($A48,2),AE$2))<>0),\"Closed\",\"Open\")","v":"Open"},{"$f":"IF((COUNTIF('HOLIDAYS NF'!$B:$DZ,CONCATENATE(LEFT($A48,2),AF$2))<>0),\"Closed\",\"Open\")","v":"Open"},{"$f":"IF((COUNTIF('HOLIDAYS NF'!$B:$DZ,CONCATENATE(LEFT($A48,2),AG$2))<>0),\"Closed\",\"Open\")","v":"Open"},{"$f":"IF((COUNTIF('HOLIDAYS NF'!$B:$DZ,CONCATENATE(LEFT($A48,2),AH$2))<>0),\"Closed\",\"Open\")","v":"Open"},{"$f":"IF((COUNTIF('HOLIDAYS NF'!$B:$DZ,CONCATENATE(LEFT($A48,2),AI$2))<>0),\"Closed\",\"Open\")","v":"Open"},{"$f":"IF((COUNTIF('HOLIDAYS NF'!$B:$DZ,CONCATENATE(LEFT($A48,2),AJ$2))<>0),\"Closed\",\"Open\")","v":"Open"},{"$f":"IF((COUNTIF('HOLIDAYS NF'!$B:$DZ,CONCATENATE(LEFT($A48,2),AK$2))<>0),\"Closed\",\"Open\")","v":"Open"},{"$f":"IF((COUNTIF('HOLIDAYS NF'!$B:$DZ,CONCATENATE(LEFT($A48,2),AL$2))<>0),\"Closed\",\"Open\")","v":"Open"},{"$f":"IF((COUNTIF('HOLIDAYS NF'!$B:$DZ,CONCATENATE(LEFT($A48,2),AM$2))<>0),\"Closed\",\"Open\")","v":"Open"},{"$f":"IF((COUNTIF('HOLIDAYS NF'!$B:$DZ,CONCATENATE(LEFT($A48,2),AN$2))<>0),\"Closed\",\"Open\")","v":"Open"},{"$f":"IF((COUNTIF('HOLIDAYS NF'!$B:$DZ,CONCATENATE(LEFT($A48,2),AO$2))<>0),\"Closed\",\"Open\")","v":"Open"},{"$f":"IF((COUNTIF('HOLIDAYS NF'!$B:$DZ,CONCATENATE(LEFT($A48,2),AP$2))<>0),\"Closed\",\"Open\")","v":"Open"},{"$f":"IF((COUNTIF('HOLIDAYS NF'!$B:$DZ,CONCATENATE(LEFT($A48,2),AQ$2))<>0),\"Closed\",\"Open\")","v":"Open"},{"$f":"IF((COUNTIF('HOLIDAYS NF'!$B:$DZ,CONCATENATE(LEFT($A48,2),AR$2))<>0),\"Closed\",\"Open\")","v":"Open"},{"$f":"IF((COUNTIF('HOLIDAYS NF'!$B:$DZ,CONCATENATE(LEFT($A48,2),AS$2))<>0),\"Closed\",\"Open\")","v":"Open"},{"$f":"IF((COUNTIF('HOLIDAYS NF'!$B:$DZ,CONCATENATE(LEFT($A48,2),AT$2))<>0),\"Closed\",\"Open\")","v":"Open"},{"$f":"IF((COUNTIF('HOLIDAYS NF'!$B:$DZ,CONCATENATE(LEFT($A48,2),AU$2))<>0),\"Closed\",\"Open\")","v":"Open"},{"$f":"IF((COUNTIF('HOLIDAYS NF'!$B:$DZ,CONCATENATE(LEFT($A48,2),AV$2))<>0),\"Closed\",\"Open\")","v":"Open"},{"$f":"IF((COUNTIF('HOLIDAYS NF'!$B:$DZ,CONCATENATE(LEFT($A48,2),AW$2))<>0),\"Closed\",\"Open\")","v":"Open"},{"$f":"IF((COUNTIF('HOLIDAYS NF'!$B:$DZ,CONCATENATE(LEFT($A48,2),AX$2))<>0),\"Closed\",\"Open\")","v":"Open"},{"$f":"IF((COUNTIF('HOLIDAYS NF'!$B:$DZ,CONCATENATE(LEFT($A48,2),AY$2))<>0),\"Closed\",\"Open\")","v":"Open"},{"$f":"IF((COUNTIF('HOLIDAYS NF'!$B:$DZ,CONCATENATE(LEFT($A48,2),AZ$2))<>0),\"Closed\",\"Open\")","v":"Open"},{"$f":"IF((COUNTIF('HOLIDAYS NF'!$B:$DZ,CONCATENATE(LEFT($A48,2),BA$2))<>0),\"Closed\",\"Open\")","v":"Open"},{"$f":"IF((COUNTIF('HOLIDAYS NF'!$B:$DZ,CONCATENATE(LEFT($A48,2),BB$2))<>0),\"Closed\",\"Open\")","v":"Open"},{"$f":"IF((COUNTIF('HOLIDAYS NF'!$B:$DZ,CONCATENATE(LEFT($A48,2),BC$2))<>0),\"Closed\",\"Open\")","v":"Open"},{"$f":"IF((COUNTIF('HOLIDAYS NF'!$B:$DZ,CONCATENATE(LEFT($A48,2),BD$2))<>0),\"Closed\",\"Open\")","v":"Open"},{"$f":"IF((COUNTIF('HOLIDAYS NF'!$B:$DZ,CONCATENATE(LEFT($A48,2),BE$2))<>0),\"Closed\",\"Open\")","v":"Open"},{"$f":"IF((COUNTIF('HOLIDAYS NF'!$B:$DZ,CONCATENATE(LEFT($A48,2),BF$2))<>0),\"Closed\",\"Open\")","v":"Open"},{"$f":"IF((COUNTIF('HOLIDAYS NF'!$B:$DZ,CONCATENATE(LEFT($A48,2),BG$2))<>0),\"Closed\",\"Open\")","v":"Open"},{"$f":"IF((COUNTIF('HOLIDAYS NF'!$B:$DZ,CONCATENATE(LEFT($A48,2),BH$2))<>0),\"Closed\",\"Open\")","v":"Open"},{"$f":"IF((COUNTIF('HOLIDAYS NF'!$B:$DZ,CONCATENATE(LEFT($A48,2),BI$2))<>0),\"Closed\",\"Open\")","v":"Open"},{"$f":"IF((COUNTIF('HOLIDAYS NF'!$B:$DZ,CONCATENATE(LEFT($A48,2),BJ$2))<>0),\"Closed\",\"Open\")","v":"Open"}]
["OM",{"$f":"SUMIF(Holdings!G:G,(CONCATENATE($B$1,\"-\",A49,)),Holdings!H:H)","v":0},{"$f":"HLOOKUP(A49,'[1]HOLIDAYS NF'!B$1:BR$65536,6,FALSE)","v":"Oman"},{"$f":"IF((COUNTIF('HOLIDAYS NF'!$B:$DZ,CONCATENATE(LEFT($A49,2),D$2))<>0),\"Closed\",\"Open\")","v":"Open"},{"$f":"IF((COUNTIF('HOLIDAYS NF'!$B:$DZ,CONCATENATE(LEFT($A49,2),E$2))<>0),\"Closed\",\"Open\")","v":"Open"},{"$f":"IF((COUNTIF('HOLIDAYS NF'!$B:$DZ,CONCATENATE(LEFT($A49,2),F$2))<>0),\"Closed\",\"Open\")","v":"Open"},{"$f":"IF((COUNTIF('HOLIDAYS NF'!$B:$DZ,CONCATENATE(LEFT($A49,2),G$2))<>0),\"Closed\",\"Open\")","v":"Open"},{"$f":"IF((COUNTIF('HOLIDAYS NF'!$B:$DZ,CONCATENATE(LEFT($A49,2),H$2))<>0),\"Closed\",\"Open\")","v":"Open"},{"$f":"IF((COUNTIF('HOLIDAYS NF'!$B:$DZ,CONCATENATE(LEFT($A49,2),I$2))<>0),\"Closed\",\"Open\")","v":"Open"},{"$f":"IF((COUNTIF('HOLIDAYS NF'!$B:$DZ,CONCATENATE(LEFT($A49,2),J$2))<>0),\"Closed\",\"Open\")","v":"Open"},{"$f":"IF((COUNTIF('HOLIDAYS NF'!$B:$DZ,CONCATENATE(LEFT($A49,2),K$2))<>0),\"Closed\",\"Open\")","v":"Open"},{"$f":"IF((COUNTIF('HOLIDAYS NF'!$B:$DZ,CONCATENATE(LEFT($A49,2),L$2))<>0),\"Closed\",\"Open\")","v":"Open"},{"$f":"IF((COUNTIF('HOLIDAYS NF'!$B:$DZ,CONCATENATE(LEFT($A49,2),M$2))<>0),\"Closed\",\"Open\")","v":"Open"},{"$f":"IF((COUNTIF('HOLIDAYS NF'!$B:$DZ,CONCATENATE(LEFT($A49,2),N$2))<>0),\"Closed\",\"Open\")","v":"Open"},{"$f":"IF((COUNTIF('HOLIDAYS NF'!$B:$DZ,CONCATENATE(LEFT($A49,2),O$2))<>0),\"Closed\",\"Open\")","v":"Open"},{"$f":"IF((COUNTIF('HOLIDAYS NF'!$B:$DZ,CONCATENATE(LEFT($A49,2),P$2))<>0),\"Closed\",\"Open\")","v":"Open"},{"$f":"IF((COUNTIF('HOLIDAYS NF'!$B:$DZ,CONCATENATE(LEFT($A49,2),Q$2))<>0),\"Closed\",\"Open\")","v":"Open"},{"$f":"IF((COUNTIF('HOLIDAYS NF'!$B:$DZ,CONCATENATE(LEFT($A49,2),R$2))<>0),\"Closed\",\"Open\")","v":"Open"},{"$f":"IF((COUNTIF('HOLIDAYS NF'!$B:$DZ,CONCATENATE(LEFT($A49,2),S$2))<>0),\"Closed\",\"Open\")","v":"Open"},{"$f":"IF((COUNTIF('HOLIDAYS NF'!$B:$DZ,CONCATENATE(LEFT($A49,2),T$2))<>0),\"Closed\",\"Open\")","v":"Open"},{"$f":"IF((COUNTIF('HOLIDAYS NF'!$B:$DZ,CONCATENATE(LEFT($A49,2),U$2))<>0),\"Closed\",\"Open\")","v":"Open"},{"$f":"IF((COUNTIF('HOLIDAYS NF'!$B:$DZ,CONCATENATE(LEFT($A49,2),V$2))<>0),\"Closed\",\"Open\")","v":"Open"},{"$f":"IF((COUNTIF('HOLIDAYS NF'!$B:$DZ,CONCATENATE(LEFT($A49,2),W$2))<>0),\"Closed\",\"Open\")","v":"Open"},{"$f":"IF((COUNTIF('HOLIDAYS NF'!$B:$DZ,CONCATENATE(LEFT($A49,2),X$2))<>0),\"Closed\",\"Open\")","v":"Open"},{"$f":"IF((COUNTIF('HOLIDAYS NF'!$B:$DZ,CONCATENATE(LEFT($A49,2),Y$2))<>0),\"Closed\",\"Open\")","v":"Open"},{"$f":"IF((COUNTIF('HOLIDAYS NF'!$B:$DZ,CONCATENATE(LEFT($A49,2),Z$2))<>0),\"Closed\",\"Open\")","v":"Open"},{"$f":"IF((COUNTIF('HOLIDAYS NF'!$B:$DZ,CONCATENATE(LEFT($A49,2),AA$2))<>0),\"Closed\",\"Open\")","v":"Open"},{"$f":"IF((COUNTIF('HOLIDAYS NF'!$B:$DZ,CONCATENATE(LEFT($A49,2),AB$2))<>0),\"Closed\",\"Open\")","v":"Open"},{"$f":"IF((COUNTIF('HOLIDAYS NF'!$B:$DZ,CONCATENATE(LEFT($A49,2),AC$2))<>0),\"Closed\",\"Open\")","v":"Open"},{"$f":"IF((COUNTIF('HOLIDAYS NF'!$B:$DZ,CONCATENATE(LEFT($A49,2),AD$2))<>0),\"Closed\",\"Open\")","v":"Open"},{"$f":"IF((COUNTIF('HOLIDAYS NF'!$B:$DZ,CONCATENATE(LEFT($A49,2),AE$2))<>0),\"Closed\",\"Open\")","v":"Open"},{"$f":"IF((COUNTIF('HOLIDAYS NF'!$B:$DZ,CONCATENATE(LEFT($A49,2),AF$2))<>0),\"Closed\",\"Open\")","v":"Open"},{"$f":"IF((COUNTIF('HOLIDAYS NF'!$B:$DZ,CONCATENATE(LEFT($A49,2),AG$2))<>0),\"Closed\",\"Open\")","v":"Open"},{"$f":"IF((COUNTIF('HOLIDAYS NF'!$B:$DZ,CONCATENATE(LEFT($A49,2),AH$2))<>0),\"Closed\",\"Open\")","v":"Open"},{"$f":"IF((COUNTIF('HOLIDAYS NF'!$B:$DZ,CONCATENATE(LEFT($A49,2),AI$2))<>0),\"Closed\",\"Open\")","v":"Open"},{"$f":"IF((COUNTIF('HOLIDAYS NF'!$B:$DZ,CONCATENATE(LEFT($A49,2),AJ$2))<>0),\"Closed\",\"Open\")","v":"Open"},{"$f":"IF((COUNTIF('HOLIDAYS NF'!$B:$DZ,CONCATENATE(LEFT($A49,2),AK$2))<>0),\"Closed\",\"Open\")","v":"Open"},{"$f":"IF((COUNTIF('HOLIDAYS NF'!$B:$DZ,CONCATENATE(LEFT($A49,2),AL$2))<>0),\"Closed\",\"Open\")","v":"Open"},{"$f":"IF((COUNTIF('HOLIDAYS NF'!$B:$DZ,CONCATENATE(LEFT($A49,2),AM$2))<>0),\"Closed\",\"Open\")","v":"Open"},{"$f":"IF((COUNTIF('HOLIDAYS NF'!$B:$DZ,CONCATENATE(LEFT($A49,2),AN$2))<>0),\"Closed\",\"Open\")","v":"Open"},{"$f":"IF((COUNTIF('HOLIDAYS NF'!$B:$DZ,CONCATENATE(LEFT($A49,2),AO$2))<>0),\"Closed\",\"Open\")","v":"Open"},{"$f":"IF((COUNTIF('HOLIDAYS NF'!$B:$DZ,CONCATENATE(LEFT($A49,2),AP$2))<>0),\"Closed\",\"Open\")","v":"Open"},{"$f":"IF((COUNTIF('HOLIDAYS NF'!$B:$DZ,CONCATENATE(LEFT($A49,2),AQ$2))<>0),\"Closed\",\"Open\")","v":"Open"},{"$f":"IF((COUNTIF('HOLIDAYS NF'!$B:$DZ,CONCATENATE(LEFT($A49,2),AR$2))<>0),\"Closed\",\"Open\")","v":"Open"},{"$f":"IF((COUNTIF('HOLIDAYS NF'!$B:$DZ,CONCATENATE(LEFT($A49,2),AS$2))<>0),\"Closed\",\"Open\")","v":"Open"},{"$f":"IF((COUNTIF('HOLIDAYS NF'!$B:$DZ,CONCATENATE(LEFT($A49,2),AT$2))<>0),\"Closed\",\"Open\")","v":"Open"},{"$f":"IF((COUNTIF('HOLIDAYS NF'!$B:$DZ,CONCATENATE(LEFT($A49,2),AU$2))<>0),\"Closed\",\"Open\")","v":"Open"},{"$f":"IF((COUNTIF('HOLIDAYS NF'!$B:$DZ,CONCATENATE(LEFT($A49,2),AV$2))<>0),\"Closed\",\"Open\")","v":"Open"},{"$f":"IF((COUNTIF('HOLIDAYS NF'!$B:$DZ,CONCATENATE(LEFT($A49,2),AW$2))<>0),\"Closed\",\"Open\")","v":"Open"},{"$f":"IF((COUNTIF('HOLIDAYS NF'!$B:$DZ,CONCATENATE(LEFT($A49,2),AX$2))<>0),\"Closed\",\"Open\")","v":"Open"},{"$f":"IF((COUNTIF('HOLIDAYS NF'!$B:$DZ,CONCATENATE(LEFT($A49,2),AY$2))<>0),\"Closed\",\"Open\")","v":"Open"},{"$f":"IF((COUNTIF('HOLIDAYS NF'!$B:$DZ,CONCATENATE(LEFT($A49,2),AZ$2))<>0),\"Closed\",\"Open\")","v":"Open"},{"$f":"IF((COUNTIF('HOLIDAYS NF'!$B:$DZ,CONCATENATE(LEFT($A49,2),BA$2))<>0),\"Closed\",\"Open\")","v":"Open"},{"$f":"IF((COUNTIF('HOLIDAYS NF'!$B:$DZ,CONCATENATE(LEFT($A49,2),BB$2))<>0),\"Closed\",\"Open\")","v":"Open"},{"$f":"IF((COUNTIF('HOLIDAYS NF'!$B:$DZ,CONCATENATE(LEFT($A49,2),BC$2))<>0),\"Closed\",\"Open\")","v":"Open"},{"$f":"IF((COUNTIF('HOLIDAYS NF'!$B:$DZ,CONCATENATE(LEFT($A49,2),BD$2))<>0),\"Closed\",\"Open\")","v":"Open"},{"$f":"IF((COUNTIF('HOLIDAYS NF'!$B:$DZ,CONCATENATE(LEFT($A49,2),BE$2))<>0),\"Closed\",\"Open\")","v":"Open"},{"$f":"IF((COUNTIF('HOLIDAYS NF'!$B:$DZ,CONCATENATE(LEFT($A49,2),BF$2))<>0),\"Closed\",\"Open\")","v":"Open"},{"$f":"IF((COUNTIF('HOLIDAYS NF'!$B:$DZ,CONCATENATE(LEFT($A49,2),BG$2))<>0),\"Closed\",\"Open\")","v":"Open"},{"$f":"IF((COUNTIF('HOLIDAYS NF'!$B:$DZ,CONCATENATE(LEFT($A49,2),BH$2))<>0),\"Closed\",\"Open\")","v":"Open"},{"$f":"IF((COUNTIF('HOLIDAYS NF'!$B:$DZ,CONCATENATE(LEFT($A49,2),BI$2))<>0),\"Closed\",\"Open\")","v":"Open"},{"$f":"IF((COUNTIF('HOLIDAYS NF'!$B:$DZ,CONCATENATE(LEFT($A49,2),BJ$2))<>0),\"Closed\",\"Open\")","v":"Open"}]
["PA",{"$f":"SUMIF(Holdings!G:G,(CONCATENATE($B$1,\"-\",A50,)),Holdings!H:H)","v":0},{"$f":"HLOOKUP(A50,'[1]HOLIDAYS NF'!B$1:BR$65536,6,FALSE)","v":"Panama"},{"$f":"IF((COUNTIF('HOLIDAYS NF'!$B:$DZ,CONCATENATE(LEFT($A50,2),D$2))<>0),\"Closed\",\"Open\")","v":"Open"},{"$f":"IF((COUNTIF('HOLIDAYS NF'!$B:$DZ,CONCATENATE(LEFT($A50,2),E$2))<>0),\"Closed\",\"Open\")","v":"Open"},{"$f":"IF((COUNTIF('HOLIDAYS NF'!$B:$DZ,CONCATENATE(LEFT($A50,2),F$2))<>0),\"Closed\",\"Open\")","v":"Open"},{"$f":"IF((COUNTIF('HOLIDAYS NF'!$B:$DZ,CONCATENATE(LEFT($A50,2),G$2))<>0),\"Closed\",\"Open\")","v":"Open"},{"$f":"IF((COUNTIF('HOLIDAYS NF'!$B:$DZ,CONCATENATE(LEFT($A50,2),H$2))<>0),\"Closed\",\"Open\")","v":"Open"},{"$f":"IF((COUNTIF('HOLIDAYS NF'!$B:$DZ,CONCATENATE(LEFT($A50,2),I$2))<>0),\"Closed\",\"Open\")","v":"Open"},{"$f":"IF((COUNTIF('HOLIDAYS NF'!$B:$DZ,CONCATENATE(LEFT($A50,2),J$2))<>0),\"Closed\",\"Open\")","v":"Open"},{"$f":"IF((COUNTIF('HOLIDAYS NF'!$B:$DZ,CONCATENATE(LEFT($A50,2),K$2))<>0),\"Closed\",\"Open\")","v":"Open"},{"$f":"IF((COUNTIF('HOLIDAYS NF'!$B:$DZ,CONCATENATE(LEFT($A50,2),L$2))<>0),\"Closed\",\"Open\")","v":"Open"},{"$f":"IF((COUNTIF('HOLIDAYS NF'!$B:$DZ,CONCATENATE(LEFT($A50,2),M$2))<>0),\"Closed\",\"Open\")","v":"Open"},{"$f":"IF((COUNTIF('HOLIDAYS NF'!$B:$DZ,CONCATENATE(LEFT($A50,2),N$2))<>0),\"Closed\",\"Open\")","v":"Open"},{"$f":"IF((COUNTIF('HOLIDAYS NF'!$B:$DZ,CONCATENATE(LEFT($A50,2),O$2))<>0),\"Closed\",\"Open\")","v":"Open"},{"$f":"IF((COUNTIF('HOLIDAYS NF'!$B:$DZ,CONCATENATE(LEFT($A50,2),P$2))<>0),\"Closed\",\"Open\")","v":"Open"},{"$f":"IF((COUNTIF('HOLIDAYS NF'!$B:$DZ,CONCATENATE(LEFT($A50,2),Q$2))<>0),\"Closed\",\"Open\")","v":"Open"},{"$f":"IF((COUNTIF('HOLIDAYS NF'!$B:$DZ,CONCATENATE(LEFT($A50,2),R$2))<>0),\"Closed\",\"Open\")","v":"Open"},{"$f":"IF((COUNTIF('HOLIDAYS NF'!$B:$DZ,CONCATENATE(LEFT($A50,2),S$2))<>0),\"Closed\",\"Open\")","v":"Open"},{"$f":"IF((COUNTIF('HOLIDAYS NF'!$B:$DZ,CONCATENATE(LEFT($A50,2),T$2))<>0),\"Closed\",\"Open\")","v":"Open"},{"$f":"IF((COUNTIF('HOLIDAYS NF'!$B:$DZ,CONCATENATE(LEFT($A50,2),U$2))<>0),\"Closed\",\"Open\")","v":"Open"},{"$f":"IF((COUNTIF('HOLIDAYS NF'!$B:$DZ,CONCATENATE(LEFT($A50,2),V$2))<>0),\"Closed\",\"Open\")","v":"Open"},{"$f":"IF((COUNTIF('HOLIDAYS NF'!$B:$DZ,CONCATENATE(LEFT($A50,2),W$2))<>0),\"Closed\",\"Open\")","v":"Open"},{"$f":"IF((COUNTIF('HOLIDAYS NF'!$B:$DZ,CONCATENATE(LEFT($A50,2),X$2))<>0),\"Closed\",\"Open\")","v":"Open"},{"$f":"IF((COUNTIF('HOLIDAYS NF'!$B:$DZ,CONCATENATE(LEFT($A50,2),Y$2))<>0),\"Closed\",\"Open\")","v":"Open"},{"$f":"IF((COUNTIF('HOLIDAYS NF'!$B:$DZ,CONCATENATE(LEFT($A50,2),Z$2))<>0),\"Closed\",\"Open\")","v":"Open"},{"$f":"IF((COUNTIF('HOLIDAYS NF'!$B:$DZ,CONCATENATE(LEFT($A50,2),AA$2))<>0),\"Closed\",\"Open\")","v":"Open"},{"$f":"IF((COUNTIF('HOLIDAYS NF'!$B:$DZ,CONCATENATE(LEFT($A50,2),AB$2))<>0),\"Closed\",\"Open\")","v":"Open"},{"$f":"IF((COUNTIF('HOLIDAYS NF'!$B:$DZ,CONCATENATE(LEFT($A50,2),AC$2))<>0),\"Closed\",\"Open\")","v":"Open"},{"$f":"IF((COUNTIF('HOLIDAYS NF'!$B:$DZ,CONCATENATE(LEFT($A50,2),AD$2))<>0),\"Closed\",\"Open\")","v":"Open"},{"$f":"IF((COUNTIF('HOLIDAYS NF'!$B:$DZ,CONCATENATE(LEFT($A50,2),AE$2))<>0),\"Closed\",\"Open\")","v":"Open"},{"$f":"IF((COUNTIF('HOLIDAYS NF'!$B:$DZ,CONCATENATE(LEFT($A50,2),AF$2))<>0),\"Closed\",\"Open\")","v":"Open"},{"$f":"IF((COUNTIF('HOLIDAYS NF'!$B:$DZ,CONCATENATE(LEFT($A50,2),AG$2))<>0),\"Closed\",\"Open\")","v":"Open"},{"$f":"IF((COUNTIF('HOLIDAYS NF'!$B:$DZ,CONCATENATE(LEFT($A50,2),AH$2))<>0),\"Closed\",\"Open\")","v":"Open"},{"$f":"IF((COUNTIF('HOLIDAYS NF'!$B:$DZ,CONCATENATE(LEFT($A50,2),AI$2))<>0),\"Closed\",\"Open\")","v":"Open"},{"$f":"IF((COUNTIF('HOLIDAYS NF'!$B:$DZ,CONCATENATE(LEFT($A50,2),AJ$2))<>0),\"Closed\",\"Open\")","v":"Open"},{"$f":"IF((COUNTIF('HOLIDAYS NF'!$B:$DZ,CONCATENATE(LEFT($A50,2),AK$2))<>0),\"Closed\",\"Open\")","v":"Open"},{"$f":"IF((COUNTIF('HOLIDAYS NF'!$B:$DZ,CONCATENATE(LEFT($A50,2),AL$2))<>0),\"Closed\",\"Open\")","v":"Open"},{"$f":"IF((COUNTIF('HOLIDAYS NF'!$B:$DZ,CONCATENATE(LEFT($A50,2),AM$2))<>0),\"Closed\",\"Open\")","v":"Open"},{"$f":"IF((COUNTIF('HOLIDAYS NF'!$B:$DZ,CONCATENATE(LEFT($A50,2),AN$2))<>0),\"Closed\",\"Open\")","v":"Open"},{"$f":"IF((COUNTIF('HOLIDAYS NF'!$B:$DZ,CONCATENATE(LEFT($A50,2),AO$2))<>0),\"Closed\",\"Open\")","v":"Open"},{"$f":"IF((COUNTIF('HOLIDAYS NF'!$B:$DZ,CONCATENATE(LEFT($A50,2),AP$2))<>0),\"Closed\",\"Open\")","v":"Open"},{"$f":"IF((COUNTIF('HOLIDAYS NF'!$B:$DZ,CONCATENATE(LEFT($A50,2),AQ$2))<>0),\"Closed\",\"Open\")","v":"Open"},{"$f":"IF((COUNTIF('HOLIDAYS NF'!$B:$DZ,CONCATENATE(LEFT($A50,2),AR$2))<>0),\"Closed\",\"Open\")","v":"Open"},{"$f":"IF((COUNTIF('HOLIDAYS NF'!$B:$DZ,CONCATENATE(LEFT($A50,2),AS$2))<>0),\"Closed\",\"Open\")","v":"Open"},{"$f":"IF((COUNTIF('HOLIDAYS NF'!$B:$DZ,CONCATENATE(LEFT($A50,2),AT$2))<>0),\"Closed\",\"Open\")","v":"Open"},{"$f":"IF((COUNTIF('HOLIDAYS NF'!$B:$DZ,CONCATENATE(LEFT($A50,2),AU$2))<>0),\"Closed\",\"Open\")","v":"Open"},{"$f":"IF((COUNTIF('HOLIDAYS NF'!$B:$DZ,CONCATENATE(LEFT($A50,2),AV$2))<>0),\"Closed\",\"Open\")","v":"Open"},{"$f":"IF((COUNTIF('HOLIDAYS NF'!$B:$DZ,CONCATENATE(LEFT($A50,2),AW$2))<>0),\"Closed\",\"Open\")","v":"Open"},{"$f":"IF((COUNTIF('HOLIDAYS NF'!$B:$DZ,CONCATENATE(LEFT($A50,2),AX$2))<>0),\"Closed\",\"Open\")","v":"Open"},{"$f":"IF((COUNTIF('HOLIDAYS NF'!$B:$DZ,CONCATENATE(LEFT($A50,2),AY$2))<>0),\"Closed\",\"Open\")","v":"Open"},{"$f":"IF((COUNTIF('HOLIDAYS NF'!$B:$DZ,CONCATENATE(LEFT($A50,2),AZ$2))<>0),\"Closed\",\"Open\")","v":"Open"},{"$f":"IF((COUNTIF('HOLIDAYS NF'!$B:$DZ,CONCATENATE(LEFT($A50,2),BA$2))<>0),\"Closed\",\"Open\")","v":"Open"},{"$f":"IF((COUNTIF('HOLIDAYS NF'!$B:$DZ,CONCATENATE(LEFT($A50,2),BB$2))<>0),\"Closed\",\"Open\")","v":"Open"},{"$f":"IF((COUNTIF('HOLIDAYS NF'!$B:$DZ,CONCATENATE(LEFT($A50,2),BC$2))<>0),\"Closed\",\"Open\")","v":"Open"},{"$f":"IF((COUNTIF('HOLIDAYS NF'!$B:$DZ,CONCATENATE(LEFT($A50,2),BD$2))<>0),\"Closed\",\"Open\")","v":"Open"},{"$f":"IF((COUNTIF('HOLIDAYS NF'!$B:$DZ,CONCATENATE(LEFT($A50,2),BE$2))<>0),\"Closed\",\"Open\")","v":"Open"},{"$f":"IF((COUNTIF('HOLIDAYS NF'!$B:$DZ,CONCATENATE(LEFT($A50,2),BF$2))<>0),\"Closed\",\"Open\")","v":"Open"},{"$f":"IF((COUNTIF('HOLIDAYS NF'!$B:$DZ,CONCATENATE(LEFT($A50,2),BG$2))<>0),\"Closed\",\"Open\")","v":"Open"},{"$f":"IF((COUNTIF('HOLIDAYS NF'!$B:$DZ,CONCATENATE(LEFT($A50,2),BH$2))<>0),\"Closed\",\"Open\")","v":"Open"},{"$f":"IF((COUNTIF('HOLIDAYS NF'!$B:$DZ,CONCATENATE(LEFT($A50,2),BI$2))<>0),\"Closed\",\"Open\")","v":"Open"},{"$f":"IF((COUNTIF('HOLIDAYS NF'!$B:$DZ,CONCATENATE(LEFT($A50,2),BJ$2))<>0),\"Closed\",\"Open\")","v":"Open"}]
["PE",{"$f":"SUMIF(Holdings!G:G,(CONCATENATE($B$1,\"-\",A51,)),Holdings!H:H)","v":0},{"$f":"HLOOKUP(A51,'[1]HOLIDAYS NF'!B$1:BR$65536,6,FALSE)","v":"Peru"},{"$f":"IF((COUNTIF('HOLIDAYS NF'!$B:$DZ,CONCATENATE(LEFT($A51,2),D$2))<>0),\"Closed\",\"Open\")","v":"Open"},{"$f":"IF((COUNTIF('HOLIDAYS NF'!$B:$DZ,CONCATENATE(LEFT($A51,2),E$2))<>0),\"Closed\",\"Open\")","v":"Open"},{"$f":"IF((COUNTIF('HOLIDAYS NF'!$B:$DZ,CONCATENATE(LEFT($A51,2),F$2))<>0),\"Closed\",\"Open\")","v":"Open"},{"$f":"IF((COUNTIF('HOLIDAYS NF'!$B:$DZ,CONCATENATE(LEFT($A51,2),G$2))<>0),\"Closed\",\"Open\")","v":"Open"},{"$f":"IF((COUNTIF('HOLIDAYS NF'!$B:$DZ,CONCATENATE(LEFT($A51,2),H$2))<>0),\"Closed\",\"Open\")","v":"Open"},{"$f":"IF((COUNTIF('HOLIDAYS NF'!$B:$DZ,CONCATENATE(LEFT($A51,2),I$2))<>0),\"Closed\",\"Open\")","v":"Open"},{"$f":"IF((COUNTIF('HOLIDAYS NF'!$B:$DZ,CONCATENATE(LEFT($A51,2),J$2))<>0),\"Closed\",\"Open\")","v":"Open"},{"$f":"IF((COUNTIF('HOLIDAYS NF'!$B:$DZ,CONCATENATE(LEFT($A51,2),K$2))<>0),\"Closed\",\"Open\")","v":"Open"},{"$f":"IF((COUNTIF('HOLIDAYS NF'!$B:$DZ,CONCATENATE(LEFT($A51,2),L$2))<>0),\"Closed\",\"Open\")","v":"Open"},{"$f":"IF((COUNTIF('HOLIDAYS NF'!$B:$DZ,CONCATENATE(LEFT($A51,2),M$2))<>0),\"Closed\",\"Open\")","v":"Open"},{"$f":"IF((COUNTIF('HOLIDAYS NF'!$B:$DZ,CONCATENATE(LEFT($A51,2),N$2))<>0),\"Closed\",\"Open\")","v":"Open"},{"$f":"IF((COUNTIF('HOLIDAYS NF'!$B:$DZ,CONCATENATE(LEFT($A51,2),O$2))<>0),\"Closed\",\"Open\")","v":"Open"},{"$f":"IF((COUNTIF('HOLIDAYS NF'!$B:$DZ,CONCATENATE(LEFT($A51,2),P$2))<>0),\"Closed\",\"Open\")","v":"Open"},{"$f":"IF((COUNTIF('HOLIDAYS NF'!$B:$DZ,CONCATENATE(LEFT($A51,2),Q$2))<>0),\"Closed\",\"Open\")","v":"Open"},{"$f":"IF((COUNTIF('HOLIDAYS NF'!$B:$DZ,CONCATENATE(LEFT($A51,2),R$2))<>0),\"Closed\",\"Open\")","v":"Open"},{"$f":"IF((COUNTIF('HOLIDAYS NF'!$B:$DZ,CONCATENATE(LEFT($A51,2),S$2))<>0),\"Closed\",\"Open\")","v":"Open"},{"$f":"IF((COUNTIF('HOLIDAYS NF'!$B:$DZ,CONCATENATE(LEFT($A51,2),T$2))<>0),\"Closed\",\"Open\")","v":"Open"},{"$f":"IF((COUNTIF('HOLIDAYS NF'!$B:$DZ,CONCATENATE(LEFT($A51,2),U$2))<>0),\"Closed\",\"Open\")","v":"Open"},{"$f":"IF((COUNTIF('HOLIDAYS NF'!$B:$DZ,CONCATENATE(LEFT($A51,2),V$2))<>0),\"Closed\",\"Open\")","v":"Open"},{"$f":"IF((COUNTIF('HOLIDAYS NF'!$B:$DZ,CONCATENATE(LEFT($A51,2),W$2))<>0),\"Closed\",\"Open\")","v":"Open"},{"$f":"IF((COUNTIF('HOLIDAYS NF'!$B:$DZ,CONCATENATE(LEFT($A51,2),X$2))<>0),\"Closed\",\"Open\")","v":"Open"},{"$f":"IF((COUNTIF('HOLIDAYS NF'!$B:$DZ,CONCATENATE(LEFT($A51,2),Y$2))<>0),\"Closed\",\"Open\")","v":"Open"},{"$f":"IF((COUNTIF('HOLIDAYS NF'!$B:$DZ,CONCATENATE(LEFT($A51,2),Z$2))<>0),\"Closed\",\"Open\")","v":"Open"},{"$f":"IF((COUNTIF('HOLIDAYS NF'!$B:$DZ,CONCATENATE(LEFT($A51,2),AA$2))<>0),\"Closed\",\"Open\")","v":"Open"},{"$f":"IF((COUNTIF('HOLIDAYS NF'!$B:$DZ,CONCATENATE(LEFT($A51,2),AB$2))<>0),\"Closed\",\"Open\")","v":"Open"},{"$f":"IF((COUNTIF('HOLIDAYS NF'!$B:$DZ,CONCATENATE(LEFT($A51,2),AC$2))<>0),\"Closed\",\"Open\")","v":"Open"},{"$f":"IF((COUNTIF('HOLIDAYS NF'!$B:$DZ,CONCATENATE(LEFT($A51,2),AD$2))<>0),\"Closed\",\"Open\")","v":"Open"},{"$f":"IF((COUNTIF('HOLIDAYS NF'!$B:$DZ,CONCATENATE(LEFT($A51,2),AE$2))<>0),\"Closed\",\"Open\")","v":"Open"},{"$f":"IF((COUNTIF('HOLIDAYS NF'!$B:$DZ,CONCATENATE(LEFT($A51,2),AF$2))<>0),\"Closed\",\"Open\")","v":"Open"},{"$f":"IF((COUNTIF('HOLIDAYS NF'!$B:$DZ,CONCATENATE(LEFT($A51,2),AG$2))<>0),\"Closed\",\"Open\")","v":"Open"},{"$f":"IF((COUNTIF('HOLIDAYS NF'!$B:$DZ,CONCATENATE(LEFT($A51,2),AH$2))<>0),\"Closed\",\"Open\")","v":"Open"},{"$f":"IF((COUNTIF('HOLIDAYS NF'!$B:$DZ,CONCATENATE(LEFT($A51,2),AI$2))<>0),\"Closed\",\"Open\")","v":"Open"},{"$f":"IF((COUNTIF('HOLIDAYS NF'!$B:$DZ,CONCATENATE(LEFT($A51,2),AJ$2))<>0),\"Closed\",\"Open\")","v":"Open"},{"$f":"IF((COUNTIF('HOLIDAYS NF'!$B:$DZ,CONCATENATE(LEFT($A51,2),AK$2))<>0),\"Closed\",\"Open\")","v":"Open"},{"$f":"IF((COUNTIF('HOLIDAYS NF'!$B:$DZ,CONCATENATE(LEFT($A51,2),AL$2))<>0),\"Closed\",\"Open\")","v":"Open"},{"$f":"IF((COUNTIF('HOLIDAYS NF'!$B:$DZ,CONCATENATE(LEFT($A51,2),AM$2))<>0),\"Closed\",\"Open\")","v":"Open"},{"$f":"IF((COUNTIF('HOLIDAYS NF'!$B:$DZ,CONCATENATE(LEFT($A51,2),AN$2))<>0),\"Closed\",\"Open\")","v":"Open"},{"$f":"IF((COUNTIF('HOLIDAYS NF'!$B:$DZ,CONCATENATE(LEFT($A51,2),AO$2))<>0),\"Closed\",\"Open\")","v":"Open"},{"$f":"IF((COUNTIF('HOLIDAYS NF'!$B:$DZ,CONCATENATE(LEFT($A51,2),AP$2))<>0),\"Closed\",\"Open\")","v":"Open"},{"$f":"IF((COUNTIF('HOLIDAYS NF'!$B:$DZ,CONCATENATE(LEFT($A51,2),AQ$2))<>0),\"Closed\",\"Open\")","v":"Open"},{"$f":"IF((COUNTIF('HOLIDAYS NF'!$B:$DZ,CONCATENATE(LEFT($A51,2),AR$2))<>0),\"Closed\",\"Open\")","v":"Open"},{"$f":"IF((COUNTIF('HOLIDAYS NF'!$B:$DZ,CONCATENATE(LEFT($A51,2),AS$2))<>0),\"Closed\",\"Open\")","v":"Open"},{"$f":"IF((COUNTIF('HOLIDAYS NF'!$B:$DZ,CONCATENATE(LEFT($A51,2),AT$2))<>0),\"Closed\",\"Open\")","v":"Open"},{"$f":"IF((COUNTIF('HOLIDAYS NF'!$B:$DZ,CONCATENATE(LEFT($A51,2),AU$2))<>0),\"Closed\",\"Open\")","v":"Open"},{"$f":"IF((COUNTIF('HOLIDAYS NF'!$B:$DZ,CONCATENATE(LEFT($A51,2),AV$2))<>0),\"Closed\",\"Open\")","v":"Open"},{"$f":"IF((COUNTIF('HOLIDAYS NF'!$B:$DZ,CONCATENATE(LEFT($A51,2),AW$2))<>0),\"Closed\",\"Open\")","v":"Open"},{"$f":"IF((COUNTIF('HOLIDAYS NF'!$B:$DZ,CONCATENATE(LEFT($A51,2),AX$2))<>0),\"Closed\",\"Open\")","v":"Open"},{"$f":"IF((COUNTIF('HOLIDAYS NF'!$B:$DZ,CONCATENATE(LEFT($A51,2),AY$2))<>0),\"Closed\",\"Open\")","v":"Open"},{"$f":"IF((COUNTIF('HOLIDAYS NF'!$B:$DZ,CONCATENATE(LEFT($A51,2),AZ$2))<>0),\"Closed\",\"Open\")","v":"Open"},{"$f":"IF((COUNTIF('HOLIDAYS NF'!$B:$DZ,CONCATENATE(LEFT($A51,2),BA$2))<>0),\"Closed\",\"Open\")","v":"Open"},{"$f":"IF((COUNTIF('HOLIDAYS NF'!$B:$DZ,CONCATENATE(LEFT($A51,2),BB$2))<>0),\"Closed\",\"Open\")","v":"Open"},{"$f":"IF((COUNTIF('HOLIDAYS NF'!$B:$DZ,CONCATENATE(LEFT($A51,2),BC$2))<>0),\"Closed\",\"Open\")","v":"Open"},{"$f":"IF((COUNTIF('HOLIDAYS NF'!$B:$DZ,CONCATENATE(LEFT($A51,2),BD$2))<>0),\"Closed\",\"Open\")","v":"Open"},{"$f":"IF((COUNTIF('HOLIDAYS NF'!$B:$DZ,CONCATENATE(LEFT($A51,2),BE$2))<>0),\"Closed\",\"Open\")","v":"Open"},{"$f":"IF((COUNTIF('HOLIDAYS NF'!$B:$DZ,CONCATENATE(LEFT($A51,2),BF$2))<>0),\"Closed\",\"Open\")","v":"Open"},{"$f":"IF((COUNTIF('HOLIDAYS NF'!$B:$DZ,CONCATENATE(LEFT($A51,2),BG$2))<>0),\"Closed\",\"Open\")","v":"Open"},{"$f":"IF((COUNTIF('HOLIDAYS NF'!$B:$DZ,CONCATENATE(LEFT($A51,2),BH$2))<>0),\"Closed\",\"Open\")","v":"Open"},{"$f":"IF((COUNTIF('HOLIDAYS NF'!$B:$DZ,CONCATENATE(LEFT($A51,2),BI$2))<>0),\"Closed\",\"Open\")","v":"Open"},{"$f":"IF((COUNTIF('HOLIDAYS NF'!$B:$DZ,CONCATENATE(LEFT($A51,2),BJ$2))<>0),\"Closed\",\"Open\")","v":"Open"}]
["PH",{"$f":"SUMIF(Holdings!G:G,(CONCATENATE($B$1,\"-\",A52,)),Holdings!H:H)","v":0},{"$f":"HLOOKUP(A52,'[1]HOLIDAYS NF'!B$1:BR$65536,6,FALSE)","v":"Philippines"},{"$f":"IF((COUNTIF('HOLIDAYS NF'!$B:$DZ,CONCATENATE(LEFT($A52,2),D$2))<>0),\"Closed\",\"Open\")","v":"Open"},{"$f":"IF((COUNTIF('HOLIDAYS NF'!$B:$DZ,CONCATENATE(LEFT($A52,2),E$2))<>0),\"Closed\",\"Open\")","v":"Open"},{"$f":"IF((COUNTIF('HOLIDAYS NF'!$B:$DZ,CONCATENATE(LEFT($A52,2),F$2))<>0),\"Closed\",\"Open\")","v":"Open"},{"$f":"IF((COUNTIF('HOLIDAYS NF'!$B:$DZ,CONCATENATE(LEFT($A52,2),G$2))<>0),\"Closed\",\"Open\")","v":"Open"},{"$f":"IF((COUNTIF('HOLIDAYS NF'!$B:$DZ,CONCATENATE(LEFT($A52,2),H$2))<>0),\"Closed\",\"Open\")","v":"Open"},{"$f":"IF((COUNTIF('HOLIDAYS NF'!$B:$DZ,CONCATENATE(LEFT($A52,2),I$2))<>0),\"Closed\",\"Open\")","v":"Open"},{"$f":"IF((COUNTIF('HOLIDAYS NF'!$B:$DZ,CONCATENATE(LEFT($A52,2),J$2))<>0),\"Closed\",\"Open\")","v":"Open"},{"$f":"IF((COUNTIF('HOLIDAYS NF'!$B:$DZ,CONCATENATE(LEFT($A52,2),K$2))<>0),\"Closed\",\"Open\")","v":"Open"},{"$f":"IF((COUNTIF('HOLIDAYS NF'!$B:$DZ,CONCATENATE(LEFT($A52,2),L$2))<>0),\"Closed\",\"Open\")","v":"Open"},{"$f":"IF((COUNTIF('HOLIDAYS NF'!$B:$DZ,CONCATENATE(LEFT($A52,2),M$2))<>0),\"Closed\",\"Open\")","v":"Open"},{"$f":"IF((COUNTIF('HOLIDAYS NF'!$B:$DZ,CONCATENATE(LEFT($A52,2),N$2))<>0),\"Closed\",\"Open\")","v":"Open"},{"$f":"IF((COUNTIF('HOLIDAYS NF'!$B:$DZ,CONCATENATE(LEFT($A52,2),O$2))<>0),\"Closed\",\"Open\")","v":"Open"},{"$f":"IF((COUNTIF('HOLIDAYS NF'!$B:$DZ,CONCATENATE(LEFT($A52,2),P$2))<>0),\"Closed\",\"Open\")","v":"Open"},{"$f":"IF((COUNTIF('HOLIDAYS NF'!$B:$DZ,CONCATENATE(LEFT($A52,2),Q$2))<>0),\"Closed\",\"Open\")","v":"Open"},{"$f":"IF((COUNTIF('HOLIDAYS NF'!$B:$DZ,CONCATENATE(LEFT($A52,2),R$2))<>0),\"Closed\",\"Open\")","v":"Open"},{"$f":"IF((COUNTIF('HOLIDAYS NF'!$B:$DZ,CONCATENATE(LEFT($A52,2),S$2))<>0),\"Closed\",\"Open\")","v":"Open"},{"$f":"IF((COUNTIF('HOLIDAYS NF'!$B:$DZ,CONCATENATE(LEFT($A52,2),T$2))<>0),\"Closed\",\"Open\")","v":"Open"},{"$f":"IF((COUNTIF('HOLIDAYS NF'!$B:$DZ,CONCATENATE(LEFT($A52,2),U$2))<>0),\"Closed\",\"Open\")","v":"Open"},{"$f":"IF((COUNTIF('HOLIDAYS NF'!$B:$DZ,CONCATENATE(LEFT($A52,2),V$2))<>0),\"Closed\",\"Open\")","v":"Open"},{"$f":"IF((COUNTIF('HOLIDAYS NF'!$B:$DZ,CONCATENATE(LEFT($A52,2),W$2))<>0),\"Closed\",\"Open\")","v":"Open"},{"$f":"IF((COUNTIF('HOLIDAYS NF'!$B:$DZ,CONCATENATE(LEFT($A52,2),X$2))<>0),\"Closed\",\"Open\")","v":"Open"},{"$f":"IF((COUNTIF('HOLIDAYS NF'!$B:$DZ,CONCATENATE(LEFT($A52,2),Y$2))<>0),\"Closed\",\"Open\")","v":"Open"},{"$f":"IF((COUNTIF('HOLIDAYS NF'!$B:$DZ,CONCATENATE(LEFT($A52,2),Z$2))<>0),\"Closed\",\"Open\")","v":"Open"},{"$f":"IF((COUNTIF('HOLIDAYS NF'!$B:$DZ,CONCATENATE(LEFT($A52,2),AA$2))<>0),\"Closed\",\"Open\")","v":"Open"},{"$f":"IF((COUNTIF('HOLIDAYS NF'!$B:$DZ,CONCATENATE(LEFT($A52,2),AB$2))<>0),\"Closed\",\"Open\")","v":"Open"},{"$f":"IF((COUNTIF('HOLIDAYS NF'!$B:$DZ,CONCATENATE(LEFT($A52,2),AC$2))<>0),\"Closed\",\"Open\")","v":"Open"},{"$f":"IF((COUNTIF('HOLIDAYS NF'!$B:$DZ,CONCATENATE(LEFT($A52,2),AD$2))<>0),\"Closed\",\"Open\")","v":"Open"},{"$f":"IF((COUNTIF('HOLIDAYS NF'!$B:$DZ,CONCATENATE(LEFT($A52,2),AE$2))<>0),\"Closed\",\"Open\")","v":"Open"},{"$f":"IF((COUNTIF('HOLIDAYS NF'!$B:$DZ,CONCATENATE(LEFT($A52,2),AF$2))<>0),\"Closed\",\"Open\")","v":"Open"},{"$f":"IF((COUNTIF('HOLIDAYS NF'!$B:$DZ,CONCATENATE(LEFT($A52,2),AG$2))<>0),\"Closed\",\"Open\")","v":"Open"},{"$f":"IF((COUNTIF('HOLIDAYS NF'!$B:$DZ,CONCATENATE(LEFT($A52,2),AH$2))<>0),\"Closed\",\"Open\")","v":"Open"},{"$f":"IF((COUNTIF('HOLIDAYS NF'!$B:$DZ,CONCATENATE(LEFT($A52,2),AI$2))<>0),\"Closed\",\"Open\")","v":"Open"},{"$f":"IF((COUNTIF('HOLIDAYS NF'!$B:$DZ,CONCATENATE(LEFT($A52,2),AJ$2))<>0),\"Closed\",\"Open\")","v":"Open"},{"$f":"IF((COUNTIF('HOLIDAYS NF'!$B:$DZ,CONCATENATE(LEFT($A52,2),AK$2))<>0),\"Closed\",\"Open\")","v":"Open"},{"$f":"IF((COUNTIF('HOLIDAYS NF'!$B:$DZ,CONCATENATE(LEFT($A52,2),AL$2))<>0),\"Closed\",\"Open\")","v":"Open"},{"$f":"IF((COUNTIF('HOLIDAYS NF'!$B:$DZ,CONCATENATE(LEFT($A52,2),AM$2))<>0),\"Closed\",\"Open\")","v":"Open"},{"$f":"IF((COUNTIF('HOLIDAYS NF'!$B:$DZ,CONCATENATE(LEFT($A52,2),AN$2))<>0),\"Closed\",\"Open\")","v":"Open"},{"$f":"IF((COUNTIF('HOLIDAYS NF'!$B:$DZ,CONCATENATE(LEFT($A52,2),AO$2))<>0),\"Closed\",\"Open\")","v":"Open"},{"$f":"IF((COUNTIF('HOLIDAYS NF'!$B:$DZ,CONCATENATE(LEFT($A52,2),AP$2))<>0),\"Closed\",\"Open\")","v":"Open"},{"$f":"IF((COUNTIF('HOLIDAYS NF'!$B:$DZ,CONCATENATE(LEFT($A52,2),AQ$2))<>0),\"Closed\",\"Open\")","v":"Open"},{"$f":"IF((COUNTIF('HOLIDAYS NF'!$B:$DZ,CONCATENATE(LEFT($A52,2),AR$2))<>0),\"Closed\",\"Open\")","v":"Open"},{"$f":"IF((COUNTIF('HOLIDAYS NF'!$B:$DZ,CONCATENATE(LEFT($A52,2),AS$2))<>0),\"Closed\",\"Open\")","v":"Open"},{"$f":"IF((COUNTIF('HOLIDAYS NF'!$B:$DZ,CONCATENATE(LEFT($A52,2),AT$2))<>0),\"Closed\",\"Open\")","v":"Open"},{"$f":"IF((COUNTIF('HOLIDAYS NF'!$B:$DZ,CONCATENATE(LEFT($A52,2),AU$2))<>0),\"Closed\",\"Open\")","v":"Open"},{"$f":"IF((COUNTIF('HOLIDAYS NF'!$B:$DZ,CONCATENATE(LEFT($A52,2),AV$2))<>0),\"Closed\",\"Open\")","v":"Open"},{"$f":"IF((COUNTIF('HOLIDAYS NF'!$B:$DZ,CONCATENATE(LEFT($A52,2),AW$2))<>0),\"Closed\",\"Open\")","v":"Open"},{"$f":"IF((COUNTIF('HOLIDAYS NF'!$B:$DZ,CONCATENATE(LEFT($A52,2),AX$2))<>0),\"Closed\",\"Open\")","v":"Open"},{"$f":"IF((COUNTIF('HOLIDAYS NF'!$B:$DZ,CONCATENATE(LEFT($A52,2),AY$2))<>0),\"Closed\",\"Open\")","v":"Open"},{"$f":"IF((COUNTIF('HOLIDAYS NF'!$B:$DZ,CONCATENATE(LEFT($A52,2),AZ$2))<>0),\"Closed\",\"Open\")","v":"Open"},{"$f":"IF((COUNTIF('HOLIDAYS NF'!$B:$DZ,CONCATENATE(LEFT($A52,2),BA$2))<>0),\"Closed\",\"Open\")","v":"Open"},{"$f":"IF((COUNTIF('HOLIDAYS NF'!$B:$DZ,CONCATENATE(LEFT($A52,2),BB$2))<>0),\"Closed\",\"Open\")","v":"Open"},{"$f":"IF((COUNTIF('HOLIDAYS NF'!$B:$DZ,CONCATENATE(LEFT($A52,2),BC$2))<>0),\"Closed\",\"Open\")","v":"Open"},{"$f":"IF((COUNTIF('HOLIDAYS NF'!$B:$DZ,CONCATENATE(LEFT($A52,2),BD$2))<>0),\"Closed\",\"Open\")","v":"Open"},{"$f":"IF((COUNTIF('HOLIDAYS NF'!$B:$DZ,CONCATENATE(LEFT($A52,2),BE$2))<>0),\"Closed\",\"Open\")","v":"Open"},{"$f":"IF((COUNTIF('HOLIDAYS NF'!$B:$DZ,CONCATENATE(LEFT($A52,2),BF$2))<>0),\"Closed\",\"Open\")","v":"Open"},{"$f":"IF((COUNTIF('HOLIDAYS NF'!$B:$DZ,CONCATENATE(LEFT($A52,2),BG$2))<>0),\"Closed\",\"Open\")","v":"Open"},{"$f":"IF((COUNTIF('HOLIDAYS NF'!$B:$DZ,CONCATENATE(LEFT($A52,2),BH$2))<>0),\"Closed\",\"Open\")","v":"Open"},{"$f":"IF((COUNTIF('HOLIDAYS NF'!$B:$DZ,CONCATENATE(LEFT($A52,2),BI$2))<>0),\"Closed\",\"Open\")","v":"Open"},{"$f":"IF((COUNTIF('HOLIDAYS NF'!$B:$DZ,CONCATENATE(LEFT($A52,2),BJ$2))<>0),\"Closed\",\"Open\")","v":"Open"}]
["PL",{"$f":"SUMIF(Holdings!G:G,(CONCATENATE($B$1,\"-\",A53,)),Holdings!H:H)","v":0},{"$f":"HLOOKUP(A53,'[1]HOLIDAYS NF'!B$1:BR$65536,6,FALSE)","v":"Poland"},{"$f":"IF((COUNTIF('HOLIDAYS NF'!$B:$DZ,CONCATENATE(LEFT($A53,2),D$2))<>0),\"Closed\",\"Open\")","v":"Open"},{"$f":"IF((COUNTIF('HOLIDAYS NF'!$B:$DZ,CONCATENATE(LEFT($A53,2),E$2))<>0),\"Closed\",\"Open\")","v":"Open"},{"$f":"IF((COUNTIF('HOLIDAYS NF'!$B:$DZ,CONCATENATE(LEFT($A53,2),F$2))<>0),\"Closed\",\"Open\")","v":"Open"},{"$f":"IF((COUNTIF('HOLIDAYS NF'!$B:$DZ,CONCATENATE(LEFT($A53,2),G$2))<>0),\"Closed\",\"Open\")","v":"Open"},{"$f":"IF((COUNTIF('HOLIDAYS NF'!$B:$DZ,CONCATENATE(LEFT($A53,2),H$2))<>0),\"Closed\",\"Open\")","v":"Open"},{"$f":"IF((COUNTIF('HOLIDAYS NF'!$B:$DZ,CONCATENATE(LEFT($A53,2),I$2))<>0),\"Closed\",\"Open\")","v":"Open"},{"$f":"IF((COUNTIF('HOLIDAYS NF'!$B:$DZ,CONCATENATE(LEFT($A53,2),J$2))<>0),\"Closed\",\"Open\")","v":"Open"},{"$f":"IF((COUNTIF('HOLIDAYS NF'!$B:$DZ,CONCATENATE(LEFT($A53,2),K$2))<>0),\"Closed\",\"Open\")","v":"Open"},{"$f":"IF((COUNTIF('HOLIDAYS NF'!$B:$DZ,CONCATENATE(LEFT($A53,2),L$2))<>0),\"Closed\",\"Open\")","v":"Open"},{"$f":"IF((COUNTIF('HOLIDAYS NF'!$B:$DZ,CONCATENATE(LEFT($A53,2),M$2))<>0),\"Closed\",\"Open\")","v":"Open"},{"$f":"IF((COUNTIF('HOLIDAYS NF'!$B:$DZ,CONCATENATE(LEFT($A53,2),N$2))<>0),\"Closed\",\"Open\")","v":"Open"},{"$f":"IF((COUNTIF('HOLIDAYS NF'!$B:$DZ,CONCATENATE(LEFT($A53,2),O$2))<>0),\"Closed\",\"Open\")","v":"Open"},{"$f":"IF((COUNTIF('HOLIDAYS NF'!$B:$DZ,CONCATENATE(LEFT($A53,2),P$2))<>0),\"Closed\",\"Open\")","v":"Open"},{"$f":"IF((COUNTIF('HOLIDAYS NF'!$B:$DZ,CONCATENATE(LEFT($A53,2),Q$2))<>0),\"Closed\",\"Open\")","v":"Open"},{"$f":"IF((COUNTIF('HOLIDAYS NF'!$B:$DZ,CONCATENATE(LEFT($A53,2),R$2))<>0),\"Closed\",\"Open\")","v":"Open"},{"$f":"IF((COUNTIF('HOLIDAYS NF'!$B:$DZ,CONCATENATE(LEFT($A53,2),S$2))<>0),\"Closed\",\"Open\")","v":"Open"},{"$f":"IF((COUNTIF('HOLIDAYS NF'!$B:$DZ,CONCATENATE(LEFT($A53,2),T$2))<>0),\"Closed\",\"Open\")","v":"Open"},{"$f":"IF((COUNTIF('HOLIDAYS NF'!$B:$DZ,CONCATENATE(LEFT($A53,2),U$2))<>0),\"Closed\",\"Open\")","v":"Open"},{"$f":"IF((COUNTIF('HOLIDAYS NF'!$B:$DZ,CONCATENATE(LEFT($A53,2),V$2))<>0),\"Closed\",\"Open\")","v":"Open"},{"$f":"IF((COUNTIF('HOLIDAYS NF'!$B:$DZ,CONCATENATE(LEFT($A53,2),W$2))<>0),\"Closed\",\"Open\")","v":"Open"},{"$f":"IF((COUNTIF('HOLIDAYS NF'!$B:$DZ,CONCATENATE(LEFT($A53,2),X$2))<>0),\"Closed\",\"Open\")","v":"Open"},{"$f":"IF((COUNTIF('HOLIDAYS NF'!$B:$DZ,CONCATENATE(LEFT($A53,2),Y$2))<>0),\"Closed\",\"Open\")","v":"Open"},{"$f":"IF((COUNTIF('HOLIDAYS NF'!$B:$DZ,CONCATENATE(LEFT($A53,2),Z$2))<>0),\"Closed\",\"Open\")","v":"Open"},{"$f":"IF((COUNTIF('HOLIDAYS NF'!$B:$DZ,CONCATENATE(LEFT($A53,2),AA$2))<>0),\"Closed\",\"Open\")","v":"Open"},{"$f":"IF((COUNTIF('HOLIDAYS NF'!$B:$DZ,CONCATENATE(LEFT($A53,2),AB$2))<>0),\"Closed\",\"Open\")","v":"Open"},{"$f":"IF((COUNTIF('HOLIDAYS NF'!$B:$DZ,CONCATENATE(LEFT($A53,2),AC$2))<>0),\"Closed\",\"Open\")","v":"Open"},{"$f":"IF((COUNTIF('HOLIDAYS NF'!$B:$DZ,CONCATENATE(LEFT($A53,2),AD$2))<>0),\"Closed\",\"Open\")","v":"Open"},{"$f":"IF((COUNTIF('HOLIDAYS NF'!$B:$DZ,CONCATENATE(LEFT($A53,2),AE$2))<>0),\"Closed\",\"Open\")","v":"Open"},{"$f":"IF((COUNTIF('HOLIDAYS NF'!$B:$DZ,CONCATENATE(LEFT($A53,2),AF$2))<>0),\"Closed\",\"Open\")","v":"Open"},{"$f":"IF((COUNTIF('HOLIDAYS NF'!$B:$DZ,CONCATENATE(LEFT($A53,2),AG$2))<>0),\"Closed\",\"Open\")","v":"Open"},{"$f":"IF((COUNTIF('HOLIDAYS NF'!$B:$DZ,CONCATENATE(LEFT($A53,2),AH$2))<>0),\"Closed\",\"Open\")","v":"Open"},{"$f":"IF((COUNTIF('HOLIDAYS NF'!$B:$DZ,CONCATENATE(LEFT($A53,2),AI$2))<>0),\"Closed\",\"Open\")","v":"Open"},{"$f":"IF((COUNTIF('HOLIDAYS NF'!$B:$DZ,CONCATENATE(LEFT($A53,2),AJ$2))<>0),\"Closed\",\"Open\")","v":"Open"},{"$f":"IF((COUNTIF('HOLIDAYS NF'!$B:$DZ,CONCATENATE(LEFT($A53,2),AK$2))<>0),\"Closed\",\"Open\")","v":"Open"},{"$f":"IF((COUNTIF('HOLIDAYS NF'!$B:$DZ,CONCATENATE(LEFT($A53,2),AL$2))<>0),\"Closed\",\"Open\")","v":"Open"},{"$f":"IF((COUNTIF('HOLIDAYS NF'!$B:$DZ,CONCATENATE(LEFT($A53,2),AM$2))<>0),\"Closed\",\"Open\")","v":"Open"},{"$f":"IF((COUNTIF('HOLIDAYS NF'!$B:$DZ,CONCATENATE(LEFT($A53,2),AN$2))<>0),\"Closed\",\"Open\")","v":"Open"},{"$f":"IF((COUNTIF('HOLIDAYS NF'!$B:$DZ,CONCATENATE(LEFT($A53,2),AO$2))<>0),\"Closed\",\"Open\")","v":"Open"},{"$f":"IF((COUNTIF('HOLIDAYS NF'!$B:$DZ,CONCATENATE(LEFT($A53,2),AP$2))<>0),\"Closed\",\"Open\")","v":"Open"},{"$f":"IF((COUNTIF('HOLIDAYS NF'!$B:$DZ,CONCATENATE(LEFT($A53,2),AQ$2))<>0),\"Closed\",\"Open\")","v":"Open"},{"$f":"IF((COUNTIF('HOLIDAYS NF'!$B:$DZ,CONCATENATE(LEFT($A53,2),AR$2))<>0),\"Closed\",\"Open\")","v":"Open"},{"$f":"IF((COUNTIF('HOLIDAYS NF'!$B:$DZ,CONCATENATE(LEFT($A53,2),AS$2))<>0),\"Closed\",\"Open\")","v":"Open"},{"$f":"IF((COUNTIF('HOLIDAYS NF'!$B:$DZ,CONCATENATE(LEFT($A53,2),AT$2))<>0),\"Closed\",\"Open\")","v":"Open"},{"$f":"IF((COUNTIF('HOLIDAYS NF'!$B:$DZ,CONCATENATE(LEFT($A53,2),AU$2))<>0),\"Closed\",\"Open\")","v":"Open"},{"$f":"IF((COUNTIF('HOLIDAYS NF'!$B:$DZ,CONCATENATE(LEFT($A53,2),AV$2))<>0),\"Closed\",\"Open\")","v":"Open"},{"$f":"IF((COUNTIF('HOLIDAYS NF'!$B:$DZ,CONCATENATE(LEFT($A53,2),AW$2))<>0),\"Closed\",\"Open\")","v":"Open"},{"$f":"IF((COUNTIF('HOLIDAYS NF'!$B:$DZ,CONCATENATE(LEFT($A53,2),AX$2))<>0),\"Closed\",\"Open\")","v":"Open"},{"$f":"IF((COUNTIF('HOLIDAYS NF'!$B:$DZ,CONCATENATE(LEFT($A53,2),AY$2))<>0),\"Closed\",\"Open\")","v":"Open"},{"$f":"IF((COUNTIF('HOLIDAYS NF'!$B:$DZ,CONCATENATE(LEFT($A53,2),AZ$2))<>0),\"Closed\",\"Open\")","v":"Open"},{"$f":"IF((COUNTIF('HOLIDAYS NF'!$B:$DZ,CONCATENATE(LEFT($A53,2),BA$2))<>0),\"Closed\",\"Open\")","v":"Open"},{"$f":"IF((COUNTIF('HOLIDAYS NF'!$B:$DZ,CONCATENATE(LEFT($A53,2),BB$2))<>0),\"Closed\",\"Open\")","v":"Open"},{"$f":"IF((COUNTIF('HOLIDAYS NF'!$B:$DZ,CONCATENATE(LEFT($A53,2),BC$2))<>0),\"Closed\",\"Open\")","v":"Open"},{"$f":"IF((COUNTIF('HOLIDAYS NF'!$B:$DZ,CONCATENATE(LEFT($A53,2),BD$2))<>0),\"Closed\",\"Open\")","v":"Open"},{"$f":"IF((COUNTIF('HOLIDAYS NF'!$B:$DZ,CONCATENATE(LEFT($A53,2),BE$2))<>0),\"Closed\",\"Open\")","v":"Open"},{"$f":"IF((COUNTIF('HOLIDAYS NF'!$B:$DZ,CONCATENATE(LEFT($A53,2),BF$2))<>0),\"Closed\",\"Open\")","v":"Open"},{"$f":"IF((COUNTIF('HOLIDAYS NF'!$B:$DZ,CONCATENATE(LEFT($A53,2),BG$2))<>0),\"Closed\",\"Open\")","v":"Open"},{"$f":"IF((COUNTIF('HOLIDAYS NF'!$B:$DZ,CONCATENATE(LEFT($A53,2),BH$2))<>0),\"Closed\",\"Open\")","v":"Open"},{"$f":"IF((COUNTIF('HOLIDAYS NF'!$B:$DZ,CONCATENATE(LEFT($A53,2),BI$2))<>0),\"Closed\",\"Open\")","v":"Open"},{"$f":"IF((COUNTIF('HOLIDAYS NF'!$B:$DZ,CONCATENATE(LEFT($A53,2),BJ$2))<>0),\"Closed\",\"Open\")","v":"Open"}]
["PT",{"$f":"SUMIF(Holdings!G:G,(CONCATENATE($B$1,\"-\",A54,)),Holdings!H:H)","v":0},{"$f":"HLOOKUP(A54,'[1]HOLIDAYS NF'!B$1:BR$65536,6,FALSE)","v":"Portugal"},{"$f":"IF((COUNTIF('HOLIDAYS NF'!$B:$DZ,CONCATENATE(LEFT($A54,2),D$2))<>0),\"Closed\",\"Open\")","v":"Open"},{"$f":"IF((COUNTIF('HOLIDAYS NF'!$B:$DZ,CONCATENATE(LEFT($A54,2),E$2))<>0),\"Closed\",\"Open\")","v":"Open"},{"$f":"IF((COUNTIF('HOLIDAYS NF'!$B:$DZ,CONCATENATE(LEFT($A54,2),F$2))<>0),\"Closed\",\"Open\")","v":"Open"},{"$f":"IF((COUNTIF('HOLIDAYS NF'!$B:$DZ,CONCATENATE(LEFT($A54,2),G$2))<>0),\"Closed\",\"Open\")","v":"Open"},{"$f":"IF((COUNTIF('HOLIDAYS NF'!$B:$DZ,CONCATENATE(LEFT($A54,2),H$2))<>0),\"Closed\",\"Open\")","v":"Open"},{"$f":"IF((COUNTIF('HOLIDAYS NF'!$B:$DZ,CONCATENATE(LEFT($A54,2),I$2))<>0),\"Closed\",\"Open\")","v":"Open"},{"$f":"IF((COUNTIF('HOLIDAYS NF'!$B:$DZ,CONCATENATE(LEFT($A54,2),J$2))<>0),\"Closed\",\"Open\")","v":"Open"},{"$f":"IF((COUNTIF('HOLIDAYS NF'!$B:$DZ,CONCATENATE(LEFT($A54,2),K$2))<>0),\"Closed\",\"Open\")","v":"Open"},{"$f":"IF((COUNTIF('HOLIDAYS NF'!$B:$DZ,CONCATENATE(LEFT($A54,2),L$2))<>0),\"Closed\",\"Open\")","v":"Open"},{"$f":"IF((COUNTIF('HOLIDAYS NF'!$B:$DZ,CONCATENATE(LEFT($A54,2),M$2))<>0),\"Closed\",\"Open\")","v":"Open"},{"$f":"IF((COUNTIF('HOLIDAYS NF'!$B:$DZ,CONCATENATE(LEFT($A54,2),N$2))<>0),\"Closed\",\"Open\")","v":"Open"},{"$f":"IF((COUNTIF('HOLIDAYS NF'!$B:$DZ,CONCATENATE(LEFT($A54,2),O$2))<>0),\"Closed\",\"Open\")","v":"Open"},{"$f":"IF((COUNTIF('HOLIDAYS NF'!$B:$DZ,CONCATENATE(LEFT($A54,2),P$2))<>0),\"Closed\",\"Open\")","v":"Open"},{"$f":"IF((COUNTIF('HOLIDAYS NF'!$B:$DZ,CONCATENATE(LEFT($A54,2),Q$2))<>0),\"Closed\",\"Open\")","v":"Open"},{"$f":"IF((COUNTIF('HOLIDAYS NF'!$B:$DZ,CONCATENATE(LEFT($A54,2),R$2))<>0),\"Closed\",\"Open\")","v":"Open"},{"$f":"IF((COUNTIF('HOLIDAYS NF'!$B:$DZ,CONCATENATE(LEFT($A54,2),S$2))<>0),\"Closed\",\"Open\")","v":"Open"},{"$f":"IF((COUNTIF('HOLIDAYS NF'!$B:$DZ,CONCATENATE(LEFT($A54,2),T$2))<>0),\"Closed\",\"Open\")","v":"Open"},{"$f":"IF((COUNTIF('HOLIDAYS NF'!$B:$DZ,CONCATENATE(LEFT($A54,2),U$2))<>0),\"Closed\",\"Open\")","v":"Open"},{"$f":"IF((COUNTIF('HOLIDAYS NF'!$B:$DZ,CONCATENATE(LEFT($A54,2),V$2))<>0),\"Closed\",\"Open\")","v":"Open"},{"$f":"IF((COUNTIF('HOLIDAYS NF'!$B:$DZ,CONCATENATE(LEFT($A54,2),W$2))<>0),\"Closed\",\"Open\")","v":"Open"},{"$f":"IF((COUNTIF('HOLIDAYS NF'!$B:$DZ,CONCATENATE(LEFT($A54,2),X$2))<>0),\"Closed\",\"Open\")","v":"Open"},{"$f":"IF((COUNTIF('HOLIDAYS NF'!$B:$DZ,CONCATENATE(LEFT($A54,2),Y$2))<>0),\"Closed\",\"Open\")","v":"Open"},{"$f":"IF((COUNTIF('HOLIDAYS NF'!$B:$DZ,CONCATENATE(LEFT($A54,2),Z$2))<>0),\"Closed\",\"Open\")","v":"Open"},{"$f":"IF((COUNTIF('HOLIDAYS NF'!$B:$DZ,CONCATENATE(LEFT($A54,2),AA$2))<>0),\"Closed\",\"Open\")","v":"Open"},{"$f":"IF((COUNTIF('HOLIDAYS NF'!$B:$DZ,CONCATENATE(LEFT($A54,2),AB$2))<>0),\"Closed\",\"Open\")","v":"Open"},{"$f":"IF((COUNTIF('HOLIDAYS NF'!$B:$DZ,CONCATENATE(LEFT($A54,2),AC$2))<>0),\"Closed\",\"Open\")","v":"Open"},{"$f":"IF((COUNTIF('HOLIDAYS NF'!$B:$DZ,CONCATENATE(LEFT($A54,2),AD$2))<>0),\"Closed\",\"Open\")","v":"Open"},{"$f":"IF((COUNTIF('HOLIDAYS NF'!$B:$DZ,CONCATENATE(LEFT($A54,2),AE$2))<>0),\"Closed\",\"Open\")","v":"Open"},{"$f":"IF((COUNTIF('HOLIDAYS NF'!$B:$DZ,CONCATENATE(LEFT($A54,2),AF$2))<>0),\"Closed\",\"Open\")","v":"Open"},{"$f":"IF((COUNTIF('HOLIDAYS NF'!$B:$DZ,CONCATENATE(LEFT($A54,2),AG$2))<>0),\"Closed\",\"Open\")","v":"Open"},{"$f":"IF((COUNTIF('HOLIDAYS NF'!$B:$DZ,CONCATENATE(LEFT($A54,2),AH$2))<>0),\"Closed\",\"Open\")","v":"Open"},{"$f":"IF((COUNTIF('HOLIDAYS NF'!$B:$DZ,CONCATENATE(LEFT($A54,2),AI$2))<>0),\"Closed\",\"Open\")","v":"Open"},{"$f":"IF((COUNTIF('HOLIDAYS NF'!$B:$DZ,CONCATENATE(LEFT($A54,2),AJ$2))<>0),\"Closed\",\"Open\")","v":"Open"},{"$f":"IF((COUNTIF('HOLIDAYS NF'!$B:$DZ,CONCATENATE(LEFT($A54,2),AK$2))<>0),\"Closed\",\"Open\")","v":"Open"},{"$f":"IF((COUNTIF('HOLIDAYS NF'!$B:$DZ,CONCATENATE(LEFT($A54,2),AL$2))<>0),\"Closed\",\"Open\")","v":"Open"},{"$f":"IF((COUNTIF('HOLIDAYS NF'!$B:$DZ,CONCATENATE(LEFT($A54,2),AM$2))<>0),\"Closed\",\"Open\")","v":"Open"},{"$f":"IF((COUNTIF('HOLIDAYS NF'!$B:$DZ,CONCATENATE(LEFT($A54,2),AN$2))<>0),\"Closed\",\"Open\")","v":"Open"},{"$f":"IF((COUNTIF('HOLIDAYS NF'!$B:$DZ,CONCATENATE(LEFT($A54,2),AO$2))<>0),\"Closed\",\"Open\")","v":"Open"},{"$f":"IF((COUNTIF('HOLIDAYS NF'!$B:$DZ,CONCATENATE(LEFT($A54,2),AP$2))<>0),\"Closed\",\"Open\")","v":"Open"},{"$f":"IF((COUNTIF('HOLIDAYS NF'!$B:$DZ,CONCATENATE(LEFT($A54,2),AQ$2))<>0),\"Closed\",\"Open\")","v":"Open"},{"$f":"IF((COUNTIF('HOLIDAYS NF'!$B:$DZ,CONCATENATE(LEFT($A54,2),AR$2))<>0),\"Closed\",\"Open\")","v":"Open"},{"$f":"IF((COUNTIF('HOLIDAYS NF'!$B:$DZ,CONCATENATE(LEFT($A54,2),AS$2))<>0),\"Closed\",\"Open\")","v":"Open"},{"$f":"IF((COUNTIF('HOLIDAYS NF'!$B:$DZ,CONCATENATE(LEFT($A54,2),AT$2))<>0),\"Closed\",\"Open\")","v":"Open"},{"$f":"IF((COUNTIF('HOLIDAYS NF'!$B:$DZ,CONCATENATE(LEFT($A54,2),AU$2))<>0),\"Closed\",\"Open\")","v":"Open"},{"$f":"IF((COUNTIF('HOLIDAYS NF'!$B:$DZ,CONCATENATE(LEFT($A54,2),AV$2))<>0),\"Closed\",\"Open\")","v":"Open"},{"$f":"IF((COUNTIF('HOLIDAYS NF'!$B:$DZ,CONCATENATE(LEFT($A54,2),AW$2))<>0),\"Closed\",\"Open\")","v":"Open"},{"$f":"IF((COUNTIF('HOLIDAYS NF'!$B:$DZ,CONCATENATE(LEFT($A54,2),AX$2))<>0),\"Closed\",\"Open\")","v":"Open"},{"$f":"IF((COUNTIF('HOLIDAYS NF'!$B:$DZ,CONCATENATE(LEFT($A54,2),AY$2))<>0),\"Closed\",\"Open\")","v":"Open"},{"$f":"IF((COUNTIF('HOLIDAYS NF'!$B:$DZ,CONCATENATE(LEFT($A54,2),AZ$2))<>0),\"Closed\",\"Open\")","v":"Open"},{"$f":"IF((COUNTIF('HOLIDAYS NF'!$B:$DZ,CONCATENATE(LEFT($A54,2),BA$2))<>0),\"Closed\",\"Open\")","v":"Open"},{"$f":"IF((COUNTIF('HOLIDAYS NF'!$B:$DZ,CONCATENATE(LEFT($A54,2),BB$2))<>0),\"Closed\",\"Open\")","v":"Open"},{"$f":"IF((COUNTIF('HOLIDAYS NF'!$B:$DZ,CONCATENATE(LEFT($A54,2),BC$2))<>0),\"Closed\",\"Open\")","v":"Open"},{"$f":"IF((COUNTIF('HOLIDAYS NF'!$B:$DZ,CONCATENATE(LEFT($A54,2),BD$2))<>0),\"Closed\",\"Open\")","v":"Open"},{"$f":"IF((COUNTIF('HOLIDAYS NF'!$B:$DZ,CONCATENATE(LEFT($A54,2),BE$2))<>0),\"Closed\",\"Open\")","v":"Open"},{"$f":"IF((COUNTIF('HOLIDAYS NF'!$B:$DZ,CONCATENATE(LEFT($A54,2),BF$2))<>0),\"Closed\",\"Open\")","v":"Open"},{"$f":"IF((COUNTIF('HOLIDAYS NF'!$B:$DZ,CONCATENATE(LEFT($A54,2),BG$2))<>0),\"Closed\",\"Open\")","v":"Open"},{"$f":"IF((COUNTIF('HOLIDAYS NF'!$B:$DZ,CONCATENATE(LEFT($A54,2),BH$2))<>0),\"Closed\",\"Open\")","v":"Open"},{"$f":"IF((COUNTIF('HOLIDAYS NF'!$B:$DZ,CONCATENATE(LEFT($A54,2),BI$2))<>0),\"Closed\",\"Open\")","v":"Open"},{"$f":"IF((COUNTIF('HOLIDAYS NF'!$B:$DZ,CONCATENATE(LEFT($A54,2),BJ$2))<>0),\"Closed\",\"Open\")","v":"Open"}]
["QA",{"$f":"SUMIF(Holdings!G:G,(CONCATENATE($B$1,\"-\",A55,)),Holdings!H:H)","v":0},{"$f":"HLOOKUP(A55,'[1]HOLIDAYS NF'!B$1:BR$65536,6,FALSE)","v":"Qatar"},{"$f":"IF((COUNTIF('HOLIDAYS NF'!$B:$DZ,CONCATENATE(LEFT($A55,2),D$2))<>0),\"Closed\",\"Open\")","v":"Open"},{"$f":"IF((COUNTIF('HOLIDAYS NF'!$B:$DZ,CONCATENATE(LEFT($A55,2),E$2))<>0),\"Closed\",\"Open\")","v":"Open"},{"$f":"IF((COUNTIF('HOLIDAYS NF'!$B:$DZ,CONCATENATE(LEFT($A55,2),F$2))<>0),\"Closed\",\"Open\")","v":"Open"},{"$f":"IF((COUNTIF('HOLIDAYS NF'!$B:$DZ,CONCATENATE(LEFT($A55,2),G$2))<>0),\"Closed\",\"Open\")","v":"Open"},{"$f":"IF((COUNTIF('HOLIDAYS NF'!$B:$DZ,CONCATENATE(LEFT($A55,2),H$2))<>0),\"Closed\",\"Open\")","v":"Open"},{"$f":"IF((COUNTIF('HOLIDAYS NF'!$B:$DZ,CONCATENATE(LEFT($A55,2),I$2))<>0),\"Closed\",\"Open\")","v":"Open"},{"$f":"IF((COUNTIF('HOLIDAYS NF'!$B:$DZ,CONCATENATE(LEFT($A55,2),J$2))<>0),\"Closed\",\"Open\")","v":"Open"},{"$f":"IF((COUNTIF('HOLIDAYS NF'!$B:$DZ,CONCATENATE(LEFT($A55,2),K$2))<>0),\"Closed\",\"Open\")","v":"Open"},{"$f":"IF((COUNTIF('HOLIDAYS NF'!$B:$DZ,CONCATENATE(LEFT($A55,2),L$2))<>0),\"Closed\",\"Open\")","v":"Open"},{"$f":"IF((COUNTIF('HOLIDAYS NF'!$B:$DZ,CONCATENATE(LEFT($A55,2),M$2))<>0),\"Closed\",\"Open\")","v":"Open"},{"$f":"IF((COUNTIF('HOLIDAYS NF'!$B:$DZ,CONCATENATE(LEFT($A55,2),N$2))<>0),\"Closed\",\"Open\")","v":"Open"},{"$f":"IF((COUNTIF('HOLIDAYS NF'!$B:$DZ,CONCATENATE(LEFT($A55,2),O$2))<>0),\"Closed\",\"Open\")","v":"Open"},{"$f":"IF((COUNTIF('HOLIDAYS NF'!$B:$DZ,CONCATENATE(LEFT($A55,2),P$2))<>0),\"Closed\",\"Open\")","v":"Open"},{"$f":"IF((COUNTIF('HOLIDAYS NF'!$B:$DZ,CONCATENATE(LEFT($A55,2),Q$2))<>0),\"Closed\",\"Open\")","v":"Open"},{"$f":"IF((COUNTIF('HOLIDAYS NF'!$B:$DZ,CONCATENATE(LEFT($A55,2),R$2))<>0),\"Closed\",\"Open\")","v":"Open"},{"$f":"IF((COUNTIF('HOLIDAYS NF'!$B:$DZ,CONCATENATE(LEFT($A55,2),S$2))<>0),\"Closed\",\"Open\")","v":"Open"},{"$f":"IF((COUNTIF('HOLIDAYS NF'!$B:$DZ,CONCATENATE(LEFT($A55,2),T$2))<>0),\"Closed\",\"Open\")","v":"Open"},{"$f":"IF((COUNTIF('HOLIDAYS NF'!$B:$DZ,CONCATENATE(LEFT($A55,2),U$2))<>0),\"Closed\",\"Open\")","v":"Open"},{"$f":"IF((COUNTIF('HOLIDAYS NF'!$B:$DZ,CONCATENATE(LEFT($A55,2),V$2))<>0),\"Closed\",\"Open\")","v":"Open"},{"$f":"IF((COUNTIF('HOLIDAYS NF'!$B:$DZ,CONCATENATE(LEFT($A55,2),W$2))<>0),\"Closed\",\"Open\")","v":"Open"},{"$f":"IF((COUNTIF('HOLIDAYS NF'!$B:$DZ,CONCATENATE(LEFT($A55,2),X$2))<>0),\"Closed\",\"Open\")","v":"Open"},{"$f":"IF((COUNTIF('HOLIDAYS NF'!$B:$DZ,CONCATENATE(LEFT($A55,2),Y$2))<>0),\"Closed\",\"Open\")","v":"Open"},{"$f":"IF((COUNTIF('HOLIDAYS NF'!$B:$DZ,CONCATENATE(LEFT($A55,2),Z$2))<>0),\"Closed\",\"Open\")","v":"Open"},{"$f":"IF((COUNTIF('HOLIDAYS NF'!$B:$DZ,CONCATENATE(LEFT($A55,2),AA$2))<>0),\"Closed\",\"Open\")","v":"Open"},{"$f":"IF((COUNTIF('HOLIDAYS NF'!$B:$DZ,CONCATENATE(LEFT($A55,2),AB$2))<>0),\"Closed\",\"Open\")","v":"Open"},{"$f":"IF((COUNTIF('HOLIDAYS NF'!$B:$DZ,CONCATENATE(LEFT($A55,2),AC$2))<>0),\"Closed\",\"Open\")","v":"Open"},{"$f":"IF((COUNTIF('HOLIDAYS NF'!$B:$DZ,CONCATENATE(LEFT($A55,2),AD$2))<>0),\"Closed\",\"Open\")","v":"Open"},{"$f":"IF((COUNTIF('HOLIDAYS NF'!$B:$DZ,CONCATENATE(LEFT($A55,2),AE$2))<>0),\"Closed\",\"Open\")","v":"Open"},{"$f":"IF((COUNTIF('HOLIDAYS NF'!$B:$DZ,CONCATENATE(LEFT($A55,2),AF$2))<>0),\"Closed\",\"Open\")","v":"Open"},{"$f":"IF((COUNTIF('HOLIDAYS NF'!$B:$DZ,CONCATENATE(LEFT($A55,2),AG$2))<>0),\"Closed\",\"Open\")","v":"Open"},{"$f":"IF((COUNTIF('HOLIDAYS NF'!$B:$DZ,CONCATENATE(LEFT($A55,2),AH$2))<>0),\"Closed\",\"Open\")","v":"Open"},{"$f":"IF((COUNTIF('HOLIDAYS NF'!$B:$DZ,CONCATENATE(LEFT($A55,2),AI$2))<>0),\"Closed\",\"Open\")","v":"Open"},{"$f":"IF((COUNTIF('HOLIDAYS NF'!$B:$DZ,CONCATENATE(LEFT($A55,2),AJ$2))<>0),\"Closed\",\"Open\")","v":"Open"},{"$f":"IF((COUNTIF('HOLIDAYS NF'!$B:$DZ,CONCATENATE(LEFT($A55,2),AK$2))<>0),\"Closed\",\"Open\")","v":"Open"},{"$f":"IF((COUNTIF('HOLIDAYS NF'!$B:$DZ,CONCATENATE(LEFT($A55,2),AL$2))<>0),\"Closed\",\"Open\")","v":"Open"},{"$f":"IF((COUNTIF('HOLIDAYS NF'!$B:$DZ,CONCATENATE(LEFT($A55,2),AM$2))<>0),\"Closed\",\"Open\")","v":"Open"},{"$f":"IF((COUNTIF('HOLIDAYS NF'!$B:$DZ,CONCATENATE(LEFT($A55,2),AN$2))<>0),\"Closed\",\"Open\")","v":"Open"},{"$f":"IF((COUNTIF('HOLIDAYS NF'!$B:$DZ,CONCATENATE(LEFT($A55,2),AO$2))<>0),\"Closed\",\"Open\")","v":"Open"},{"$f":"IF((COUNTIF('HOLIDAYS NF'!$B:$DZ,CONCATENATE(LEFT($A55,2),AP$2))<>0),\"Closed\",\"Open\")","v":"Open"},{"$f":"IF((COUNTIF('HOLIDAYS NF'!$B:$DZ,CONCATENATE(LEFT($A55,2),AQ$2))<>0),\"Closed\",\"Open\")","v":"Open"},{"$f":"IF((COUNTIF('HOLIDAYS NF'!$B:$DZ,CONCATENATE(LEFT($A55,2),AR$2))<>0),\"Closed\",\"Open\")","v":"Open"},{"$f":"IF((COUNTIF('HOLIDAYS NF'!$B:$DZ,CONCATENATE(LEFT($A55,2),AS$2))<>0),\"Closed\",\"Open\")","v":"Open"},{"$f":"IF((COUNTIF('HOLIDAYS NF'!$B:$DZ,CONCATENATE(LEFT($A55,2),AT$2))<>0),\"Closed\",\"Open\")","v":"Open"},{"$f":"IF((COUNTIF('HOLIDAYS NF'!$B:$DZ,CONCATENATE(LEFT($A55,2),AU$2))<>0),\"Closed\",\"Open\")","v":"Open"},{"$f":"IF((COUNTIF('HOLIDAYS NF'!$B:$DZ,CONCATENATE(LEFT($A55,2),AV$2))<>0),\"Closed\",\"Open\")","v":"Open"},{"$f":"IF((COUNTIF('HOLIDAYS NF'!$B:$DZ,CONCATENATE(LEFT($A55,2),AW$2))<>0),\"Closed\",\"Open\")","v":"Open"},{"$f":"IF((COUNTIF('HOLIDAYS NF'!$B:$DZ,CONCATENATE(LEFT($A55,2),AX$2))<>0),\"Closed\",\"Open\")","v":"Open"},{"$f":"IF((COUNTIF('HOLIDAYS NF'!$B:$DZ,CONCATENATE(LEFT($A55,2),AY$2))<>0),\"Closed\",\"Open\")","v":"Open"},{"$f":"IF((COUNTIF('HOLIDAYS NF'!$B:$DZ,CONCATENATE(LEFT($A55,2),AZ$2))<>0),\"Closed\",\"Open\")","v":"Open"},{"$f":"IF((COUNTIF('HOLIDAYS NF'!$B:$DZ,CONCATENATE(LEFT($A55,2),BA$2))<>0),\"Closed\",\"Open\")","v":"Open"},{"$f":"IF((COUNTIF('HOLIDAYS NF'!$B:$DZ,CONCATENATE(LEFT($A55,2),BB$2))<>0),\"Closed\",\"Open\")","v":"Open"},{"$f":"IF((COUNTIF('HOLIDAYS NF'!$B:$DZ,CONCATENATE(LEFT($A55,2),BC$2))<>0),\"Closed\",\"Open\")","v":"Open"},{"$f":"IF((COUNTIF('HOLIDAYS NF'!$B:$DZ,CONCATENATE(LEFT($A55,2),BD$2))<>0),\"Closed\",\"Open\")","v":"Open"},{"$f":"IF((COUNTIF('HOLIDAYS NF'!$B:$DZ,CONCATENATE(LEFT($A55,2),BE$2))<>0),\"Closed\",\"Open\")","v":"Open"},{"$f":"IF((COUNTIF('HOLIDAYS NF'!$B:$DZ,CONCATENATE(LEFT($A55,2),BF$2))<>0),\"Closed\",\"Open\")","v":"Open"},{"$f":"IF((COUNTIF('HOLIDAYS NF'!$B:$DZ,CONCATENATE(LEFT($A55,2),BG$2))<>0),\"Closed\",\"Open\")","v":"Open"},{"$f":"IF((COUNTIF('HOLIDAYS NF'!$B:$DZ,CONCATENATE(LEFT($A55,2),BH$2))<>0),\"Closed\",\"Open\")","v":"Open"},{"$f":"IF((COUNTIF('HOLIDAYS NF'!$B:$DZ,CONCATENATE(LEFT($A55,2),BI$2))<>0),\"Closed\",\"Open\")","v":"Open"},{"$f":"IF((COUNTIF('HOLIDAYS NF'!$B:$DZ,CONCATENATE(LEFT($A55,2),BJ$2))<>0),\"Closed\",\"Open\")","v":"Open"}]
["RS",{"$f":"SUMIF(Holdings!G:G,(CONCATENATE($B$1,\"-\",A56,)),Holdings!H:H)","v":0},{"$f":"HLOOKUP(A56,'[1]HOLIDAYS NF'!B$1:BR$65536,6,FALSE)","v":"Serbia"},{"$f":"IF((COUNTIF('HOLIDAYS NF'!$B:$DZ,CONCATENATE(LEFT($A56,2),D$2))<>0),\"Closed\",\"Open\")","v":"Open"},{"$f":"IF((COUNTIF('HOLIDAYS NF'!$B:$DZ,CONCATENATE(LEFT($A56,2),E$2))<>0),\"Closed\",\"Open\")","v":"Open"},{"$f":"IF((COUNTIF('HOLIDAYS NF'!$B:$DZ,CONCATENATE(LEFT($A56,2),F$2))<>0),\"Closed\",\"Open\")","v":"Open"},{"$f":"IF((COUNTIF('HOLIDAYS NF'!$B:$DZ,CONCATENATE(LEFT($A56,2),G$2))<>0),\"Closed\",\"Open\")","v":"Open"},{"$f":"IF((COUNTIF('HOLIDAYS NF'!$B:$DZ,CONCATENATE(LEFT($A56,2),H$2))<>0),\"Closed\",\"Open\")","v":"Open"},{"$f":"IF((COUNTIF('HOLIDAYS NF'!$B:$DZ,CONCATENATE(LEFT($A56,2),I$2))<>0),\"Closed\",\"Open\")","v":"Open"},{"$f":"IF((COUNTIF('HOLIDAYS NF'!$B:$DZ,CONCATENATE(LEFT($A56,2),J$2))<>0),\"Closed\",\"Open\")","v":"Open"},{"$f":"IF((COUNTIF('HOLIDAYS NF'!$B:$DZ,CONCATENATE(LEFT($A56,2),K$2))<>0),\"Closed\",\"Open\")","v":"Open"},{"$f":"IF((COUNTIF('HOLIDAYS NF'!$B:$DZ,CONCATENATE(LEFT($A56,2),L$2))<>0),\"Closed\",\"Open\")","v":"Open"},{"$f":"IF((COUNTIF('HOLIDAYS NF'!$B:$DZ,CONCATENATE(LEFT($A56,2),M$2))<>0),\"Closed\",\"Open\")","v":"Open"},{"$f":"IF((COUNTIF('HOLIDAYS NF'!$B:$DZ,CONCATENATE(LEFT($A56,2),N$2))<>0),\"Closed\",\"Open\")","v":"Open"},{"$f":"IF((COUNTIF('HOLIDAYS NF'!$B:$DZ,CONCATENATE(LEFT($A56,2),O$2))<>0),\"Closed\",\"Open\")","v":"Open"},{"$f":"IF((COUNTIF('HOLIDAYS NF'!$B:$DZ,CONCATENATE(LEFT($A56,2),P$2))<>0),\"Closed\",\"Open\")","v":"Open"},{"$f":"IF((COUNTIF('HOLIDAYS NF'!$B:$DZ,CONCATENATE(LEFT($A56,2),Q$2))<>0),\"Closed\",\"Open\")","v":"Open"},{"$f":"IF((COUNTIF('HOLIDAYS NF'!$B:$DZ,CONCATENATE(LEFT($A56,2),R$2))<>0),\"Closed\",\"Open\")","v":"Open"},{"$f":"IF((COUNTIF('HOLIDAYS NF'!$B:$DZ,CONCATENATE(LEFT($A56,2),S$2))<>0),\"Closed\",\"Open\")","v":"Open"},{"$f":"IF((COUNTIF('HOLIDAYS NF'!$B:$DZ,CONCATENATE(LEFT($A56,2),T$2))<>0),\"Closed\",\"Open\")","v":"Open"},{"$f":"IF((COUNTIF('HOLIDAYS NF'!$B:$DZ,CONCATENATE(LEFT($A56,2),U$2))<>0),\"Closed\",\"Open\")","v":"Open"},{"$f":"IF((COUNTIF('HOLIDAYS NF'!$B:$DZ,CONCATENATE(LEFT($A56,2),V$2))<>0),\"Closed\",\"Open\")","v":"Open"},{"$f":"IF((COUNTIF('HOLIDAYS NF'!$B:$DZ,CONCATENATE(LEFT($A56,2),W$2))<>0),\"Closed\",\"Open\")","v":"Open"},{"$f":"IF((COUNTIF('HOLIDAYS NF'!$B:$DZ,CONCATENATE(LEFT($A56,2),X$2))<>0),\"Closed\",\"Open\")","v":"Open"},{"$f":"IF((COUNTIF('HOLIDAYS NF'!$B:$DZ,CONCATENATE(LEFT($A56,2),Y$2))<>0),\"Closed\",\"Open\")","v":"Open"},{"$f":"IF((COUNTIF('HOLIDAYS NF'!$B:$DZ,CONCATENATE(LEFT($A56,2),Z$2))<>0),\"Closed\",\"Open\")","v":"Open"},{"$f":"IF((COUNTIF('HOLIDAYS NF'!$B:$DZ,CONCATENATE(LEFT($A56,2),AA$2))<>0),\"Closed\",\"Open\")","v":"Open"},{"$f":"IF((COUNTIF('HOLIDAYS NF'!$B:$DZ,CONCATENATE(LEFT($A56,2),AB$2))<>0),\"Closed\",\"Open\")","v":"Open"},{"$f":"IF((COUNTIF('HOLIDAYS NF'!$B:$DZ,CONCATENATE(LEFT($A56,2),AC$2))<>0),\"Closed\",\"Open\")","v":"Open"},{"$f":"IF((COUNTIF('HOLIDAYS NF'!$B:$DZ,CONCATENATE(LEFT($A56,2),AD$2))<>0),\"Closed\",\"Open\")","v":"Open"},{"$f":"IF((COUNTIF('HOLIDAYS NF'!$B:$DZ,CONCATENATE(LEFT($A56,2),AE$2))<>0),\"Closed\",\"Open\")","v":"Open"},{"$f":"IF((COUNTIF('HOLIDAYS NF'!$B:$DZ,CONCATENATE(LEFT($A56,2),AF$2))<>0),\"Closed\",\"Open\")","v":"Open"},{"$f":"IF((COUNTIF('HOLIDAYS NF'!$B:$DZ,CONCATENATE(LEFT($A56,2),AG$2))<>0),\"Closed\",\"Open\")","v":"Open"},{"$f":"IF((COUNTIF('HOLIDAYS NF'!$B:$DZ,CONCATENATE(LEFT($A56,2),AH$2))<>0),\"Closed\",\"Open\")","v":"Open"},{"$f":"IF((COUNTIF('HOLIDAYS NF'!$B:$DZ,CONCATENATE(LEFT($A56,2),AI$2))<>0),\"Closed\",\"Open\")","v":"Open"},{"$f":"IF((COUNTIF('HOLIDAYS NF'!$B:$DZ,CONCATENATE(LEFT($A56,2),AJ$2))<>0),\"Closed\",\"Open\")","v":"Open"},{"$f":"IF((COUNTIF('HOLIDAYS NF'!$B:$DZ,CONCATENATE(LEFT($A56,2),AK$2))<>0),\"Closed\",\"Open\")","v":"Open"},{"$f":"IF((COUNTIF('HOLIDAYS NF'!$B:$DZ,CONCATENATE(LEFT($A56,2),AL$2))<>0),\"Closed\",\"Open\")","v":"Open"},{"$f":"IF((COUNTIF('HOLIDAYS NF'!$B:$DZ,CONCATENATE(LEFT($A56,2),AM$2))<>0),\"Closed\",\"Open\")","v":"Open"},{"$f":"IF((COUNTIF('HOLIDAYS NF'!$B:$DZ,CONCATENATE(LEFT($A56,2),AN$2))<>0),\"Closed\",\"Open\")","v":"Open"},{"$f":"IF((COUNTIF('HOLIDAYS NF'!$B:$DZ,CONCATENATE(LEFT($A56,2),AO$2))<>0),\"Closed\",\"Open\")","v":"Open"},{"$f":"IF((COUNTIF('HOLIDAYS NF'!$B:$DZ,CONCATENATE(LEFT($A56,2),AP$2))<>0),\"Closed\",\"Open\")","v":"Open"},{"$f":"IF((COUNTIF('HOLIDAYS NF'!$B:$DZ,CONCATENATE(LEFT($A56,2),AQ$2))<>0),\"Closed\",\"Open\")","v":"Open"},{"$f":"IF((COUNTIF('HOLIDAYS NF'!$B:$DZ,CONCATENATE(LEFT($A56,2),AR$2))<>0),\"Closed\",\"Open\")","v":"Open"},{"$f":"IF((COUNTIF('HOLIDAYS NF'!$B:$DZ,CONCATENATE(LEFT($A56,2),AS$2))<>0),\"Closed\",\"Open\")","v":"Open"},{"$f":"IF((COUNTIF('HOLIDAYS NF'!$B:$DZ,CONCATENATE(LEFT($A56,2),AT$2))<>0),\"Closed\",\"Open\")","v":"Open"},{"$f":"IF((COUNTIF('HOLIDAYS NF'!$B:$DZ,CONCATENATE(LEFT($A56,2),AU$2))<>0),\"Closed\",\"Open\")","v":"Open"},{"$f":"IF((COUNTIF('HOLIDAYS NF'!$B:$DZ,CONCATENATE(LEFT($A56,2),AV$2))<>0),\"Closed\",\"Open\")","v":"Open"},{"$f":"IF((COUNTIF('HOLIDAYS NF'!$B:$DZ,CONCATENATE(LEFT($A56,2),AW$2))<>0),\"Closed\",\"Open\")","v":"Open"},{"$f":"IF((COUNTIF('HOLIDAYS NF'!$B:$DZ,CONCATENATE(LEFT($A56,2),AX$2))<>0),\"Closed\",\"Open\")","v":"Open"},{"$f":"IF((COUNTIF('HOLIDAYS NF'!$B:$DZ,CONCATENATE(LEFT($A56,2),AY$2))<>0),\"Closed\",\"Open\")","v":"Open"},{"$f":"IF((COUNTIF('HOLIDAYS NF'!$B:$DZ,CONCATENATE(LEFT($A56,2),AZ$2))<>0),\"Closed\",\"Open\")","v":"Open"},{"$f":"IF((COUNTIF('HOLIDAYS NF'!$B:$DZ,CONCATENATE(LEFT($A56,2),BA$2))<>0),\"Closed\",\"Open\")","v":"Open"},{"$f":"IF((COUNTIF('HOLIDAYS NF'!$B:$DZ,CONCATENATE(LEFT($A56,2),BB$2))<>0),\"Closed\",\"Open\")","v":"Open"},{"$f":"IF((COUNTIF('HOLIDAYS NF'!$B:$DZ,CONCATENATE(LEFT($A56,2),BC$2))<>0),\"Closed\",\"Open\")","v":"Open"},{"$f":"IF((COUNTIF('HOLIDAYS NF'!$B:$DZ,CONCATENATE(LEFT($A56,2),BD$2))<>0),\"Closed\",\"Open\")","v":"Open"},{"$f":"IF((COUNTIF('HOLIDAYS NF'!$B:$DZ,CONCATENATE(LEFT($A56,2),BE$2))<>0),\"Closed\",\"Open\")","v":"Open"},{"$f":"IF((COUNTIF('HOLIDAYS NF'!$B:$DZ,CONCATENATE(LEFT($A56,2),BF$2))<>0),\"Closed\",\"Open\")","v":"Open"},{"$f":"IF((COUNTIF('HOLIDAYS NF'!$B:$DZ,CONCATENATE(LEFT($A56,2),BG$2))<>0),\"Closed\",\"Open\")","v":"Open"},{"$f":"IF((COUNTIF('HOLIDAYS NF'!$B:$DZ,CONCATENATE(LEFT($A56,2),BH$2))<>0),\"Closed\",\"Open\")","v":"Open"},{"$f":"IF((COUNTIF('HOLIDAYS NF'!$B:$DZ,CONCATENATE(LEFT($A56,2),BI$2))<>0),\"Closed\",\"Open\")","v":"Open"},{"$f":"IF((COUNTIF('HOLIDAYS NF'!$B:$DZ,CONCATENATE(LEFT($A56,2),BJ$2))<>0),\"Closed\",\"Open\")","v":"Open"}]
["RU",{"$f":"SUMIF(Holdings!G:G,(CONCATENATE($B$1,\"-\",A57,)),Holdings!H:H)","v":0},{"$f":"HLOOKUP(A57,'[1]HOLIDAYS NF'!B$1:BR$65536,6,FALSE)","v":"Russian Federation"},{"$f":"IF((COUNTIF('HOLIDAYS NF'!$B:$DZ,CONCATENATE(LEFT($A57,2),D$2))<>0),\"Closed\",\"Open\")","v":"Open"},{"$f":"IF((COUNTIF('HOLIDAYS NF'!$B:$DZ,CONCATENATE(LEFT($A57,2),E$2))<>0),\"Closed\",\"Open\")","v":"Open"},{"$f":"IF((COUNTIF('HOLIDAYS NF'!$B:$DZ,CONCATENATE(LEFT($A57,2),F$2))<>0),\"Closed\",\"Open\")","v":"Open"},{"$f":"IF((COUNTIF('HOLIDAYS NF'!$B:$DZ,CONCATENATE(LEFT($A57,2),G$2))<>0),\"Closed\",\"Open\")","v":"Open"},{"$f":"IF((COUNTIF('HOLIDAYS NF'!$B:$DZ,CONCATENATE(LEFT($A57,2),H$2))<>0),\"Closed\",\"Open\")","v":"Open"},{"$f":"IF((COUNTIF('HOLIDAYS NF'!$B:$DZ,CONCATENATE(LEFT($A57,2),I$2))<>0),\"Closed\",\"Open\")","v":"Open"},{"$f":"IF((COUNTIF('HOLIDAYS NF'!$B:$DZ,CONCATENATE(LEFT($A57,2),J$2))<>0),\"Closed\",\"Open\")","v":"Open"},{"$f":"IF((COUNTIF('HOLIDAYS NF'!$B:$DZ,CONCATENATE(LEFT($A57,2),K$2))<>0),\"Closed\",\"Open\")","v":"Open"},{"$f":"IF((COUNTIF('HOLIDAYS NF'!$B:$DZ,CONCATENATE(LEFT($A57,2),L$2))<>0),\"Closed\",\"Open\")","v":"Open"},{"$f":"IF((COUNTIF('HOLIDAYS NF'!$B:$DZ,CONCATENATE(LEFT($A57,2),M$2))<>0),\"Closed\",\"Open\")","v":"Open"},{"$f":"IF((COUNTIF('HOLIDAYS NF'!$B:$DZ,CONCATENATE(LEFT($A57,2),N$2))<>0),\"Closed\",\"Open\")","v":"Open"},{"$f":"IF((COUNTIF('HOLIDAYS NF'!$B:$DZ,CONCATENATE(LEFT($A57,2),O$2))<>0),\"Closed\",\"Open\")","v":"Open"},{"$f":"IF((COUNTIF('HOLIDAYS NF'!$B:$DZ,CONCATENATE(LEFT($A57,2),P$2))<>0),\"Closed\",\"Open\")","v":"Open"},{"$f":"IF((COUNTIF('HOLIDAYS NF'!$B:$DZ,CONCATENATE(LEFT($A57,2),Q$2))<>0),\"Closed\",\"Open\")","v":"Open"},{"$f":"IF((COUNTIF('HOLIDAYS NF'!$B:$DZ,CONCATENATE(LEFT($A57,2),R$2))<>0),\"Closed\",\"Open\")","v":"Open"},{"$f":"IF((COUNTIF('HOLIDAYS NF'!$B:$DZ,CONCATENATE(LEFT($A57,2),S$2))<>0),\"Closed\",\"Open\")","v":"Open"},{"$f":"IF((COUNTIF('HOLIDAYS NF'!$B:$DZ,CONCATENATE(LEFT($A57,2),T$2))<>0),\"Closed\",\"Open\")","v":"Open"},{"$f":"IF((COUNTIF('HOLIDAYS NF'!$B:$DZ,CONCATENATE(LEFT($A57,2),U$2))<>0),\"Closed\",\"Open\")","v":"Open"},{"$f":"IF((COUNTIF('HOLIDAYS NF'!$B:$DZ,CONCATENATE(LEFT($A57,2),V$2))<>0),\"Closed\",\"Open\")","v":"Open"},{"$f":"IF((COUNTIF('HOLIDAYS NF'!$B:$DZ,CONCATENATE(LEFT($A57,2),W$2))<>0),\"Closed\",\"Open\")","v":"Open"},{"$f":"IF((COUNTIF('HOLIDAYS NF'!$B:$DZ,CONCATENATE(LEFT($A57,2),X$2))<>0),\"Closed\",\"Open\")","v":"Open"},{"$f":"IF((COUNTIF('HOLIDAYS NF'!$B:$DZ,CONCATENATE(LEFT($A57,2),Y$2))<>0),\"Closed\",\"Open\")","v":"Open"},{"$f":"IF((COUNTIF('HOLIDAYS NF'!$B:$DZ,CONCATENATE(LEFT($A57,2),Z$2))<>0),\"Closed\",\"Open\")","v":"Open"},{"$f":"IF((COUNTIF('HOLIDAYS NF'!$B:$DZ,CONCATENATE(LEFT($A57,2),AA$2))<>0),\"Closed\",\"Open\")","v":"Open"},{"$f":"IF((COUNTIF('HOLIDAYS NF'!$B:$DZ,CONCATENATE(LEFT($A57,2),AB$2))<>0),\"Closed\",\"Open\")","v":"Open"},{"$f":"IF((COUNTIF('HOLIDAYS NF'!$B:$DZ,CONCATENATE(LEFT($A57,2),AC$2))<>0),\"Closed\",\"Open\")","v":"Open"},{"$f":"IF((COUNTIF('HOLIDAYS NF'!$B:$DZ,CONCATENATE(LEFT($A57,2),AD$2))<>0),\"Closed\",\"Open\")","v":"Open"},{"$f":"IF((COUNTIF('HOLIDAYS NF'!$B:$DZ,CONCATENATE(LEFT($A57,2),AE$2))<>0),\"Closed\",\"Open\")","v":"Open"},{"$f":"IF((COUNTIF('HOLIDAYS NF'!$B:$DZ,CONCATENATE(LEFT($A57,2),AF$2))<>0),\"Closed\",\"Open\")","v":"Open"},{"$f":"IF((COUNTIF('HOLIDAYS NF'!$B:$DZ,CONCATENATE(LEFT($A57,2),AG$2))<>0),\"Closed\",\"Open\")","v":"Open"},{"$f":"IF((COUNTIF('HOLIDAYS NF'!$B:$DZ,CONCATENATE(LEFT($A57,2),AH$2))<>0),\"Closed\",\"Open\")","v":"Open"},{"$f":"IF((COUNTIF('HOLIDAYS NF'!$B:$DZ,CONCATENATE(LEFT($A57,2),AI$2))<>0),\"Closed\",\"Open\")","v":"Open"},{"$f":"IF((COUNTIF('HOLIDAYS NF'!$B:$DZ,CONCATENATE(LEFT($A57,2),AJ$2))<>0),\"Closed\",\"Open\")","v":"Open"},{"$f":"IF((COUNTIF('HOLIDAYS NF'!$B:$DZ,CONCATENATE(LEFT($A57,2),AK$2))<>0),\"Closed\",\"Open\")","v":"Open"},{"$f":"IF((COUNTIF('HOLIDAYS NF'!$B:$DZ,CONCATENATE(LEFT($A57,2),AL$2))<>0),\"Closed\",\"Open\")","v":"Open"},{"$f":"IF((COUNTIF('HOLIDAYS NF'!$B:$DZ,CONCATENATE(LEFT($A57,2),AM$2))<>0),\"Closed\",\"Open\")","v":"Open"},{"$f":"IF((COUNTIF('HOLIDAYS NF'!$B:$DZ,CONCATENATE(LEFT($A57,2),AN$2))<>0),\"Closed\",\"Open\")","v":"Open"},{"$f":"IF((COUNTIF('HOLIDAYS NF'!$B:$DZ,CONCATENATE(LEFT($A57,2),AO$2))<>0),\"Closed\",\"Open\")","v":"Open"},{"$f":"IF((COUNTIF('HOLIDAYS NF'!$B:$DZ,CONCATENATE(LEFT($A57,2),AP$2))<>0),\"Closed\",\"Open\")","v":"Open"},{"$f":"IF((COUNTIF('HOLIDAYS NF'!$B:$DZ,CONCATENATE(LEFT($A57,2),AQ$2))<>0),\"Closed\",\"Open\")","v":"Open"},{"$f":"IF((COUNTIF('HOLIDAYS NF'!$B:$DZ,CONCATENATE(LEFT($A57,2),AR$2))<>0),\"Closed\",\"Open\")","v":"Open"},{"$f":"IF((COUNTIF('HOLIDAYS NF'!$B:$DZ,CONCATENATE(LEFT($A57,2),AS$2))<>0),\"Closed\",\"Open\")","v":"Open"},{"$f":"IF((COUNTIF('HOLIDAYS NF'!$B:$DZ,CONCATENATE(LEFT($A57,2),AT$2))<>0),\"Closed\",\"Open\")","v":"Open"},{"$f":"IF((COUNTIF('HOLIDAYS NF'!$B:$DZ,CONCATENATE(LEFT($A57,2),AU$2))<>0),\"Closed\",\"Open\")","v":"Open"},{"$f":"IF((COUNTIF('HOLIDAYS NF'!$B:$DZ,CONCATENATE(LEFT($A57,2),AV$2))<>0),\"Closed\",\"Open\")","v":"Open"},{"$f":"IF((COUNTIF('HOLIDAYS NF'!$B:$DZ,CONCATENATE(LEFT($A57,2),AW$2))<>0),\"Closed\",\"Open\")","v":"Open"},{"$f":"IF((COUNTIF('HOLIDAYS NF'!$B:$DZ,CONCATENATE(LEFT($A57,2),AX$2))<>0),\"Closed\",\"Open\")","v":"Open"},{"$f":"IF((COUNTIF('HOLIDAYS NF'!$B:$DZ,CONCATENATE(LEFT($A57,2),AY$2))<>0),\"Closed\",\"Open\")","v":"Open"},{"$f":"IF((COUNTIF('HOLIDAYS NF'!$B:$DZ,CONCATENATE(LEFT($A57,2),AZ$2))<>0),\"Closed\",\"Open\")","v":"Open"},{"$f":"IF((COUNTIF('HOLIDAYS NF'!$B:$DZ,CONCATENATE(LEFT($A57,2),BA$2))<>0),\"Closed\",\"Open\")","v":"Open"},{"$f":"IF((COUNTIF('HOLIDAYS NF'!$B:$DZ,CONCATENATE(LEFT($A57,2),BB$2))<>0),\"Closed\",\"Open\")","v":"Open"},{"$f":"IF((COUNTIF('HOLIDAYS NF'!$B:$DZ,CONCATENATE(LEFT($A57,2),BC$2))<>0),\"Closed\",\"Open\")","v":"Open"},{"$f":"IF((COUNTIF('HOLIDAYS NF'!$B:$DZ,CONCATENATE(LEFT($A57,2),BD$2))<>0),\"Closed\",\"Open\")","v":"Open"},{"$f":"IF((COUNTIF('HOLIDAYS NF'!$B:$DZ,CONCATENATE(LEFT($A57,2),BE$2))<>0),\"Closed\",\"Open\")","v":"Open"},{"$f":"IF((COUNTIF('HOLIDAYS NF'!$B:$DZ,CONCATENATE(LEFT($A57,2),BF$2))<>0),\"Closed\",\"Open\")","v":"Open"},{"$f":"IF((COUNTIF('HOLIDAYS NF'!$B:$DZ,CONCATENATE(LEFT($A57,2),BG$2))<>0),\"Closed\",\"Open\")","v":"Open"},{"$f":"IF((COUNTIF('HOLIDAYS NF'!$B:$DZ,CONCATENATE(LEFT($A57,2),BH$2))<>0),\"Closed\",\"Open\")","v":"Open"},{"$f":"IF((COUNTIF('HOLIDAYS NF'!$B:$DZ,CONCATENATE(LEFT($A57,2),BI$2))<>0),\"Closed\",\"Open\")","v":"Open"},{"$f":"IF((COUNTIF('HOLIDAYS NF'!$B:$DZ,CONCATENATE(LEFT($A57,2),BJ$2))<>0),\"Closed\",\"Open\")","v":"Open"}]
["SE",{"$f":"SUMIF(Holdings!G:G,(CONCATENATE($B$1,\"-\",A58,)),Holdings!H:H)","v":0},{"$f":"HLOOKUP(A58,'[1]HOLIDAYS NF'!B$1:BR$65536,6,FALSE)","v":"Sweden"},{"$f":"IF((COUNTIF('HOLIDAYS NF'!$B:$DZ,CONCATENATE(LEFT($A58,2),D$2))<>0),\"Closed\",\"Open\")","v":"Open"},{"$f":"IF((COUNTIF('HOLIDAYS NF'!$B:$DZ,CONCATENATE(LEFT($A58,2),E$2))<>0),\"Closed\",\"Open\")","v":"Open"},{"$f":"IF((COUNTIF('HOLIDAYS NF'!$B:$DZ,CONCATENATE(LEFT($A58,2),F$2))<>0),\"Closed\",\"Open\")","v":"Open"},{"$f":"IF((COUNTIF('HOLIDAYS NF'!$B:$DZ,CONCATENATE(LEFT($A58,2),G$2))<>0),\"Closed\",\"Open\")","v":"Open"},{"$f":"IF((COUNTIF('HOLIDAYS NF'!$B:$DZ,CONCATENATE(LEFT($A58,2),H$2))<>0),\"Closed\",\"Open\")","v":"Open"},{"$f":"IF((COUNTIF('HOLIDAYS NF'!$B:$DZ,CONCATENATE(LEFT($A58,2),I$2))<>0),\"Closed\",\"Open\")","v":"Open"},{"$f":"IF((COUNTIF('HOLIDAYS NF'!$B:$DZ,CONCATENATE(LEFT($A58,2),J$2))<>0),\"Closed\",\"Open\")","v":"Open"},{"$f":"IF((COUNTIF('HOLIDAYS NF'!$B:$DZ,CONCATENATE(LEFT($A58,2),K$2))<>0),\"Closed\",\"Open\")","v":"Open"},{"$f":"IF((COUNTIF('HOLIDAYS NF'!$B:$DZ,CONCATENATE(LEFT($A58,2),L$2))<>0),\"Closed\",\"Open\")","v":"Open"},{"$f":"IF((COUNTIF('HOLIDAYS NF'!$B:$DZ,CONCATENATE(LEFT($A58,2),M$2))<>0),\"Closed\",\"Open\")","v":"Open"},{"$f":"IF((COUNTIF('HOLIDAYS NF'!$B:$DZ,CONCATENATE(LEFT($A58,2),N$2))<>0),\"Closed\",\"Open\")","v":"Open"},{"$f":"IF((COUNTIF('HOLIDAYS NF'!$B:$DZ,CONCATENATE(LEFT($A58,2),O$2))<>0),\"Closed\",\"Open\")","v":"Open"},{"$f":"IF((COUNTIF('HOLIDAYS NF'!$B:$DZ,CONCATENATE(LEFT($A58,2),P$2))<>0),\"Closed\",\"Open\")","v":"Open"},{"$f":"IF((COUNTIF('HOLIDAYS NF'!$B:$DZ,CONCATENATE(LEFT($A58,2),Q$2))<>0),\"Closed\",\"Open\")","v":"Open"},{"$f":"IF((COUNTIF('HOLIDAYS NF'!$B:$DZ,CONCATENATE(LEFT($A58,2),R$2))<>0),\"Closed\",\"Open\")","v":"Open"},{"$f":"IF((COUNTIF('HOLIDAYS NF'!$B:$DZ,CONCATENATE(LEFT($A58,2),S$2))<>0),\"Closed\",\"Open\")","v":"Open"},{"$f":"IF((COUNTIF('HOLIDAYS NF'!$B:$DZ,CONCATENATE(LEFT($A58,2),T$2))<>0),\"Closed\",\"Open\")","v":"Open"},{"$f":"IF((COUNTIF('HOLIDAYS NF'!$B:$DZ,CONCATENATE(LEFT($A58,2),U$2))<>0),\"Closed\",\"Open\")","v":"Open"},{"$f":"IF((COUNTIF('HOLIDAYS NF'!$B:$DZ,CONCATENATE(LEFT($A58,2),V$2))<>0),\"Closed\",\"Open\")","v":"Open"},{"$f":"IF((COUNTIF('HOLIDAYS NF'!$B:$DZ,CONCATENATE(LEFT($A58,2),W$2))<>0),\"Closed\",\"Open\")","v":"Open"},{"$f":"IF((COUNTIF('HOLIDAYS NF'!$B:$DZ,CONCATENATE(LEFT($A58,2),X$2))<>0),\"Closed\",\"Open\")","v":"Open"},{"$f":"IF((COUNTIF('HOLIDAYS NF'!$B:$DZ,CONCATENATE(LEFT($A58,2),Y$2))<>0),\"Closed\",\"Open\")","v":"Open"},{"$f":"IF((COUNTIF('HOLIDAYS NF'!$B:$DZ,CONCATENATE(LEFT($A58,2),Z$2))<>0),\"Closed\",\"Open\")","v":"Open"},{"$f":"IF((COUNTIF('HOLIDAYS NF'!$B:$DZ,CONCATENATE(LEFT($A58,2),AA$2))<>0),\"Closed\",\"Open\")","v":"Open"},{"$f":"IF((COUNTIF('HOLIDAYS NF'!$B:$DZ,CONCATENATE(LEFT($A58,2),AB$2))<>0),\"Closed\",\"Open\")","v":"Open"},{"$f":"IF((COUNTIF('HOLIDAYS NF'!$B:$DZ,CONCATENATE(LEFT($A58,2),AC$2))<>0),\"Closed\",\"Open\")","v":"Open"},{"$f":"IF((COUNTIF('HOLIDAYS NF'!$B:$DZ,CONCATENATE(LEFT($A58,2),AD$2))<>0),\"Closed\",\"Open\")","v":"Open"},{"$f":"IF((COUNTIF('HOLIDAYS NF'!$B:$DZ,CONCATENATE(LEFT($A58,2),AE$2))<>0),\"Closed\",\"Open\")","v":"Open"},{"$f":"IF((COUNTIF('HOLIDAYS NF'!$B:$DZ,CONCATENATE(LEFT($A58,2),AF$2))<>0),\"Closed\",\"Open\")","v":"Open"},{"$f":"IF((COUNTIF('HOLIDAYS NF'!$B:$DZ,CONCATENATE(LEFT($A58,2),AG$2))<>0),\"Closed\",\"Open\")","v":"Open"},{"$f":"IF((COUNTIF('HOLIDAYS NF'!$B:$DZ,CONCATENATE(LEFT($A58,2),AH$2))<>0),\"Closed\",\"Open\")","v":"Open"},{"$f":"IF((COUNTIF('HOLIDAYS NF'!$B:$DZ,CONCATENATE(LEFT($A58,2),AI$2))<>0),\"Closed\",\"Open\")","v":"Open"},{"$f":"IF((COUNTIF('HOLIDAYS NF'!$B:$DZ,CONCATENATE(LEFT($A58,2),AJ$2))<>0),\"Closed\",\"Open\")","v":"Open"},{"$f":"IF((COUNTIF('HOLIDAYS NF'!$B:$DZ,CONCATENATE(LEFT($A58,2),AK$2))<>0),\"Closed\",\"Open\")","v":"Open"},{"$f":"IF((COUNTIF('HOLIDAYS NF'!$B:$DZ,CONCATENATE(LEFT($A58,2),AL$2))<>0),\"Closed\",\"Open\")","v":"Open"},{"$f":"IF((COUNTIF('HOLIDAYS NF'!$B:$DZ,CONCATENATE(LEFT($A58,2),AM$2))<>0),\"Closed\",\"Open\")","v":"Open"},{"$f":"IF((COUNTIF('HOLIDAYS NF'!$B:$DZ,CONCATENATE(LEFT($A58,2),AN$2))<>0),\"Closed\",\"Open\")","v":"Open"},{"$f":"IF((COUNTIF('HOLIDAYS NF'!$B:$DZ,CONCATENATE(LEFT($A58,2),AO$2))<>0),\"Closed\",\"Open\")","v":"Open"},{"$f":"IF((COUNTIF('HOLIDAYS NF'!$B:$DZ,CONCATENATE(LEFT($A58,2),AP$2))<>0),\"Closed\",\"Open\")","v":"Open"},{"$f":"IF((COUNTIF('HOLIDAYS NF'!$B:$DZ,CONCATENATE(LEFT($A58,2),AQ$2))<>0),\"Closed\",\"Open\")","v":"Open"},{"$f":"IF((COUNTIF('HOLIDAYS NF'!$B:$DZ,CONCATENATE(LEFT($A58,2),AR$2))<>0),\"Closed\",\"Open\")","v":"Open"},{"$f":"IF((COUNTIF('HOLIDAYS NF'!$B:$DZ,CONCATENATE(LEFT($A58,2),AS$2))<>0),\"Closed\",\"Open\")","v":"Open"},{"$f":"IF((COUNTIF('HOLIDAYS NF'!$B:$DZ,CONCATENATE(LEFT($A58,2),AT$2))<>0),\"Closed\",\"Open\")","v":"Open"},{"$f":"IF((COUNTIF('HOLIDAYS NF'!$B:$DZ,CONCATENATE(LEFT($A58,2),AU$2))<>0),\"Closed\",\"Open\")","v":"Open"},{"$f":"IF((COUNTIF('HOLIDAYS NF'!$B:$DZ,CONCATENATE(LEFT($A58,2),AV$2))<>0),\"Closed\",\"Open\")","v":"Open"},{"$f":"IF((COUNTIF('HOLIDAYS NF'!$B:$DZ,CONCATENATE(LEFT($A58,2),AW$2))<>0),\"Closed\",\"Open\")","v":"Open"},{"$f":"IF((COUNTIF('HOLIDAYS NF'!$B:$DZ,CONCATENATE(LEFT($A58,2),AX$2))<>0),\"Closed\",\"Open\")","v":"Open"},{"$f":"IF((COUNTIF('HOLIDAYS NF'!$B:$DZ,CONCATENATE(LEFT($A58,2),AY$2))<>0),\"Closed\",\"Open\")","v":"Open"},{"$f":"IF((COUNTIF('HOLIDAYS NF'!$B:$DZ,CONCATENATE(LEFT($A58,2),AZ$2))<>0),\"Closed\",\"Open\")","v":"Open"},{"$f":"IF((COUNTIF('HOLIDAYS NF'!$B:$DZ,CONCATENATE(LEFT($A58,2),BA$2))<>0),\"Closed\",\"Open\")","v":"Open"},{"$f":"IF((COUNTIF('HOLIDAYS NF'!$B:$DZ,CONCATENATE(LEFT($A58,2),BB$2))<>0),\"Closed\",\"Open\")","v":"Open"},{"$f":"IF((COUNTIF('HOLIDAYS NF'!$B:$DZ,CONCATENATE(LEFT($A58,2),BC$2))<>0),\"Closed\",\"Open\")","v":"Open"},{"$f":"IF((COUNTIF('HOLIDAYS NF'!$B:$DZ,CONCATENATE(LEFT($A58,2),BD$2))<>0),\"Closed\",\"Open\")","v":"Open"},{"$f":"IF((COUNTIF('HOLIDAYS NF'!$B:$DZ,CONCATENATE(LEFT($A58,2),BE$2))<>0),\"Closed\",\"Open\")","v":"Open"},{"$f":"IF((COUNTIF('HOLIDAYS NF'!$B:$DZ,CONCATENATE(LEFT($A58,2),BF$2))<>0),\"Closed\",\"Open\")","v":"Open"},{"$f":"IF((COUNTIF('HOLIDAYS NF'!$B:$DZ,CONCATENATE(LEFT($A58,2),BG$2))<>0),\"Closed\",\"Open\")","v":"Open"},{"$f":"IF((COUNTIF('HOLIDAYS NF'!$B:$DZ,CONCATENATE(LEFT($A58,2),BH$2))<>0),\"Closed\",\"Open\")","v":"Open"},{"$f":"IF((COUNTIF('HOLIDAYS NF'!$B:$DZ,CONCATENATE(LEFT($A58,2),BI$2))<>0),\"Closed\",\"Open\")","v":"Open"},{"$f":"IF((COUNTIF('HOLIDAYS NF'!$B:$DZ,CONCATENATE(LEFT($A58,2),BJ$2))<>0),\"Closed\",\"Open\")","v":"Open"}]
["SG",{"$f":"SUMIF(Holdings!G:G,(CONCATENATE($B$1,\"-\",A59,)),Holdings!H:H)","v":0},{"$f":"HLOOKUP(A59,'[1]HOLIDAYS NF'!B$1:BR$65536,6,FALSE)","v":"Singapore"},{"$f":"IF((COUNTIF('HOLIDAYS NF'!$B:$DZ,CONCATENATE(LEFT($A59,2),D$2))<>0),\"Closed\",\"Open\")","v":"Open"},{"$f":"IF((COUNTIF('HOLIDAYS NF'!$B:$DZ,CONCATENATE(LEFT($A59,2),E$2))<>0),\"Closed\",\"Open\")","v":"Open"},{"$f":"IF((COUNTIF('HOLIDAYS NF'!$B:$DZ,CONCATENATE(LEFT($A59,2),F$2))<>0),\"Closed\",\"Open\")","v":"Open"},{"$f":"IF((COUNTIF('HOLIDAYS NF'!$B:$DZ,CONCATENATE(LEFT($A59,2),G$2))<>0),\"Closed\",\"Open\")","v":"Open"},{"$f":"IF((COUNTIF('HOLIDAYS NF'!$B:$DZ,CONCATENATE(LEFT($A59,2),H$2))<>0),\"Closed\",\"Open\")","v":"Open"},{"$f":"IF((COUNTIF('HOLIDAYS NF'!$B:$DZ,CONCATENATE(LEFT($A59,2),I$2))<>0),\"Closed\",\"Open\")","v":"Open"},{"$f":"IF((COUNTIF('HOLIDAYS NF'!$B:$DZ,CONCATENATE(LEFT($A59,2),J$2))<>0),\"Closed\",\"Open\")","v":"Open"},{"$f":"IF((COUNTIF('HOLIDAYS NF'!$B:$DZ,CONCATENATE(LEFT($A59,2),K$2))<>0),\"Closed\",\"Open\")","v":"Open"},{"$f":"IF((COUNTIF('HOLIDAYS NF'!$B:$DZ,CONCATENATE(LEFT($A59,2),L$2))<>0),\"Closed\",\"Open\")","v":"Open"},{"$f":"IF((COUNTIF('HOLIDAYS NF'!$B:$DZ,CONCATENATE(LEFT($A59,2),M$2))<>0),\"Closed\",\"Open\")","v":"Open"},{"$f":"IF((COUNTIF('HOLIDAYS NF'!$B:$DZ,CONCATENATE(LEFT($A59,2),N$2))<>0),\"Closed\",\"Open\")","v":"Open"},{"$f":"IF((COUNTIF('HOLIDAYS NF'!$B:$DZ,CONCATENATE(LEFT($A59,2),O$2))<>0),\"Closed\",\"Open\")","v":"Open"},{"$f":"IF((COUNTIF('HOLIDAYS NF'!$B:$DZ,CONCATENATE(LEFT($A59,2),P$2))<>0),\"Closed\",\"Open\")","v":"Open"},{"$f":"IF((COUNTIF('HOLIDAYS NF'!$B:$DZ,CONCATENATE(LEFT($A59,2),Q$2))<>0),\"Closed\",\"Open\")","v":"Open"},{"$f":"IF((COUNTIF('HOLIDAYS NF'!$B:$DZ,CONCATENATE(LEFT($A59,2),R$2))<>0),\"Closed\",\"Open\")","v":"Open"},{"$f":"IF((COUNTIF('HOLIDAYS NF'!$B:$DZ,CONCATENATE(LEFT($A59,2),S$2))<>0),\"Closed\",\"Open\")","v":"Open"},{"$f":"IF((COUNTIF('HOLIDAYS NF'!$B:$DZ,CONCATENATE(LEFT($A59,2),T$2))<>0),\"Closed\",\"Open\")","v":"Open"},{"$f":"IF((COUNTIF('HOLIDAYS NF'!$B:$DZ,CONCATENATE(LEFT($A59,2),U$2))<>0),\"Closed\",\"Open\")","v":"Open"},{"$f":"IF((COUNTIF('HOLIDAYS NF'!$B:$DZ,CONCATENATE(LEFT($A59,2),V$2))<>0),\"Closed\",\"Open\")","v":"Open"},{"$f":"IF((COUNTIF('HOLIDAYS NF'!$B:$DZ,CONCATENATE(LEFT($A59,2),W$2))<>0),\"Closed\",\"Open\")","v":"Open"},{"$f":"IF((COUNTIF('HOLIDAYS NF'!$B:$DZ,CONCATENATE(LEFT($A59,2),X$2))<>0),\"Closed\",\"Open\")","v":"Open"},{"$f":"IF((COUNTIF('HOLIDAYS NF'!$B:$DZ,CONCATENATE(LEFT($A59,2),Y$2))<>0),\"Closed\",\"Open\")","v":"Open"},{"$f":"IF((COUNTIF('HOLIDAYS NF'!$B:$DZ,CONCATENATE(LEFT($A59,2),Z$2))<>0),\"Closed\",\"Open\")","v":"Open"},{"$f":"IF((COUNTIF('HOLIDAYS NF'!$B:$DZ,CONCATENATE(LEFT($A59,2),AA$2))<>0),\"Closed\",\"Open\")","v":"Open"},{"$f":"IF((COUNTIF('HOLIDAYS NF'!$B:$DZ,CONCATENATE(LEFT($A59,2),AB$2))<>0),\"Closed\",\"Open\")","v":"Open"},{"$f":"IF((COUNTIF('HOLIDAYS NF'!$B:$DZ,CONCATENATE(LEFT($A59,2),AC$2))<>0),\"Closed\",\"Open\")","v":"Open"},{"$f":"IF((COUNTIF('HOLIDAYS NF'!$B:$DZ,CONCATENATE(LEFT($A59,2),AD$2))<>0),\"Closed\",\"Open\")","v":"Open"},{"$f":"IF((COUNTIF('HOLIDAYS NF'!$B:$DZ,CONCATENATE(LEFT($A59,2),AE$2))<>0),\"Closed\",\"Open\")","v":"Open"},{"$f":"IF((COUNTIF('HOLIDAYS NF'!$B:$DZ,CONCATENATE(LEFT($A59,2),AF$2))<>0),\"Closed\",\"Open\")","v":"Open"},{"$f":"IF((COUNTIF('HOLIDAYS NF'!$B:$DZ,CONCATENATE(LEFT($A59,2),AG$2))<>0),\"Closed\",\"Open\")","v":"Open"},{"$f":"IF((COUNTIF('HOLIDAYS NF'!$B:$DZ,CONCATENATE(LEFT($A59,2),AH$2))<>0),\"Closed\",\"Open\")","v":"Open"},{"$f":"IF((COUNTIF('HOLIDAYS NF'!$B:$DZ,CONCATENATE(LEFT($A59,2),AI$2))<>0),\"Closed\",\"Open\")","v":"Open"},{"$f":"IF((COUNTIF('HOLIDAYS NF'!$B:$DZ,CONCATENATE(LEFT($A59,2),AJ$2))<>0),\"Closed\",\"Open\")","v":"Open"},{"$f":"IF((COUNTIF('HOLIDAYS NF'!$B:$DZ,CONCATENATE(LEFT($A59,2),AK$2))<>0),\"Closed\",\"Open\")","v":"Open"},{"$f":"IF((COUNTIF('HOLIDAYS NF'!$B:$DZ,CONCATENATE(LEFT($A59,2),AL$2))<>0),\"Closed\",\"Open\")","v":"Open"},{"$f":"IF((COUNTIF('HOLIDAYS NF'!$B:$DZ,CONCATENATE(LEFT($A59,2),AM$2))<>0),\"Closed\",\"Open\")","v":"Open"},{"$f":"IF((COUNTIF('HOLIDAYS NF'!$B:$DZ,CONCATENATE(LEFT($A59,2),AN$2))<>0),\"Closed\",\"Open\")","v":"Open"},{"$f":"IF((COUNTIF('HOLIDAYS NF'!$B:$DZ,CONCATENATE(LEFT($A59,2),AO$2))<>0),\"Closed\",\"Open\")","v":"Open"},{"$f":"IF((COUNTIF('HOLIDAYS NF'!$B:$DZ,CONCATENATE(LEFT($A59,2),AP$2))<>0),\"Closed\",\"Open\")","v":"Open"},{"$f":"IF((COUNTIF('HOLIDAYS NF'!$B:$DZ,CONCATENATE(LEFT($A59,2),AQ$2))<>0),\"Closed\",\"Open\")","v":"Open"},{"$f":"IF((COUNTIF('HOLIDAYS NF'!$B:$DZ,CONCATENATE(LEFT($A59,2),AR$2))<>0),\"Closed\",\"Open\")","v":"Open"},{"$f":"IF((COUNTIF('HOLIDAYS NF'!$B:$DZ,CONCATENATE(LEFT($A59,2),AS$2))<>0),\"Closed\",\"Open\")","v":"Open"},{"$f":"IF((COUNTIF('HOLIDAYS NF'!$B:$DZ,CONCATENATE(LEFT($A59,2),AT$2))<>0),\"Closed\",\"Open\")","v":"Open"},{"$f":"IF((COUNTIF('HOLIDAYS NF'!$B:$DZ,CONCATENATE(LEFT($A59,2),AU$2))<>0),\"Closed\",\"Open\")","v":"Open"},{"$f":"IF((COUNTIF('HOLIDAYS NF'!$B:$DZ,CONCATENATE(LEFT($A59,2),AV$2))<>0),\"Closed\",\"Open\")","v":"Open"},{"$f":"IF((COUNTIF('HOLIDAYS NF'!$B:$DZ,CONCATENATE(LEFT($A59,2),AW$2))<>0),\"Closed\",\"Open\")","v":"Open"},{"$f":"IF((COUNTIF('HOLIDAYS NF'!$B:$DZ,CONCATENATE(LEFT($A59,2),AX$2))<>0),\"Closed\",\"Open\")","v":"Open"},{"$f":"IF((COUNTIF('HOLIDAYS NF'!$B:$DZ,CONCATENATE(LEFT($A59,2),AY$2))<>0),\"Closed\",\"Open\")","v":"Open"},{"$f":"IF((COUNTIF('HOLIDAYS NF'!$B:$DZ,CONCATENATE(LEFT($A59,2),AZ$2))<>0),\"Closed\",\"Open\")","v":"Open"},{"$f":"IF((COUNTIF('HOLIDAYS NF'!$B:$DZ,CONCATENATE(LEFT($A59,2),BA$2))<>0),\"Closed\",\"Open\")","v":"Open"},{"$f":"IF((COUNTIF('HOLIDAYS NF'!$B:$DZ,CONCATENATE(LEFT($A59,2),BB$2))<>0),\"Closed\",\"Open\")","v":"Open"},{"$f":"IF((COUNTIF('HOLIDAYS NF'!$B:$DZ,CONCATENATE(LEFT($A59,2),BC$2))<>0),\"Closed\",\"Open\")","v":"Open"},{"$f":"IF((COUNTIF('HOLIDAYS NF'!$B:$DZ,CONCATENATE(LEFT($A59,2),BD$2))<>0),\"Closed\",\"Open\")","v":"Open"},{"$f":"IF((COUNTIF('HOLIDAYS NF'!$B:$DZ,CONCATENATE(LEFT($A59,2),BE$2))<>0),\"Closed\",\"Open\")","v":"Open"},{"$f":"IF((COUNTIF('HOLIDAYS NF'!$B:$DZ,CONCATENATE(LEFT($A59,2),BF$2))<>0),\"Closed\",\"Open\")","v":"Open"},{"$f":"IF((COUNTIF('HOLIDAYS NF'!$B:$DZ,CONCATENATE(LEFT($A59,2),BG$2))<>0),\"Closed\",\"Open\")","v":"Open"},{"$f":"IF((COUNTIF('HOLIDAYS NF'!$B:$DZ,CONCATENATE(LEFT($A59,2),BH$2))<>0),\"Closed\",\"Open\")","v":"Open"},{"$f":"IF((COUNTIF('HOLIDAYS NF'!$B:$DZ,CONCATENATE(LEFT($A59,2),BI$2))<>0),\"Closed\",\"Open\")","v":"Open"},{"$f":"IF((COUNTIF('HOLIDAYS NF'!$B:$DZ,CONCATENATE(LEFT($A59,2),BJ$2))<>0),\"Closed\",\"Open\")","v":"Open"}]
["SV",{"$f":"SUMIF(Holdings!G:G,(CONCATENATE($B$1,\"-\",A60,)),Holdings!H:H)","v":0},{"$f":"HLOOKUP(A60,'[1]HOLIDAYS NF'!B$1:BR$65536,6,FALSE)","v":"El Salvador"},{"$f":"IF((COUNTIF('HOLIDAYS NF'!$B:$DZ,CONCATENATE(LEFT($A60,2),D$2))<>0),\"Closed\",\"Open\")","v":"Open"},{"$f":"IF((COUNTIF('HOLIDAYS NF'!$B:$DZ,CONCATENATE(LEFT($A60,2),E$2))<>0),\"Closed\",\"Open\")","v":"Open"},{"$f":"IF((COUNTIF('HOLIDAYS NF'!$B:$DZ,CONCATENATE(LEFT($A60,2),F$2))<>0),\"Closed\",\"Open\")","v":"Open"},{"$f":"IF((COUNTIF('HOLIDAYS NF'!$B:$DZ,CONCATENATE(LEFT($A60,2),G$2))<>0),\"Closed\",\"Open\")","v":"Open"},{"$f":"IF((COUNTIF('HOLIDAYS NF'!$B:$DZ,CONCATENATE(LEFT($A60,2),H$2))<>0),\"Closed\",\"Open\")","v":"Open"},{"$f":"IF((COUNTIF('HOLIDAYS NF'!$B:$DZ,CONCATENATE(LEFT($A60,2),I$2))<>0),\"Closed\",\"Open\")","v":"Open"},{"$f":"IF((COUNTIF('HOLIDAYS NF'!$B:$DZ,CONCATENATE(LEFT($A60,2),J$2))<>0),\"Closed\",\"Open\")","v":"Open"},{"$f":"IF((COUNTIF('HOLIDAYS NF'!$B:$DZ,CONCATENATE(LEFT($A60,2),K$2))<>0),\"Closed\",\"Open\")","v":"Open"},{"$f":"IF((COUNTIF('HOLIDAYS NF'!$B:$DZ,CONCATENATE(LEFT($A60,2),L$2))<>0),\"Closed\",\"Open\")","v":"Open"},{"$f":"IF((COUNTIF('HOLIDAYS NF'!$B:$DZ,CONCATENATE(LEFT($A60,2),M$2))<>0),\"Closed\",\"Open\")","v":"Open"},{"$f":"IF((COUNTIF('HOLIDAYS NF'!$B:$DZ,CONCATENATE(LEFT($A60,2),N$2))<>0),\"Closed\",\"Open\")","v":"Open"},{"$f":"IF((COUNTIF('HOLIDAYS NF'!$B:$DZ,CONCATENATE(LEFT($A60,2),O$2))<>0),\"Closed\",\"Open\")","v":"Open"},{"$f":"IF((COUNTIF('HOLIDAYS NF'!$B:$DZ,CONCATENATE(LEFT($A60,2),P$2))<>0),\"Closed\",\"Open\")","v":"Open"},{"$f":"IF((COUNTIF('HOLIDAYS NF'!$B:$DZ,CONCATENATE(LEFT($A60,2),Q$2))<>0),\"Closed\",\"Open\")","v":"Open"},{"$f":"IF((COUNTIF('HOLIDAYS NF'!$B:$DZ,CONCATENATE(LEFT($A60,2),R$2))<>0),\"Closed\",\"Open\")","v":"Open"},{"$f":"IF((COUNTIF('HOLIDAYS NF'!$B:$DZ,CONCATENATE(LEFT($A60,2),S$2))<>0),\"Closed\",\"Open\")","v":"Open"},{"$f":"IF((COUNTIF('HOLIDAYS NF'!$B:$DZ,CONCATENATE(LEFT($A60,2),T$2))<>0),\"Closed\",\"Open\")","v":"Open"},{"$f":"IF((COUNTIF('HOLIDAYS NF'!$B:$DZ,CONCATENATE(LEFT($A60,2),U$2))<>0),\"Closed\",\"Open\")","v":"Open"},{"$f":"IF((COUNTIF('HOLIDAYS NF'!$B:$DZ,CONCATENATE(LEFT($A60,2),V$2))<>0),\"Closed\",\"Open\")","v":"Open"},{"$f":"IF((COUNTIF('HOLIDAYS NF'!$B:$DZ,CONCATENATE(LEFT($A60,2),W$2))<>0),\"Closed\",\"Open\")","v":"Open"},{"$f":"IF((COUNTIF('HOLIDAYS NF'!$B:$DZ,CONCATENATE(LEFT($A60,2),X$2))<>0),\"Closed\",\"Open\")","v":"Open"},{"$f":"IF((COUNTIF('HOLIDAYS NF'!$B:$DZ,CONCATENATE(LEFT($A60,2),Y$2))<>0),\"Closed\",\"Open\")","v":"Open"},{"$f":"IF((COUNTIF('HOLIDAYS NF'!$B:$DZ,CONCATENATE(LEFT($A60,2),Z$2))<>0),\"Closed\",\"Open\")","v":"Open"},{"$f":"IF((COUNTIF('HOLIDAYS NF'!$B:$DZ,CONCATENATE(LEFT($A60,2),AA$2))<>0),\"Closed\",\"Open\")","v":"Open"},{"$f":"IF((COUNTIF('HOLIDAYS NF'!$B:$DZ,CONCATENATE(LEFT($A60,2),AB$2))<>0),\"Closed\",\"Open\")","v":"Open"},{"$f":"IF((COUNTIF('HOLIDAYS NF'!$B:$DZ,CONCATENATE(LEFT($A60,2),AC$2))<>0),\"Closed\",\"Open\")","v":"Open"},{"$f":"IF((COUNTIF('HOLIDAYS NF'!$B:$DZ,CONCATENATE(LEFT($A60,2),AD$2))<>0),\"Closed\",\"Open\")","v":"Open"},{"$f":"IF((COUNTIF('HOLIDAYS NF'!$B:$DZ,CONCATENATE(LEFT($A60,2),AE$2))<>0),\"Closed\",\"Open\")","v":"Open"},{"$f":"IF((COUNTIF('HOLIDAYS NF'!$B:$DZ,CONCATENATE(LEFT($A60,2),AF$2))<>0),\"Closed\",\"Open\")","v":"Open"},{"$f":"IF((COUNTIF('HOLIDAYS NF'!$B:$DZ,CONCATENATE(LEFT($A60,2),AG$2))<>0),\"Closed\",\"Open\")","v":"Open"},{"$f":"IF((COUNTIF('HOLIDAYS NF'!$B:$DZ,CONCATENATE(LEFT($A60,2),AH$2))<>0),\"Closed\",\"Open\")","v":"Open"},{"$f":"IF((COUNTIF('HOLIDAYS NF'!$B:$DZ,CONCATENATE(LEFT($A60,2),AI$2))<>0),\"Closed\",\"Open\")","v":"Open"},{"$f":"IF((COUNTIF('HOLIDAYS NF'!$B:$DZ,CONCATENATE(LEFT($A60,2),AJ$2))<>0),\"Closed\",\"Open\")","v":"Open"},{"$f":"IF((COUNTIF('HOLIDAYS NF'!$B:$DZ,CONCATENATE(LEFT($A60,2),AK$2))<>0),\"Closed\",\"Open\")","v":"Open"},{"$f":"IF((COUNTIF('HOLIDAYS NF'!$B:$DZ,CONCATENATE(LEFT($A60,2),AL$2))<>0),\"Closed\",\"Open\")","v":"Open"},{"$f":"IF((COUNTIF('HOLIDAYS NF'!$B:$DZ,CONCATENATE(LEFT($A60,2),AM$2))<>0),\"Closed\",\"Open\")","v":"Open"},{"$f":"IF((COUNTIF('HOLIDAYS NF'!$B:$DZ,CONCATENATE(LEFT($A60,2),AN$2))<>0),\"Closed\",\"Open\")","v":"Open"},{"$f":"IF((COUNTIF('HOLIDAYS NF'!$B:$DZ,CONCATENATE(LEFT($A60,2),AO$2))<>0),\"Closed\",\"Open\")","v":"Open"},{"$f":"IF((COUNTIF('HOLIDAYS NF'!$B:$DZ,CONCATENATE(LEFT($A60,2),AP$2))<>0),\"Closed\",\"Open\")","v":"Open"},{"$f":"IF((COUNTIF('HOLIDAYS NF'!$B:$DZ,CONCATENATE(LEFT($A60,2),AQ$2))<>0),\"Closed\",\"Open\")","v":"Open"},{"$f":"IF((COUNTIF('HOLIDAYS NF'!$B:$DZ,CONCATENATE(LEFT($A60,2),AR$2))<>0),\"Closed\",\"Open\")","v":"Open"},{"$f":"IF((COUNTIF('HOLIDAYS NF'!$B:$DZ,CONCATENATE(LEFT($A60,2),AS$2))<>0),\"Closed\",\"Open\")","v":"Open"},{"$f":"IF((COUNTIF('HOLIDAYS NF'!$B:$DZ,CONCATENATE(LEFT($A60,2),AT$2))<>0),\"Closed\",\"Open\")","v":"Open"},{"$f":"IF((COUNTIF('HOLIDAYS NF'!$B:$DZ,CONCATENATE(LEFT($A60,2),AU$2))<>0),\"Closed\",\"Open\")","v":"Open"},{"$f":"IF((COUNTIF('HOLIDAYS NF'!$B:$DZ,CONCATENATE(LEFT($A60,2),AV$2))<>0),\"Closed\",\"Open\")","v":"Open"},{"$f":"IF((COUNTIF('HOLIDAYS NF'!$B:$DZ,CONCATENATE(LEFT($A60,2),AW$2))<>0),\"Closed\",\"Open\")","v":"Open"},{"$f":"IF((COUNTIF('HOLIDAYS NF'!$B:$DZ,CONCATENATE(LEFT($A60,2),AX$2))<>0),\"Closed\",\"Open\")","v":"Open"},{"$f":"IF((COUNTIF('HOLIDAYS NF'!$B:$DZ,CONCATENATE(LEFT($A60,2),AY$2))<>0),\"Closed\",\"Open\")","v":"Open"},{"$f":"IF((COUNTIF('HOLIDAYS NF'!$B:$DZ,CONCATENATE(LEFT($A60,2),AZ$2))<>0),\"Closed\",\"Open\")","v":"Open"},{"$f":"IF((COUNTIF('HOLIDAYS NF'!$B:$DZ,CONCATENATE(LEFT($A60,2),BA$2))<>0),\"Closed\",\"Open\")","v":"Open"},{"$f":"IF((COUNTIF('HOLIDAYS NF'!$B:$DZ,CONCATENATE(LEFT($A60,2),BB$2))<>0),\"Closed\",\"Open\")","v":"Open"},{"$f":"IF((COUNTIF('HOLIDAYS NF'!$B:$DZ,CONCATENATE(LEFT($A60,2),BC$2))<>0),\"Closed\",\"Open\")","v":"Open"},{"$f":"IF((COUNTIF('HOLIDAYS NF'!$B:$DZ,CONCATENATE(LEFT($A60,2),BD$2))<>0),\"Closed\",\"Open\")","v":"Open"},{"$f":"IF((COUNTIF('HOLIDAYS NF'!$B:$DZ,CONCATENATE(LEFT($A60,2),BE$2))<>0),\"Closed\",\"Open\")","v":"Open"},{"$f":"IF((COUNTIF('HOLIDAYS NF'!$B:$DZ,CONCATENATE(LEFT($A60,2),BF$2))<>0),\"Closed\",\"Open\")","v":"Open"},{"$f":"IF((COUNTIF('HOLIDAYS NF'!$B:$DZ,CONCATENATE(LEFT($A60,2),BG$2))<>0),\"Closed\",\"Open\")","v":"Open"},{"$f":"IF((COUNTIF('HOLIDAYS NF'!$B:$DZ,CONCATENATE(LEFT($A60,2),BH$2))<>0),\"Closed\",\"Open\")","v":"Open"},{"$f":"IF((COUNTIF('HOLIDAYS NF'!$B:$DZ,CONCATENATE(LEFT($A60,2),BI$2))<>0),\"Closed\",\"Open\")","v":"Open"},{"$f":"IF((COUNTIF('HOLIDAYS NF'!$B:$DZ,CONCATENATE(LEFT($A60,2),BJ$2))<>0),\"Closed\",\"Open\")","v":"Open"}]
["TH",{"$f":"SUMIF(Holdings!G:G,(CONCATENATE($B$1,\"-\",A61,)),Holdings!H:H)","v":0},{"$f":"HLOOKUP(A61,'[1]HOLIDAYS NF'!B$1:BR$65536,6,FALSE)","v":"Thailand"},{"$f":"IF((COUNTIF('HOLIDAYS NF'!$B:$DZ,CONCATENATE(LEFT($A61,2),D$2))<>0),\"Closed\",\"Open\")","v":"Open"},{"$f":"IF((COUNTIF('HOLIDAYS NF'!$B:$DZ,CONCATENATE(LEFT($A61,2),E$2))<>0),\"Closed\",\"Open\")","v":"Open"},{"$f":"IF((COUNTIF('HOLIDAYS NF'!$B:$DZ,CONCATENATE(LEFT($A61,2),F$2))<>0),\"Closed\",\"Open\")","v":"Open"},{"$f":"IF((COUNTIF('HOLIDAYS NF'!$B:$DZ,CONCATENATE(LEFT($A61,2),G$2))<>0),\"Closed\",\"Open\")","v":"Open"},{"$f":"IF((COUNTIF('HOLIDAYS NF'!$B:$DZ,CONCATENATE(LEFT($A61,2),H$2))<>0),\"Closed\",\"Open\")","v":"Open"},{"$f":"IF((COUNTIF('HOLIDAYS NF'!$B:$DZ,CONCATENATE(LEFT($A61,2),I$2))<>0),\"Closed\",\"Open\")","v":"Open"},{"$f":"IF((COUNTIF('HOLIDAYS NF'!$B:$DZ,CONCATENATE(LEFT($A61,2),J$2))<>0),\"Closed\",\"Open\")","v":"Open"},{"$f":"IF((COUNTIF('HOLIDAYS NF'!$B:$DZ,CONCATENATE(LEFT($A61,2),K$2))<>0),\"Closed\",\"Open\")","v":"Open"},{"$f":"IF((COUNTIF('HOLIDAYS NF'!$B:$DZ,CONCATENATE(LEFT($A61,2),L$2))<>0),\"Closed\",\"Open\")","v":"Open"},{"$f":"IF((COUNTIF('HOLIDAYS NF'!$B:$DZ,CONCATENATE(LEFT($A61,2),M$2))<>0),\"Closed\",\"Open\")","v":"Open"},{"$f":"IF((COUNTIF('HOLIDAYS NF'!$B:$DZ,CONCATENATE(LEFT($A61,2),N$2))<>0),\"Closed\",\"Open\")","v":"Open"},{"$f":"IF((COUNTIF('HOLIDAYS NF'!$B:$DZ,CONCATENATE(LEFT($A61,2),O$2))<>0),\"Closed\",\"Open\")","v":"Open"},{"$f":"IF((COUNTIF('HOLIDAYS NF'!$B:$DZ,CONCATENATE(LEFT($A61,2),P$2))<>0),\"Closed\",\"Open\")","v":"Open"},{"$f":"IF((COUNTIF('HOLIDAYS NF'!$B:$DZ,CONCATENATE(LEFT($A61,2),Q$2))<>0),\"Closed\",\"Open\")","v":"Open"},{"$f":"IF((COUNTIF('HOLIDAYS NF'!$B:$DZ,CONCATENATE(LEFT($A61,2),R$2))<>0),\"Closed\",\"Open\")","v":"Open"},{"$f":"IF((COUNTIF('HOLIDAYS NF'!$B:$DZ,CONCATENATE(LEFT($A61,2),S$2))<>0),\"Closed\",\"Open\")","v":"Open"},{"$f":"IF((COUNTIF('HOLIDAYS NF'!$B:$DZ,CONCATENATE(LEFT($A61,2),T$2))<>0),\"Closed\",\"Open\")","v":"Open"},{"$f":"IF((COUNTIF('HOLIDAYS NF'!$B:$DZ,CONCATENATE(LEFT($A61,2),U$2))<>0),\"Closed\",\"Open\")","v":"Open"},{"$f":"IF((COUNTIF('HOLIDAYS NF'!$B:$DZ,CONCATENATE(LEFT($A61,2),V$2))<>0),\"Closed\",\"Open\")","v":"Open"},{"$f":"IF((COUNTIF('HOLIDAYS NF'!$B:$DZ,CONCATENATE(LEFT($A61,2),W$2))<>0),\"Closed\",\"Open\")","v":"Open"},{"$f":"IF((COUNTIF('HOLIDAYS NF'!$B:$DZ,CONCATENATE(LEFT($A61,2),X$2))<>0),\"Closed\",\"Open\")","v":"Open"},{"$f":"IF((COUNTIF('HOLIDAYS NF'!$B:$DZ,CONCATENATE(LEFT($A61,2),Y$2))<>0),\"Closed\",\"Open\")","v":"Open"},{"$f":"IF((COUNTIF('HOLIDAYS NF'!$B:$DZ,CONCATENATE(LEFT($A61,2),Z$2))<>0),\"Closed\",\"Open\")","v":"Open"},{"$f":"IF((COUNTIF('HOLIDAYS NF'!$B:$DZ,CONCATENATE(LEFT($A61,2),AA$2))<>0),\"Closed\",\"Open\")","v":"Open"},{"$f":"IF((COUNTIF('HOLIDAYS NF'!$B:$DZ,CONCATENATE(LEFT($A61,2),AB$2))<>0),\"Closed\",\"Open\")","v":"Open"},{"$f":"IF((COUNTIF('HOLIDAYS NF'!$B:$DZ,CONCATENATE(LEFT($A61,2),AC$2))<>0),\"Closed\",\"Open\")","v":"Open"},{"$f":"IF((COUNTIF('HOLIDAYS NF'!$B:$DZ,CONCATENATE(LEFT($A61,2),AD$2))<>0),\"Closed\",\"Open\")","v":"Open"},{"$f":"IF((COUNTIF('HOLIDAYS NF'!$B:$DZ,CONCATENATE(LEFT($A61,2),AE$2))<>0),\"Closed\",\"Open\")","v":"Open"},{"$f":"IF((COUNTIF('HOLIDAYS NF'!$B:$DZ,CONCATENATE(LEFT($A61,2),AF$2))<>0),\"Closed\",\"Open\")","v":"Open"},{"$f":"IF((COUNTIF('HOLIDAYS NF'!$B:$DZ,CONCATENATE(LEFT($A61,2),AG$2))<>0),\"Closed\",\"Open\")","v":"Open"},{"$f":"IF((COUNTIF('HOLIDAYS NF'!$B:$DZ,CONCATENATE(LEFT($A61,2),AH$2))<>0),\"Closed\",\"Open\")","v":"Open"},{"$f":"IF((COUNTIF('HOLIDAYS NF'!$B:$DZ,CONCATENATE(LEFT($A61,2),AI$2))<>0),\"Closed\",\"Open\")","v":"Open"},{"$f":"IF((COUNTIF('HOLIDAYS NF'!$B:$DZ,CONCATENATE(LEFT($A61,2),AJ$2))<>0),\"Closed\",\"Open\")","v":"Open"},{"$f":"IF((COUNTIF('HOLIDAYS NF'!$B:$DZ,CONCATENATE(LEFT($A61,2),AK$2))<>0),\"Closed\",\"Open\")","v":"Open"},{"$f":"IF((COUNTIF('HOLIDAYS NF'!$B:$DZ,CONCATENATE(LEFT($A61,2),AL$2))<>0),\"Closed\",\"Open\")","v":"Open"},{"$f":"IF((COUNTIF('HOLIDAYS NF'!$B:$DZ,CONCATENATE(LEFT($A61,2),AM$2))<>0),\"Closed\",\"Open\")","v":"Open"},{"$f":"IF((COUNTIF('HOLIDAYS NF'!$B:$DZ,CONCATENATE(LEFT($A61,2),AN$2))<>0),\"Closed\",\"Open\")","v":"Open"},{"$f":"IF((COUNTIF('HOLIDAYS NF'!$B:$DZ,CONCATENATE(LEFT($A61,2),AO$2))<>0),\"Closed\",\"Open\")","v":"Open"},{"$f":"IF((COUNTIF('HOLIDAYS NF'!$B:$DZ,CONCATENATE(LEFT($A61,2),AP$2))<>0),\"Closed\",\"Open\")","v":"Open"},{"$f":"IF((COUNTIF('HOLIDAYS NF'!$B:$DZ,CONCATENATE(LEFT($A61,2),AQ$2))<>0),\"Closed\",\"Open\")","v":"Open"},{"$f":"IF((COUNTIF('HOLIDAYS NF'!$B:$DZ,CONCATENATE(LEFT($A61,2),AR$2))<>0),\"Closed\",\"Open\")","v":"Open"},{"$f":"IF((COUNTIF('HOLIDAYS NF'!$B:$DZ,CONCATENATE(LEFT($A61,2),AS$2))<>0),\"Closed\",\"Open\")","v":"Open"},{"$f":"IF((COUNTIF('HOLIDAYS NF'!$B:$DZ,CONCATENATE(LEFT($A61,2),AT$2))<>0),\"Closed\",\"Open\")","v":"Open"},{"$f":"IF((COUNTIF('HOLIDAYS NF'!$B:$DZ,CONCATENATE(LEFT($A61,2),AU$2))<>0),\"Closed\",\"Open\")","v":"Open"},{"$f":"IF((COUNTIF('HOLIDAYS NF'!$B:$DZ,CONCATENATE(LEFT($A61,2),AV$2))<>0),\"Closed\",\"Open\")","v":"Open"},{"$f":"IF((COUNTIF('HOLIDAYS NF'!$B:$DZ,CONCATENATE(LEFT($A61,2),AW$2))<>0),\"Closed\",\"Open\")","v":"Open"},{"$f":"IF((COUNTIF('HOLIDAYS NF'!$B:$DZ,CONCATENATE(LEFT($A61,2),AX$2))<>0),\"Closed\",\"Open\")","v":"Open"},{"$f":"IF((COUNTIF('HOLIDAYS NF'!$B:$DZ,CONCATENATE(LEFT($A61,2),AY$2))<>0),\"Closed\",\"Open\")","v":"Open"},{"$f":"IF((COUNTIF('HOLIDAYS NF'!$B:$DZ,CONCATENATE(LEFT($A61,2),AZ$2))<>0),\"Closed\",\"Open\")","v":"Open"},{"$f":"IF((COUNTIF('HOLIDAYS NF'!$B:$DZ,CONCATENATE(LEFT($A61,2),BA$2))<>0),\"Closed\",\"Open\")","v":"Open"},{"$f":"IF((COUNTIF('HOLIDAYS NF'!$B:$DZ,CONCATENATE(LEFT($A61,2),BB$2))<>0),\"Closed\",\"Open\")","v":"Open"},{"$f":"IF((COUNTIF('HOLIDAYS NF'!$B:$DZ,CONCATENATE(LEFT($A61,2),BC$2))<>0),\"Closed\",\"Open\")","v":"Open"},{"$f":"IF((COUNTIF('HOLIDAYS NF'!$B:$DZ,CONCATENATE(LEFT($A61,2),BD$2))<>0),\"Closed\",\"Open\")","v":"Open"},{"$f":"IF((COUNTIF('HOLIDAYS NF'!$B:$DZ,CONCATENATE(LEFT($A61,2),BE$2))<>0),\"Closed\",\"Open\")","v":"Open"},{"$f":"IF((COUNTIF('HOLIDAYS NF'!$B:$DZ,CONCATENATE(LEFT($A61,2),BF$2))<>0),\"Closed\",\"Open\")","v":"Open"},{"$f":"IF((COUNTIF('HOLIDAYS NF'!$B:$DZ,CONCATENATE(LEFT($A61,2),BG$2))<>0),\"Closed\",\"Open\")","v":"Open"},{"$f":"IF((COUNTIF('HOLIDAYS NF'!$B:$DZ,CONCATENATE(LEFT($A61,2),BH$2))<>0),\"Closed\",\"Open\")","v":"Open"},{"$f":"IF((COUNTIF('HOLIDAYS NF'!$B:$DZ,CONCATENATE(LEFT($A61,2),BI$2))<>0),\"Closed\",\"Open\")","v":"Open"},{"$f":"IF((COUNTIF('HOLIDAYS NF'!$B:$DZ,CONCATENATE(LEFT($A61,2),BJ$2))<>0),\"Closed\",\"Open\")","v":"Open"}]
["TR",{"$f":"SUMIF(Holdings!G:G,(CONCATENATE($B$1,\"-\",A62,)),Holdings!H:H)","v":0},{"$f":"HLOOKUP(A62,'[1]HOLIDAYS NF'!B$1:BR$65536,6,FALSE)","v":"Turkey"},{"$f":"IF((COUNTIF('HOLIDAYS NF'!$B:$DZ,CONCATENATE(LEFT($A62,2),D$2))<>0),\"Closed\",\"Open\")","v":"Open"},{"$f":"IF((COUNTIF('HOLIDAYS NF'!$B:$DZ,CONCATENATE(LEFT($A62,2),E$2))<>0),\"Closed\",\"Open\")","v":"Open"},{"$f":"IF((COUNTIF('HOLIDAYS NF'!$B:$DZ,CONCATENATE(LEFT($A62,2),F$2))<>0),\"Closed\",\"Open\")","v":"Open"},{"$f":"IF((COUNTIF('HOLIDAYS NF'!$B:$DZ,CONCATENATE(LEFT($A62,2),G$2))<>0),\"Closed\",\"Open\")","v":"Open"},{"$f":"IF((COUNTIF('HOLIDAYS NF'!$B:$DZ,CONCATENATE(LEFT($A62,2),H$2))<>0),\"Closed\",\"Open\")","v":"Open"},{"$f":"IF((COUNTIF('HOLIDAYS NF'!$B:$DZ,CONCATENATE(LEFT($A62,2),I$2))<>0),\"Closed\",\"Open\")","v":"Open"},{"$f":"IF((COUNTIF('HOLIDAYS NF'!$B:$DZ,CONCATENATE(LEFT($A62,2),J$2))<>0),\"Closed\",\"Open\")","v":"Open"},{"$f":"IF((COUNTIF('HOLIDAYS NF'!$B:$DZ,CONCATENATE(LEFT($A62,2),K$2))<>0),\"Closed\",\"Open\")","v":"Open"},{"$f":"IF((COUNTIF('HOLIDAYS NF'!$B:$DZ,CONCATENATE(LEFT($A62,2),L$2))<>0),\"Closed\",\"Open\")","v":"Open"},{"$f":"IF((COUNTIF('HOLIDAYS NF'!$B:$DZ,CONCATENATE(LEFT($A62,2),M$2))<>0),\"Closed\",\"Open\")","v":"Open"},{"$f":"IF((COUNTIF('HOLIDAYS NF'!$B:$DZ,CONCATENATE(LEFT($A62,2),N$2))<>0),\"Closed\",\"Open\")","v":"Open"},{"$f":"IF((COUNTIF('HOLIDAYS NF'!$B:$DZ,CONCATENATE(LEFT($A62,2),O$2))<>0),\"Closed\",\"Open\")","v":"Open"},{"$f":"IF((COUNTIF('HOLIDAYS NF'!$B:$DZ,CONCATENATE(LEFT($A62,2),P$2))<>0),\"Closed\",\"Open\")","v":"Open"},{"$f":"IF((COUNTIF('HOLIDAYS NF'!$B:$DZ,CONCATENATE(LEFT($A62,2),Q$2))<>0),\"Closed\",\"Open\")","v":"Open"},{"$f":"IF((COUNTIF('HOLIDAYS NF'!$B:$DZ,CONCATENATE(LEFT($A62,2),R$2))<>0),\"Closed\",\"Open\")","v":"Open"},{"$f":"IF((COUNTIF('HOLIDAYS NF'!$B:$DZ,CONCATENATE(LEFT($A62,2),S$2))<>0),\"Closed\",\"Open\")","v":"Open"},{"$f":"IF((COUNTIF('HOLIDAYS NF'!$B:$DZ,CONCATENATE(LEFT($A62,2),T$2))<>0),\"Closed\",\"Open\")","v":"Open"},{"$f":"IF((COUNTIF('HOLIDAYS NF'!$B:$DZ,CONCATENATE(LEFT($A62,2),U$2))<>0),\"Closed\",\"Open\")","v":"Open"},{"$f":"IF((COUNTIF('HOLIDAYS NF'!$B:$DZ,CONCATENATE(LEFT($A62,2),V$2))<>0),\"Closed\",\"Open\")","v":"Open"},{"$f":"IF((COUNTIF('HOLIDAYS NF'!$B:$DZ,CONCATENATE(LEFT($A62,2),W$2))<>0),\"Closed\",\"Open\")","v":"Open"},{"$f":"IF((COUNTIF('HOLIDAYS NF'!$B:$DZ,CONCATENATE(LEFT($A62,2),X$2))<>0),\"Closed\",\"Open\")","v":"Open"},{"$f":"IF((COUNTIF('HOLIDAYS NF'!$B:$DZ,CONCATENATE(LEFT($A62,2),Y$2))<>0),\"Closed\",\"Open\")","v":"Open"},{"$f":"IF((COUNTIF('HOLIDAYS NF'!$B:$DZ,CONCATENATE(LEFT($A62,2),Z$2))<>0),\"Closed\",\"Open\")","v":"Open"},{"$f":"IF((COUNTIF('HOLIDAYS NF'!$B:$DZ,CONCATENATE(LEFT($A62,2),AA$2))<>0),\"Closed\",\"Open\")","v":"Open"},{"$f":"IF((COUNTIF('HOLIDAYS NF'!$B:$DZ,CONCATENATE(LEFT($A62,2),AB$2))<>0),\"Closed\",\"Open\")","v":"Open"},{"$f":"IF((COUNTIF('HOLIDAYS NF'!$B:$DZ,CONCATENATE(LEFT($A62,2),AC$2))<>0),\"Closed\",\"Open\")","v":"Open"},{"$f":"IF((COUNTIF('HOLIDAYS NF'!$B:$DZ,CONCATENATE(LEFT($A62,2),AD$2))<>0),\"Closed\",\"Open\")","v":"Open"},{"$f":"IF((COUNTIF('HOLIDAYS NF'!$B:$DZ,CONCATENATE(LEFT($A62,2),AE$2))<>0),\"Closed\",\"Open\")","v":"Open"},{"$f":"IF((COUNTIF('HOLIDAYS NF'!$B:$DZ,CONCATENATE(LEFT($A62,2),AF$2))<>0),\"Closed\",\"Open\")","v":"Open"},{"$f":"IF((COUNTIF('HOLIDAYS NF'!$B:$DZ,CONCATENATE(LEFT($A62,2),AG$2))<>0),\"Closed\",\"Open\")","v":"Open"},{"$f":"IF((COUNTIF('HOLIDAYS NF'!$B:$DZ,CONCATENATE(LEFT($A62,2),AH$2))<>0),\"Closed\",\"Open\")","v":"Open"},{"$f":"IF((COUNTIF('HOLIDAYS NF'!$B:$DZ,CONCATENATE(LEFT($A62,2),AI$2))<>0),\"Closed\",\"Open\")","v":"Open"},{"$f":"IF((COUNTIF('HOLIDAYS NF'!$B:$DZ,CONCATENATE(LEFT($A62,2),AJ$2))<>0),\"Closed\",\"Open\")","v":"Open"},{"$f":"IF((COUNTIF('HOLIDAYS NF'!$B:$DZ,CONCATENATE(LEFT($A62,2),AK$2))<>0),\"Closed\",\"Open\")","v":"Open"},{"$f":"IF((COUNTIF('HOLIDAYS NF'!$B:$DZ,CONCATENATE(LEFT($A62,2),AL$2))<>0),\"Closed\",\"Open\")","v":"Open"},{"$f":"IF((COUNTIF('HOLIDAYS NF'!$B:$DZ,CONCATENATE(LEFT($A62,2),AM$2))<>0),\"Closed\",\"Open\")","v":"Open"},{"$f":"IF((COUNTIF('HOLIDAYS NF'!$B:$DZ,CONCATENATE(LEFT($A62,2),AN$2))<>0),\"Closed\",\"Open\")","v":"Open"},{"$f":"IF((COUNTIF('HOLIDAYS NF'!$B:$DZ,CONCATENATE(LEFT($A62,2),AO$2))<>0),\"Closed\",\"Open\")","v":"Open"},{"$f":"IF((COUNTIF('HOLIDAYS NF'!$B:$DZ,CONCATENATE(LEFT($A62,2),AP$2))<>0),\"Closed\",\"Open\")","v":"Open"},{"$f":"IF((COUNTIF('HOLIDAYS NF'!$B:$DZ,CONCATENATE(LEFT($A62,2),AQ$2))<>0),\"Closed\",\"Open\")","v":"Open"},{"$f":"IF((COUNTIF('HOLIDAYS NF'!$B:$DZ,CONCATENATE(LEFT($A62,2),AR$2))<>0),\"Closed\",\"Open\")","v":"Open"},{"$f":"IF((COUNTIF('HOLIDAYS NF'!$B:$DZ,CONCATENATE(LEFT($A62,2),AS$2))<>0),\"Closed\",\"Open\")","v":"Open"},{"$f":"IF((COUNTIF('HOLIDAYS NF'!$B:$DZ,CONCATENATE(LEFT($A62,2),AT$2))<>0),\"Closed\",\"Open\")","v":"Open"},{"$f":"IF((COUNTIF('HOLIDAYS NF'!$B:$DZ,CONCATENATE(LEFT($A62,2),AU$2))<>0),\"Closed\",\"Open\")","v":"Open"},{"$f":"IF((COUNTIF('HOLIDAYS NF'!$B:$DZ,CONCATENATE(LEFT($A62,2),AV$2))<>0),\"Closed\",\"Open\")","v":"Open"},{"$f":"IF((COUNTIF('HOLIDAYS NF'!$B:$DZ,CONCATENATE(LEFT($A62,2),AW$2))<>0),\"Closed\",\"Open\")","v":"Open"},{"$f":"IF((COUNTIF('HOLIDAYS NF'!$B:$DZ,CONCATENATE(LEFT($A62,2),AX$2))<>0),\"Closed\",\"Open\")","v":"Open"},{"$f":"IF((COUNTIF('HOLIDAYS NF'!$B:$DZ,CONCATENATE(LEFT($A62,2),AY$2))<>0),\"Closed\",\"Open\")","v":"Open"},{"$f":"IF((COUNTIF('HOLIDAYS NF'!$B:$DZ,CONCATENATE(LEFT($A62,2),AZ$2))<>0),\"Closed\",\"Open\")","v":"Open"},{"$f":"IF((COUNTIF('HOLIDAYS NF'!$B:$DZ,CONCATENATE(LEFT($A62,2),BA$2))<>0),\"Closed\",\"Open\")","v":"Open"},{"$f":"IF((COUNTIF('HOLIDAYS NF'!$B:$DZ,CONCATENATE(LEFT($A62,2),BB$2))<>0),\"Closed\",\"Open\")","v":"Open"},{"$f":"IF((COUNTIF('HOLIDAYS NF'!$B:$DZ,CONCATENATE(LEFT($A62,2),BC$2))<>0),\"Closed\",\"Open\")","v":"Open"},{"$f":"IF((COUNTIF('HOLIDAYS NF'!$B:$DZ,CONCATENATE(LEFT($A62,2),BD$2))<>0),\"Closed\",\"Open\")","v":"Open"},{"$f":"IF((COUNTIF('HOLIDAYS NF'!$B:$DZ,CONCATENATE(LEFT($A62,2),BE$2))<>0),\"Closed\",\"Open\")","v":"Open"},{"$f":"IF((COUNTIF('HOLIDAYS NF'!$B:$DZ,CONCATENATE(LEFT($A62,2),BF$2))<>0),\"Closed\",\"Open\")","v":"Open"},{"$f":"IF((COUNTIF('HOLIDAYS NF'!$B:$DZ,CONCATENATE(LEFT($A62,2),BG$2))<>0),\"Closed\",\"Open\")","v":"Open"},{"$f":"IF((COUNTIF('HOLIDAYS NF'!$B:$DZ,CONCATENATE(LEFT($A62,2),BH$2))<>0),\"Closed\",\"Open\")","v":"Open"},{"$f":"IF((COUNTIF('HOLIDAYS NF'!$B:$DZ,CONCATENATE(LEFT($A62,2),BI$2))<>0),\"Closed\",\"Open\")","v":"Open"},{"$f":"IF((COUNTIF('HOLIDAYS NF'!$B:$DZ,CONCATENATE(LEFT($A62,2),BJ$2))<>0),\"Closed\",\"Open\")","v":"Open"}]
["TW",{"$f":"SUMIF(Holdings!G:G,(CONCATENATE($B$1,\"-\",A63,)),Holdings!H:H)","v":0},{"$f":"HLOOKUP(A63,'[1]HOLIDAYS NF'!B$1:BR$65536,6,FALSE)","v":"Taiwan, Province of China"},{"$f":"IF((COUNTIF('HOLIDAYS NF'!$B:$DZ,CONCATENATE(LEFT($A63,2),D$2))<>0),\"Closed\",\"Open\")","v":"Open"},{"$f":"IF((COUNTIF('HOLIDAYS NF'!$B:$DZ,CONCATENATE(LEFT($A63,2),E$2))<>0),\"Closed\",\"Open\")","v":"Open"},{"$f":"IF((COUNTIF('HOLIDAYS NF'!$B:$DZ,CONCATENATE(LEFT($A63,2),F$2))<>0),\"Closed\",\"Open\")","v":"Open"},{"$f":"IF((COUNTIF('HOLIDAYS NF'!$B:$DZ,CONCATENATE(LEFT($A63,2),G$2))<>0),\"Closed\",\"Open\")","v":"Open"},{"$f":"IF((COUNTIF('HOLIDAYS NF'!$B:$DZ,CONCATENATE(LEFT($A63,2),H$2))<>0),\"Closed\",\"Open\")","v":"Open"},{"$f":"IF((COUNTIF('HOLIDAYS NF'!$B:$DZ,CONCATENATE(LEFT($A63,2),I$2))<>0),\"Closed\",\"Open\")","v":"Open"},{"$f":"IF((COUNTIF('HOLIDAYS NF'!$B:$DZ,CONCATENATE(LEFT($A63,2),J$2))<>0),\"Closed\",\"Open\")","v":"Open"},{"$f":"IF((COUNTIF('HOLIDAYS NF'!$B:$DZ,CONCATENATE(LEFT($A63,2),K$2))<>0),\"Closed\",\"Open\")","v":"Open"},{"$f":"IF((COUNTIF('HOLIDAYS NF'!$B:$DZ,CONCATENATE(LEFT($A63,2),L$2))<>0),\"Closed\",\"Open\")","v":"Open"},{"$f":"IF((COUNTIF('HOLIDAYS NF'!$B:$DZ,CONCATENATE(LEFT($A63,2),M$2))<>0),\"Closed\",\"Open\")","v":"Open"},{"$f":"IF((COUNTIF('HOLIDAYS NF'!$B:$DZ,CONCATENATE(LEFT($A63,2),N$2))<>0),\"Closed\",\"Open\")","v":"Open"},{"$f":"IF((COUNTIF('HOLIDAYS NF'!$B:$DZ,CONCATENATE(LEFT($A63,2),O$2))<>0),\"Closed\",\"Open\")","v":"Open"},{"$f":"IF((COUNTIF('HOLIDAYS NF'!$B:$DZ,CONCATENATE(LEFT($A63,2),P$2))<>0),\"Closed\",\"Open\")","v":"Open"},{"$f":"IF((COUNTIF('HOLIDAYS NF'!$B:$DZ,CONCATENATE(LEFT($A63,2),Q$2))<>0),\"Closed\",\"Open\")","v":"Open"},{"$f":"IF((COUNTIF('HOLIDAYS NF'!$B:$DZ,CONCATENATE(LEFT($A63,2),R$2))<>0),\"Closed\",\"Open\")","v":"Open"},{"$f":"IF((COUNTIF('HOLIDAYS NF'!$B:$DZ,CONCATENATE(LEFT($A63,2),S$2))<>0),\"Closed\",\"Open\")","v":"Open"},{"$f":"IF((COUNTIF('HOLIDAYS NF'!$B:$DZ,CONCATENATE(LEFT($A63,2),T$2))<>0),\"Closed\",\"Open\")","v":"Open"},{"$f":"IF((COUNTIF('HOLIDAYS NF'!$B:$DZ,CONCATENATE(LEFT($A63,2),U$2))<>0),\"Closed\",\"Open\")","v":"Open"},{"$f":"IF((COUNTIF('HOLIDAYS NF'!$B:$DZ,CONCATENATE(LEFT($A63,2),V$2))<>0),\"Closed\",\"Open\")","v":"Open"},{"$f":"IF((COUNTIF('HOLIDAYS NF'!$B:$DZ,CONCATENATE(LEFT($A63,2),W$2))<>0),\"Closed\",\"Open\")","v":"Open"},{"$f":"IF((COUNTIF('HOLIDAYS NF'!$B:$DZ,CONCATENATE(LEFT($A63,2),X$2))<>0),\"Closed\",\"Open\")","v":"Open"},{"$f":"IF((COUNTIF('HOLIDAYS NF'!$B:$DZ,CONCATENATE(LEFT($A63,2),Y$2))<>0),\"Closed\",\"Open\")","v":"Open"},{"$f":"IF((COUNTIF('HOLIDAYS NF'!$B:$DZ,CONCATENATE(LEFT($A63,2),Z$2))<>0),\"Closed\",\"Open\")","v":"Open"},{"$f":"IF((COUNTIF('HOLIDAYS NF'!$B:$DZ,CONCATENATE(LEFT($A63,2),AA$2))<>0),\"Closed\",\"Open\")","v":"Open"},{"$f":"IF((COUNTIF('HOLIDAYS NF'!$B:$DZ,CONCATENATE(LEFT($A63,2),AB$2))<>0),\"Closed\",\"Open\")","v":"Open"},{"$f":"IF((COUNTIF('HOLIDAYS NF'!$B:$DZ,CONCATENATE(LEFT($A63,2),AC$2))<>0),\"Closed\",\"Open\")","v":"Open"},{"$f":"IF((COUNTIF('HOLIDAYS NF'!$B:$DZ,CONCATENATE(LEFT($A63,2),AD$2))<>0),\"Closed\",\"Open\")","v":"Open"},{"$f":"IF((COUNTIF('HOLIDAYS NF'!$B:$DZ,CONCATENATE(LEFT($A63,2),AE$2))<>0),\"Closed\",\"Open\")","v":"Open"},{"$f":"IF((COUNTIF('HOLIDAYS NF'!$B:$DZ,CONCATENATE(LEFT($A63,2),AF$2))<>0),\"Closed\",\"Open\")","v":"Open"},{"$f":"IF((COUNTIF('HOLIDAYS NF'!$B:$DZ,CONCATENATE(LEFT($A63,2),AG$2))<>0),\"Closed\",\"Open\")","v":"Open"},{"$f":"IF((COUNTIF('HOLIDAYS NF'!$B:$DZ,CONCATENATE(LEFT($A63,2),AH$2))<>0),\"Closed\",\"Open\")","v":"Open"},{"$f":"IF((COUNTIF('HOLIDAYS NF'!$B:$DZ,CONCATENATE(LEFT($A63,2),AI$2))<>0),\"Closed\",\"Open\")","v":"Open"},{"$f":"IF((COUNTIF('HOLIDAYS NF'!$B:$DZ,CONCATENATE(LEFT($A63,2),AJ$2))<>0),\"Closed\",\"Open\")","v":"Open"},{"$f":"IF((COUNTIF('HOLIDAYS NF'!$B:$DZ,CONCATENATE(LEFT($A63,2),AK$2))<>0),\"Closed\",\"Open\")","v":"Open"},{"$f":"IF((COUNTIF('HOLIDAYS NF'!$B:$DZ,CONCATENATE(LEFT($A63,2),AL$2))<>0),\"Closed\",\"Open\")","v":"Open"},{"$f":"IF((COUNTIF('HOLIDAYS NF'!$B:$DZ,CONCATENATE(LEFT($A63,2),AM$2))<>0),\"Closed\",\"Open\")","v":"Open"},{"$f":"IF((COUNTIF('HOLIDAYS NF'!$B:$DZ,CONCATENATE(LEFT($A63,2),AN$2))<>0),\"Closed\",\"Open\")","v":"Open"},{"$f":"IF((COUNTIF('HOLIDAYS NF'!$B:$DZ,CONCATENATE(LEFT($A63,2),AO$2))<>0),\"Closed\",\"Open\")","v":"Open"},{"$f":"IF((COUNTIF('HOLIDAYS NF'!$B:$DZ,CONCATENATE(LEFT($A63,2),AP$2))<>0),\"Closed\",\"Open\")","v":"Open"},{"$f":"IF((COUNTIF('HOLIDAYS NF'!$B:$DZ,CONCATENATE(LEFT($A63,2),AQ$2))<>0),\"Closed\",\"Open\")","v":"Open"},{"$f":"IF((COUNTIF('HOLIDAYS NF'!$B:$DZ,CONCATENATE(LEFT($A63,2),AR$2))<>0),\"Closed\",\"Open\")","v":"Open"},{"$f":"IF((COUNTIF('HOLIDAYS NF'!$B:$DZ,CONCATENATE(LEFT($A63,2),AS$2))<>0),\"Closed\",\"Open\")","v":"Open"},{"$f":"IF((COUNTIF('HOLIDAYS NF'!$B:$DZ,CONCATENATE(LEFT($A63,2),AT$2))<>0),\"Closed\",\"Open\")","v":"Open"},{"$f":"IF((COUNTIF('HOLIDAYS NF'!$B:$DZ,CONCATENATE(LEFT($A63,2),AU$2))<>0),\"Closed\",\"Open\")","v":"Open"},{"$f":"IF((COUNTIF('HOLIDAYS NF'!$B:$DZ,CONCATENATE(LEFT($A63,2),AV$2))<>0),\"Closed\",\"Open\")","v":"Open"},{"$f":"IF((COUNTIF('HOLIDAYS NF'!$B:$DZ,CONCATENATE(LEFT($A63,2),AW$2))<>0),\"Closed\",\"Open\")","v":"Open"},{"$f":"IF((COUNTIF('HOLIDAYS NF'!$B:$DZ,CONCATENATE(LEFT($A63,2),AX$2))<>0),\"Closed\",\"Open\")","v":"Open"},{"$f":"IF((COUNTIF('HOLIDAYS NF'!$B:$DZ,CONCATENATE(LEFT($A63,2),AY$2))<>0),\"Closed\",\"Open\")","v":"Open"},{"$f":"IF((COUNTIF('HOLIDAYS NF'!$B:$DZ,CONCATENATE(LEFT($A63,2),AZ$2))<>0),\"Closed\",\"Open\")","v":"Open"},{"$f":"IF((COUNTIF('HOLIDAYS NF'!$B:$DZ,CONCATENATE(LEFT($A63,2),BA$2))<>0),\"Closed\",\"Open\")","v":"Open"},{"$f":"IF((COUNTIF('HOLIDAYS NF'!$B:$DZ,CONCATENATE(LEFT($A63,2),BB$2))<>0),\"Closed\",\"Open\")","v":"Open"},{"$f":"IF((COUNTIF('HOLIDAYS NF'!$B:$DZ,CONCATENATE(LEFT($A63,2),BC$2))<>0),\"Closed\",\"Open\")","v":"Open"},{"$f":"IF((COUNTIF('HOLIDAYS NF'!$B:$DZ,CONCATENATE(LEFT($A63,2),BD$2))<>0),\"Closed\",\"Open\")","v":"Open"},{"$f":"IF((COUNTIF('HOLIDAYS NF'!$B:$DZ,CONCATENATE(LEFT($A63,2),BE$2))<>0),\"Closed\",\"Open\")","v":"Open"},{"$f":"IF((COUNTIF('HOLIDAYS NF'!$B:$DZ,CONCATENATE(LEFT($A63,2),BF$2))<>0),\"Closed\",\"Open\")","v":"Open"},{"$f":"IF((COUNTIF('HOLIDAYS NF'!$B:$DZ,CONCATENATE(LEFT($A63,2),BG$2))<>0),\"Closed\",\"Open\")","v":"Open"},{"$f":"IF((COUNTIF('HOLIDAYS NF'!$B:$DZ,CONCATENATE(LEFT($A63,2),BH$2))<>0),\"Closed\",\"Open\")","v":"Open"},{"$f":"IF((COUNTIF('HOLIDAYS NF'!$B:$DZ,CONCATENATE(LEFT($A63,2),BI$2))<>0),\"Closed\",\"Open\")","v":"Open"},{"$f":"IF((COUNTIF('HOLIDAYS NF'!$B:$DZ,CONCATENATE(LEFT($A63,2),BJ$2))<>0),\"Closed\",\"Open\")","v":"Open"}]
["US",{"$f":"SUMIF(Holdings!G:G,(CONCATENATE($B$1,\"-\",A64,)),Holdings!H:H)","v":0},{"$f":"HLOOKUP(A64,'[1]HOLIDAYS NF'!B$1:BR$65536,6,FALSE)","v":"United States"},{"$f":"IF((COUNTIF('HOLIDAYS NF'!$B:$DZ,CONCATENATE(LEFT($A64,2),D$2))<>0),\"Closed\",\"Open\")","v":"Open"},{"$f":"IF((COUNTIF('HOLIDAYS NF'!$B:$DZ,CONCATENATE(LEFT($A64,2),E$2))<>0),\"Closed\",\"Open\")","v":"Open"},{"$f":"IF((COUNTIF('HOLIDAYS NF'!$B:$DZ,CONCATENATE(LEFT($A64,2),F$2))<>0),\"Closed\",\"Open\")","v":"Open"},{"$f":"IF((COUNTIF('HOLIDAYS NF'!$B:$DZ,CONCATENATE(LEFT($A64,2),G$2))<>0),\"Closed\",\"Open\")","v":"Open"},{"$f":"IF((COUNTIF('HOLIDAYS NF'!$B:$DZ,CONCATENATE(LEFT($A64,2),H$2))<>0),\"Closed\",\"Open\")","v":"Open"},{"$f":"IF((COUNTIF('HOLIDAYS NF'!$B:$DZ,CONCATENATE(LEFT($A64,2),I$2))<>0),\"Closed\",\"Open\")","v":"Open"},{"$f":"IF((COUNTIF('HOLIDAYS NF'!$B:$DZ,CONCATENATE(LEFT($A64,2),J$2))<>0),\"Closed\",\"Open\")","v":"Open"},{"$f":"IF((COUNTIF('HOLIDAYS NF'!$B:$DZ,CONCATENATE(LEFT($A64,2),K$2))<>0),\"Closed\",\"Open\")","v":"Open"},{"$f":"IF((COUNTIF('HOLIDAYS NF'!$B:$DZ,CONCATENATE(LEFT($A64,2),L$2))<>0),\"Closed\",\"Open\")","v":"Open"},{"$f":"IF((COUNTIF('HOLIDAYS NF'!$B:$DZ,CONCATENATE(LEFT($A64,2),M$2))<>0),\"Closed\",\"Open\")","v":"Open"},{"$f":"IF((COUNTIF('HOLIDAYS NF'!$B:$DZ,CONCATENATE(LEFT($A64,2),N$2))<>0),\"Closed\",\"Open\")","v":"Open"},{"$f":"IF((COUNTIF('HOLIDAYS NF'!$B:$DZ,CONCATENATE(LEFT($A64,2),O$2))<>0),\"Closed\",\"Open\")","v":"Open"},{"$f":"IF((COUNTIF('HOLIDAYS NF'!$B:$DZ,CONCATENATE(LEFT($A64,2),P$2))<>0),\"Closed\",\"Open\")","v":"Open"},{"$f":"IF((COUNTIF('HOLIDAYS NF'!$B:$DZ,CONCATENATE(LEFT($A64,2),Q$2))<>0),\"Closed\",\"Open\")","v":"Open"},{"$f":"IF((COUNTIF('HOLIDAYS NF'!$B:$DZ,CONCATENATE(LEFT($A64,2),R$2))<>0),\"Closed\",\"Open\")","v":"Open"},{"$f":"IF((COUNTIF('HOLIDAYS NF'!$B:$DZ,CONCATENATE(LEFT($A64,2),S$2))<>0),\"Closed\",\"Open\")","v":"Open"},{"$f":"IF((COUNTIF('HOLIDAYS NF'!$B:$DZ,CONCATENATE(LEFT($A64,2),T$2))<>0),\"Closed\",\"Open\")","v":"Open"},{"$f":"IF((COUNTIF('HOLIDAYS NF'!$B:$DZ,CONCATENATE(LEFT($A64,2),U$2))<>0),\"Closed\",\"Open\")","v":"Open"},{"$f":"IF((COUNTIF('HOLIDAYS NF'!$B:$DZ,CONCATENATE(LEFT($A64,2),V$2))<>0),\"Closed\",\"Open\")","v":"Open"},{"$f":"IF((COUNTIF('HOLIDAYS NF'!$B:$DZ,CONCATENATE(LEFT($A64,2),W$2))<>0),\"Closed\",\"Open\")","v":"Open"},{"$f":"IF((COUNTIF('HOLIDAYS NF'!$B:$DZ,CONCATENATE(LEFT($A64,2),X$2))<>0),\"Closed\",\"Open\")","v":"Open"},{"$f":"IF((COUNTIF('HOLIDAYS NF'!$B:$DZ,CONCATENATE(LEFT($A64,2),Y$2))<>0),\"Closed\",\"Open\")","v":"Open"},{"$f":"IF((COUNTIF('HOLIDAYS NF'!$B:$DZ,CONCATENATE(LEFT($A64,2),Z$2))<>0),\"Closed\",\"Open\")","v":"Open"},{"$f":"IF((COUNTIF('HOLIDAYS NF'!$B:$DZ,CONCATENATE(LEFT($A64,2),AA$2))<>0),\"Closed\",\"Open\")","v":"Open"},{"$f":"IF((COUNTIF('HOLIDAYS NF'!$B:$DZ,CONCATENATE(LEFT($A64,2),AB$2))<>0),\"Closed\",\"Open\")","v":"Open"},{"$f":"IF((COUNTIF('HOLIDAYS NF'!$B:$DZ,CONCATENATE(LEFT($A64,2),AC$2))<>0),\"Closed\",\"Open\")","v":"Open"},{"$f":"IF((COUNTIF('HOLIDAYS NF'!$B:$DZ,CONCATENATE(LEFT($A64,2),AD$2))<>0),\"Closed\",\"Open\")","v":"Open"},{"$f":"IF((COUNTIF('HOLIDAYS NF'!$B:$DZ,CONCATENATE(LEFT($A64,2),AE$2))<>0),\"Closed\",\"Open\")","v":"Open"},{"$f":"IF((COUNTIF('HOLIDAYS NF'!$B:$DZ,CONCATENATE(LEFT($A64,2),AF$2))<>0),\"Closed\",\"Open\")","v":"Open"},{"$f":"IF((COUNTIF('HOLIDAYS NF'!$B:$DZ,CONCATENATE(LEFT($A64,2),AG$2))<>0),\"Closed\",\"Open\")","v":"Open"},{"$f":"IF((COUNTIF('HOLIDAYS NF'!$B:$DZ,CONCATENATE(LEFT($A64,2),AH$2))<>0),\"Closed\",\"Open\")","v":"Open"},{"$f":"IF((COUNTIF('HOLIDAYS NF'!$B:$DZ,CONCATENATE(LEFT($A64,2),AI$2))<>0),\"Closed\",\"Open\")","v":"Open"},{"$f":"IF((COUNTIF('HOLIDAYS NF'!$B:$DZ,CONCATENATE(LEFT($A64,2),AJ$2))<>0),\"Closed\",\"Open\")","v":"Open"},{"$f":"IF((COUNTIF('HOLIDAYS NF'!$B:$DZ,CONCATENATE(LEFT($A64,2),AK$2))<>0),\"Closed\",\"Open\")","v":"Open"},{"$f":"IF((COUNTIF('HOLIDAYS NF'!$B:$DZ,CONCATENATE(LEFT($A64,2),AL$2))<>0),\"Closed\",\"Open\")","v":"Open"},{"$f":"IF((COUNTIF('HOLIDAYS NF'!$B:$DZ,CONCATENATE(LEFT($A64,2),AM$2))<>0),\"Closed\",\"Open\")","v":"Open"},{"$f":"IF((COUNTIF('HOLIDAYS NF'!$B:$DZ,CONCATENATE(LEFT($A64,2),AN$2))<>0),\"Closed\",\"Open\")","v":"Open"},{"$f":"IF((COUNTIF('HOLIDAYS NF'!$B:$DZ,CONCATENATE(LEFT($A64,2),AO$2))<>0),\"Closed\",\"Open\")","v":"Open"},{"$f":"IF((COUNTIF('HOLIDAYS NF'!$B:$DZ,CONCATENATE(LEFT($A64,2),AP$2))<>0),\"Closed\",\"Open\")","v":"Open"},{"$f":"IF((COUNTIF('HOLIDAYS NF'!$B:$DZ,CONCATENATE(LEFT($A64,2),AQ$2))<>0),\"Closed\",\"Open\")","v":"Open"},{"$f":"IF((COUNTIF('HOLIDAYS NF'!$B:$DZ,CONCATENATE(LEFT($A64,2),AR$2))<>0),\"Closed\",\"Open\")","v":"Open"},{"$f":"IF((COUNTIF('HOLIDAYS NF'!$B:$DZ,CONCATENATE(LEFT($A64,2),AS$2))<>0),\"Closed\",\"Open\")","v":"Open"},{"$f":"IF((COUNTIF('HOLIDAYS NF'!$B:$DZ,CONCATENATE(LEFT($A64,2),AT$2))<>0),\"Closed\",\"Open\")","v":"Open"},{"$f":"IF((COUNTIF('HOLIDAYS NF'!$B:$DZ,CONCATENATE(LEFT($A64,2),AU$2))<>0),\"Closed\",\"Open\")","v":"Open"},{"$f":"IF((COUNTIF('HOLIDAYS NF'!$B:$DZ,CONCATENATE(LEFT($A64,2),AV$2))<>0),\"Closed\",\"Open\")","v":"Open"},{"$f":"IF((COUNTIF('HOLIDAYS NF'!$B:$DZ,CONCATENATE(LEFT($A64,2),AW$2))<>0),\"Closed\",\"Open\")","v":"Open"},{"$f":"IF((COUNTIF('HOLIDAYS NF'!$B:$DZ,CONCATENATE(LEFT($A64,2),AX$2))<>0),\"Closed\",\"Open\")","v":"Open"},{"$f":"IF((COUNTIF('HOLIDAYS NF'!$B:$DZ,CONCATENATE(LEFT($A64,2),AY$2))<>0),\"Closed\",\"Open\")","v":"Open"},{"$f":"IF((COUNTIF('HOLIDAYS NF'!$B:$DZ,CONCATENATE(LEFT($A64,2),AZ$2))<>0),\"Closed\",\"Open\")","v":"Open"},{"$f":"IF((COUNTIF('HOLIDAYS NF'!$B:$DZ,CONCATENATE(LEFT($A64,2),BA$2))<>0),\"Closed\",\"Open\")","v":"Open"},{"$f":"IF((COUNTIF('HOLIDAYS NF'!$B:$DZ,CONCATENATE(LEFT($A64,2),BB$2))<>0),\"Closed\",\"Open\")","v":"Open"},{"$f":"IF((COUNTIF('HOLIDAYS NF'!$B:$DZ,CONCATENATE(LEFT($A64,2),BC$2))<>0),\"Closed\",\"Open\")","v":"Open"},{"$f":"IF((COUNTIF('HOLIDAYS NF'!$B:$DZ,CONCATENATE(LEFT($A64,2),BD$2))<>0),\"Closed\",\"Open\")","v":"Open"},{"$f":"IF((COUNTIF('HOLIDAYS NF'!$B:$DZ,CONCATENATE(LEFT($A64,2),BE$2))<>0),\"Closed\",\"Open\")","v":"Open"},{"$f":"IF((COUNTIF('HOLIDAYS NF'!$B:$DZ,CONCATENATE(LEFT($A64,2),BF$2))<>0),\"Closed\",\"Open\")","v":"Open"},{"$f":"IF((COUNTIF('HOLIDAYS NF'!$B:$DZ,CONCATENATE(LEFT($A64,2),BG$2))<>0),\"Closed\",\"Open\")","v":"Open"},{"$f":"IF((COUNTIF('HOLIDAYS NF'!$B:$DZ,CONCATENATE(LEFT($A64,2),BH$2))<>0),\"Closed\",\"Open\")","v":"Open"},{"$f":"IF((COUNTIF('HOLIDAYS NF'!$B:$DZ,CONCATENATE(LEFT($A64,2),BI$2))<>0),\"Closed\",\"Open\")","v":"Open"},{"$f":"IF((COUNTIF('HOLIDAYS NF'!$B:$DZ,CONCATENATE(LEFT($A64,2),BJ$2))<>0),\"Closed\",\"Open\")","v":"Open"}]
["ZA",{"$f":"SUMIF(Holdings!G:G,(CONCATENATE($B$1,\"-\",A65,)),Holdings!H:H)","v":0},{"$f":"HLOOKUP(A65,'[1]HOLIDAYS NF'!B$1:BR$65536,6,FALSE)","v":"South Africa"},{"$f":"IF((COUNTIF('HOLIDAYS NF'!$B:$DZ,CONCATENATE(LEFT($A65,2),D$2))<>0),\"Closed\",\"Open\")","v":"Open"},{"$f":"IF((COUNTIF('HOLIDAYS NF'!$B:$DZ,CONCATENATE(LEFT($A65,2),E$2))<>0),\"Closed\",\"Open\")","v":"Open"},{"$f":"IF((COUNTIF('HOLIDAYS NF'!$B:$DZ,CONCATENATE(LEFT($A65,2),F$2))<>0),\"Closed\",\"Open\")","v":"Open"},{"$f":"IF((COUNTIF('HOLIDAYS NF'!$B:$DZ,CONCATENATE(LEFT($A65,2),G$2))<>0),\"Closed\",\"Open\")","v":"Open"},{"$f":"IF((COUNTIF('HOLIDAYS NF'!$B:$DZ,CONCATENATE(LEFT($A65,2),H$2))<>0),\"Closed\",\"Open\")","v":"Open"},{"$f":"IF((COUNTIF('HOLIDAYS NF'!$B:$DZ,CONCATENATE(LEFT($A65,2),I$2))<>0),\"Closed\",\"Open\")","v":"Open"},{"$f":"IF((COUNTIF('HOLIDAYS NF'!$B:$DZ,CONCATENATE(LEFT($A65,2),J$2))<>0),\"Closed\",\"Open\")","v":"Open"},{"$f":"IF((COUNTIF('HOLIDAYS NF'!$B:$DZ,CONCATENATE(LEFT($A65,2),K$2))<>0),\"Closed\",\"Open\")","v":"Open"},{"$f":"IF((COUNTIF('HOLIDAYS NF'!$B:$DZ,CONCATENATE(LEFT($A65,2),L$2))<>0),\"Closed\",\"Open\")","v":"Open"},{"$f":"IF((COUNTIF('HOLIDAYS NF'!$B:$DZ,CONCATENATE(LEFT($A65,2),M$2))<>0),\"Closed\",\"Open\")","v":"Open"},{"$f":"IF((COUNTIF('HOLIDAYS NF'!$B:$DZ,CONCATENATE(LEFT($A65,2),N$2))<>0),\"Closed\",\"Open\")","v":"Open"},{"$f":"IF((COUNTIF('HOLIDAYS NF'!$B:$DZ,CONCATENATE(LEFT($A65,2),O$2))<>0),\"Closed\",\"Open\")","v":"Open"},{"$f":"IF((COUNTIF('HOLIDAYS NF'!$B:$DZ,CONCATENATE(LEFT($A65,2),P$2))<>0),\"Closed\",\"Open\")","v":"Open"},{"$f":"IF((COUNTIF('HOLIDAYS NF'!$B:$DZ,CONCATENATE(LEFT($A65,2),Q$2))<>0),\"Closed\",\"Open\")","v":"Open"},{"$f":"IF((COUNTIF('HOLIDAYS NF'!$B:$DZ,CONCATENATE(LEFT($A65,2),R$2))<>0),\"Closed\",\"Open\")","v":"Open"},{"$f":"IF((COUNTIF('HOLIDAYS NF'!$B:$DZ,CONCATENATE(LEFT($A65,2),S$2))<>0),\"Closed\",\"Open\")","v":"Open"},{"$f":"IF((COUNTIF('HOLIDAYS NF'!$B:$DZ,CONCATENATE(LEFT($A65,2),T$2))<>0),\"Closed\",\"Open\")","v":"Open"},{"$f":"IF((COUNTIF('HOLIDAYS NF'!$B:$DZ,CONCATENATE(LEFT($A65,2),U$2))<>0),\"Closed\",\"Open\")","v":"Open"},{"$f":"IF((COUNTIF('HOLIDAYS NF'!$B:$DZ,CONCATENATE(LEFT($A65,2),V$2))<>0),\"Closed\",\"Open\")","v":"Open"},{"$f":"IF((COUNTIF('HOLIDAYS NF'!$B:$DZ,CONCATENATE(LEFT($A65,2),W$2))<>0),\"Closed\",\"Open\")","v":"Open"},{"$f":"IF((COUNTIF('HOLIDAYS NF'!$B:$DZ,CONCATENATE(LEFT($A65,2),X$2))<>0),\"Closed\",\"Open\")","v":"Open"},{"$f":"IF((COUNTIF('HOLIDAYS NF'!$B:$DZ,CONCATENATE(LEFT($A65,2),Y$2))<>0),\"Closed\",\"Open\")","v":"Open"},{"$f":"IF((COUNTIF('HOLIDAYS NF'!$B:$DZ,CONCATENATE(LEFT($A65,2),Z$2))<>0),\"Closed\",\"Open\")","v":"Open"},{"$f":"IF((COUNTIF('HOLIDAYS NF'!$B:$DZ,CONCATENATE(LEFT($A65,2),AA$2))<>0),\"Closed\",\"Open\")","v":"Open"},{"$f":"IF((COUNTIF('HOLIDAYS NF'!$B:$DZ,CONCATENATE(LEFT($A65,2),AB$2))<>0),\"Closed\",\"Open\")","v":"Open"},{"$f":"IF((COUNTIF('HOLIDAYS NF'!$B:$DZ,CONCATENATE(LEFT($A65,2),AC$2))<>0),\"Closed\",\"Open\")","v":"Open"},{"$f":"IF((COUNTIF('HOLIDAYS NF'!$B:$DZ,CONCATENATE(LEFT($A65,2),AD$2))<>0),\"Closed\",\"Open\")","v":"Open"},{"$f":"IF((COUNTIF('HOLIDAYS NF'!$B:$DZ,CONCATENATE(LEFT($A65,2),AE$2))<>0),\"Closed\",\"Open\")","v":"Open"},{"$f":"IF((COUNTIF('HOLIDAYS NF'!$B:$DZ,CONCATENATE(LEFT($A65,2),AF$2))<>0),\"Closed\",\"Open\")","v":"Open"},{"$f":"IF((COUNTIF('HOLIDAYS NF'!$B:$DZ,CONCATENATE(LEFT($A65,2),AG$2))<>0),\"Closed\",\"Open\")","v":"Open"},{"$f":"IF((COUNTIF('HOLIDAYS NF'!$B:$DZ,CONCATENATE(LEFT($A65,2),AH$2))<>0),\"Closed\",\"Open\")","v":"Open"},{"$f":"IF((COUNTIF('HOLIDAYS NF'!$B:$DZ,CONCATENATE(LEFT($A65,2),AI$2))<>0),\"Closed\",\"Open\")","v":"Open"},{"$f":"IF((COUNTIF('HOLIDAYS NF'!$B:$DZ,CONCATENATE(LEFT($A65,2),AJ$2))<>0),\"Closed\",\"Open\")","v":"Open"},{"$f":"IF((COUNTIF('HOLIDAYS NF'!$B:$DZ,CONCATENATE(LEFT($A65,2),AK$2))<>0),\"Closed\",\"Open\")","v":"Open"},{"$f":"IF((COUNTIF('HOLIDAYS NF'!$B:$DZ,CONCATENATE(LEFT($A65,2),AL$2))<>0),\"Closed\",\"Open\")","v":"Open"},{"$f":"IF((COUNTIF('HOLIDAYS NF'!$B:$DZ,CONCATENATE(LEFT($A65,2),AM$2))<>0),\"Closed\",\"Open\")","v":"Open"},{"$f":"IF((COUNTIF('HOLIDAYS NF'!$B:$DZ,CONCATENATE(LEFT($A65,2),AN$2))<>0),\"Closed\",\"Open\")","v":"Open"},{"$f":"IF((COUNTIF('HOLIDAYS NF'!$B:$DZ,CONCATENATE(LEFT($A65,2),AO$2))<>0),\"Closed\",\"Open\")","v":"Open"},{"$f":"IF((COUNTIF('HOLIDAYS NF'!$B:$DZ,CONCATENATE(LEFT($A65,2),AP$2))<>0),\"Closed\",\"Open\")","v":"Open"},{"$f":"IF((COUNTIF('HOLIDAYS NF'!$B:$DZ,CONCATENATE(LEFT($A65,2),AQ$2))<>0),\"Closed\",\"Open\")","v":"Open"},{"$f":"IF((COUNTIF('HOLIDAYS NF'!$B:$DZ,CONCATENATE(LEFT($A65,2),AR$2))<>0),\"Closed\",\"Open\")","v":"Open"},{"$f":"IF((COUNTIF('HOLIDAYS NF'!$B:$DZ,CONCATENATE(LEFT($A65,2),AS$2))<>0),\"Closed\",\"Open\")","v":"Open"},{"$f":"IF((COUNTIF('HOLIDAYS NF'!$B:$DZ,CONCATENATE(LEFT($A65,2),AT$2))<>0),\"Closed\",\"Open\")","v":"Open"},{"$f":"IF((COUNTIF('HOLIDAYS NF'!$B:$DZ,CONCATENATE(LEFT($A65,2),AU$2))<>0),\"Closed\",\"Open\")","v":"Open"},{"$f":"IF((COUNTIF('HOLIDAYS NF'!$B:$DZ,CONCATENATE(LEFT($A65,2),AV$2))<>0),\"Closed\",\"Open\")","v":"Open"},{"$f":"IF((COUNTIF('HOLIDAYS NF'!$B:$DZ,CONCATENATE(LEFT($A65,2),AW$2))<>0),\"Closed\",\"Open\")","v":"Open"},{"$f":"IF((COUNTIF('HOLIDAYS NF'!$B:$DZ,CONCATENATE(LEFT($A65,2),AX$2))<>0),\"Closed\",\"Open\")","v":"Open"},{"$f":"IF((COUNTIF('HOLIDAYS NF'!$B:$DZ,CONCATENATE(LEFT($A65,2),AY$2))<>0),\"Closed\",\"Open\")","v":"Open"},{"$f":"IF((COUNTIF('HOLIDAYS NF'!$B:$DZ,CONCATENATE(LEFT($A65,2),AZ$2))<>0),\"Closed\",\"Open\")","v":"Open"},{"$f":"IF((COUNTIF('HOLIDAYS NF'!$B:$DZ,CONCATENATE(LEFT($A65,2),BA$2))<>0),\"Closed\",\"Open\")","v":"Open"},{"$f":"IF((COUNTIF('HOLIDAYS NF'!$B:$DZ,CONCATENATE(LEFT($A65,2),BB$2))<>0),\"Closed\",\"Open\")","v":"Open"},{"$f":"IF((COUNTIF('HOLIDAYS NF'!$B:$DZ,CONCATENATE(LEFT($A65,2),BC$2))<>0),\"Closed\",\"Open\")","v":"Open"},{"$f":"IF((COUNTIF('HOLIDAYS NF'!$B:$DZ,CONCATENATE(LEFT($A65,2),BD$2))<>0),\"Closed\",\"Open\")","v":"Open"},{"$f":"IF((COUNTIF('HOLIDAYS NF'!$B:$DZ,CONCATENATE(LEFT($A65,2),BE$2))<>0),\"Closed\",\"Open\")","v":"Open"},{"$f":"IF((COUNTIF('HOLIDAYS NF'!$B:$DZ,CONCATENATE(LEFT($A65,2),BF$2))<>0),\"Closed\",\"Open\")","v":"Open"},{"$f":"IF((COUNTIF('HOLIDAYS NF'!$B:$DZ,CONCATENATE(LEFT($A65,2),BG$2))<>0),\"Closed\",\"Open\")","v":"Open"},{"$f":"IF((COUNTIF('HOLIDAYS NF'!$B:$DZ,CONCATENATE(LEFT($A65,2),BH$2))<>0),\"Closed\",\"Open\")","v":"Open"},{"$f":"IF((COUNTIF('HOLIDAYS NF'!$B:$DZ,CONCATENATE(LEFT($A65,2),BI$2))<>0),\"Closed\",\"Open\")","v":"Open"},{"$f":"IF((COUNTIF('HOLIDAYS NF'!$B:$DZ,CONCATENATE(LEFT($A65,2),BJ$2))<>0),\"Closed\",\"Open\")","v":"Open"}]
["GH",{"$f":"SUMIF(Holdings!G:G,(CONCATENATE($B$1,\"-\",A66,)),Holdings!H:H)","v":0},"Ghana",{"$f":"IF((COUNTIF('HOLIDAYS NF'!$B:$DZ,CONCATENATE(LEFT($A66,2),D$2))<>0),\"Closed\",\"Open\")","v":"Open"},{"$f":"IF((COUNTIF('HOLIDAYS NF'!$B:$DZ,CONCATENATE(LEFT($A66,2),E$2))<>0),\"Closed\",\"Open\")","v":"Open"},{"$f":"IF((COUNTIF('HOLIDAYS NF'!$B:$DZ,CONCATENATE(LEFT($A66,2),F$2))<>0),\"Closed\",\"Open\")","v":"Open"},{"$f":"IF((COUNTIF('HOLIDAYS NF'!$B:$DZ,CONCATENATE(LEFT($A66,2),G$2))<>0),\"Closed\",\"Open\")","v":"Open"},{"$f":"IF((COUNTIF('HOLIDAYS NF'!$B:$DZ,CONCATENATE(LEFT($A66,2),H$2))<>0),\"Closed\",\"Open\")","v":"Open"},{"$f":"IF((COUNTIF('HOLIDAYS NF'!$B:$DZ,CONCATENATE(LEFT($A66,2),I$2))<>0),\"Closed\",\"Open\")","v":"Open"},{"$f":"IF((COUNTIF('HOLIDAYS NF'!$B:$DZ,CONCATENATE(LEFT($A66,2),J$2))<>0),\"Closed\",\"Open\")","v":"Open"},{"$f":"IF((COUNTIF('HOLIDAYS NF'!$B:$DZ,CONCATENATE(LEFT($A66,2),K$2))<>0),\"Closed\",\"Open\")","v":"Open"},{"$f":"IF((COUNTIF('HOLIDAYS NF'!$B:$DZ,CONCATENATE(LEFT($A66,2),L$2))<>0),\"Closed\",\"Open\")","v":"Open"},{"$f":"IF((COUNTIF('HOLIDAYS NF'!$B:$DZ,CONCATENATE(LEFT($A66,2),M$2))<>0),\"Closed\",\"Open\")","v":"Open"},{"$f":"IF((COUNTIF('HOLIDAYS NF'!$B:$DZ,CONCATENATE(LEFT($A66,2),N$2))<>0),\"Closed\",\"Open\")","v":"Open"},{"$f":"IF((COUNTIF('HOLIDAYS NF'!$B:$DZ,CONCATENATE(LEFT($A66,2),O$2))<>0),\"Closed\",\"Open\")","v":"Open"},{"$f":"IF((COUNTIF('HOLIDAYS NF'!$B:$DZ,CONCATENATE(LEFT($A66,2),P$2))<>0),\"Closed\",\"Open\")","v":"Open"},{"$f":"IF((COUNTIF('HOLIDAYS NF'!$B:$DZ,CONCATENATE(LEFT($A66,2),Q$2))<>0),\"Closed\",\"Open\")","v":"Open"},{"$f":"IF((COUNTIF('HOLIDAYS NF'!$B:$DZ,CONCATENATE(LEFT($A66,2),R$2))<>0),\"Closed\",\"Open\")","v":"Open"},{"$f":"IF((COUNTIF('HOLIDAYS NF'!$B:$DZ,CONCATENATE(LEFT($A66,2),S$2))<>0),\"Closed\",\"Open\")","v":"Open"},{"$f":"IF((COUNTIF('HOLIDAYS NF'!$B:$DZ,CONCATENATE(LEFT($A66,2),T$2))<>0),\"Closed\",\"Open\")","v":"Open"},{"$f":"IF((COUNTIF('HOLIDAYS NF'!$B:$DZ,CONCATENATE(LEFT($A66,2),U$2))<>0),\"Closed\",\"Open\")","v":"Open"},{"$f":"IF((COUNTIF('HOLIDAYS NF'!$B:$DZ,CONCATENATE(LEFT($A66,2),V$2))<>0),\"Closed\",\"Open\")","v":"Open"},{"$f":"IF((COUNTIF('HOLIDAYS NF'!$B:$DZ,CONCATENATE(LEFT($A66,2),W$2))<>0),\"Closed\",\"Open\")","v":"Open"},{"$f":"IF((COUNTIF('HOLIDAYS NF'!$B:$DZ,CONCATENATE(LEFT($A66,2),X$2))<>0),\"Closed\",\"Open\")","v":"Open"},{"$f":"IF((COUNTIF('HOLIDAYS NF'!$B:$DZ,CONCATENATE(LEFT($A66,2),Y$2))<>0),\"Closed\",\"Open\")","v":"Open"},{"$f":"IF((COUNTIF('HOLIDAYS NF'!$B:$DZ,CONCATENATE(LEFT($A66,2),Z$2))<>0),\"Closed\",\"Open\")","v":"Open"},{"$f":"IF((COUNTIF('HOLIDAYS NF'!$B:$DZ,CONCATENATE(LEFT($A66,2),AA$2))<>0),\"Closed\",\"Open\")","v":"Open"},{"$f":"IF((COUNTIF('HOLIDAYS NF'!$B:$DZ,CONCATENATE(LEFT($A66,2),AB$2))<>0),\"Closed\",\"Open\")","v":"Open"},{"$f":"IF((COUNTIF('HOLIDAYS NF'!$B:$DZ,CONCATENATE(LEFT($A66,2),AC$2))<>0),\"Closed\",\"Open\")","v":"Open"},{"$f":"IF((COUNTIF('HOLIDAYS NF'!$B:$DZ,CONCATENATE(LEFT($A66,2),AD$2))<>0),\"Closed\",\"Open\")","v":"Open"},{"$f":"IF((COUNTIF('HOLIDAYS NF'!$B:$DZ,CONCATENATE(LEFT($A66,2),AE$2))<>0),\"Closed\",\"Open\")","v":"Open"},{"$f":"IF((COUNTIF('HOLIDAYS NF'!$B:$DZ,CONCATENATE(LEFT($A66,2),AF$2))<>0),\"Closed\",\"Open\")","v":"Open"},{"$f":"IF((COUNTIF('HOLIDAYS NF'!$B:$DZ,CONCATENATE(LEFT($A66,2),AG$2))<>0),\"Closed\",\"Open\")","v":"Open"},{"$f":"IF((COUNTIF('HOLIDAYS NF'!$B:$DZ,CONCATENATE(LEFT($A66,2),AH$2))<>0),\"Closed\",\"Open\")","v":"Open"},{"$f":"IF((COUNTIF('HOLIDAYS NF'!$B:$DZ,CONCATENATE(LEFT($A66,2),AI$2))<>0),\"Closed\",\"Open\")","v":"Open"},{"$f":"IF((COUNTIF('HOLIDAYS NF'!$B:$DZ,CONCATENATE(LEFT($A66,2),AJ$2))<>0),\"Closed\",\"Open\")","v":"Open"},{"$f":"IF((COUNTIF('HOLIDAYS NF'!$B:$DZ,CONCATENATE(LEFT($A66,2),AK$2))<>0),\"Closed\",\"Open\")","v":"Open"},{"$f":"IF((COUNTIF('HOLIDAYS NF'!$B:$DZ,CONCATENATE(LEFT($A66,2),AL$2))<>0),\"Closed\",\"Open\")","v":"Open"},{"$f":"IF((COUNTIF('HOLIDAYS NF'!$B:$DZ,CONCATENATE(LEFT($A66,2),AM$2))<>0),\"Closed\",\"Open\")","v":"Open"},{"$f":"IF((COUNTIF('HOLIDAYS NF'!$B:$DZ,CONCATENATE(LEFT($A66,2),AN$2))<>0),\"Closed\",\"Open\")","v":"Open"},{"$f":"IF((COUNTIF('HOLIDAYS NF'!$B:$DZ,CONCATENATE(LEFT($A66,2),AO$2))<>0),\"Closed\",\"Open\")","v":"Open"},{"$f":"IF((COUNTIF('HOLIDAYS NF'!$B:$DZ,CONCATENATE(LEFT($A66,2),AP$2))<>0),\"Closed\",\"Open\")","v":"Open"},{"$f":"IF((COUNTIF('HOLIDAYS NF'!$B:$DZ,CONCATENATE(LEFT($A66,2),AQ$2))<>0),\"Closed\",\"Open\")","v":"Open"},{"$f":"IF((COUNTIF('HOLIDAYS NF'!$B:$DZ,CONCATENATE(LEFT($A66,2),AR$2))<>0),\"Closed\",\"Open\")","v":"Open"},{"$f":"IF((COUNTIF('HOLIDAYS NF'!$B:$DZ,CONCATENATE(LEFT($A66,2),AS$2))<>0),\"Closed\",\"Open\")","v":"Open"},{"$f":"IF((COUNTIF('HOLIDAYS NF'!$B:$DZ,CONCATENATE(LEFT($A66,2),AT$2))<>0),\"Closed\",\"Open\")","v":"Open"},{"$f":"IF((COUNTIF('HOLIDAYS NF'!$B:$DZ,CONCATENATE(LEFT($A66,2),AU$2))<>0),\"Closed\",\"Open\")","v":"Open"},{"$f":"IF((COUNTIF('HOLIDAYS NF'!$B:$DZ,CONCATENATE(LEFT($A66,2),AV$2))<>0),\"Closed\",\"Open\")","v":"Open"},{"$f":"IF((COUNTIF('HOLIDAYS NF'!$B:$DZ,CONCATENATE(LEFT($A66,2),AW$2))<>0),\"Closed\",\"Open\")","v":"Open"},{"$f":"IF((COUNTIF('HOLIDAYS NF'!$B:$DZ,CONCATENATE(LEFT($A66,2),AX$2))<>0),\"Closed\",\"Open\")","v":"Open"},{"$f":"IF((COUNTIF('HOLIDAYS NF'!$B:$DZ,CONCATENATE(LEFT($A66,2),AY$2))<>0),\"Closed\",\"Open\")","v":"Open"},{"$f":"IF((COUNTIF('HOLIDAYS NF'!$B:$DZ,CONCATENATE(LEFT($A66,2),AZ$2))<>0),\"Closed\",\"Open\")","v":"Open"},{"$f":"IF((COUNTIF('HOLIDAYS NF'!$B:$DZ,CONCATENATE(LEFT($A66,2),BA$2))<>0),\"Closed\",\"Open\")","v":"Open"},{"$f":"IF((COUNTIF('HOLIDAYS NF'!$B:$DZ,CONCATENATE(LEFT($A66,2),BB$2))<>0),\"Closed\",\"Open\")","v":"Open"},{"$f":"IF((COUNTIF('HOLIDAYS NF'!$B:$DZ,CONCATENATE(LEFT($A66,2),BC$2))<>0),\"Closed\",\"Open\")","v":"Open"},{"$f":"IF((COUNTIF('HOLIDAYS NF'!$B:$DZ,CONCATENATE(LEFT($A66,2),BD$2))<>0),\"Closed\",\"Open\")","v":"Open"},{"$f":"IF((COUNTIF('HOLIDAYS NF'!$B:$DZ,CONCATENATE(LEFT($A66,2),BE$2))<>0),\"Closed\",\"Open\")","v":"Open"},{"$f":"IF((COUNTIF('HOLIDAYS NF'!$B:$DZ,CONCATENATE(LEFT($A66,2),BF$2))<>0),\"Closed\",\"Open\")","v":"Open"},{"$f":"IF((COUNTIF('HOLIDAYS NF'!$B:$DZ,CONCATENATE(LEFT($A66,2),BG$2))<>0),\"Closed\",\"Open\")","v":"Open"},{"$f":"IF((COUNTIF('HOLIDAYS NF'!$B:$DZ,CONCATENATE(LEFT($A66,2),BH$2))<>0),\"Closed\",\"Open\")","v":"Open"},{"$f":"IF((COUNTIF('HOLIDAYS NF'!$B:$DZ,CONCATENATE(LEFT($A66,2),BI$2))<>0),\"Closed\",\"Open\")","v":"Open"},{"$f":"IF((COUNTIF('HOLIDAYS NF'!$B:$DZ,CONCATENATE(LEFT($A66,2),BJ$2))<>0),\"Closed\",\"Open\")","v":"Open"}]
["HR",{"$f":"SUMIF(Holdings!G:G,(CONCATENATE($B$1,\"-\",A67,)),Holdings!H:H)","v":0},"Croatia",{"$f":"IF((COUNTIF('HOLIDAYS NF'!$B:$DZ,CONCATENATE(LEFT($A67,2),D$2))<>0),\"Closed\",\"Open\")","v":"Open"},{"$f":"IF((COUNTIF('HOLIDAYS NF'!$B:$DZ,CONCATENATE(LEFT($A67,2),E$2))<>0),\"Closed\",\"Open\")","v":"Open"},{"$f":"IF((COUNTIF('HOLIDAYS NF'!$B:$DZ,CONCATENATE(LEFT($A67,2),F$2))<>0),\"Closed\",\"Open\")","v":"Open"},{"$f":"IF((COUNTIF('HOLIDAYS NF'!$B:$DZ,CONCATENATE(LEFT($A67,2),G$2))<>0),\"Closed\",\"Open\")","v":"Open"},{"$f":"IF((COUNTIF('HOLIDAYS NF'!$B:$DZ,CONCATENATE(LEFT($A67,2),H$2))<>0),\"Closed\",\"Open\")","v":"Open"},{"$f":"IF((COUNTIF('HOLIDAYS NF'!$B:$DZ,CONCATENATE(LEFT($A67,2),I$2))<>0),\"Closed\",\"Open\")","v":"Open"},{"$f":"IF((COUNTIF('HOLIDAYS NF'!$B:$DZ,CONCATENATE(LEFT($A67,2),J$2))<>0),\"Closed\",\"Open\")","v":"Open"},{"$f":"IF((COUNTIF('HOLIDAYS NF'!$B:$DZ,CONCATENATE(LEFT($A67,2),K$2))<>0),\"Closed\",\"Open\")","v":"Open"},{"$f":"IF((COUNTIF('HOLIDAYS NF'!$B:$DZ,CONCATENATE(LEFT($A67,2),L$2))<>0),\"Closed\",\"Open\")","v":"Open"},{"$f":"IF((COUNTIF('HOLIDAYS NF'!$B:$DZ,CONCATENATE(LEFT($A67,2),M$2))<>0),\"Closed\",\"Open\")","v":"Open"},{"$f":"IF((COUNTIF('HOLIDAYS NF'!$B:$DZ,CONCATENATE(LEFT($A67,2),N$2))<>0),\"Closed\",\"Open\")","v":"Open"},{"$f":"IF((COUNTIF('HOLIDAYS NF'!$B:$DZ,CONCATENATE(LEFT($A67,2),O$2))<>0),\"Closed\",\"Open\")","v":"Open"},{"$f":"IF((COUNTIF('HOLIDAYS NF'!$B:$DZ,CONCATENATE(LEFT($A67,2),P$2))<>0),\"Closed\",\"Open\")","v":"Open"},{"$f":"IF((COUNTIF('HOLIDAYS NF'!$B:$DZ,CONCATENATE(LEFT($A67,2),Q$2))<>0),\"Closed\",\"Open\")","v":"Open"},{"$f":"IF((COUNTIF('HOLIDAYS NF'!$B:$DZ,CONCATENATE(LEFT($A67,2),R$2))<>0),\"Closed\",\"Open\")","v":"Open"},{"$f":"IF((COUNTIF('HOLIDAYS NF'!$B:$DZ,CONCATENATE(LEFT($A67,2),S$2))<>0),\"Closed\",\"Open\")","v":"Open"},{"$f":"IF((COUNTIF('HOLIDAYS NF'!$B:$DZ,CONCATENATE(LEFT($A67,2),T$2))<>0),\"Closed\",\"Open\")","v":"Open"},{"$f":"IF((COUNTIF('HOLIDAYS NF'!$B:$DZ,CONCATENATE(LEFT($A67,2),U$2))<>0),\"Closed\",\"Open\")","v":"Open"},{"$f":"IF((COUNTIF('HOLIDAYS NF'!$B:$DZ,CONCATENATE(LEFT($A67,2),V$2))<>0),\"Closed\",\"Open\")","v":"Open"},{"$f":"IF((COUNTIF('HOLIDAYS NF'!$B:$DZ,CONCATENATE(LEFT($A67,2),W$2))<>0),\"Closed\",\"Open\")","v":"Open"},{"$f":"IF((COUNTIF('HOLIDAYS NF'!$B:$DZ,CONCATENATE(LEFT($A67,2),X$2))<>0),\"Closed\",\"Open\")","v":"Open"},{"$f":"IF((COUNTIF('HOLIDAYS NF'!$B:$DZ,CONCATENATE(LEFT($A67,2),Y$2))<>0),\"Closed\",\"Open\")","v":"Open"},{"$f":"IF((COUNTIF('HOLIDAYS NF'!$B:$DZ,CONCATENATE(LEFT($A67,2),Z$2))<>0),\"Closed\",\"Open\")","v":"Open"},{"$f":"IF((COUNTIF('HOLIDAYS NF'!$B:$DZ,CONCATENATE(LEFT($A67,2),AA$2))<>0),\"Closed\",\"Open\")","v":"Open"},{"$f":"IF((COUNTIF('HOLIDAYS NF'!$B:$DZ,CONCATENATE(LEFT($A67,2),AB$2))<>0),\"Closed\",\"Open\")","v":"Open"},{"$f":"IF((COUNTIF('HOLIDAYS NF'!$B:$DZ,CONCATENATE(LEFT($A67,2),AC$2))<>0),\"Closed\",\"Open\")","v":"Open"},{"$f":"IF((COUNTIF('HOLIDAYS NF'!$B:$DZ,CONCATENATE(LEFT($A67,2),AD$2))<>0),\"Closed\",\"Open\")","v":"Open"},{"$f":"IF((COUNTIF('HOLIDAYS NF'!$B:$DZ,CONCATENATE(LEFT($A67,2),AE$2))<>0),\"Closed\",\"Open\")","v":"Open"},{"$f":"IF((COUNTIF('HOLIDAYS NF'!$B:$DZ,CONCATENATE(LEFT($A67,2),AF$2))<>0),\"Closed\",\"Open\")","v":"Open"},{"$f":"IF((COUNTIF('HOLIDAYS NF'!$B:$DZ,CONCATENATE(LEFT($A67,2),AG$2))<>0),\"Closed\",\"Open\")","v":"Open"},{"$f":"IF((COUNTIF('HOLIDAYS NF'!$B:$DZ,CONCATENATE(LEFT($A67,2),AH$2))<>0),\"Closed\",\"Open\")","v":"Open"},{"$f":"IF((COUNTIF('HOLIDAYS NF'!$B:$DZ,CONCATENATE(LEFT($A67,2),AI$2))<>0),\"Closed\",\"Open\")","v":"Open"},{"$f":"IF((COUNTIF('HOLIDAYS NF'!$B:$DZ,CONCATENATE(LEFT($A67,2),AJ$2))<>0),\"Closed\",\"Open\")","v":"Open"},{"$f":"IF((COUNTIF('HOLIDAYS NF'!$B:$DZ,CONCATENATE(LEFT($A67,2),AK$2))<>0),\"Closed\",\"Open\")","v":"Open"},{"$f":"IF((COUNTIF('HOLIDAYS NF'!$B:$DZ,CONCATENATE(LEFT($A67,2),AL$2))<>0),\"Closed\",\"Open\")","v":"Open"},{"$f":"IF((COUNTIF('HOLIDAYS NF'!$B:$DZ,CONCATENATE(LEFT($A67,2),AM$2))<>0),\"Closed\",\"Open\")","v":"Open"},{"$f":"IF((COUNTIF('HOLIDAYS NF'!$B:$DZ,CONCATENATE(LEFT($A67,2),AN$2))<>0),\"Closed\",\"Open\")","v":"Open"},{"$f":"IF((COUNTIF('HOLIDAYS NF'!$B:$DZ,CONCATENATE(LEFT($A67,2),AO$2))<>0),\"Closed\",\"Open\")","v":"Open"},{"$f":"IF((COUNTIF('HOLIDAYS NF'!$B:$DZ,CONCATENATE(LEFT($A67,2),AP$2))<>0),\"Closed\",\"Open\")","v":"Open"},{"$f":"IF((COUNTIF('HOLIDAYS NF'!$B:$DZ,CONCATENATE(LEFT($A67,2),AQ$2))<>0),\"Closed\",\"Open\")","v":"Open"},{"$f":"IF((COUNTIF('HOLIDAYS NF'!$B:$DZ,CONCATENATE(LEFT($A67,2),AR$2))<>0),\"Closed\",\"Open\")","v":"Open"},{"$f":"IF((COUNTIF('HOLIDAYS NF'!$B:$DZ,CONCATENATE(LEFT($A67,2),AS$2))<>0),\"Closed\",\"Open\")","v":"Open"},{"$f":"IF((COUNTIF('HOLIDAYS NF'!$B:$DZ,CONCATENATE(LEFT($A67,2),AT$2))<>0),\"Closed\",\"Open\")","v":"Open"},{"$f":"IF((COUNTIF('HOLIDAYS NF'!$B:$DZ,CONCATENATE(LEFT($A67,2),AU$2))<>0),\"Closed\",\"Open\")","v":"Open"},{"$f":"IF((COUNTIF('HOLIDAYS NF'!$B:$DZ,CONCATENATE(LEFT($A67,2),AV$2))<>0),\"Closed\",\"Open\")","v":"Open"},{"$f":"IF((COUNTIF('HOLIDAYS NF'!$B:$DZ,CONCATENATE(LEFT($A67,2),AW$2))<>0),\"Closed\",\"Open\")","v":"Open"},{"$f":"IF((COUNTIF('HOLIDAYS NF'!$B:$DZ,CONCATENATE(LEFT($A67,2),AX$2))<>0),\"Closed\",\"Open\")","v":"Open"},{"$f":"IF((COUNTIF('HOLIDAYS NF'!$B:$DZ,CONCATENATE(LEFT($A67,2),AY$2))<>0),\"Closed\",\"Open\")","v":"Open"},{"$f":"IF((COUNTIF('HOLIDAYS NF'!$B:$DZ,CONCATENATE(LEFT($A67,2),AZ$2))<>0),\"Closed\",\"Open\")","v":"Open"},{"$f":"IF((COUNTIF('HOLIDAYS NF'!$B:$DZ,CONCATENATE(LEFT($A67,2),BA$2))<>0),\"Closed\",\"Open\")","v":"Open"},{"$f":"IF((COUNTIF('HOLIDAYS NF'!$B:$DZ,CONCATENATE(LEFT($A67,2),BB$2))<>0),\"Closed\",\"Open\")","v":"Open"},{"$f":"IF((COUNTIF('HOLIDAYS NF'!$B:$DZ,CONCATENATE(LEFT($A67,2),BC$2))<>0),\"Closed\",\"Open\")","v":"Open"},{"$f":"IF((COUNTIF('HOLIDAYS NF'!$B:$DZ,CONCATENATE(LEFT($A67,2),BD$2))<>0),\"Closed\",\"Open\")","v":"Open"},{"$f":"IF((COUNTIF('HOLIDAYS NF'!$B:$DZ,CONCATENATE(LEFT($A67,2),BE$2))<>0),\"Closed\",\"Open\")","v":"Open"},{"$f":"IF((COUNTIF('HOLIDAYS NF'!$B:$DZ,CONCATENATE(LEFT($A67,2),BF$2))<>0),\"Closed\",\"Open\")","v":"Open"},{"$f":"IF((COUNTIF('HOLIDAYS NF'!$B:$DZ,CONCATENATE(LEFT($A67,2),BG$2))<>0),\"Closed\",\"Open\")","v":"Open"},{"$f":"IF((COUNTIF('HOLIDAYS NF'!$B:$DZ,CONCATENATE(LEFT($A67,2),BH$2))<>0),\"Closed\",\"Open\")","v":"Open"},{"$f":"IF((COUNTIF('HOLIDAYS NF'!$B:$DZ,CONCATENATE(LEFT($A67,2),BI$2))<>0),\"Closed\",\"Open\")","v":"Open"},{"$f":"IF((COUNTIF('HOLIDAYS NF'!$B:$DZ,CONCATENATE(LEFT($A67,2),BJ$2))<>0),\"Closed\",\"Open\")","v":"Open"}]
["KZ",{"$f":"SUMIF(Holdings!G:G,(CONCATENATE($B$1,\"-\",A68,)),Holdings!H:H)","v":0},"kazakhstan",{"$f":"IF((COUNTIF('HOLIDAYS NF'!$B:$DZ,CONCATENATE(LEFT($A68,2),D$2))<>0),\"Closed\",\"Open\")","v":"Open"},{"$f":"IF((COUNTIF('HOLIDAYS NF'!$B:$DZ,CONCATENATE(LEFT($A68,2),E$2))<>0),\"Closed\",\"Open\")","v":"Open"},{"$f":"IF((COUNTIF('HOLIDAYS NF'!$B:$DZ,CONCATENATE(LEFT($A68,2),F$2))<>0),\"Closed\",\"Open\")","v":"Open"},{"$f":"IF((COUNTIF('HOLIDAYS NF'!$B:$DZ,CONCATENATE(LEFT($A68,2),G$2))<>0),\"Closed\",\"Open\")","v":"Open"},{"$f":"IF((COUNTIF('HOLIDAYS NF'!$B:$DZ,CONCATENATE(LEFT($A68,2),H$2))<>0),\"Closed\",\"Open\")","v":"Open"},{"$f":"IF((COUNTIF('HOLIDAYS NF'!$B:$DZ,CONCATENATE(LEFT($A68,2),I$2))<>0),\"Closed\",\"Open\")","v":"Open"},{"$f":"IF((COUNTIF('HOLIDAYS NF'!$B:$DZ,CONCATENATE(LEFT($A68,2),J$2))<>0),\"Closed\",\"Open\")","v":"Open"},{"$f":"IF((COUNTIF('HOLIDAYS NF'!$B:$DZ,CONCATENATE(LEFT($A68,2),K$2))<>0),\"Closed\",\"Open\")","v":"Open"},{"$f":"IF((COUNTIF('HOLIDAYS NF'!$B:$DZ,CONCATENATE(LEFT($A68,2),L$2))<>0),\"Closed\",\"Open\")","v":"Open"},{"$f":"IF((COUNTIF('HOLIDAYS NF'!$B:$DZ,CONCATENATE(LEFT($A68,2),M$2))<>0),\"Closed\",\"Open\")","v":"Open"},{"$f":"IF((COUNTIF('HOLIDAYS NF'!$B:$DZ,CONCATENATE(LEFT($A68,2),N$2))<>0),\"Closed\",\"Open\")","v":"Open"},{"$f":"IF((COUNTIF('HOLIDAYS NF'!$B:$DZ,CONCATENATE(LEFT($A68,2),O$2))<>0),\"Closed\",\"Open\")","v":"Open"},{"$f":"IF((COUNTIF('HOLIDAYS NF'!$B:$DZ,CONCATENATE(LEFT($A68,2),P$2))<>0),\"Closed\",\"Open\")","v":"Open"},{"$f":"IF((COUNTIF('HOLIDAYS NF'!$B:$DZ,CONCATENATE(LEFT($A68,2),Q$2))<>0),\"Closed\",\"Open\")","v":"Open"},{"$f":"IF((COUNTIF('HOLIDAYS NF'!$B:$DZ,CONCATENATE(LEFT($A68,2),R$2))<>0),\"Closed\",\"Open\")","v":"Open"},{"$f":"IF((COUNTIF('HOLIDAYS NF'!$B:$DZ,CONCATENATE(LEFT($A68,2),S$2))<>0),\"Closed\",\"Open\")","v":"Open"},{"$f":"IF((COUNTIF('HOLIDAYS NF'!$B:$DZ,CONCATENATE(LEFT($A68,2),T$2))<>0),\"Closed\",\"Open\")","v":"Open"},{"$f":"IF((COUNTIF('HOLIDAYS NF'!$B:$DZ,CONCATENATE(LEFT($A68,2),U$2))<>0),\"Closed\",\"Open\")","v":"Open"},{"$f":"IF((COUNTIF('HOLIDAYS NF'!$B:$DZ,CONCATENATE(LEFT($A68,2),V$2))<>0),\"Closed\",\"Open\")","v":"Open"},{"$f":"IF((COUNTIF('HOLIDAYS NF'!$B:$DZ,CONCATENATE(LEFT($A68,2),W$2))<>0),\"Closed\",\"Open\")","v":"Open"},{"$f":"IF((COUNTIF('HOLIDAYS NF'!$B:$DZ,CONCATENATE(LEFT($A68,2),X$2))<>0),\"Closed\",\"Open\")","v":"Open"},{"$f":"IF((COUNTIF('HOLIDAYS NF'!$B:$DZ,CONCATENATE(LEFT($A68,2),Y$2))<>0),\"Closed\",\"Open\")","v":"Open"},{"$f":"IF((COUNTIF('HOLIDAYS NF'!$B:$DZ,CONCATENATE(LEFT($A68,2),Z$2))<>0),\"Closed\",\"Open\")","v":"Open"},{"$f":"IF((COUNTIF('HOLIDAYS NF'!$B:$DZ,CONCATENATE(LEFT($A68,2),AA$2))<>0),\"Closed\",\"Open\")","v":"Open"},{"$f":"IF((COUNTIF('HOLIDAYS NF'!$B:$DZ,CONCATENATE(LEFT($A68,2),AB$2))<>0),\"Closed\",\"Open\")","v":"Open"},{"$f":"IF((COUNTIF('HOLIDAYS NF'!$B:$DZ,CONCATENATE(LEFT($A68,2),AC$2))<>0),\"Closed\",\"Open\")","v":"Open"},{"$f":"IF((COUNTIF('HOLIDAYS NF'!$B:$DZ,CONCATENATE(LEFT($A68,2),AD$2))<>0),\"Closed\",\"Open\")","v":"Open"},{"$f":"IF((COUNTIF('HOLIDAYS NF'!$B:$DZ,CONCATENATE(LEFT($A68,2),AE$2))<>0),\"Closed\",\"Open\")","v":"Open"},{"$f":"IF((COUNTIF('HOLIDAYS NF'!$B:$DZ,CONCATENATE(LEFT($A68,2),AF$2))<>0),\"Closed\",\"Open\")","v":"Open"},{"$f":"IF((COUNTIF('HOLIDAYS NF'!$B:$DZ,CONCATENATE(LEFT($A68,2),AG$2))<>0),\"Closed\",\"Open\")","v":"Open"},{"$f":"IF((COUNTIF('HOLIDAYS NF'!$B:$DZ,CONCATENATE(LEFT($A68,2),AH$2))<>0),\"Closed\",\"Open\")","v":"Open"},{"$f":"IF((COUNTIF('HOLIDAYS NF'!$B:$DZ,CONCATENATE(LEFT($A68,2),AI$2))<>0),\"Closed\",\"Open\")","v":"Open"},{"$f":"IF((COUNTIF('HOLIDAYS NF'!$B:$DZ,CONCATENATE(LEFT($A68,2),AJ$2))<>0),\"Closed\",\"Open\")","v":"Open"},{"$f":"IF((COUNTIF('HOLIDAYS NF'!$B:$DZ,CONCATENATE(LEFT($A68,2),AK$2))<>0),\"Closed\",\"Open\")","v":"Open"},{"$f":"IF((COUNTIF('HOLIDAYS NF'!$B:$DZ,CONCATENATE(LEFT($A68,2),AL$2))<>0),\"Closed\",\"Open\")","v":"Open"},{"$f":"IF((COUNTIF('HOLIDAYS NF'!$B:$DZ,CONCATENATE(LEFT($A68,2),AM$2))<>0),\"Closed\",\"Open\")","v":"Open"},{"$f":"IF((COUNTIF('HOLIDAYS NF'!$B:$DZ,CONCATENATE(LEFT($A68,2),AN$2))<>0),\"Closed\",\"Open\")","v":"Open"},{"$f":"IF((COUNTIF('HOLIDAYS NF'!$B:$DZ,CONCATENATE(LEFT($A68,2),AO$2))<>0),\"Closed\",\"Open\")","v":"Open"},{"$f":"IF((COUNTIF('HOLIDAYS NF'!$B:$DZ,CONCATENATE(LEFT($A68,2),AP$2))<>0),\"Closed\",\"Open\")","v":"Open"},{"$f":"IF((COUNTIF('HOLIDAYS NF'!$B:$DZ,CONCATENATE(LEFT($A68,2),AQ$2))<>0),\"Closed\",\"Open\")","v":"Open"},{"$f":"IF((COUNTIF('HOLIDAYS NF'!$B:$DZ,CONCATENATE(LEFT($A68,2),AR$2))<>0),\"Closed\",\"Open\")","v":"Open"},{"$f":"IF((COUNTIF('HOLIDAYS NF'!$B:$DZ,CONCATENATE(LEFT($A68,2),AS$2))<>0),\"Closed\",\"Open\")","v":"Open"},{"$f":"IF((COUNTIF('HOLIDAYS NF'!$B:$DZ,CONCATENATE(LEFT($A68,2),AT$2))<>0),\"Closed\",\"Open\")","v":"Open"},{"$f":"IF((COUNTIF('HOLIDAYS NF'!$B:$DZ,CONCATENATE(LEFT($A68,2),AU$2))<>0),\"Closed\",\"Open\")","v":"Open"},{"$f":"IF((COUNTIF('HOLIDAYS NF'!$B:$DZ,CONCATENATE(LEFT($A68,2),AV$2))<>0),\"Closed\",\"Open\")","v":"Open"},{"$f":"IF((COUNTIF('HOLIDAYS NF'!$B:$DZ,CONCATENATE(LEFT($A68,2),AW$2))<>0),\"Closed\",\"Open\")","v":"Open"},{"$f":"IF((COUNTIF('HOLIDAYS NF'!$B:$DZ,CONCATENATE(LEFT($A68,2),AX$2))<>0),\"Closed\",\"Open\")","v":"Open"},{"$f":"IF((COUNTIF('HOLIDAYS NF'!$B:$DZ,CONCATENATE(LEFT($A68,2),AY$2))<>0),\"Closed\",\"Open\")","v":"Open"},{"$f":"IF((COUNTIF('HOLIDAYS NF'!$B:$DZ,CONCATENATE(LEFT($A68,2),AZ$2))<>0),\"Closed\",\"Open\")","v":"Open"},{"$f":"IF((COUNTIF('HOLIDAYS NF'!$B:$DZ,CONCATENATE(LEFT($A68,2),BA$2))<>0),\"Closed\",\"Open\")","v":"Open"},{"$f":"IF((COUNTIF('HOLIDAYS NF'!$B:$DZ,CONCATENATE(LEFT($A68,2),BB$2))<>0),\"Closed\",\"Open\")","v":"Open"},{"$f":"IF((COUNTIF('HOLIDAYS NF'!$B:$DZ,CONCATENATE(LEFT($A68,2),BC$2))<>0),\"Closed\",\"Open\")","v":"Open"},{"$f":"IF((COUNTIF('HOLIDAYS NF'!$B:$DZ,CONCATENATE(LEFT($A68,2),BD$2))<>0),\"Closed\",\"Open\")","v":"Open"},{"$f":"IF((COUNTIF('HOLIDAYS NF'!$B:$DZ,CONCATENATE(LEFT($A68,2),BE$2))<>0),\"Closed\",\"Open\")","v":"Open"},{"$f":"IF((COUNTIF('HOLIDAYS NF'!$B:$DZ,CONCATENATE(LEFT($A68,2),BF$2))<>0),\"Closed\",\"Open\")","v":"Open"},{"$f":"IF((COUNTIF('HOLIDAYS NF'!$B:$DZ,CONCATENATE(LEFT($A68,2),BG$2))<>0),\"Closed\",\"Open\")","v":"Open"},{"$f":"IF((COUNTIF('HOLIDAYS NF'!$B:$DZ,CONCATENATE(LEFT($A68,2),BH$2))<>0),\"Closed\",\"Open\")","v":"Open"},{"$f":"IF((COUNTIF('HOLIDAYS NF'!$B:$DZ,CONCATENATE(LEFT($A68,2),BI$2))<>0),\"Closed\",\"Open\")","v":"Open"},{"$f":"IF((COUNTIF('HOLIDAYS NF'!$B:$DZ,CONCATENATE(LEFT($A68,2),BJ$2))<>0),\"Closed\",\"Open\")","v":"Open"}]
["LB",{"$f":"SUMIF(Holdings!G:G,(CONCATENATE($B$1,\"-\",A69,)),Holdings!H:H)","v":0},"Lebanon",{"$f":"IF((COUNTIF('HOLIDAYS NF'!$B:$DZ,CONCATENATE(LEFT($A69,2),D$2))<>0),\"Closed\",\"Open\")","v":"Open"},{"$f":"IF((COUNTIF('HOLIDAYS NF'!$B:$DZ,CONCATENATE(LEFT($A69,2),E$2))<>0),\"Closed\",\"Open\")","v":"Open"},{"$f":"IF((COUNTIF('HOLIDAYS NF'!$B:$DZ,CONCATENATE(LEFT($A69,2),F$2))<>0),\"Closed\",\"Open\")","v":"Open"},{"$f":"IF((COUNTIF('HOLIDAYS NF'!$B:$DZ,CONCATENATE(LEFT($A69,2),G$2))<>0),\"Closed\",\"Open\")","v":"Open"},{"$f":"IF((COUNTIF('HOLIDAYS NF'!$B:$DZ,CONCATENATE(LEFT($A69,2),H$2))<>0),\"Closed\",\"Open\")","v":"Open"},{"$f":"IF((COUNTIF('HOLIDAYS NF'!$B:$DZ,CONCATENATE(LEFT($A69,2),I$2))<>0),\"Closed\",\"Open\")","v":"Open"},{"$f":"IF((COUNTIF('HOLIDAYS NF'!$B:$DZ,CONCATENATE(LEFT($A69,2),J$2))<>0),\"Closed\",\"Open\")","v":"Open"},{"$f":"IF((COUNTIF('HOLIDAYS NF'!$B:$DZ,CONCATENATE(LEFT($A69,2),K$2))<>0),\"Closed\",\"Open\")","v":"Open"},{"$f":"IF((COUNTIF('HOLIDAYS NF'!$B:$DZ,CONCATENATE(LEFT($A69,2),L$2))<>0),\"Closed\",\"Open\")","v":"Open"},{"$f":"IF((COUNTIF('HOLIDAYS NF'!$B:$DZ,CONCATENATE(LEFT($A69,2),M$2))<>0),\"Closed\",\"Open\")","v":"Open"},{"$f":"IF((COUNTIF('HOLIDAYS NF'!$B:$DZ,CONCATENATE(LEFT($A69,2),N$2))<>0),\"Closed\",\"Open\")","v":"Open"},{"$f":"IF((COUNTIF('HOLIDAYS NF'!$B:$DZ,CONCATENATE(LEFT($A69,2),O$2))<>0),\"Closed\",\"Open\")","v":"Open"},{"$f":"IF((COUNTIF('HOLIDAYS NF'!$B:$DZ,CONCATENATE(LEFT($A69,2),P$2))<>0),\"Closed\",\"Open\")","v":"Open"},{"$f":"IF((COUNTIF('HOLIDAYS NF'!$B:$DZ,CONCATENATE(LEFT($A69,2),Q$2))<>0),\"Closed\",\"Open\")","v":"Open"},{"$f":"IF((COUNTIF('HOLIDAYS NF'!$B:$DZ,CONCATENATE(LEFT($A69,2),R$2))<>0),\"Closed\",\"Open\")","v":"Open"},{"$f":"IF((COUNTIF('HOLIDAYS NF'!$B:$DZ,CONCATENATE(LEFT($A69,2),S$2))<>0),\"Closed\",\"Open\")","v":"Open"},{"$f":"IF((COUNTIF('HOLIDAYS NF'!$B:$DZ,CONCATENATE(LEFT($A69,2),T$2))<>0),\"Closed\",\"Open\")","v":"Open"},{"$f":"IF((COUNTIF('HOLIDAYS NF'!$B:$DZ,CONCATENATE(LEFT($A69,2),U$2))<>0),\"Closed\",\"Open\")","v":"Open"},{"$f":"IF((COUNTIF('HOLIDAYS NF'!$B:$DZ,CONCATENATE(LEFT($A69,2),V$2))<>0),\"Closed\",\"Open\")","v":"Open"},{"$f":"IF((COUNTIF('HOLIDAYS NF'!$B:$DZ,CONCATENATE(LEFT($A69,2),W$2))<>0),\"Closed\",\"Open\")","v":"Open"},{"$f":"IF((COUNTIF('HOLIDAYS NF'!$B:$DZ,CONCATENATE(LEFT($A69,2),X$2))<>0),\"Closed\",\"Open\")","v":"Open"},{"$f":"IF((COUNTIF('HOLIDAYS NF'!$B:$DZ,CONCATENATE(LEFT($A69,2),Y$2))<>0),\"Closed\",\"Open\")","v":"Open"},{"$f":"IF((COUNTIF('HOLIDAYS NF'!$B:$DZ,CONCATENATE(LEFT($A69,2),Z$2))<>0),\"Closed\",\"Open\")","v":"Open"},{"$f":"IF((COUNTIF('HOLIDAYS NF'!$B:$DZ,CONCATENATE(LEFT($A69,2),AA$2))<>0),\"Closed\",\"Open\")","v":"Open"},{"$f":"IF((COUNTIF('HOLIDAYS NF'!$B:$DZ,CONCATENATE(LEFT($A69,2),AB$2))<>0),\"Closed\",\"Open\")","v":"Open"},{"$f":"IF((COUNTIF('HOLIDAYS NF'!$B:$DZ,CONCATENATE(LEFT($A69,2),AC$2))<>0),\"Closed\",\"Open\")","v":"Open"},{"$f":"IF((COUNTIF('HOLIDAYS NF'!$B:$DZ,CONCATENATE(LEFT($A69,2),AD$2))<>0),\"Closed\",\"Open\")","v":"Open"},{"$f":"IF((COUNTIF('HOLIDAYS NF'!$B:$DZ,CONCATENATE(LEFT($A69,2),AE$2))<>0),\"Closed\",\"Open\")","v":"Open"},{"$f":"IF((COUNTIF('HOLIDAYS NF'!$B:$DZ,CONCATENATE(LEFT($A69,2),AF$2))<>0),\"Closed\",\"Open\")","v":"Open"},{"$f":"IF((COUNTIF('HOLIDAYS NF'!$B:$DZ,CONCATENATE(LEFT($A69,2),AG$2))<>0),\"Closed\",\"Open\")","v":"Open"},{"$f":"IF((COUNTIF('HOLIDAYS NF'!$B:$DZ,CONCATENATE(LEFT($A69,2),AH$2))<>0),\"Closed\",\"Open\")","v":"Open"},{"$f":"IF((COUNTIF('HOLIDAYS NF'!$B:$DZ,CONCATENATE(LEFT($A69,2),AI$2))<>0),\"Closed\",\"Open\")","v":"Open"},{"$f":"IF((COUNTIF('HOLIDAYS NF'!$B:$DZ,CONCATENATE(LEFT($A69,2),AJ$2))<>0),\"Closed\",\"Open\")","v":"Open"},{"$f":"IF((COUNTIF('HOLIDAYS NF'!$B:$DZ,CONCATENATE(LEFT($A69,2),AK$2))<>0),\"Closed\",\"Open\")","v":"Open"},{"$f":"IF((COUNTIF('HOLIDAYS NF'!$B:$DZ,CONCATENATE(LEFT($A69,2),AL$2))<>0),\"Closed\",\"Open\")","v":"Open"},{"$f":"IF((COUNTIF('HOLIDAYS NF'!$B:$DZ,CONCATENATE(LEFT($A69,2),AM$2))<>0),\"Closed\",\"Open\")","v":"Open"},{"$f":"IF((COUNTIF('HOLIDAYS NF'!$B:$DZ,CONCATENATE(LEFT($A69,2),AN$2))<>0),\"Closed\",\"Open\")","v":"Open"},{"$f":"IF((COUNTIF('HOLIDAYS NF'!$B:$DZ,CONCATENATE(LEFT($A69,2),AO$2))<>0),\"Closed\",\"Open\")","v":"Open"},{"$f":"IF((COUNTIF('HOLIDAYS NF'!$B:$DZ,CONCATENATE(LEFT($A69,2),AP$2))<>0),\"Closed\",\"Open\")","v":"Open"},{"$f":"IF((COUNTIF('HOLIDAYS NF'!$B:$DZ,CONCATENATE(LEFT($A69,2),AQ$2))<>0),\"Closed\",\"Open\")","v":"Open"},{"$f":"IF((COUNTIF('HOLIDAYS NF'!$B:$DZ,CONCATENATE(LEFT($A69,2),AR$2))<>0),\"Closed\",\"Open\")","v":"Open"},{"$f":"IF((COUNTIF('HOLIDAYS NF'!$B:$DZ,CONCATENATE(LEFT($A69,2),AS$2))<>0),\"Closed\",\"Open\")","v":"Open"},{"$f":"IF((COUNTIF('HOLIDAYS NF'!$B:$DZ,CONCATENATE(LEFT($A69,2),AT$2))<>0),\"Closed\",\"Open\")","v":"Open"},{"$f":"IF((COUNTIF('HOLIDAYS NF'!$B:$DZ,CONCATENATE(LEFT($A69,2),AU$2))<>0),\"Closed\",\"Open\")","v":"Open"},{"$f":"IF((COUNTIF('HOLIDAYS NF'!$B:$DZ,CONCATENATE(LEFT($A69,2),AV$2))<>0),\"Closed\",\"Open\")","v":"Open"},{"$f":"IF((COUNTIF('HOLIDAYS NF'!$B:$DZ,CONCATENATE(LEFT($A69,2),AW$2))<>0),\"Closed\",\"Open\")","v":"Open"},{"$f":"IF((COUNTIF('HOLIDAYS NF'!$B:$DZ,CONCATENATE(LEFT($A69,2),AX$2))<>0),\"Closed\",\"Open\")","v":"Open"},{"$f":"IF((COUNTIF('HOLIDAYS NF'!$B:$DZ,CONCATENATE(LEFT($A69,2),AY$2))<>0),\"Closed\",\"Open\")","v":"Open"},{"$f":"IF((COUNTIF('HOLIDAYS NF'!$B:$DZ,CONCATENATE(LEFT($A69,2),AZ$2))<>0),\"Closed\",\"Open\")","v":"Open"},{"$f":"IF((COUNTIF('HOLIDAYS NF'!$B:$DZ,CONCATENATE(LEFT($A69,2),BA$2))<>0),\"Closed\",\"Open\")","v":"Open"},{"$f":"IF((COUNTIF('HOLIDAYS NF'!$B:$DZ,CONCATENATE(LEFT($A69,2),BB$2))<>0),\"Closed\",\"Open\")","v":"Open"},{"$f":"IF((COUNTIF('HOLIDAYS NF'!$B:$DZ,CONCATENATE(LEFT($A69,2),BC$2))<>0),\"Closed\",\"Open\")","v":"Open"},{"$f":"IF((COUNTIF('HOLIDAYS NF'!$B:$DZ,CONCATENATE(LEFT($A69,2),BD$2))<>0),\"Closed\",\"Open\")","v":"Open"},{"$f":"IF((COUNTIF('HOLIDAYS NF'!$B:$DZ,CONCATENATE(LEFT($A69,2),BE$2))<>0),\"Closed\",\"Open\")","v":"Open"},{"$f":"IF((COUNTIF('HOLIDAYS NF'!$B:$DZ,CONCATENATE(LEFT($A69,2),BF$2))<>0),\"Closed\",\"Open\")","v":"Open"},{"$f":"IF((COUNTIF('HOLIDAYS NF'!$B:$DZ,CONCATENATE(LEFT($A69,2),BG$2))<>0),\"Closed\",\"Open\")","v":"Open"},{"$f":"IF((COUNTIF('HOLIDAYS NF'!$B:$DZ,CONCATENATE(LEFT($A69,2),BH$2))<>0),\"Closed\",\"Open\")","v":"Open"},{"$f":"IF((COUNTIF('HOLIDAYS NF'!$B:$DZ,CONCATENATE(LEFT($A69,2),BI$2))<>0),\"Closed\",\"Open\")","v":"Open"},{"$f":"IF((COUNTIF('HOLIDAYS NF'!$B:$DZ,CONCATENATE(LEFT($A69,2),BJ$2))<>0),\"Closed\",\"Open\")","v":"Open"}]
["LV",{"$f":"SUMIF(Holdings!G:G,(CONCATENATE($B$1,\"-\",A70,)),Holdings!H:H)","v":0},"Latvia",{"$f":"IF((COUNTIF('HOLIDAYS NF'!$B:$DZ,CONCATENATE(LEFT($A70,2),D$2))<>0),\"Closed\",\"Open\")","v":"Open"},{"$f":"IF((COUNTIF('HOLIDAYS NF'!$B:$DZ,CONCATENATE(LEFT($A70,2),E$2))<>0),\"Closed\",\"Open\")","v":"Open"},{"$f":"IF((COUNTIF('HOLIDAYS NF'!$B:$DZ,CONCATENATE(LEFT($A70,2),F$2))<>0),\"Closed\",\"Open\")","v":"Open"},{"$f":"IF((COUNTIF('HOLIDAYS NF'!$B:$DZ,CONCATENATE(LEFT($A70,2),G$2))<>0),\"Closed\",\"Open\")","v":"Open"},{"$f":"IF((COUNTIF('HOLIDAYS NF'!$B:$DZ,CONCATENATE(LEFT($A70,2),H$2))<>0),\"Closed\",\"Open\")","v":"Open"},{"$f":"IF((COUNTIF('HOLIDAYS NF'!$B:$DZ,CONCATENATE(LEFT($A70,2),I$2))<>0),\"Closed\",\"Open\")","v":"Open"},{"$f":"IF((COUNTIF('HOLIDAYS NF'!$B:$DZ,CONCATENATE(LEFT($A70,2),J$2))<>0),\"Closed\",\"Open\")","v":"Open"},{"$f":"IF((COUNTIF('HOLIDAYS NF'!$B:$DZ,CONCATENATE(LEFT($A70,2),K$2))<>0),\"Closed\",\"Open\")","v":"Open"},{"$f":"IF((COUNTIF('HOLIDAYS NF'!$B:$DZ,CONCATENATE(LEFT($A70,2),L$2))<>0),\"Closed\",\"Open\")","v":"Open"},{"$f":"IF((COUNTIF('HOLIDAYS NF'!$B:$DZ,CONCATENATE(LEFT($A70,2),M$2))<>0),\"Closed\",\"Open\")","v":"Open"},{"$f":"IF((COUNTIF('HOLIDAYS NF'!$B:$DZ,CONCATENATE(LEFT($A70,2),N$2))<>0),\"Closed\",\"Open\")","v":"Open"},{"$f":"IF((COUNTIF('HOLIDAYS NF'!$B:$DZ,CONCATENATE(LEFT($A70,2),O$2))<>0),\"Closed\",\"Open\")","v":"Open"},{"$f":"IF((COUNTIF('HOLIDAYS NF'!$B:$DZ,CONCATENATE(LEFT($A70,2),P$2))<>0),\"Closed\",\"Open\")","v":"Open"},{"$f":"IF((COUNTIF('HOLIDAYS NF'!$B:$DZ,CONCATENATE(LEFT($A70,2),Q$2))<>0),\"Closed\",\"Open\")","v":"Open"},{"$f":"IF((COUNTIF('HOLIDAYS NF'!$B:$DZ,CONCATENATE(LEFT($A70,2),R$2))<>0),\"Closed\",\"Open\")","v":"Open"},{"$f":"IF((COUNTIF('HOLIDAYS NF'!$B:$DZ,CONCATENATE(LEFT($A70,2),S$2))<>0),\"Closed\",\"Open\")","v":"Open"},{"$f":"IF((COUNTIF('HOLIDAYS NF'!$B:$DZ,CONCATENATE(LEFT($A70,2),T$2))<>0),\"Closed\",\"Open\")","v":"Open"},{"$f":"IF((COUNTIF('HOLIDAYS NF'!$B:$DZ,CONCATENATE(LEFT($A70,2),U$2))<>0),\"Closed\",\"Open\")","v":"Open"},{"$f":"IF((COUNTIF('HOLIDAYS NF'!$B:$DZ,CONCATENATE(LEFT($A70,2),V$2))<>0),\"Closed\",\"Open\")","v":"Open"},{"$f":"IF((COUNTIF('HOLIDAYS NF'!$B:$DZ,CONCATENATE(LEFT($A70,2),W$2))<>0),\"Closed\",\"Open\")","v":"Open"},{"$f":"IF((COUNTIF('HOLIDAYS NF'!$B:$DZ,CONCATENATE(LEFT($A70,2),X$2))<>0),\"Closed\",\"Open\")","v":"Open"},{"$f":"IF((COUNTIF('HOLIDAYS NF'!$B:$DZ,CONCATENATE(LEFT($A70,2),Y$2))<>0),\"Closed\",\"Open\")","v":"Open"},{"$f":"IF((COUNTIF('HOLIDAYS NF'!$B:$DZ,CONCATENATE(LEFT($A70,2),Z$2))<>0),\"Closed\",\"Open\")","v":"Open"},{"$f":"IF((COUNTIF('HOLIDAYS NF'!$B:$DZ,CONCATENATE(LEFT($A70,2),AA$2))<>0),\"Closed\",\"Open\")","v":"Open"},{"$f":"IF((COUNTIF('HOLIDAYS NF'!$B:$DZ,CONCATENATE(LEFT($A70,2),AB$2))<>0),\"Closed\",\"Open\")","v":"Open"},{"$f":"IF((COUNTIF('HOLIDAYS NF'!$B:$DZ,CONCATENATE(LEFT($A70,2),AC$2))<>0),\"Closed\",\"Open\")","v":"Open"},{"$f":"IF((COUNTIF('HOLIDAYS NF'!$B:$DZ,CONCATENATE(LEFT($A70,2),AD$2))<>0),\"Closed\",\"Open\")","v":"Open"},{"$f":"IF((COUNTIF('HOLIDAYS NF'!$B:$DZ,CONCATENATE(LEFT($A70,2),AE$2))<>0),\"Closed\",\"Open\")","v":"Open"},{"$f":"IF((COUNTIF('HOLIDAYS NF'!$B:$DZ,CONCATENATE(LEFT($A70,2),AF$2))<>0),\"Closed\",\"Open\")","v":"Open"},{"$f":"IF((COUNTIF('HOLIDAYS NF'!$B:$DZ,CONCATENATE(LEFT($A70,2),AG$2))<>0),\"Closed\",\"Open\")","v":"Open"},{"$f":"IF((COUNTIF('HOLIDAYS NF'!$B:$DZ,CONCATENATE(LEFT($A70,2),AH$2))<>0),\"Closed\",\"Open\")","v":"Open"},{"$f":"IF((COUNTIF('HOLIDAYS NF'!$B:$DZ,CONCATENATE(LEFT($A70,2),AI$2))<>0),\"Closed\",\"Open\")","v":"Open"},{"$f":"IF((COUNTIF('HOLIDAYS NF'!$B:$DZ,CONCATENATE(LEFT($A70,2),AJ$2))<>0),\"Closed\",\"Open\")","v":"Open"},{"$f":"IF((COUNTIF('HOLIDAYS NF'!$B:$DZ,CONCATENATE(LEFT($A70,2),AK$2))<>0),\"Closed\",\"Open\")","v":"Open"},{"$f":"IF((COUNTIF('HOLIDAYS NF'!$B:$DZ,CONCATENATE(LEFT($A70,2),AL$2))<>0),\"Closed\",\"Open\")","v":"Open"},{"$f":"IF((COUNTIF('HOLIDAYS NF'!$B:$DZ,CONCATENATE(LEFT($A70,2),AM$2))<>0),\"Closed\",\"Open\")","v":"Open"},{"$f":"IF((COUNTIF('HOLIDAYS NF'!$B:$DZ,CONCATENATE(LEFT($A70,2),AN$2))<>0),\"Closed\",\"Open\")","v":"Open"},{"$f":"IF((COUNTIF('HOLIDAYS NF'!$B:$DZ,CONCATENATE(LEFT($A70,2),AO$2))<>0),\"Closed\",\"Open\")","v":"Open"},{"$f":"IF((COUNTIF('HOLIDAYS NF'!$B:$DZ,CONCATENATE(LEFT($A70,2),AP$2))<>0),\"Closed\",\"Open\")","v":"Open"},{"$f":"IF((COUNTIF('HOLIDAYS NF'!$B:$DZ,CONCATENATE(LEFT($A70,2),AQ$2))<>0),\"Closed\",\"Open\")","v":"Open"},{"$f":"IF((COUNTIF('HOLIDAYS NF'!$B:$DZ,CONCATENATE(LEFT($A70,2),AR$2))<>0),\"Closed\",\"Open\")","v":"Open"},{"$f":"IF((COUNTIF('HOLIDAYS NF'!$B:$DZ,CONCATENATE(LEFT($A70,2),AS$2))<>0),\"Closed\",\"Open\")","v":"Open"},{"$f":"IF((COUNTIF('HOLIDAYS NF'!$B:$DZ,CONCATENATE(LEFT($A70,2),AT$2))<>0),\"Closed\",\"Open\")","v":"Open"},{"$f":"IF((COUNTIF('HOLIDAYS NF'!$B:$DZ,CONCATENATE(LEFT($A70,2),AU$2))<>0),\"Closed\",\"Open\")","v":"Open"},{"$f":"IF((COUNTIF('HOLIDAYS NF'!$B:$DZ,CONCATENATE(LEFT($A70,2),AV$2))<>0),\"Closed\",\"Open\")","v":"Open"},{"$f":"IF((COUNTIF('HOLIDAYS NF'!$B:$DZ,CONCATENATE(LEFT($A70,2),AW$2))<>0),\"Closed\",\"Open\")","v":"Open"},{"$f":"IF((COUNTIF('HOLIDAYS NF'!$B:$DZ,CONCATENATE(LEFT($A70,2),AX$2))<>0),\"Closed\",\"Open\")","v":"Open"},{"$f":"IF((COUNTIF('HOLIDAYS NF'!$B:$DZ,CONCATENATE(LEFT($A70,2),AY$2))<>0),\"Closed\",\"Open\")","v":"Open"},{"$f":"IF((COUNTIF('HOLIDAYS NF'!$B:$DZ,CONCATENATE(LEFT($A70,2),AZ$2))<>0),\"Closed\",\"Open\")","v":"Open"},{"$f":"IF((COUNTIF('HOLIDAYS NF'!$B:$DZ,CONCATENATE(LEFT($A70,2),BA$2))<>0),\"Closed\",\"Open\")","v":"Open"},{"$f":"IF((COUNTIF('HOLIDAYS NF'!$B:$DZ,CONCATENATE(LEFT($A70,2),BB$2))<>0),\"Closed\",\"Open\")","v":"Open"},{"$f":"IF((COUNTIF('HOLIDAYS NF'!$B:$DZ,CONCATENATE(LEFT($A70,2),BC$2))<>0),\"Closed\",\"Open\")","v":"Open"},{"$f":"IF((COUNTIF('HOLIDAYS NF'!$B:$DZ,CONCATENATE(LEFT($A70,2),BD$2))<>0),\"Closed\",\"Open\")","v":"Open"},{"$f":"IF((COUNTIF('HOLIDAYS NF'!$B:$DZ,CONCATENATE(LEFT($A70,2),BE$2))<>0),\"Closed\",\"Open\")","v":"Open"},{"$f":"IF((COUNTIF('HOLIDAYS NF'!$B:$DZ,CONCATENATE(LEFT($A70,2),BF$2))<>0),\"Closed\",\"Open\")","v":"Open"},{"$f":"IF((COUNTIF('HOLIDAYS NF'!$B:$DZ,CONCATENATE(LEFT($A70,2),BG$2))<>0),\"Closed\",\"Open\")","v":"Open"},{"$f":"IF((COUNTIF('HOLIDAYS NF'!$B:$DZ,CONCATENATE(LEFT($A70,2),BH$2))<>0),\"Closed\",\"Open\")","v":"Open"},{"$f":"IF((COUNTIF('HOLIDAYS NF'!$B:$DZ,CONCATENATE(LEFT($A70,2),BI$2))<>0),\"Closed\",\"Open\")","v":"Open"},{"$f":"IF((COUNTIF('HOLIDAYS NF'!$B:$DZ,CONCATENATE(LEFT($A70,2),BJ$2))<>0),\"Closed\",\"Open\")","v":"Open"}]
["MA",{"$f":"SUMIF(Holdings!G:G,(CONCATENATE($B$1,\"-\",A71,)),Holdings!H:H)","v":0},"Morocco",{"$f":"IF((COUNTIF('HOLIDAYS NF'!$B:$DZ,CONCATENATE(LEFT($A71,2),D$2))<>0),\"Closed\",\"Open\")","v":"Open"},{"$f":"IF((COUNTIF('HOLIDAYS NF'!$B:$DZ,CONCATENATE(LEFT($A71,2),E$2))<>0),\"Closed\",\"Open\")","v":"Open"},{"$f":"IF((COUNTIF('HOLIDAYS NF'!$B:$DZ,CONCATENATE(LEFT($A71,2),F$2))<>0),\"Closed\",\"Open\")","v":"Open"},{"$f":"IF((COUNTIF('HOLIDAYS NF'!$B:$DZ,CONCATENATE(LEFT($A71,2),G$2))<>0),\"Closed\",\"Open\")","v":"Open"},{"$f":"IF((COUNTIF('HOLIDAYS NF'!$B:$DZ,CONCATENATE(LEFT($A71,2),H$2))<>0),\"Closed\",\"Open\")","v":"Open"},{"$f":"IF((COUNTIF('HOLIDAYS NF'!$B:$DZ,CONCATENATE(LEFT($A71,2),I$2))<>0),\"Closed\",\"Open\")","v":"Open"},{"$f":"IF((COUNTIF('HOLIDAYS NF'!$B:$DZ,CONCATENATE(LEFT($A71,2),J$2))<>0),\"Closed\",\"Open\")","v":"Open"},{"$f":"IF((COUNTIF('HOLIDAYS NF'!$B:$DZ,CONCATENATE(LEFT($A71,2),K$2))<>0),\"Closed\",\"Open\")","v":"Open"},{"$f":"IF((COUNTIF('HOLIDAYS NF'!$B:$DZ,CONCATENATE(LEFT($A71,2),L$2))<>0),\"Closed\",\"Open\")","v":"Open"},{"$f":"IF((COUNTIF('HOLIDAYS NF'!$B:$DZ,CONCATENATE(LEFT($A71,2),M$2))<>0),\"Closed\",\"Open\")","v":"Open"},{"$f":"IF((COUNTIF('HOLIDAYS NF'!$B:$DZ,CONCATENATE(LEFT($A71,2),N$2))<>0),\"Closed\",\"Open\")","v":"Open"},{"$f":"IF((COUNTIF('HOLIDAYS NF'!$B:$DZ,CONCATENATE(LEFT($A71,2),O$2))<>0),\"Closed\",\"Open\")","v":"Open"},{"$f":"IF((COUNTIF('HOLIDAYS NF'!$B:$DZ,CONCATENATE(LEFT($A71,2),P$2))<>0),\"Closed\",\"Open\")","v":"Open"},{"$f":"IF((COUNTIF('HOLIDAYS NF'!$B:$DZ,CONCATENATE(LEFT($A71,2),Q$2))<>0),\"Closed\",\"Open\")","v":"Open"},{"$f":"IF((COUNTIF('HOLIDAYS NF'!$B:$DZ,CONCATENATE(LEFT($A71,2),R$2))<>0),\"Closed\",\"Open\")","v":"Open"},{"$f":"IF((COUNTIF('HOLIDAYS NF'!$B:$DZ,CONCATENATE(LEFT($A71,2),S$2))<>0),\"Closed\",\"Open\")","v":"Open"},{"$f":"IF((COUNTIF('HOLIDAYS NF'!$B:$DZ,CONCATENATE(LEFT($A71,2),T$2))<>0),\"Closed\",\"Open\")","v":"Open"},{"$f":"IF((COUNTIF('HOLIDAYS NF'!$B:$DZ,CONCATENATE(LEFT($A71,2),U$2))<>0),\"Closed\",\"Open\")","v":"Open"},{"$f":"IF((COUNTIF('HOLIDAYS NF'!$B:$DZ,CONCATENATE(LEFT($A71,2),V$2))<>0),\"Closed\",\"Open\")","v":"Open"},{"$f":"IF((COUNTIF('HOLIDAYS NF'!$B:$DZ,CONCATENATE(LEFT($A71,2),W$2))<>0),\"Closed\",\"Open\")","v":"Open"},{"$f":"IF((COUNTIF('HOLIDAYS NF'!$B:$DZ,CONCATENATE(LEFT($A71,2),X$2))<>0),\"Closed\",\"Open\")","v":"Open"},{"$f":"IF((COUNTIF('HOLIDAYS NF'!$B:$DZ,CONCATENATE(LEFT($A71,2),Y$2))<>0),\"Closed\",\"Open\")","v":"Open"},{"$f":"IF((COUNTIF('HOLIDAYS NF'!$B:$DZ,CONCATENATE(LEFT($A71,2),Z$2))<>0),\"Closed\",\"Open\")","v":"Open"},{"$f":"IF((COUNTIF('HOLIDAYS NF'!$B:$DZ,CONCATENATE(LEFT($A71,2),AA$2))<>0),\"Closed\",\"Open\")","v":"Open"},{"$f":"IF((COUNTIF('HOLIDAYS NF'!$B:$DZ,CONCATENATE(LEFT($A71,2),AB$2))<>0),\"Closed\",\"Open\")","v":"Open"},{"$f":"IF((COUNTIF('HOLIDAYS NF'!$B:$DZ,CONCATENATE(LEFT($A71,2),AC$2))<>0),\"Closed\",\"Open\")","v":"Open"},{"$f":"IF((COUNTIF('HOLIDAYS NF'!$B:$DZ,CONCATENATE(LEFT($A71,2),AD$2))<>0),\"Closed\",\"Open\")","v":"Open"},{"$f":"IF((COUNTIF('HOLIDAYS NF'!$B:$DZ,CONCATENATE(LEFT($A71,2),AE$2))<>0),\"Closed\",\"Open\")","v":"Open"},{"$f":"IF((COUNTIF('HOLIDAYS NF'!$B:$DZ,CONCATENATE(LEFT($A71,2),AF$2))<>0),\"Closed\",\"Open\")","v":"Open"},{"$f":"IF((COUNTIF('HOLIDAYS NF'!$B:$DZ,CONCATENATE(LEFT($A71,2),AG$2))<>0),\"Closed\",\"Open\")","v":"Open"},{"$f":"IF((COUNTIF('HOLIDAYS NF'!$B:$DZ,CONCATENATE(LEFT($A71,2),AH$2))<>0),\"Closed\",\"Open\")","v":"Open"},{"$f":"IF((COUNTIF('HOLIDAYS NF'!$B:$DZ,CONCATENATE(LEFT($A71,2),AI$2))<>0),\"Closed\",\"Open\")","v":"Open"},{"$f":"IF((COUNTIF('HOLIDAYS NF'!$B:$DZ,CONCATENATE(LEFT($A71,2),AJ$2))<>0),\"Closed\",\"Open\")","v":"Open"},{"$f":"IF((COUNTIF('HOLIDAYS NF'!$B:$DZ,CONCATENATE(LEFT($A71,2),AK$2))<>0),\"Closed\",\"Open\")","v":"Open"},{"$f":"IF((COUNTIF('HOLIDAYS NF'!$B:$DZ,CONCATENATE(LEFT($A71,2),AL$2))<>0),\"Closed\",\"Open\")","v":"Open"},{"$f":"IF((COUNTIF('HOLIDAYS NF'!$B:$DZ,CONCATENATE(LEFT($A71,2),AM$2))<>0),\"Closed\",\"Open\")","v":"Open"},{"$f":"IF((COUNTIF('HOLIDAYS NF'!$B:$DZ,CONCATENATE(LEFT($A71,2),AN$2))<>0),\"Closed\",\"Open\")","v":"Open"},{"$f":"IF((COUNTIF('HOLIDAYS NF'!$B:$DZ,CONCATENATE(LEFT($A71,2),AO$2))<>0),\"Closed\",\"Open\")","v":"Open"},{"$f":"IF((COUNTIF('HOLIDAYS NF'!$B:$DZ,CONCATENATE(LEFT($A71,2),AP$2))<>0),\"Closed\",\"Open\")","v":"Open"},{"$f":"IF((COUNTIF('HOLIDAYS NF'!$B:$DZ,CONCATENATE(LEFT($A71,2),AQ$2))<>0),\"Closed\",\"Open\")","v":"Open"},{"$f":"IF((COUNTIF('HOLIDAYS NF'!$B:$DZ,CONCATENATE(LEFT($A71,2),AR$2))<>0),\"Closed\",\"Open\")","v":"Open"},{"$f":"IF((COUNTIF('HOLIDAYS NF'!$B:$DZ,CONCATENATE(LEFT($A71,2),AS$2))<>0),\"Closed\",\"Open\")","v":"Open"},{"$f":"IF((COUNTIF('HOLIDAYS NF'!$B:$DZ,CONCATENATE(LEFT($A71,2),AT$2))<>0),\"Closed\",\"Open\")","v":"Open"},{"$f":"IF((COUNTIF('HOLIDAYS NF'!$B:$DZ,CONCATENATE(LEFT($A71,2),AU$2))<>0),\"Closed\",\"Open\")","v":"Open"},{"$f":"IF((COUNTIF('HOLIDAYS NF'!$B:$DZ,CONCATENATE(LEFT($A71,2),AV$2))<>0),\"Closed\",\"Open\")","v":"Open"},{"$f":"IF((COUNTIF('HOLIDAYS NF'!$B:$DZ,CONCATENATE(LEFT($A71,2),AW$2))<>0),\"Closed\",\"Open\")","v":"Open"},{"$f":"IF((COUNTIF('HOLIDAYS NF'!$B:$DZ,CONCATENATE(LEFT($A71,2),AX$2))<>0),\"Closed\",\"Open\")","v":"Open"},{"$f":"IF((COUNTIF('HOLIDAYS NF'!$B:$DZ,CONCATENATE(LEFT($A71,2),AY$2))<>0),\"Closed\",\"Open\")","v":"Open"},{"$f":"IF((COUNTIF('HOLIDAYS NF'!$B:$DZ,CONCATENATE(LEFT($A71,2),AZ$2))<>0),\"Closed\",\"Open\")","v":"Open"},{"$f":"IF((COUNTIF('HOLIDAYS NF'!$B:$DZ,CONCATENATE(LEFT($A71,2),BA$2))<>0),\"Closed\",\"Open\")","v":"Open"},{"$f":"IF((COUNTIF('HOLIDAYS NF'!$B:$DZ,CONCATENATE(LEFT($A71,2),BB$2))<>0),\"Closed\",\"Open\")","v":"Open"},{"$f":"IF((COUNTIF('HOLIDAYS NF'!$B:$DZ,CONCATENATE(LEFT($A71,2),BC$2))<>0),\"Closed\",\"Open\")","v":"Open"},{"$f":"IF((COUNTIF('HOLIDAYS NF'!$B:$DZ,CONCATENATE(LEFT($A71,2),BD$2))<>0),\"Closed\",\"Open\")","v":"Open"},{"$f":"IF((COUNTIF('HOLIDAYS NF'!$B:$DZ,CONCATENATE(LEFT($A71,2),BE$2))<>0),\"Closed\",\"Open\")","v":"Open"},{"$f":"IF((COUNTIF('HOLIDAYS NF'!$B:$DZ,CONCATENATE(LEFT($A71,2),BF$2))<>0),\"Closed\",\"Open\")","v":"Open"},{"$f":"IF((COUNTIF('HOLIDAYS NF'!$B:$DZ,CONCATENATE(LEFT($A71,2),BG$2))<>0),\"Closed\",\"Open\")","v":"Open"},{"$f":"IF((COUNTIF('HOLIDAYS NF'!$B:$DZ,CONCATENATE(LEFT($A71,2),BH$2))<>0),\"Closed\",\"Open\")","v":"Open"},{"$f":"IF((COUNTIF('HOLIDAYS NF'!$B:$DZ,CONCATENATE(LEFT($A71,2),BI$2))<>0),\"Closed\",\"Open\")","v":"Open"},{"$f":"IF((COUNTIF('HOLIDAYS NF'!$B:$DZ,CONCATENATE(LEFT($A71,2),BJ$2))<>0),\"Closed\",\"Open\")","v":"Open"}]
["RO",{"$f":"SUMIF(Holdings!G:G,(CONCATENATE($B$1,\"-\",A72,)),Holdings!H:H)","v":0},"Romania",{"$f":"IF((COUNTIF('HOLIDAYS NF'!$B:$DZ,CONCATENATE(LEFT($A72,2),D$2))<>0),\"Closed\",\"Open\")","v":"Open"},{"$f":"IF((COUNTIF('HOLIDAYS NF'!$B:$DZ,CONCATENATE(LEFT($A72,2),E$2))<>0),\"Closed\",\"Open\")","v":"Open"},{"$f":"IF((COUNTIF('HOLIDAYS NF'!$B:$DZ,CONCATENATE(LEFT($A72,2),F$2))<>0),\"Closed\",\"Open\")","v":"Open"},{"$f":"IF((COUNTIF('HOLIDAYS NF'!$B:$DZ,CONCATENATE(LEFT($A72,2),G$2))<>0),\"Closed\",\"Open\")","v":"Open"},{"$f":"IF((COUNTIF('HOLIDAYS NF'!$B:$DZ,CONCATENATE(LEFT($A72,2),H$2))<>0),\"Closed\",\"Open\")","v":"Open"},{"$f":"IF((COUNTIF('HOLIDAYS NF'!$B:$DZ,CONCATENATE(LEFT($A72,2),I$2))<>0),\"Closed\",\"Open\")","v":"Open"},{"$f":"IF((COUNTIF('HOLIDAYS NF'!$B:$DZ,CONCATENATE(LEFT($A72,2),J$2))<>0),\"Closed\",\"Open\")","v":"Open"},{"$f":"IF((COUNTIF('HOLIDAYS NF'!$B:$DZ,CONCATENATE(LEFT($A72,2),K$2))<>0),\"Closed\",\"Open\")","v":"Open"},{"$f":"IF((COUNTIF('HOLIDAYS NF'!$B:$DZ,CONCATENATE(LEFT($A72,2),L$2))<>0),\"Closed\",\"Open\")","v":"Open"},{"$f":"IF((COUNTIF('HOLIDAYS NF'!$B:$DZ,CONCATENATE(LEFT($A72,2),M$2))<>0),\"Closed\",\"Open\")","v":"Open"},{"$f":"IF((COUNTIF('HOLIDAYS NF'!$B:$DZ,CONCATENATE(LEFT($A72,2),N$2))<>0),\"Closed\",\"Open\")","v":"Open"},{"$f":"IF((COUNTIF('HOLIDAYS NF'!$B:$DZ,CONCATENATE(LEFT($A72,2),O$2))<>0),\"Closed\",\"Open\")","v":"Open"},{"$f":"IF((COUNTIF('HOLIDAYS NF'!$B:$DZ,CONCATENATE(LEFT($A72,2),P$2))<>0),\"Closed\",\"Open\")","v":"Open"},{"$f":"IF((COUNTIF('HOLIDAYS NF'!$B:$DZ,CONCATENATE(LEFT($A72,2),Q$2))<>0),\"Closed\",\"Open\")","v":"Open"},{"$f":"IF((COUNTIF('HOLIDAYS NF'!$B:$DZ,CONCATENATE(LEFT($A72,2),R$2))<>0),\"Closed\",\"Open\")","v":"Open"},{"$f":"IF((COUNTIF('HOLIDAYS NF'!$B:$DZ,CONCATENATE(LEFT($A72,2),S$2))<>0),\"Closed\",\"Open\")","v":"Open"},{"$f":"IF((COUNTIF('HOLIDAYS NF'!$B:$DZ,CONCATENATE(LEFT($A72,2),T$2))<>0),\"Closed\",\"Open\")","v":"Open"},{"$f":"IF((COUNTIF('HOLIDAYS NF'!$B:$DZ,CONCATENATE(LEFT($A72,2),U$2))<>0),\"Closed\",\"Open\")","v":"Open"},{"$f":"IF((COUNTIF('HOLIDAYS NF'!$B:$DZ,CONCATENATE(LEFT($A72,2),V$2))<>0),\"Closed\",\"Open\")","v":"Open"},{"$f":"IF((COUNTIF('HOLIDAYS NF'!$B:$DZ,CONCATENATE(LEFT($A72,2),W$2))<>0),\"Closed\",\"Open\")","v":"Open"},{"$f":"IF((COUNTIF('HOLIDAYS NF'!$B:$DZ,CONCATENATE(LEFT($A72,2),X$2))<>0),\"Closed\",\"Open\")","v":"Open"},{"$f":"IF((COUNTIF('HOLIDAYS NF'!$B:$DZ,CONCATENATE(LEFT($A72,2),Y$2))<>0),\"Closed\",\"Open\")","v":"Open"},{"$f":"IF((COUNTIF('HOLIDAYS NF'!$B:$DZ,CONCATENATE(LEFT($A72,2),Z$2))<>0),\"Closed\",\"Open\")","v":"Open"},{"$f":"IF((COUNTIF('HOLIDAYS NF'!$B:$DZ,CONCATENATE(LEFT($A72,2),AA$2))<>0),\"Closed\",\"Open\")","v":"Open"},{"$f":"IF((COUNTIF('HOLIDAYS NF'!$B:$DZ,CONCATENATE(LEFT($A72,2),AB$2))<>0),\"Closed\",\"Open\")","v":"Open"},{"$f":"IF((COUNTIF('HOLIDAYS NF'!$B:$DZ,CONCATENATE(LEFT($A72,2),AC$2))<>0),\"Closed\",\"Open\")","v":"Open"},{"$f":"IF((COUNTIF('HOLIDAYS NF'!$B:$DZ,CONCATENATE(LEFT($A72,2),AD$2))<>0),\"Closed\",\"Open\")","v":"Open"},{"$f":"IF((COUNTIF('HOLIDAYS NF'!$B:$DZ,CONCATENATE(LEFT($A72,2),AE$2))<>0),\"Closed\",\"Open\")","v":"Open"},{"$f":"IF((COUNTIF('HOLIDAYS NF'!$B:$DZ,CONCATENATE(LEFT($A72,2),AF$2))<>0),\"Closed\",\"Open\")","v":"Open"},{"$f":"IF((COUNTIF('HOLIDAYS NF'!$B:$DZ,CONCATENATE(LEFT($A72,2),AG$2))<>0),\"Closed\",\"Open\")","v":"Open"},{"$f":"IF((COUNTIF('HOLIDAYS NF'!$B:$DZ,CONCATENATE(LEFT($A72,2),AH$2))<>0),\"Closed\",\"Open\")","v":"Open"},{"$f":"IF((COUNTIF('HOLIDAYS NF'!$B:$DZ,CONCATENATE(LEFT($A72,2),AI$2))<>0),\"Closed\",\"Open\")","v":"Open"},{"$f":"IF((COUNTIF('HOLIDAYS NF'!$B:$DZ,CONCATENATE(LEFT($A72,2),AJ$2))<>0),\"Closed\",\"Open\")","v":"Open"},{"$f":"IF((COUNTIF('HOLIDAYS NF'!$B:$DZ,CONCATENATE(LEFT($A72,2),AK$2))<>0),\"Closed\",\"Open\")","v":"Open"},{"$f":"IF((COUNTIF('HOLIDAYS NF'!$B:$DZ,CONCATENATE(LEFT($A72,2),AL$2))<>0),\"Closed\",\"Open\")","v":"Open"},{"$f":"IF((COUNTIF('HOLIDAYS NF'!$B:$DZ,CONCATENATE(LEFT($A72,2),AM$2))<>0),\"Closed\",\"Open\")","v":"Open"},{"$f":"IF((COUNTIF('HOLIDAYS NF'!$B:$DZ,CONCATENATE(LEFT($A72,2),AN$2))<>0),\"Closed\",\"Open\")","v":"Open"},{"$f":"IF((COUNTIF('HOLIDAYS NF'!$B:$DZ,CONCATENATE(LEFT($A72,2),AO$2))<>0),\"Closed\",\"Open\")","v":"Open"},{"$f":"IF((COUNTIF('HOLIDAYS NF'!$B:$DZ,CONCATENATE(LEFT($A72,2),AP$2))<>0),\"Closed\",\"Open\")","v":"Open"},{"$f":"IF((COUNTIF('HOLIDAYS NF'!$B:$DZ,CONCATENATE(LEFT($A72,2),AQ$2))<>0),\"Closed\",\"Open\")","v":"Open"},{"$f":"IF((COUNTIF('HOLIDAYS NF'!$B:$DZ,CONCATENATE(LEFT($A72,2),AR$2))<>0),\"Closed\",\"Open\")","v":"Open"},{"$f":"IF((COUNTIF('HOLIDAYS NF'!$B:$DZ,CONCATENATE(LEFT($A72,2),AS$2))<>0),\"Closed\",\"Open\")","v":"Open"},{"$f":"IF((COUNTIF('HOLIDAYS NF'!$B:$DZ,CONCATENATE(LEFT($A72,2),AT$2))<>0),\"Closed\",\"Open\")","v":"Open"},{"$f":"IF((COUNTIF('HOLIDAYS NF'!$B:$DZ,CONCATENATE(LEFT($A72,2),AU$2))<>0),\"Closed\",\"Open\")","v":"Open"},{"$f":"IF((COUNTIF('HOLIDAYS NF'!$B:$DZ,CONCATENATE(LEFT($A72,2),AV$2))<>0),\"Closed\",\"Open\")","v":"Open"},{"$f":"IF((COUNTIF('HOLIDAYS NF'!$B:$DZ,CONCATENATE(LEFT($A72,2),AW$2))<>0),\"Closed\",\"Open\")","v":"Open"},{"$f":"IF((COUNTIF('HOLIDAYS NF'!$B:$DZ,CONCATENATE(LEFT($A72,2),AX$2))<>0),\"Closed\",\"Open\")","v":"Open"},{"$f":"IF((COUNTIF('HOLIDAYS NF'!$B:$DZ,CONCATENATE(LEFT($A72,2),AY$2))<>0),\"Closed\",\"Open\")","v":"Open"},{"$f":"IF((COUNTIF('HOLIDAYS NF'!$B:$DZ,CONCATENATE(LEFT($A72,2),AZ$2))<>0),\"Closed\",\"Open\")","v":"Open"},{"$f":"IF((COUNTIF('HOLIDAYS NF'!$B:$DZ,CONCATENATE(LEFT($A72,2),BA$2))<>0),\"Closed\",\"Open\")","v":"Open"},{"$f":"IF((COUNTIF('HOLIDAYS NF'!$B:$DZ,CONCATENATE(LEFT($A72,2),BB$2))<>0),\"Closed\",\"Open\")","v":"Open"},{"$f":"IF((COUNTIF('HOLIDAYS NF'!$B:$DZ,CONCATENATE(LEFT($A72,2),BC$2))<>0),\"Closed\",\"Open\")","v":"Open"},{"$f":"IF((COUNTIF('HOLIDAYS NF'!$B:$DZ,CONCATENATE(LEFT($A72,2),BD$2))<>0),\"Closed\",\"Open\")","v":"Open"},{"$f":"IF((COUNTIF('HOLIDAYS NF'!$B:$DZ,CONCATENATE(LEFT($A72,2),BE$2))<>0),\"Closed\",\"Open\")","v":"Open"},{"$f":"IF((COUNTIF('HOLIDAYS NF'!$B:$DZ,CONCATENATE(LEFT($A72,2),BF$2))<>0),\"Closed\",\"Open\")","v":"Open"},{"$f":"IF((COUNTIF('HOLIDAYS NF'!$B:$DZ,CONCATENATE(LEFT($A72,2),BG$2))<>0),\"Closed\",\"Open\")","v":"Open"},{"$f":"IF((COUNTIF('HOLIDAYS NF'!$B:$DZ,CONCATENATE(LEFT($A72,2),BH$2))<>0),\"Closed\",\"Open\")","v":"Open"},{"$f":"IF((COUNTIF('HOLIDAYS NF'!$B:$DZ,CONCATENATE(LEFT($A72,2),BI$2))<>0),\"Closed\",\"Open\")","v":"Open"},{"$f":"IF((COUNTIF('HOLIDAYS NF'!$B:$DZ,CONCATENATE(LEFT($A72,2),BJ$2))<>0),\"Closed\",\"Open\")","v":"Open"}]
["SK",{"$f":"SUMIF(Holdings!G:G,(CONCATENATE($B$1,\"-\",A73,)),Holdings!H:H)","v":0},"Slovakia",{"$f":"IF((COUNTIF('HOLIDAYS NF'!$B:$DZ,CONCATENATE(LEFT($A73,2),D$2))<>0),\"Closed\",\"Open\")","v":"Open"},{"$f":"IF((COUNTIF('HOLIDAYS NF'!$B:$DZ,CONCATENATE(LEFT($A73,2),E$2))<>0),\"Closed\",\"Open\")","v":"Open"},{"$f":"IF((COUNTIF('HOLIDAYS NF'!$B:$DZ,CONCATENATE(LEFT($A73,2),F$2))<>0),\"Closed\",\"Open\")","v":"Open"},{"$f":"IF((COUNTIF('HOLIDAYS NF'!$B:$DZ,CONCATENATE(LEFT($A73,2),G$2))<>0),\"Closed\",\"Open\")","v":"Open"},{"$f":"IF((COUNTIF('HOLIDAYS NF'!$B:$DZ,CONCATENATE(LEFT($A73,2),H$2))<>0),\"Closed\",\"Open\")","v":"Open"},{"$f":"IF((COUNTIF('HOLIDAYS NF'!$B:$DZ,CONCATENATE(LEFT($A73,2),I$2))<>0),\"Closed\",\"Open\")","v":"Open"},{"$f":"IF((COUNTIF('HOLIDAYS NF'!$B:$DZ,CONCATENATE(LEFT($A73,2),J$2))<>0),\"Closed\",\"Open\")","v":"Open"},{"$f":"IF((COUNTIF('HOLIDAYS NF'!$B:$DZ,CONCATENATE(LEFT($A73,2),K$2))<>0),\"Closed\",\"Open\")","v":"Open"},{"$f":"IF((COUNTIF('HOLIDAYS NF'!$B:$DZ,CONCATENATE(LEFT($A73,2),L$2))<>0),\"Closed\",\"Open\")","v":"Open"},{"$f":"IF((COUNTIF('HOLIDAYS NF'!$B:$DZ,CONCATENATE(LEFT($A73,2),M$2))<>0),\"Closed\",\"Open\")","v":"Open"},{"$f":"IF((COUNTIF('HOLIDAYS NF'!$B:$DZ,CONCATENATE(LEFT($A73,2),N$2))<>0),\"Closed\",\"Open\")","v":"Open"},{"$f":"IF((COUNTIF('HOLIDAYS NF'!$B:$DZ,CONCATENATE(LEFT($A73,2),O$2))<>0),\"Closed\",\"Open\")","v":"Open"},{"$f":"IF((COUNTIF('HOLIDAYS NF'!$B:$DZ,CONCATENATE(LEFT($A73,2),P$2))<>0),\"Closed\",\"Open\")","v":"Open"},{"$f":"IF((COUNTIF('HOLIDAYS NF'!$B:$DZ,CONCATENATE(LEFT($A73,2),Q$2))<>0),\"Closed\",\"Open\")","v":"Open"},{"$f":"IF((COUNTIF('HOLIDAYS NF'!$B:$DZ,CONCATENATE(LEFT($A73,2),R$2))<>0),\"Closed\",\"Open\")","v":"Open"},{"$f":"IF((COUNTIF('HOLIDAYS NF'!$B:$DZ,CONCATENATE(LEFT($A73,2),S$2))<>0),\"Closed\",\"Open\")","v":"Open"},{"$f":"IF((COUNTIF('HOLIDAYS NF'!$B:$DZ,CONCATENATE(LEFT($A73,2),T$2))<>0),\"Closed\",\"Open\")","v":"Open"},{"$f":"IF((COUNTIF('HOLIDAYS NF'!$B:$DZ,CONCATENATE(LEFT($A73,2),U$2))<>0),\"Closed\",\"Open\")","v":"Open"},{"$f":"IF((COUNTIF('HOLIDAYS NF'!$B:$DZ,CONCATENATE(LEFT($A73,2),V$2))<>0),\"Closed\",\"Open\")","v":"Open"},{"$f":"IF((COUNTIF('HOLIDAYS NF'!$B:$DZ,CONCATENATE(LEFT($A73,2),W$2))<>0),\"Closed\",\"Open\")","v":"Open"},{"$f":"IF((COUNTIF('HOLIDAYS NF'!$B:$DZ,CONCATENATE(LEFT($A73,2),X$2))<>0),\"Closed\",\"Open\")","v":"Open"},{"$f":"IF((COUNTIF('HOLIDAYS NF'!$B:$DZ,CONCATENATE(LEFT($A73,2),Y$2))<>0),\"Closed\",\"Open\")","v":"Open"},{"$f":"IF((COUNTIF('HOLIDAYS NF'!$B:$DZ,CONCATENATE(LEFT($A73,2),Z$2))<>0),\"Closed\",\"Open\")","v":"Open"},{"$f":"IF((COUNTIF('HOLIDAYS NF'!$B:$DZ,CONCATENATE(LEFT($A73,2),AA$2))<>0),\"Closed\",\"Open\")","v":"Open"},{"$f":"IF((COUNTIF('HOLIDAYS NF'!$B:$DZ,CONCATENATE(LEFT($A73,2),AB$2))<>0),\"Closed\",\"Open\")","v":"Open"},{"$f":"IF((COUNTIF('HOLIDAYS NF'!$B:$DZ,CONCATENATE(LEFT($A73,2),AC$2))<>0),\"Closed\",\"Open\")","v":"Open"},{"$f":"IF((COUNTIF('HOLIDAYS NF'!$B:$DZ,CONCATENATE(LEFT($A73,2),AD$2))<>0),\"Closed\",\"Open\")","v":"Open"},{"$f":"IF((COUNTIF('HOLIDAYS NF'!$B:$DZ,CONCATENATE(LEFT($A73,2),AE$2))<>0),\"Closed\",\"Open\")","v":"Open"},{"$f":"IF((COUNTIF('HOLIDAYS NF'!$B:$DZ,CONCATENATE(LEFT($A73,2),AF$2))<>0),\"Closed\",\"Open\")","v":"Open"},{"$f":"IF((COUNTIF('HOLIDAYS NF'!$B:$DZ,CONCATENATE(LEFT($A73,2),AG$2))<>0),\"Closed\",\"Open\")","v":"Open"},{"$f":"IF((COUNTIF('HOLIDAYS NF'!$B:$DZ,CONCATENATE(LEFT($A73,2),AH$2))<>0),\"Closed\",\"Open\")","v":"Open"},{"$f":"IF((COUNTIF('HOLIDAYS NF'!$B:$DZ,CONCATENATE(LEFT($A73,2),AI$2))<>0),\"Closed\",\"Open\")","v":"Open"},{"$f":"IF((COUNTIF('HOLIDAYS NF'!$B:$DZ,CONCATENATE(LEFT($A73,2),AJ$2))<>0),\"Closed\",\"Open\")","v":"Open"},{"$f":"IF((COUNTIF('HOLIDAYS NF'!$B:$DZ,CONCATENATE(LEFT($A73,2),AK$2))<>0),\"Closed\",\"Open\")","v":"Open"},{"$f":"IF((COUNTIF('HOLIDAYS NF'!$B:$DZ,CONCATENATE(LEFT($A73,2),AL$2))<>0),\"Closed\",\"Open\")","v":"Open"},{"$f":"IF((COUNTIF('HOLIDAYS NF'!$B:$DZ,CONCATENATE(LEFT($A73,2),AM$2))<>0),\"Closed\",\"Open\")","v":"Open"},{"$f":"IF((COUNTIF('HOLIDAYS NF'!$B:$DZ,CONCATENATE(LEFT($A73,2),AN$2))<>0),\"Closed\",\"Open\")","v":"Open"},{"$f":"IF((COUNTIF('HOLIDAYS NF'!$B:$DZ,CONCATENATE(LEFT($A73,2),AO$2))<>0),\"Closed\",\"Open\")","v":"Open"},{"$f":"IF((COUNTIF('HOLIDAYS NF'!$B:$DZ,CONCATENATE(LEFT($A73,2),AP$2))<>0),\"Closed\",\"Open\")","v":"Open"},{"$f":"IF((COUNTIF('HOLIDAYS NF'!$B:$DZ,CONCATENATE(LEFT($A73,2),AQ$2))<>0),\"Closed\",\"Open\")","v":"Open"},{"$f":"IF((COUNTIF('HOLIDAYS NF'!$B:$DZ,CONCATENATE(LEFT($A73,2),AR$2))<>0),\"Closed\",\"Open\")","v":"Open"},{"$f":"IF((COUNTIF('HOLIDAYS NF'!$B:$DZ,CONCATENATE(LEFT($A73,2),AS$2))<>0),\"Closed\",\"Open\")","v":"Open"},{"$f":"IF((COUNTIF('HOLIDAYS NF'!$B:$DZ,CONCATENATE(LEFT($A73,2),AT$2))<>0),\"Closed\",\"Open\")","v":"Open"},{"$f":"IF((COUNTIF('HOLIDAYS NF'!$B:$DZ,CONCATENATE(LEFT($A73,2),AU$2))<>0),\"Closed\",\"Open\")","v":"Open"},{"$f":"IF((COUNTIF('HOLIDAYS NF'!$B:$DZ,CONCATENATE(LEFT($A73,2),AV$2))<>0),\"Closed\",\"Open\")","v":"Open"},{"$f":"IF((COUNTIF('HOLIDAYS NF'!$B:$DZ,CONCATENATE(LEFT($A73,2),AW$2))<>0),\"Closed\",\"Open\")","v":"Open"},{"$f":"IF((COUNTIF('HOLIDAYS NF'!$B:$DZ,CONCATENATE(LEFT($A73,2),AX$2))<>0),\"Closed\",\"Open\")","v":"Open"},{"$f":"IF((COUNTIF('HOLIDAYS NF'!$B:$DZ,CONCATENATE(LEFT($A73,2),AY$2))<>0),\"Closed\",\"Open\")","v":"Open"},{"$f":"IF((COUNTIF('HOLIDAYS NF'!$B:$DZ,CONCATENATE(LEFT($A73,2),AZ$2))<>0),\"Closed\",\"Open\")","v":"Open"},{"$f":"IF((COUNTIF('HOLIDAYS NF'!$B:$DZ,CONCATENATE(LEFT($A73,2),BA$2))<>0),\"Closed\",\"Open\")","v":"Open"},{"$f":"IF((COUNTIF('HOLIDAYS NF'!$B:$DZ,CONCATENATE(LEFT($A73,2),BB$2))<>0),\"Closed\",\"Open\")","v":"Open"},{"$f":"IF((COUNTIF('HOLIDAYS NF'!$B:$DZ,CONCATENATE(LEFT($A73,2),BC$2))<>0),\"Closed\",\"Open\")","v":"Open"},{"$f":"IF((COUNTIF('HOLIDAYS NF'!$B:$DZ,CONCATENATE(LEFT($A73,2),BD$2))<>0),\"Closed\",\"Open\")","v":"Open"},{"$f":"IF((COUNTIF('HOLIDAYS NF'!$B:$DZ,CONCATENATE(LEFT($A73,2),BE$2))<>0),\"Closed\",\"Open\")","v":"Open"},{"$f":"IF((COUNTIF('HOLIDAYS NF'!$B:$DZ,CONCATENATE(LEFT($A73,2),BF$2))<>0),\"Closed\",\"Open\")","v":"Open"},{"$f":"IF((COUNTIF('HOLIDAYS NF'!$B:$DZ,CONCATENATE(LEFT($A73,2),BG$2))<>0),\"Closed\",\"Open\")","v":"Open"},{"$f":"IF((COUNTIF('HOLIDAYS NF'!$B:$DZ,CONCATENATE(LEFT($A73,2),BH$2))<>0),\"Closed\",\"Open\")","v":"Open"},{"$f":"IF((COUNTIF('HOLIDAYS NF'!$B:$DZ,CONCATENATE(LEFT($A73,2),BI$2))<>0),\"Closed\",\"Open\")","v":"Open"},{"$f":"IF((COUNTIF('HOLIDAYS NF'!$B:$DZ,CONCATENATE(LEFT($A73,2),BJ$2))<>0),\"Closed\",\"Open\")","v":"Open"}]
["SI",{"$f":"SUMIF(Holdings!G:G,(CONCATENATE($B$1,\"-\",A74,)),Holdings!H:H)","v":0},"Slovenia",{"$f":"IF((COUNTIF('HOLIDAYS NF'!$B:$DZ,CONCATENATE(LEFT($A74,2),D$2))<>0),\"Closed\",\"Open\")","v":"Open"},{"$f":"IF((COUNTIF('HOLIDAYS NF'!$B:$DZ,CONCATENATE(LEFT($A74,2),E$2))<>0),\"Closed\",\"Open\")","v":"Open"},{"$f":"IF((COUNTIF('HOLIDAYS NF'!$B:$DZ,CONCATENATE(LEFT($A74,2),F$2))<>0),\"Closed\",\"Open\")","v":"Open"},{"$f":"IF((COUNTIF('HOLIDAYS NF'!$B:$DZ,CONCATENATE(LEFT($A74,2),G$2))<>0),\"Closed\",\"Open\")","v":"Open"},{"$f":"IF((COUNTIF('HOLIDAYS NF'!$B:$DZ,CONCATENATE(LEFT($A74,2),H$2))<>0),\"Closed\",\"Open\")","v":"Open"},{"$f":"IF((COUNTIF('HOLIDAYS NF'!$B:$DZ,CONCATENATE(LEFT($A74,2),I$2))<>0),\"Closed\",\"Open\")","v":"Open"},{"$f":"IF((COUNTIF('HOLIDAYS NF'!$B:$DZ,CONCATENATE(LEFT($A74,2),J$2))<>0),\"Closed\",\"Open\")","v":"Open"},{"$f":"IF((COUNTIF('HOLIDAYS NF'!$B:$DZ,CONCATENATE(LEFT($A74,2),K$2))<>0),\"Closed\",\"Open\")","v":"Open"},{"$f":"IF((COUNTIF('HOLIDAYS NF'!$B:$DZ,CONCATENATE(LEFT($A74,2),L$2))<>0),\"Closed\",\"Open\")","v":"Open"},{"$f":"IF((COUNTIF('HOLIDAYS NF'!$B:$DZ,CONCATENATE(LEFT($A74,2),M$2))<>0),\"Closed\",\"Open\")","v":"Open"},{"$f":"IF((COUNTIF('HOLIDAYS NF'!$B:$DZ,CONCATENATE(LEFT($A74,2),N$2))<>0),\"Closed\",\"Open\")","v":"Open"},{"$f":"IF((COUNTIF('HOLIDAYS NF'!$B:$DZ,CONCATENATE(LEFT($A74,2),O$2))<>0),\"Closed\",\"Open\")","v":"Open"},{"$f":"IF((COUNTIF('HOLIDAYS NF'!$B:$DZ,CONCATENATE(LEFT($A74,2),P$2))<>0),\"Closed\",\"Open\")","v":"Open"},{"$f":"IF((COUNTIF('HOLIDAYS NF'!$B:$DZ,CONCATENATE(LEFT($A74,2),Q$2))<>0),\"Closed\",\"Open\")","v":"Open"},{"$f":"IF((COUNTIF('HOLIDAYS NF'!$B:$DZ,CONCATENATE(LEFT($A74,2),R$2))<>0),\"Closed\",\"Open\")","v":"Open"},{"$f":"IF((COUNTIF('HOLIDAYS NF'!$B:$DZ,CONCATENATE(LEFT($A74,2),S$2))<>0),\"Closed\",\"Open\")","v":"Open"},{"$f":"IF((COUNTIF('HOLIDAYS NF'!$B:$DZ,CONCATENATE(LEFT($A74,2),T$2))<>0),\"Closed\",\"Open\")","v":"Open"},{"$f":"IF((COUNTIF('HOLIDAYS NF'!$B:$DZ,CONCATENATE(LEFT($A74,2),U$2))<>0),\"Closed\",\"Open\")","v":"Open"},{"$f":"IF((COUNTIF('HOLIDAYS NF'!$B:$DZ,CONCATENATE(LEFT($A74,2),V$2))<>0),\"Closed\",\"Open\")","v":"Open"},{"$f":"IF((COUNTIF('HOLIDAYS NF'!$B:$DZ,CONCATENATE(LEFT($A74,2),W$2))<>0),\"Closed\",\"Open\")","v":"Open"},{"$f":"IF((COUNTIF('HOLIDAYS NF'!$B:$DZ,CONCATENATE(LEFT($A74,2),X$2))<>0),\"Closed\",\"Open\")","v":"Open"},{"$f":"IF((COUNTIF('HOLIDAYS NF'!$B:$DZ,CONCATENATE(LEFT($A74,2),Y$2))<>0),\"Closed\",\"Open\")","v":"Open"},{"$f":"IF((COUNTIF('HOLIDAYS NF'!$B:$DZ,CONCATENATE(LEFT($A74,2),Z$2))<>0),\"Closed\",\"Open\")","v":"Open"},{"$f":"IF((COUNTIF('HOLIDAYS NF'!$B:$DZ,CONCATENATE(LEFT($A74,2),AA$2))<>0),\"Closed\",\"Open\")","v":"Open"},{"$f":"IF((COUNTIF('HOLIDAYS NF'!$B:$DZ,CONCATENATE(LEFT($A74,2),AB$2))<>0),\"Closed\",\"Open\")","v":"Open"},{"$f":"IF((COUNTIF('HOLIDAYS NF'!$B:$DZ,CONCATENATE(LEFT($A74,2),AC$2))<>0),\"Closed\",\"Open\")","v":"Open"},{"$f":"IF((COUNTIF('HOLIDAYS NF'!$B:$DZ,CONCATENATE(LEFT($A74,2),AD$2))<>0),\"Closed\",\"Open\")","v":"Open"},{"$f":"IF((COUNTIF('HOLIDAYS NF'!$B:$DZ,CONCATENATE(LEFT($A74,2),AE$2))<>0),\"Closed\",\"Open\")","v":"Open"},{"$f":"IF((COUNTIF('HOLIDAYS NF'!$B:$DZ,CONCATENATE(LEFT($A74,2),AF$2))<>0),\"Closed\",\"Open\")","v":"Open"},{"$f":"IF((COUNTIF('HOLIDAYS NF'!$B:$DZ,CONCATENATE(LEFT($A74,2),AG$2))<>0),\"Closed\",\"Open\")","v":"Open"},{"$f":"IF((COUNTIF('HOLIDAYS NF'!$B:$DZ,CONCATENATE(LEFT($A74,2),AH$2))<>0),\"Closed\",\"Open\")","v":"Open"},{"$f":"IF((COUNTIF('HOLIDAYS NF'!$B:$DZ,CONCATENATE(LEFT($A74,2),AI$2))<>0),\"Closed\",\"Open\")","v":"Open"},{"$f":"IF((COUNTIF('HOLIDAYS NF'!$B:$DZ,CONCATENATE(LEFT($A74,2),AJ$2))<>0),\"Closed\",\"Open\")","v":"Open"},{"$f":"IF((COUNTIF('HOLIDAYS NF'!$B:$DZ,CONCATENATE(LEFT($A74,2),AK$2))<>0),\"Closed\",\"Open\")","v":"Open"},{"$f":"IF((COUNTIF('HOLIDAYS NF'!$B:$DZ,CONCATENATE(LEFT($A74,2),AL$2))<>0),\"Closed\",\"Open\")","v":"Open"},{"$f":"IF((COUNTIF('HOLIDAYS NF'!$B:$DZ,CONCATENATE(LEFT($A74,2),AM$2))<>0),\"Closed\",\"Open\")","v":"Open"},{"$f":"IF((COUNTIF('HOLIDAYS NF'!$B:$DZ,CONCATENATE(LEFT($A74,2),AN$2))<>0),\"Closed\",\"Open\")","v":"Open"},{"$f":"IF((COUNTIF('HOLIDAYS NF'!$B:$DZ,CONCATENATE(LEFT($A74,2),AO$2))<>0),\"Closed\",\"Open\")","v":"Open"},{"$f":"IF((COUNTIF('HOLIDAYS NF'!$B:$DZ,CONCATENATE(LEFT($A74,2),AP$2))<>0),\"Closed\",\"Open\")","v":"Open"},{"$f":"IF((COUNTIF('HOLIDAYS NF'!$B:$DZ,CONCATENATE(LEFT($A74,2),AQ$2))<>0),\"Closed\",\"Open\")","v":"Open"},{"$f":"IF((COUNTIF('HOLIDAYS NF'!$B:$DZ,CONCATENATE(LEFT($A74,2),AR$2))<>0),\"Closed\",\"Open\")","v":"Open"},{"$f":"IF((COUNTIF('HOLIDAYS NF'!$B:$DZ,CONCATENATE(LEFT($A74,2),AS$2))<>0),\"Closed\",\"Open\")","v":"Open"},{"$f":"IF((COUNTIF('HOLIDAYS NF'!$B:$DZ,CONCATENATE(LEFT($A74,2),AT$2))<>0),\"Closed\",\"Open\")","v":"Open"},{"$f":"IF((COUNTIF('HOLIDAYS NF'!$B:$DZ,CONCATENATE(LEFT($A74,2),AU$2))<>0),\"Closed\",\"Open\")","v":"Open"},{"$f":"IF((COUNTIF('HOLIDAYS NF'!$B:$DZ,CONCATENATE(LEFT($A74,2),AV$2))<>0),\"Closed\",\"Open\")","v":"Open"},{"$f":"IF((COUNTIF('HOLIDAYS NF'!$B:$DZ,CONCATENATE(LEFT($A74,2),AW$2))<>0),\"Closed\",\"Open\")","v":"Open"},{"$f":"IF((COUNTIF('HOLIDAYS NF'!$B:$DZ,CONCATENATE(LEFT($A74,2),AX$2))<>0),\"Closed\",\"Open\")","v":"Open"},{"$f":"IF((COUNTIF('HOLIDAYS NF'!$B:$DZ,CONCATENATE(LEFT($A74,2),AY$2))<>0),\"Closed\",\"Open\")","v":"Open"},{"$f":"IF((COUNTIF('HOLIDAYS NF'!$B:$DZ,CONCATENATE(LEFT($A74,2),AZ$2))<>0),\"Closed\",\"Open\")","v":"Open"},{"$f":"IF((COUNTIF('HOLIDAYS NF'!$B:$DZ,CONCATENATE(LEFT($A74,2),BA$2))<>0),\"Closed\",\"Open\")","v":"Open"},{"$f":"IF((COUNTIF('HOLIDAYS NF'!$B:$DZ,CONCATENATE(LEFT($A74,2),BB$2))<>0),\"Closed\",\"Open\")","v":"Open"},{"$f":"IF((COUNTIF('HOLIDAYS NF'!$B:$DZ,CONCATENATE(LEFT($A74,2),BC$2))<>0),\"Closed\",\"Open\")","v":"Open"},{"$f":"IF((COUNTIF('HOLIDAYS NF'!$B:$DZ,CONCATENATE(LEFT($A74,2),BD$2))<>0),\"Closed\",\"Open\")","v":"Open"},{"$f":"IF((COUNTIF('HOLIDAYS NF'!$B:$DZ,CONCATENATE(LEFT($A74,2),BE$2))<>0),\"Closed\",\"Open\")","v":"Open"},{"$f":"IF((COUNTIF('HOLIDAYS NF'!$B:$DZ,CONCATENATE(LEFT($A74,2),BF$2))<>0),\"Closed\",\"Open\")","v":"Open"},{"$f":"IF((COUNTIF('HOLIDAYS NF'!$B:$DZ,CONCATENATE(LEFT($A74,2),BG$2))<>0),\"Closed\",\"Open\")","v":"Open"},{"$f":"IF((COUNTIF('HOLIDAYS NF'!$B:$DZ,CONCATENATE(LEFT($A74,2),BH$2))<>0),\"Closed\",\"Open\")","v":"Open"},{"$f":"IF((COUNTIF('HOLIDAYS NF'!$B:$DZ,CONCATENATE(LEFT($A74,2),BI$2))<>0),\"Closed\",\"Open\")","v":"Open"},{"$f":"IF((COUNTIF('HOLIDAYS NF'!$B:$DZ,CONCATENATE(LEFT($A74,2),BJ$2))<>0),\"Closed\",\"Open\")","v":"Open"}]
["UA",{"$f":"SUMIF(Holdings!G:G,(CONCATENATE($B$1,\"-\",A75,)),Holdings!H:H)","v":0},"Ukraine",{"$f":"IF((COUNTIF('HOLIDAYS NF'!$B:$DZ,CONCATENATE(LEFT($A75,2),D$2))<>0),\"Closed\",\"Open\")","v":"Open"},{"$f":"IF((COUNTIF('HOLIDAYS NF'!$B:$DZ,CONCATENATE(LEFT($A75,2),E$2))<>0),\"Closed\",\"Open\")","v":"Open"},{"$f":"IF((COUNTIF('HOLIDAYS NF'!$B:$DZ,CONCATENATE(LEFT($A75,2),F$2))<>0),\"Closed\",\"Open\")","v":"Open"},{"$f":"IF((COUNTIF('HOLIDAYS NF'!$B:$DZ,CONCATENATE(LEFT($A75,2),G$2))<>0),\"Closed\",\"Open\")","v":"Open"},{"$f":"IF((COUNTIF('HOLIDAYS NF'!$B:$DZ,CONCATENATE(LEFT($A75,2),H$2))<>0),\"Closed\",\"Open\")","v":"Open"},{"$f":"IF((COUNTIF('HOLIDAYS NF'!$B:$DZ,CONCATENATE(LEFT($A75,2),I$2))<>0),\"Closed\",\"Open\")","v":"Open"},{"$f":"IF((COUNTIF('HOLIDAYS NF'!$B:$DZ,CONCATENATE(LEFT($A75,2),J$2))<>0),\"Closed\",\"Open\")","v":"Open"},{"$f":"IF((COUNTIF('HOLIDAYS NF'!$B:$DZ,CONCATENATE(LEFT($A75,2),K$2))<>0),\"Closed\",\"Open\")","v":"Open"},{"$f":"IF((COUNTIF('HOLIDAYS NF'!$B:$DZ,CONCATENATE(LEFT($A75,2),L$2))<>0),\"Closed\",\"Open\")","v":"Open"},{"$f":"IF((COUNTIF('HOLIDAYS NF'!$B:$DZ,CONCATENATE(LEFT($A75,2),M$2))<>0),\"Closed\",\"Open\")","v":"Open"},{"$f":"IF((COUNTIF('HOLIDAYS NF'!$B:$DZ,CONCATENATE(LEFT($A75,2),N$2))<>0),\"Closed\",\"Open\")","v":"Open"},{"$f":"IF((COUNTIF('HOLIDAYS NF'!$B:$DZ,CONCATENATE(LEFT($A75,2),O$2))<>0),\"Closed\",\"Open\")","v":"Open"},{"$f":"IF((COUNTIF('HOLIDAYS NF'!$B:$DZ,CONCATENATE(LEFT($A75,2),P$2))<>0),\"Closed\",\"Open\")","v":"Open"},{"$f":"IF((COUNTIF('HOLIDAYS NF'!$B:$DZ,CONCATENATE(LEFT($A75,2),Q$2))<>0),\"Closed\",\"Open\")","v":"Open"},{"$f":"IF((COUNTIF('HOLIDAYS NF'!$B:$DZ,CONCATENATE(LEFT($A75,2),R$2))<>0),\"Closed\",\"Open\")","v":"Open"},{"$f":"IF((COUNTIF('HOLIDAYS NF'!$B:$DZ,CONCATENATE(LEFT($A75,2),S$2))<>0),\"Closed\",\"Open\")","v":"Open"},{"$f":"IF((COUNTIF('HOLIDAYS NF'!$B:$DZ,CONCATENATE(LEFT($A75,2),T$2))<>0),\"Closed\",\"Open\")","v":"Open"},{"$f":"IF((COUNTIF('HOLIDAYS NF'!$B:$DZ,CONCATENATE(LEFT($A75,2),U$2))<>0),\"Closed\",\"Open\")","v":"Open"},{"$f":"IF((COUNTIF('HOLIDAYS NF'!$B:$DZ,CONCATENATE(LEFT($A75,2),V$2))<>0),\"Closed\",\"Open\")","v":"Open"},{"$f":"IF((COUNTIF('HOLIDAYS NF'!$B:$DZ,CONCATENATE(LEFT($A75,2),W$2))<>0),\"Closed\",\"Open\")","v":"Open"},{"$f":"IF((COUNTIF('HOLIDAYS NF'!$B:$DZ,CONCATENATE(LEFT($A75,2),X$2))<>0),\"Closed\",\"Open\")","v":"Open"},{"$f":"IF((COUNTIF('HOLIDAYS NF'!$B:$DZ,CONCATENATE(LEFT($A75,2),Y$2))<>0),\"Closed\",\"Open\")","v":"Open"},{"$f":"IF((COUNTIF('HOLIDAYS NF'!$B:$DZ,CONCATENATE(LEFT($A75,2),Z$2))<>0),\"Closed\",\"Open\")","v":"Open"},{"$f":"IF((COUNTIF('HOLIDAYS NF'!$B:$DZ,CONCATENATE(LEFT($A75,2),AA$2))<>0),\"Closed\",\"Open\")","v":"Open"},{"$f":"IF((COUNTIF('HOLIDAYS NF'!$B:$DZ,CONCATENATE(LEFT($A75,2),AB$2))<>0),\"Closed\",\"Open\")","v":"Open"},{"$f":"IF((COUNTIF('HOLIDAYS NF'!$B:$DZ,CONCATENATE(LEFT($A75,2),AC$2))<>0),\"Closed\",\"Open\")","v":"Open"},{"$f":"IF((COUNTIF('HOLIDAYS NF'!$B:$DZ,CONCATENATE(LEFT($A75,2),AD$2))<>0),\"Closed\",\"Open\")","v":"Open"},{"$f":"IF((COUNTIF('HOLIDAYS NF'!$B:$DZ,CONCATENATE(LEFT($A75,2),AE$2))<>0),\"Closed\",\"Open\")","v":"Open"},{"$f":"IF((COUNTIF('HOLIDAYS NF'!$B:$DZ,CONCATENATE(LEFT($A75,2),AF$2))<>0),\"Closed\",\"Open\")","v":"Open"},{"$f":"IF((COUNTIF('HOLIDAYS NF'!$B:$DZ,CONCATENATE(LEFT($A75,2),AG$2))<>0),\"Closed\",\"Open\")","v":"Open"},{"$f":"IF((COUNTIF('HOLIDAYS NF'!$B:$DZ,CONCATENATE(LEFT($A75,2),AH$2))<>0),\"Closed\",\"Open\")","v":"Open"},{"$f":"IF((COUNTIF('HOLIDAYS NF'!$B:$DZ,CONCATENATE(LEFT($A75,2),AI$2))<>0),\"Closed\",\"Open\")","v":"Open"},{"$f":"IF((COUNTIF('HOLIDAYS NF'!$B:$DZ,CONCATENATE(LEFT($A75,2),AJ$2))<>0),\"Closed\",\"Open\")","v":"Open"},{"$f":"IF((COUNTIF('HOLIDAYS NF'!$B:$DZ,CONCATENATE(LEFT($A75,2),AK$2))<>0),\"Closed\",\"Open\")","v":"Open"},{"$f":"IF((COUNTIF('HOLIDAYS NF'!$B:$DZ,CONCATENATE(LEFT($A75,2),AL$2))<>0),\"Closed\",\"Open\")","v":"Open"},{"$f":"IF((COUNTIF('HOLIDAYS NF'!$B:$DZ,CONCATENATE(LEFT($A75,2),AM$2))<>0),\"Closed\",\"Open\")","v":"Open"},{"$f":"IF((COUNTIF('HOLIDAYS NF'!$B:$DZ,CONCATENATE(LEFT($A75,2),AN$2))<>0),\"Closed\",\"Open\")","v":"Open"},{"$f":"IF((COUNTIF('HOLIDAYS NF'!$B:$DZ,CONCATENATE(LEFT($A75,2),AO$2))<>0),\"Closed\",\"Open\")","v":"Open"},{"$f":"IF((COUNTIF('HOLIDAYS NF'!$B:$DZ,CONCATENATE(LEFT($A75,2),AP$2))<>0),\"Closed\",\"Open\")","v":"Open"},{"$f":"IF((COUNTIF('HOLIDAYS NF'!$B:$DZ,CONCATENATE(LEFT($A75,2),AQ$2))<>0),\"Closed\",\"Open\")","v":"Open"},{"$f":"IF((COUNTIF('HOLIDAYS NF'!$B:$DZ,CONCATENATE(LEFT($A75,2),AR$2))<>0),\"Closed\",\"Open\")","v":"Open"},{"$f":"IF((COUNTIF('HOLIDAYS NF'!$B:$DZ,CONCATENATE(LEFT($A75,2),AS$2))<>0),\"Closed\",\"Open\")","v":"Open"},{"$f":"IF((COUNTIF('HOLIDAYS NF'!$B:$DZ,CONCATENATE(LEFT($A75,2),AT$2))<>0),\"Closed\",\"Open\")","v":"Open"},{"$f":"IF((COUNTIF('HOLIDAYS NF'!$B:$DZ,CONCATENATE(LEFT($A75,2),AU$2))<>0),\"Closed\",\"Open\")","v":"Open"},{"$f":"IF((COUNTIF('HOLIDAYS NF'!$B:$DZ,CONCATENATE(LEFT($A75,2),AV$2))<>0),\"Closed\",\"Open\")","v":"Open"},{"$f":"IF((COUNTIF('HOLIDAYS NF'!$B:$DZ,CONCATENATE(LEFT($A75,2),AW$2))<>0),\"Closed\",\"Open\")","v":"Open"},{"$f":"IF((COUNTIF('HOLIDAYS NF'!$B:$DZ,CONCATENATE(LEFT($A75,2),AX$2))<>0),\"Closed\",\"Open\")","v":"Open"},{"$f":"IF((COUNTIF('HOLIDAYS NF'!$B:$DZ,CONCATENATE(LEFT($A75,2),AY$2))<>0),\"Closed\",\"Open\")","v":"Open"},{"$f":"IF((COUNTIF('HOLIDAYS NF'!$B:$DZ,CONCATENATE(LEFT($A75,2),AZ$2))<>0),\"Closed\",\"Open\")","v":"Open"},{"$f":"IF((COUNTIF('HOLIDAYS NF'!$B:$DZ,CONCATENATE(LEFT($A75,2),BA$2))<>0),\"Closed\",\"Open\")","v":"Open"},{"$f":"IF((COUNTIF('HOLIDAYS NF'!$B:$DZ,CONCATENATE(LEFT($A75,2),BB$2))<>0),\"Closed\",\"Open\")","v":"Open"},{"$f":"IF((COUNTIF('HOLIDAYS NF'!$B:$DZ,CONCATENATE(LEFT($A75,2),BC$2))<>0),\"Closed\",\"Open\")","v":"Open"},{"$f":"IF((COUNTIF('HOLIDAYS NF'!$B:$DZ,CONCATENATE(LEFT($A75,2),BD$2))<>0),\"Closed\",\"Open\")","v":"Open"},{"$f":"IF((COUNTIF('HOLIDAYS NF'!$B:$DZ,CONCATENATE(LEFT($A75,2),BE$2))<>0),\"Closed\",\"Open\")","v":"Open"},{"$f":"IF((COUNTIF('HOLIDAYS NF'!$B:$DZ,CONCATENATE(LEFT($A75,2),BF$2))<>0),\"Closed\",\"Open\")","v":"Open"},{"$f":"IF((COUNTIF('HOLIDAYS NF'!$B:$DZ,CONCATENATE(LEFT($A75,2),BG$2))<>0),\"Closed\",\"Open\")","v":"Open"},{"$f":"IF((COUNTIF('HOLIDAYS NF'!$B:$DZ,CONCATENATE(LEFT($A75,2),BH$2))<>0),\"Closed\",\"Open\")","v":"Open"},{"$f":"IF((COUNTIF('HOLIDAYS NF'!$B:$DZ,CONCATENATE(LEFT($A75,2),BI$2))<>0),\"Closed\",\"Open\")","v":"Open"},{"$f":"IF((COUNTIF('HOLIDAYS NF'!$B:$DZ,CONCATENATE(LEFT($A75,2),BJ$2))<>0),\"Closed\",\"Open\")","v":"Open"}]
["VE",{"$f":"SUMIF(Holdings!G:G,(CONCATENATE($B$1,\"-\",A76,)),Holdings!H:H)","v":0},"Venezuela",{"$f":"IF((COUNTIF('HOLIDAYS NF'!$B:$DZ,CONCATENATE(LEFT($A76,2),D$2))<>0),\"Closed\",\"Open\")","v":"Open"},{"$f":"IF((COUNTIF('HOLIDAYS NF'!$B:$DZ,CONCATENATE(LEFT($A76,2),E$2))<>0),\"Closed\",\"Open\")","v":"Open"},{"$f":"IF((COUNTIF('HOLIDAYS NF'!$B:$DZ,CONCATENATE(LEFT($A76,2),F$2))<>0),\"Closed\",\"Open\")","v":"Open"},{"$f":"IF((COUNTIF('HOLIDAYS NF'!$B:$DZ,CONCATENATE(LEFT($A76,2),G$2))<>0),\"Closed\",\"Open\")","v":"Open"},{"$f":"IF((COUNTIF('HOLIDAYS NF'!$B:$DZ,CONCATENATE(LEFT($A76,2),H$2))<>0),\"Closed\",\"Open\")","v":"Open"},{"$f":"IF((COUNTIF('HOLIDAYS NF'!$B:$DZ,CONCATENATE(LEFT($A76,2),I$2))<>0),\"Closed\",\"Open\")","v":"Open"},{"$f":"IF((COUNTIF('HOLIDAYS NF'!$B:$DZ,CONCATENATE(LEFT($A76,2),J$2))<>0),\"Closed\",\"Open\")","v":"Open"},{"$f":"IF((COUNTIF('HOLIDAYS NF'!$B:$DZ,CONCATENATE(LEFT($A76,2),K$2))<>0),\"Closed\",\"Open\")","v":"Open"},{"$f":"IF((COUNTIF('HOLIDAYS NF'!$B:$DZ,CONCATENATE(LEFT($A76,2),L$2))<>0),\"Closed\",\"Open\")","v":"Open"},{"$f":"IF((COUNTIF('HOLIDAYS NF'!$B:$DZ,CONCATENATE(LEFT($A76,2),M$2))<>0),\"Closed\",\"Open\")","v":"Open"},{"$f":"IF((COUNTIF('HOLIDAYS NF'!$B:$DZ,CONCATENATE(LEFT($A76,2),N$2))<>0),\"Closed\",\"Open\")","v":"Open"},{"$f":"IF((COUNTIF('HOLIDAYS NF'!$B:$DZ,CONCATENATE(LEFT($A76,2),O$2))<>0),\"Closed\",\"Open\")","v":"Open"},{"$f":"IF((COUNTIF('HOLIDAYS NF'!$B:$DZ,CONCATENATE(LEFT($A76,2),P$2))<>0),\"Closed\",\"Open\")","v":"Open"},{"$f":"IF((COUNTIF('HOLIDAYS NF'!$B:$DZ,CONCATENATE(LEFT($A76,2),Q$2))<>0),\"Closed\",\"Open\")","v":"Open"},{"$f":"IF((COUNTIF('HOLIDAYS NF'!$B:$DZ,CONCATENATE(LEFT($A76,2),R$2))<>0),\"Closed\",\"Open\")","v":"Open"},{"$f":"IF((COUNTIF('HOLIDAYS NF'!$B:$DZ,CONCATENATE(LEFT($A76,2),S$2))<>0),\"Closed\",\"Open\")","v":"Open"},{"$f":"IF((COUNTIF('HOLIDAYS NF'!$B:$DZ,CONCATENATE(LEFT($A76,2),T$2))<>0),\"Closed\",\"Open\")","v":"Open"},{"$f":"IF((COUNTIF('HOLIDAYS NF'!$B:$DZ,CONCATENATE(LEFT($A76,2),U$2))<>0),\"Closed\",\"Open\")","v":"Open"},{"$f":"IF((COUNTIF('HOLIDAYS NF'!$B:$DZ,CONCATENATE(LEFT($A76,2),V$2))<>0),\"Closed\",\"Open\")","v":"Open"},{"$f":"IF((COUNTIF('HOLIDAYS NF'!$B:$DZ,CONCATENATE(LEFT($A76,2),W$2))<>0),\"Closed\",\"Open\")","v":"Open"},{"$f":"IF((COUNTIF('HOLIDAYS NF'!$B:$DZ,CONCATENATE(LEFT($A76,2),X$2))<>0),\"Closed\",\"Open\")","v":"Open"},{"$f":"IF((COUNTIF('HOLIDAYS NF'!$B:$DZ,CONCATENATE(LEFT($A76,2),Y$2))<>0),\"Closed\",\"Open\")","v":"Open"},{"$f":"IF((COUNTIF('HOLIDAYS NF'!$B:$DZ,CONCATENATE(LEFT($A76,2),Z$2))<>0),\"Closed\",\"Open\")","v":"Open"},{"$f":"IF((COUNTIF('HOLIDAYS NF'!$B:$DZ,CONCATENATE(LEFT($A76,2),AA$2))<>0),\"Closed\",\"Open\")","v":"Open"},{"$f":"IF((COUNTIF('HOLIDAYS NF'!$B:$DZ,CONCATENATE(LEFT($A76,2),AB$2))<>0),\"Closed\",\"Open\")","v":"Open"},{"$f":"IF((COUNTIF('HOLIDAYS NF'!$B:$DZ,CONCATENATE(LEFT($A76,2),AC$2))<>0),\"Closed\",\"Open\")","v":"Open"},{"$f":"IF((COUNTIF('HOLIDAYS NF'!$B:$DZ,CONCATENATE(LEFT($A76,2),AD$2))<>0),\"Closed\",\"Open\")","v":"Open"},{"$f":"IF((COUNTIF('HOLIDAYS NF'!$B:$DZ,CONCATENATE(LEFT($A76,2),AE$2))<>0),\"Closed\",\"Open\")","v":"Open"},{"$f":"IF((COUNTIF('HOLIDAYS NF'!$B:$DZ,CONCATENATE(LEFT($A76,2),AF$2))<>0),\"Closed\",\"Open\")","v":"Open"},{"$f":"IF((COUNTIF('HOLIDAYS NF'!$B:$DZ,CONCATENATE(LEFT($A76,2),AG$2))<>0),\"Closed\",\"Open\")","v":"Open"},{"$f":"IF((COUNTIF('HOLIDAYS NF'!$B:$DZ,CONCATENATE(LEFT($A76,2),AH$2))<>0),\"Closed\",\"Open\")","v":"Open"},{"$f":"IF((COUNTIF('HOLIDAYS NF'!$B:$DZ,CONCATENATE(LEFT($A76,2),AI$2))<>0),\"Closed\",\"Open\")","v":"Open"},{"$f":"IF((COUNTIF('HOLIDAYS NF'!$B:$DZ,CONCATENATE(LEFT($A76,2),AJ$2))<>0),\"Closed\",\"Open\")","v":"Open"},{"$f":"IF((COUNTIF('HOLIDAYS NF'!$B:$DZ,CONCATENATE(LEFT($A76,2),AK$2))<>0),\"Closed\",\"Open\")","v":"Open"},{"$f":"IF((COUNTIF('HOLIDAYS NF'!$B:$DZ,CONCATENATE(LEFT($A76,2),AL$2))<>0),\"Closed\",\"Open\")","v":"Open"},{"$f":"IF((COUNTIF('HOLIDAYS NF'!$B:$DZ,CONCATENATE(LEFT($A76,2),AM$2))<>0),\"Closed\",\"Open\")","v":"Open"},{"$f":"IF((COUNTIF('HOLIDAYS NF'!$B:$DZ,CONCATENATE(LEFT($A76,2),AN$2))<>0),\"Closed\",\"Open\")","v":"Open"},{"$f":"IF((COUNTIF('HOLIDAYS NF'!$B:$DZ,CONCATENATE(LEFT($A76,2),AO$2))<>0),\"Closed\",\"Open\")","v":"Open"},{"$f":"IF((COUNTIF('HOLIDAYS NF'!$B:$DZ,CONCATENATE(LEFT($A76,2),AP$2))<>0),\"Closed\",\"Open\")","v":"Open"},{"$f":"IF((COUNTIF('HOLIDAYS NF'!$B:$DZ,CONCATENATE(LEFT($A76,2),AQ$2))<>0),\"Closed\",\"Open\")","v":"Open"},{"$f":"IF((COUNTIF('HOLIDAYS NF'!$B:$DZ,CONCATENATE(LEFT($A76,2),AR$2))<>0),\"Closed\",\"Open\")","v":"Open"},{"$f":"IF((COUNTIF('HOLIDAYS NF'!$B:$DZ,CONCATENATE(LEFT($A76,2),AS$2))<>0),\"Closed\",\"Open\")","v":"Open"},{"$f":"IF((COUNTIF('HOLIDAYS NF'!$B:$DZ,CONCATENATE(LEFT($A76,2),AT$2))<>0),\"Closed\",\"Open\")","v":"Open"},{"$f":"IF((COUNTIF('HOLIDAYS NF'!$B:$DZ,CONCATENATE(LEFT($A76,2),AU$2))<>0),\"Closed\",\"Open\")","v":"Open"},{"$f":"IF((COUNTIF('HOLIDAYS NF'!$B:$DZ,CONCATENATE(LEFT($A76,2),AV$2))<>0),\"Closed\",\"Open\")","v":"Open"},{"$f":"IF((COUNTIF('HOLIDAYS NF'!$B:$DZ,CONCATENATE(LEFT($A76,2),AW$2))<>0),\"Closed\",\"Open\")","v":"Open"},{"$f":"IF((COUNTIF('HOLIDAYS NF'!$B:$DZ,CONCATENATE(LEFT($A76,2),AX$2))<>0),\"Closed\",\"Open\")","v":"Open"},{"$f":"IF((COUNTIF('HOLIDAYS NF'!$B:$DZ,CONCATENATE(LEFT($A76,2),AY$2))<>0),\"Closed\",\"Open\")","v":"Open"},{"$f":"IF((COUNTIF('HOLIDAYS NF'!$B:$DZ,CONCATENATE(LEFT($A76,2),AZ$2))<>0),\"Closed\",\"Open\")","v":"Open"},{"$f":"IF((COUNTIF('HOLIDAYS NF'!$B:$DZ,CONCATENATE(LEFT($A76,2),BA$2))<>0),\"Closed\",\"Open\")","v":"Open"},{"$f":"IF((COUNTIF('HOLIDAYS NF'!$B:$DZ,CONCATENATE(LEFT($A76,2),BB$2))<>0),\"Closed\",\"Open\")","v":"Open"},{"$f":"IF((COUNTIF('HOLIDAYS NF'!$B:$DZ,CONCATENATE(LEFT($A76,2),BC$2))<>0),\"Closed\",\"Open\")","v":"Open"},{"$f":"IF((COUNTIF('HOLIDAYS NF'!$B:$DZ,CONCATENATE(LEFT($A76,2),BD$2))<>0),\"Closed\",\"Open\")","v":"Open"},{"$f":"IF((COUNTIF('HOLIDAYS NF'!$B:$DZ,CONCATENATE(LEFT($A76,2),BE$2))<>0),\"Closed\",\"Open\")","v":"Open"},{"$f":"IF((COUNTIF('HOLIDAYS NF'!$B:$DZ,CONCATENATE(LEFT($A76,2),BF$2))<>0),\"Closed\",\"Open\")","v":"Open"},{"$f":"IF((COUNTIF('HOLIDAYS NF'!$B:$DZ,CONCATENATE(LEFT($A76,2),BG$2))<>0),\"Closed\",\"Open\")","v":"Open"},{"$f":"IF((COUNTIF('HOLIDAYS NF'!$B:$DZ,CONCATENATE(LEFT($A76,2),BH$2))<>0),\"Closed\",\"Open\")","v":"Open"},{"$f":"IF((COUNTIF('HOLIDAYS NF'!$B:$DZ,CONCATENATE(LEFT($A76,2),BI$2))<>0),\"Closed\",\"Open\")","v":"Open"},{"$f":"IF((COUNTIF('HOLIDAYS NF'!$B:$DZ,CONCATENATE(LEFT($A76,2),BJ$2))<>0),\"Closed\",\"Open\")","v":"Open"}]
["VG",{"$f":"SUMIF(Holdings!G:G,(CONCATENATE($B$1,\"-\",A77,)),Holdings!H:H)","v":0},"Venezuela",{"$f":"IF((COUNTIF('HOLIDAYS NF'!$B:$DZ,CONCATENATE(LEFT($A77,2),D$2))<>0),\"Closed\",\"Open\")","v":"Open"},{"$f":"IF((COUNTIF('HOLIDAYS NF'!$B:$DZ,CONCATENATE(LEFT($A77,2),E$2))<>0),\"Closed\",\"Open\")","v":"Open"},{"$f":"IF((COUNTIF('HOLIDAYS NF'!$B:$DZ,CONCATENATE(LEFT($A77,2),F$2))<>0),\"Closed\",\"Open\")","v":"Open"},{"$f":"IF((COUNTIF('HOLIDAYS NF'!$B:$DZ,CONCATENATE(LEFT($A77,2),G$2))<>0),\"Closed\",\"Open\")","v":"Open"},{"$f":"IF((COUNTIF('HOLIDAYS NF'!$B:$DZ,CONCATENATE(LEFT($A77,2),H$2))<>0),\"Closed\",\"Open\")","v":"Open"},{"$f":"IF((COUNTIF('HOLIDAYS NF'!$B:$DZ,CONCATENATE(LEFT($A77,2),I$2))<>0),\"Closed\",\"Open\")","v":"Open"},{"$f":"IF((COUNTIF('HOLIDAYS NF'!$B:$DZ,CONCATENATE(LEFT($A77,2),J$2))<>0),\"Closed\",\"Open\")","v":"Open"},{"$f":"IF((COUNTIF('HOLIDAYS NF'!$B:$DZ,CONCATENATE(LEFT($A77,2),K$2))<>0),\"Closed\",\"Open\")","v":"Open"},{"$f":"IF((COUNTIF('HOLIDAYS NF'!$B:$DZ,CONCATENATE(LEFT($A77,2),L$2))<>0),\"Closed\",\"Open\")","v":"Open"},{"$f":"IF((COUNTIF('HOLIDAYS NF'!$B:$DZ,CONCATENATE(LEFT($A77,2),M$2))<>0),\"Closed\",\"Open\")","v":"Open"},{"$f":"IF((COUNTIF('HOLIDAYS NF'!$B:$DZ,CONCATENATE(LEFT($A77,2),N$2))<>0),\"Closed\",\"Open\")","v":"Open"},{"$f":"IF((COUNTIF('HOLIDAYS NF'!$B:$DZ,CONCATENATE(LEFT($A77,2),O$2))<>0),\"Closed\",\"Open\")","v":"Open"},{"$f":"IF((COUNTIF('HOLIDAYS NF'!$B:$DZ,CONCATENATE(LEFT($A77,2),P$2))<>0),\"Closed\",\"Open\")","v":"Open"},{"$f":"IF((COUNTIF('HOLIDAYS NF'!$B:$DZ,CONCATENATE(LEFT($A77,2),Q$2))<>0),\"Closed\",\"Open\")","v":"Open"},{"$f":"IF((COUNTIF('HOLIDAYS NF'!$B:$DZ,CONCATENATE(LEFT($A77,2),R$2))<>0),\"Closed\",\"Open\")","v":"Open"},{"$f":"IF((COUNTIF('HOLIDAYS NF'!$B:$DZ,CONCATENATE(LEFT($A77,2),S$2))<>0),\"Closed\",\"Open\")","v":"Open"},{"$f":"IF((COUNTIF('HOLIDAYS NF'!$B:$DZ,CONCATENATE(LEFT($A77,2),T$2))<>0),\"Closed\",\"Open\")","v":"Open"},{"$f":"IF((COUNTIF('HOLIDAYS NF'!$B:$DZ,CONCATENATE(LEFT($A77,2),U$2))<>0),\"Closed\",\"Open\")","v":"Open"},{"$f":"IF((COUNTIF('HOLIDAYS NF'!$B:$DZ,CONCATENATE(LEFT($A77,2),V$2))<>0),\"Closed\",\"Open\")","v":"Open"},{"$f":"IF((COUNTIF('HOLIDAYS NF'!$B:$DZ,CONCATENATE(LEFT($A77,2),W$2))<>0),\"Closed\",\"Open\")","v":"Open"},{"$f":"IF((COUNTIF('HOLIDAYS NF'!$B:$DZ,CONCATENATE(LEFT($A77,2),X$2))<>0),\"Closed\",\"Open\")","v":"Open"},{"$f":"IF((COUNTIF('HOLIDAYS NF'!$B:$DZ,CONCATENATE(LEFT($A77,2),Y$2))<>0),\"Closed\",\"Open\")","v":"Open"},{"$f":"IF((COUNTIF('HOLIDAYS NF'!$B:$DZ,CONCATENATE(LEFT($A77,2),Z$2))<>0),\"Closed\",\"Open\")","v":"Open"},{"$f":"IF((COUNTIF('HOLIDAYS NF'!$B:$DZ,CONCATENATE(LEFT($A77,2),AA$2))<>0),\"Closed\",\"Open\")","v":"Open"},{"$f":"IF((COUNTIF('HOLIDAYS NF'!$B:$DZ,CONCATENATE(LEFT($A77,2),AB$2))<>0),\"Closed\",\"Open\")","v":"Open"},{"$f":"IF((COUNTIF('HOLIDAYS NF'!$B:$DZ,CONCATENATE(LEFT($A77,2),AC$2))<>0),\"Closed\",\"Open\")","v":"Open"},{"$f":"IF((COUNTIF('HOLIDAYS NF'!$B:$DZ,CONCATENATE(LEFT($A77,2),AD$2))<>0),\"Closed\",\"Open\")","v":"Open"},{"$f":"IF((COUNTIF('HOLIDAYS NF'!$B:$DZ,CONCATENATE(LEFT($A77,2),AE$2))<>0),\"Closed\",\"Open\")","v":"Open"},{"$f":"IF((COUNTIF('HOLIDAYS NF'!$B:$DZ,CONCATENATE(LEFT($A77,2),AF$2))<>0),\"Closed\",\"Open\")","v":"Open"},{"$f":"IF((COUNTIF('HOLIDAYS NF'!$B:$DZ,CONCATENATE(LEFT($A77,2),AG$2))<>0),\"Closed\",\"Open\")","v":"Open"},{"$f":"IF((COUNTIF('HOLIDAYS NF'!$B:$DZ,CONCATENATE(LEFT($A77,2),AH$2))<>0),\"Closed\",\"Open\")","v":"Open"},{"$f":"IF((COUNTIF('HOLIDAYS NF'!$B:$DZ,CONCATENATE(LEFT($A77,2),AI$2))<>0),\"Closed\",\"Open\")","v":"Open"},{"$f":"IF((COUNTIF('HOLIDAYS NF'!$B:$DZ,CONCATENATE(LEFT($A77,2),AJ$2))<>0),\"Closed\",\"Open\")","v":"Open"},{"$f":"IF((COUNTIF('HOLIDAYS NF'!$B:$DZ,CONCATENATE(LEFT($A77,2),AK$2))<>0),\"Closed\",\"Open\")","v":"Open"},{"$f":"IF((COUNTIF('HOLIDAYS NF'!$B:$DZ,CONCATENATE(LEFT($A77,2),AL$2))<>0),\"Closed\",\"Open\")","v":"Open"},{"$f":"IF((COUNTIF('HOLIDAYS NF'!$B:$DZ,CONCATENATE(LEFT($A77,2),AM$2))<>0),\"Closed\",\"Open\")","v":"Open"},{"$f":"IF((COUNTIF('HOLIDAYS NF'!$B:$DZ,CONCATENATE(LEFT($A77,2),AN$2))<>0),\"Closed\",\"Open\")","v":"Open"},{"$f":"IF((COUNTIF('HOLIDAYS NF'!$B:$DZ,CONCATENATE(LEFT($A77,2),AO$2))<>0),\"Closed\",\"Open\")","v":"Open"},{"$f":"IF((COUNTIF('HOLIDAYS NF'!$B:$DZ,CONCATENATE(LEFT($A77,2),AP$2))<>0),\"Closed\",\"Open\")","v":"Open"},{"$f":"IF((COUNTIF('HOLIDAYS NF'!$B:$DZ,CONCATENATE(LEFT($A77,2),AQ$2))<>0),\"Closed\",\"Open\")","v":"Open"},{"$f":"IF((COUNTIF('HOLIDAYS NF'!$B:$DZ,CONCATENATE(LEFT($A77,2),AR$2))<>0),\"Closed\",\"Open\")","v":"Open"},{"$f":"IF((COUNTIF('HOLIDAYS NF'!$B:$DZ,CONCATENATE(LEFT($A77,2),AS$2))<>0),\"Closed\",\"Open\")","v":"Open"},{"$f":"IF((COUNTIF('HOLIDAYS NF'!$B:$DZ,CONCATENATE(LEFT($A77,2),AT$2))<>0),\"Closed\",\"Open\")","v":"Open"},{"$f":"IF((COUNTIF('HOLIDAYS NF'!$B:$DZ,CONCATENATE(LEFT($A77,2),AU$2))<>0),\"Closed\",\"Open\")","v":"Open"},{"$f":"IF((COUNTIF('HOLIDAYS NF'!$B:$DZ,CONCATENATE(LEFT($A77,2),AV$2))<>0),\"Closed\",\"Open\")","v":"Open"},{"$f":"IF((COUNTIF('HOLIDAYS NF'!$B:$DZ,CONCATENATE(LEFT($A77,2),AW$2))<>0),\"Closed\",\"Open\")","v":"Open"},{"$f":"IF((COUNTIF('HOLIDAYS NF'!$B:$DZ,CONCATENATE(LEFT($A77,2),AX$2))<>0),\"Closed\",\"Open\")","v":"Open"},{"$f":"IF((COUNTIF('HOLIDAYS NF'!$B:$DZ,CONCATENATE(LEFT($A77,2),AY$2))<>0),\"Closed\",\"Open\")","v":"Open"},{"$f":"IF((COUNTIF('HOLIDAYS NF'!$B:$DZ,CONCATENATE(LEFT($A77,2),AZ$2))<>0),\"Closed\",\"Open\")","v":"Open"},{"$f":"IF((COUNTIF('HOLIDAYS NF'!$B:$DZ,CONCATENATE(LEFT($A77,2),BA$2))<>0),\"Closed\",\"Open\")","v":"Open"},{"$f":"IF((COUNTIF('HOLIDAYS NF'!$B:$DZ,CONCATENATE(LEFT($A77,2),BB$2))<>0),\"Closed\",\"Open\")","v":"Open"},{"$f":"IF((COUNTIF('HOLIDAYS NF'!$B:$DZ,CONCATENATE(LEFT($A77,2),BC$2))<>0),\"Closed\",\"Open\")","v":"Open"},{"$f":"IF((COUNTIF('HOLIDAYS NF'!$B:$DZ,CONCATENATE(LEFT($A77,2),BD$2))<>0),\"Closed\",\"Open\")","v":"Open"},{"$f":"IF((COUNTIF('HOLIDAYS NF'!$B:$DZ,CONCATENATE(LEFT($A77,2),BE$2))<>0),\"Closed\",\"Open\")","v":"Open"},{"$f":"IF((COUNTIF('HOLIDAYS NF'!$B:$DZ,CONCATENATE(LEFT($A77,2),BF$2))<>0),\"Closed\",\"Open\")","v":"Open"},{"$f":"IF((COUNTIF('HOLIDAYS NF'!$B:$DZ,CONCATENATE(LEFT($A77,2),BG$2))<>0),\"Closed\",\"Open\")","v":"Open"},{"$f":"IF((COUNTIF('HOLIDAYS NF'!$B:$DZ,CONCATENATE(LEFT($A77,2),BH$2))<>0),\"Closed\",\"Open\")","v":"Open"},{"$f":"IF((COUNTIF('HOLIDAYS NF'!$B:$DZ,CONCATENATE(LEFT($A77,2),BI$2))<>0),\"Closed\",\"Open\")","v":"Open"},{"$f":"IF((COUNTIF('HOLIDAYS NF'!$B:$DZ,CONCATENATE(LEFT($A77,2),BJ$2))<>0),\"Closed\",\"Open\")","v":"Open"}]
["AO",{"$f":"SUMIF(Holdings!G:G,(CONCATENATE($B$1,\"-\",A78,)),Holdings!H:H)","v":0},"Angola",{"$f":"IF((COUNTIF('HOLIDAYS NF'!$B:$DZ,CONCATENATE(LEFT($A78,2),D$2))<>0),\"Closed\",\"Open\")","v":"Open"},{"$f":"IF((COUNTIF('HOLIDAYS NF'!$B:$DZ,CONCATENATE(LEFT($A78,2),E$2))<>0),\"Closed\",\"Open\")","v":"Open"},{"$f":"IF((COUNTIF('HOLIDAYS NF'!$B:$DZ,CONCATENATE(LEFT($A78,2),F$2))<>0),\"Closed\",\"Open\")","v":"Open"},{"$f":"IF((COUNTIF('HOLIDAYS NF'!$B:$DZ,CONCATENATE(LEFT($A78,2),G$2))<>0),\"Closed\",\"Open\")","v":"Open"},{"$f":"IF((COUNTIF('HOLIDAYS NF'!$B:$DZ,CONCATENATE(LEFT($A78,2),H$2))<>0),\"Closed\",\"Open\")","v":"Open"},{"$f":"IF((COUNTIF('HOLIDAYS NF'!$B:$DZ,CONCATENATE(LEFT($A78,2),I$2))<>0),\"Closed\",\"Open\")","v":"Open"},{"$f":"IF((COUNTIF('HOLIDAYS NF'!$B:$DZ,CONCATENATE(LEFT($A78,2),J$2))<>0),\"Closed\",\"Open\")","v":"Open"},{"$f":"IF((COUNTIF('HOLIDAYS NF'!$B:$DZ,CONCATENATE(LEFT($A78,2),K$2))<>0),\"Closed\",\"Open\")","v":"Open"},{"$f":"IF((COUNTIF('HOLIDAYS NF'!$B:$DZ,CONCATENATE(LEFT($A78,2),L$2))<>0),\"Closed\",\"Open\")","v":"Open"},{"$f":"IF((COUNTIF('HOLIDAYS NF'!$B:$DZ,CONCATENATE(LEFT($A78,2),M$2))<>0),\"Closed\",\"Open\")","v":"Open"},{"$f":"IF((COUNTIF('HOLIDAYS NF'!$B:$DZ,CONCATENATE(LEFT($A78,2),N$2))<>0),\"Closed\",\"Open\")","v":"Open"},{"$f":"IF((COUNTIF('HOLIDAYS NF'!$B:$DZ,CONCATENATE(LEFT($A78,2),O$2))<>0),\"Closed\",\"Open\")","v":"Open"},{"$f":"IF((COUNTIF('HOLIDAYS NF'!$B:$DZ,CONCATENATE(LEFT($A78,2),P$2))<>0),\"Closed\",\"Open\")","v":"Open"},{"$f":"IF((COUNTIF('HOLIDAYS NF'!$B:$DZ,CONCATENATE(LEFT($A78,2),Q$2))<>0),\"Closed\",\"Open\")","v":"Open"},{"$f":"IF((COUNTIF('HOLIDAYS NF'!$B:$DZ,CONCATENATE(LEFT($A78,2),R$2))<>0),\"Closed\",\"Open\")","v":"Open"},{"$f":"IF((COUNTIF('HOLIDAYS NF'!$B:$DZ,CONCATENATE(LEFT($A78,2),S$2))<>0),\"Closed\",\"Open\")","v":"Open"},{"$f":"IF((COUNTIF('HOLIDAYS NF'!$B:$DZ,CONCATENATE(LEFT($A78,2),T$2))<>0),\"Closed\",\"Open\")","v":"Open"},{"$f":"IF((COUNTIF('HOLIDAYS NF'!$B:$DZ,CONCATENATE(LEFT($A78,2),U$2))<>0),\"Closed\",\"Open\")","v":"Open"},{"$f":"IF((COUNTIF('HOLIDAYS NF'!$B:$DZ,CONCATENATE(LEFT($A78,2),V$2))<>0),\"Closed\",\"Open\")","v":"Open"},{"$f":"IF((COUNTIF('HOLIDAYS NF'!$B:$DZ,CONCATENATE(LEFT($A78,2),W$2))<>0),\"Closed\",\"Open\")","v":"Open"},{"$f":"IF((COUNTIF('HOLIDAYS NF'!$B:$DZ,CONCATENATE(LEFT($A78,2),X$2))<>0),\"Closed\",\"Open\")","v":"Open"},{"$f":"IF((COUNTIF('HOLIDAYS NF'!$B:$DZ,CONCATENATE(LEFT($A78,2),Y$2))<>0),\"Closed\",\"Open\")","v":"Open"},{"$f":"IF((COUNTIF('HOLIDAYS NF'!$B:$DZ,CONCATENATE(LEFT($A78,2),Z$2))<>0),\"Closed\",\"Open\")","v":"Open"},{"$f":"IF((COUNTIF('HOLIDAYS NF'!$B:$DZ,CONCATENATE(LEFT($A78,2),AA$2))<>0),\"Closed\",\"Open\")","v":"Open"},{"$f":"IF((COUNTIF('HOLIDAYS NF'!$B:$DZ,CONCATENATE(LEFT($A78,2),AB$2))<>0),\"Closed\",\"Open\")","v":"Open"},{"$f":"IF((COUNTIF('HOLIDAYS NF'!$B:$DZ,CONCATENATE(LEFT($A78,2),AC$2))<>0),\"Closed\",\"Open\")","v":"Open"},{"$f":"IF((COUNTIF('HOLIDAYS NF'!$B:$DZ,CONCATENATE(LEFT($A78,2),AD$2))<>0),\"Closed\",\"Open\")","v":"Open"},{"$f":"IF((COUNTIF('HOLIDAYS NF'!$B:$DZ,CONCATENATE(LEFT($A78,2),AE$2))<>0),\"Closed\",\"Open\")","v":"Open"},{"$f":"IF((COUNTIF('HOLIDAYS NF'!$B:$DZ,CONCATENATE(LEFT($A78,2),AF$2))<>0),\"Closed\",\"Open\")","v":"Open"},{"$f":"IF((COUNTIF('HOLIDAYS NF'!$B:$DZ,CONCATENATE(LEFT($A78,2),AG$2))<>0),\"Closed\",\"Open\")","v":"Open"},{"$f":"IF((COUNTIF('HOLIDAYS NF'!$B:$DZ,CONCATENATE(LEFT($A78,2),AH$2))<>0),\"Closed\",\"Open\")","v":"Open"},{"$f":"IF((COUNTIF('HOLIDAYS NF'!$B:$DZ,CONCATENATE(LEFT($A78,2),AI$2))<>0),\"Closed\",\"Open\")","v":"Open"},{"$f":"IF((COUNTIF('HOLIDAYS NF'!$B:$DZ,CONCATENATE(LEFT($A78,2),AJ$2))<>0),\"Closed\",\"Open\")","v":"Open"},{"$f":"IF((COUNTIF('HOLIDAYS NF'!$B:$DZ,CONCATENATE(LEFT($A78,2),AK$2))<>0),\"Closed\",\"Open\")","v":"Open"},{"$f":"IF((COUNTIF('HOLIDAYS NF'!$B:$DZ,CONCATENATE(LEFT($A78,2),AL$2))<>0),\"Closed\",\"Open\")","v":"Open"},{"$f":"IF((COUNTIF('HOLIDAYS NF'!$B:$DZ,CONCATENATE(LEFT($A78,2),AM$2))<>0),\"Closed\",\"Open\")","v":"Open"},{"$f":"IF((COUNTIF('HOLIDAYS NF'!$B:$DZ,CONCATENATE(LEFT($A78,2),AN$2))<>0),\"Closed\",\"Open\")","v":"Open"},{"$f":"IF((COUNTIF('HOLIDAYS NF'!$B:$DZ,CONCATENATE(LEFT($A78,2),AO$2))<>0),\"Closed\",\"Open\")","v":"Open"},{"$f":"IF((COUNTIF('HOLIDAYS NF'!$B:$DZ,CONCATENATE(LEFT($A78,2),AP$2))<>0),\"Closed\",\"Open\")","v":"Open"},{"$f":"IF((COUNTIF('HOLIDAYS NF'!$B:$DZ,CONCATENATE(LEFT($A78,2),AQ$2))<>0),\"Closed\",\"Open\")","v":"Open"},{"$f":"IF((COUNTIF('HOLIDAYS NF'!$B:$DZ,CONCATENATE(LEFT($A78,2),AR$2))<>0),\"Closed\",\"Open\")","v":"Open"},{"$f":"IF((COUNTIF('HOLIDAYS NF'!$B:$DZ,CONCATENATE(LEFT($A78,2),AS$2))<>0),\"Closed\",\"Open\")","v":"Open"},{"$f":"IF((COUNTIF('HOLIDAYS NF'!$B:$DZ,CONCATENATE(LEFT($A78,2),AT$2))<>0),\"Closed\",\"Open\")","v":"Open"},{"$f":"IF((COUNTIF('HOLIDAYS NF'!$B:$DZ,CONCATENATE(LEFT($A78,2),AU$2))<>0),\"Closed\",\"Open\")","v":"Open"},{"$f":"IF((COUNTIF('HOLIDAYS NF'!$B:$DZ,CONCATENATE(LEFT($A78,2),AV$2))<>0),\"Closed\",\"Open\")","v":"Open"},{"$f":"IF((COUNTIF('HOLIDAYS NF'!$B:$DZ,CONCATENATE(LEFT($A78,2),AW$2))<>0),\"Closed\",\"Open\")","v":"Open"},{"$f":"IF((COUNTIF('HOLIDAYS NF'!$B:$DZ,CONCATENATE(LEFT($A78,2),AX$2))<>0),\"Closed\",\"Open\")","v":"Open"},{"$f":"IF((COUNTIF('HOLIDAYS NF'!$B:$DZ,CONCATENATE(LEFT($A78,2),AY$2))<>0),\"Closed\",\"Open\")","v":"Open"},{"$f":"IF((COUNTIF('HOLIDAYS NF'!$B:$DZ,CONCATENATE(LEFT($A78,2),AZ$2))<>0),\"Closed\",\"Open\")","v":"Open"},{"$f":"IF((COUNTIF('HOLIDAYS NF'!$B:$DZ,CONCATENATE(LEFT($A78,2),BA$2))<>0),\"Closed\",\"Open\")","v":"Open"},{"$f":"IF((COUNTIF('HOLIDAYS NF'!$B:$DZ,CONCATENATE(LEFT($A78,2),BB$2))<>0),\"Closed\",\"Open\")","v":"Open"},{"$f":"IF((COUNTIF('HOLIDAYS NF'!$B:$DZ,CONCATENATE(LEFT($A78,2),BC$2))<>0),\"Closed\",\"Open\")","v":"Open"},{"$f":"IF((COUNTIF('HOLIDAYS NF'!$B:$DZ,CONCATENATE(LEFT($A78,2),BD$2))<>0),\"Closed\",\"Open\")","v":"Open"},{"$f":"IF((COUNTIF('HOLIDAYS NF'!$B:$DZ,CONCATENATE(LEFT($A78,2),BE$2))<>0),\"Closed\",\"Open\")","v":"Open"},{"$f":"IF((COUNTIF('HOLIDAYS NF'!$B:$DZ,CONCATENATE(LEFT($A78,2),BF$2))<>0),\"Closed\",\"Open\")","v":"Open"},{"$f":"IF((COUNTIF('HOLIDAYS NF'!$B:$DZ,CONCATENATE(LEFT($A78,2),BG$2))<>0),\"Closed\",\"Open\")","v":"Open"},{"$f":"IF((COUNTIF('HOLIDAYS NF'!$B:$DZ,CONCATENATE(LEFT($A78,2),BH$2))<>0),\"Closed\",\"Open\")","v":"Open"},{"$f":"IF((COUNTIF('HOLIDAYS NF'!$B:$DZ,CONCATENATE(LEFT($A78,2),BI$2))<>0),\"Closed\",\"Open\")","v":"Open"},{"$f":"IF((COUNTIF('HOLIDAYS NF'!$B:$DZ,CONCATENATE(LEFT($A78,2),BJ$2))<>0),\"Closed\",\"Open\")","v":"Open"}]
["AZ",{"$f":"SUMIF(Holdings!G:G,(CONCATENATE($B$1,\"-\",A79,)),Holdings!H:H)","v":0},"Azerbaijan",{"$f":"IF((COUNTIF('HOLIDAYS NF'!$B:$DZ,CONCATENATE(LEFT($A79,2),D$2))<>0),\"Closed\",\"Open\")","v":"Open"},{"$f":"IF((COUNTIF('HOLIDAYS NF'!$B:$DZ,CONCATENATE(LEFT($A79,2),E$2))<>0),\"Closed\",\"Open\")","v":"Open"},{"$f":"IF((COUNTIF('HOLIDAYS NF'!$B:$DZ,CONCATENATE(LEFT($A79,2),F$2))<>0),\"Closed\",\"Open\")","v":"Open"},{"$f":"IF((COUNTIF('HOLIDAYS NF'!$B:$DZ,CONCATENATE(LEFT($A79,2),G$2))<>0),\"Closed\",\"Open\")","v":"Open"},{"$f":"IF((COUNTIF('HOLIDAYS NF'!$B:$DZ,CONCATENATE(LEFT($A79,2),H$2))<>0),\"Closed\",\"Open\")","v":"Open"},{"$f":"IF((COUNTIF('HOLIDAYS NF'!$B:$DZ,CONCATENATE(LEFT($A79,2),I$2))<>0),\"Closed\",\"Open\")","v":"Open"},{"$f":"IF((COUNTIF('HOLIDAYS NF'!$B:$DZ,CONCATENATE(LEFT($A79,2),J$2))<>0),\"Closed\",\"Open\")","v":"Open"},{"$f":"IF((COUNTIF('HOLIDAYS NF'!$B:$DZ,CONCATENATE(LEFT($A79,2),K$2))<>0),\"Closed\",\"Open\")","v":"Open"},{"$f":"IF((COUNTIF('HOLIDAYS NF'!$B:$DZ,CONCATENATE(LEFT($A79,2),L$2))<>0),\"Closed\",\"Open\")","v":"Open"},{"$f":"IF((COUNTIF('HOLIDAYS NF'!$B:$DZ,CONCATENATE(LEFT($A79,2),M$2))<>0),\"Closed\",\"Open\")","v":"Open"},{"$f":"IF((COUNTIF('HOLIDAYS NF'!$B:$DZ,CONCATENATE(LEFT($A79,2),N$2))<>0),\"Closed\",\"Open\")","v":"Open"},{"$f":"IF((COUNTIF('HOLIDAYS NF'!$B:$DZ,CONCATENATE(LEFT($A79,2),O$2))<>0),\"Closed\",\"Open\")","v":"Open"},{"$f":"IF((COUNTIF('HOLIDAYS NF'!$B:$DZ,CONCATENATE(LEFT($A79,2),P$2))<>0),\"Closed\",\"Open\")","v":"Open"},{"$f":"IF((COUNTIF('HOLIDAYS NF'!$B:$DZ,CONCATENATE(LEFT($A79,2),Q$2))<>0),\"Closed\",\"Open\")","v":"Open"},{"$f":"IF((COUNTIF('HOLIDAYS NF'!$B:$DZ,CONCATENATE(LEFT($A79,2),R$2))<>0),\"Closed\",\"Open\")","v":"Open"},{"$f":"IF((COUNTIF('HOLIDAYS NF'!$B:$DZ,CONCATENATE(LEFT($A79,2),S$2))<>0),\"Closed\",\"Open\")","v":"Open"},{"$f":"IF((COUNTIF('HOLIDAYS NF'!$B:$DZ,CONCATENATE(LEFT($A79,2),T$2))<>0),\"Closed\",\"Open\")","v":"Open"},{"$f":"IF((COUNTIF('HOLIDAYS NF'!$B:$DZ,CONCATENATE(LEFT($A79,2),U$2))<>0),\"Closed\",\"Open\")","v":"Open"},{"$f":"IF((COUNTIF('HOLIDAYS NF'!$B:$DZ,CONCATENATE(LEFT($A79,2),V$2))<>0),\"Closed\",\"Open\")","v":"Open"},{"$f":"IF((COUNTIF('HOLIDAYS NF'!$B:$DZ,CONCATENATE(LEFT($A79,2),W$2))<>0),\"Closed\",\"Open\")","v":"Open"},{"$f":"IF((COUNTIF('HOLIDAYS NF'!$B:$DZ,CONCATENATE(LEFT($A79,2),X$2))<>0),\"Closed\",\"Open\")","v":"Open"},{"$f":"IF((COUNTIF('HOLIDAYS NF'!$B:$DZ,CONCATENATE(LEFT($A79,2),Y$2))<>0),\"Closed\",\"Open\")","v":"Open"},{"$f":"IF((COUNTIF('HOLIDAYS NF'!$B:$DZ,CONCATENATE(LEFT($A79,2),Z$2))<>0),\"Closed\",\"Open\")","v":"Open"},{"$f":"IF((COUNTIF('HOLIDAYS NF'!$B:$DZ,CONCATENATE(LEFT($A79,2),AA$2))<>0),\"Closed\",\"Open\")","v":"Open"},{"$f":"IF((COUNTIF('HOLIDAYS NF'!$B:$DZ,CONCATENATE(LEFT($A79,2),AB$2))<>0),\"Closed\",\"Open\")","v":"Open"},{"$f":"IF((COUNTIF('HOLIDAYS NF'!$B:$DZ,CONCATENATE(LEFT($A79,2),AC$2))<>0),\"Closed\",\"Open\")","v":"Open"},{"$f":"IF((COUNTIF('HOLIDAYS NF'!$B:$DZ,CONCATENATE(LEFT($A79,2),AD$2))<>0),\"Closed\",\"Open\")","v":"Open"},{"$f":"IF((COUNTIF('HOLIDAYS NF'!$B:$DZ,CONCATENATE(LEFT($A79,2),AE$2))<>0),\"Closed\",\"Open\")","v":"Open"},{"$f":"IF((COUNTIF('HOLIDAYS NF'!$B:$DZ,CONCATENATE(LEFT($A79,2),AF$2))<>0),\"Closed\",\"Open\")","v":"Open"},{"$f":"IF((COUNTIF('HOLIDAYS NF'!$B:$DZ,CONCATENATE(LEFT($A79,2),AG$2))<>0),\"Closed\",\"Open\")","v":"Open"},{"$f":"IF((COUNTIF('HOLIDAYS NF'!$B:$DZ,CONCATENATE(LEFT($A79,2),AH$2))<>0),\"Closed\",\"Open\")","v":"Open"},{"$f":"IF((COUNTIF('HOLIDAYS NF'!$B:$DZ,CONCATENATE(LEFT($A79,2),AI$2))<>0),\"Closed\",\"Open\")","v":"Open"},{"$f":"IF((COUNTIF('HOLIDAYS NF'!$B:$DZ,CONCATENATE(LEFT($A79,2),AJ$2))<>0),\"Closed\",\"Open\")","v":"Open"},{"$f":"IF((COUNTIF('HOLIDAYS NF'!$B:$DZ,CONCATENATE(LEFT($A79,2),AK$2))<>0),\"Closed\",\"Open\")","v":"Open"},{"$f":"IF((COUNTIF('HOLIDAYS NF'!$B:$DZ,CONCATENATE(LEFT($A79,2),AL$2))<>0),\"Closed\",\"Open\")","v":"Open"},{"$f":"IF((COUNTIF('HOLIDAYS NF'!$B:$DZ,CONCATENATE(LEFT($A79,2),AM$2))<>0),\"Closed\",\"Open\")","v":"Open"},{"$f":"IF((COUNTIF('HOLIDAYS NF'!$B:$DZ,CONCATENATE(LEFT($A79,2),AN$2))<>0),\"Closed\",\"Open\")","v":"Open"},{"$f":"IF((COUNTIF('HOLIDAYS NF'!$B:$DZ,CONCATENATE(LEFT($A79,2),AO$2))<>0),\"Closed\",\"Open\")","v":"Open"},{"$f":"IF((COUNTIF('HOLIDAYS NF'!$B:$DZ,CONCATENATE(LEFT($A79,2),AP$2))<>0),\"Closed\",\"Open\")","v":"Open"},{"$f":"IF((COUNTIF('HOLIDAYS NF'!$B:$DZ,CONCATENATE(LEFT($A79,2),AQ$2))<>0),\"Closed\",\"Open\")","v":"Open"},{"$f":"IF((COUNTIF('HOLIDAYS NF'!$B:$DZ,CONCATENATE(LEFT($A79,2),AR$2))<>0),\"Closed\",\"Open\")","v":"Open"},{"$f":"IF((COUNTIF('HOLIDAYS NF'!$B:$DZ,CONCATENATE(LEFT($A79,2),AS$2))<>0),\"Closed\",\"Open\")","v":"Open"},{"$f":"IF((COUNTIF('HOLIDAYS NF'!$B:$DZ,CONCATENATE(LEFT($A79,2),AT$2))<>0),\"Closed\",\"Open\")","v":"Open"},{"$f":"IF((COUNTIF('HOLIDAYS NF'!$B:$DZ,CONCATENATE(LEFT($A79,2),AU$2))<>0),\"Closed\",\"Open\")","v":"Open"},{"$f":"IF((COUNTIF('HOLIDAYS NF'!$B:$DZ,CONCATENATE(LEFT($A79,2),AV$2))<>0),\"Closed\",\"Open\")","v":"Open"},{"$f":"IF((COUNTIF('HOLIDAYS NF'!$B:$DZ,CONCATENATE(LEFT($A79,2),AW$2))<>0),\"Closed\",\"Open\")","v":"Open"},{"$f":"IF((COUNTIF('HOLIDAYS NF'!$B:$DZ,CONCATENATE(LEFT($A79,2),AX$2))<>0),\"Closed\",\"Open\")","v":"Open"},{"$f":"IF((COUNTIF('HOLIDAYS NF'!$B:$DZ,CONCATENATE(LEFT($A79,2),AY$2))<>0),\"Closed\",\"Open\")","v":"Open"},{"$f":"IF((COUNTIF('HOLIDAYS NF'!$B:$DZ,CONCATENATE(LEFT($A79,2),AZ$2))<>0),\"Closed\",\"Open\")","v":"Open"},{"$f":"IF((COUNTIF('HOLIDAYS NF'!$B:$DZ,CONCATENATE(LEFT($A79,2),BA$2))<>0),\"Closed\",\"Open\")","v":"Open"},{"$f":"IF((COUNTIF('HOLIDAYS NF'!$B:$DZ,CONCATENATE(LEFT($A79,2),BB$2))<>0),\"Closed\",\"Open\")","v":"Open"},{"$f":"IF((COUNTIF('HOLIDAYS NF'!$B:$DZ,CONCATENATE(LEFT($A79,2),BC$2))<>0),\"Closed\",\"Open\")","v":"Open"},{"$f":"IF((COUNTIF('HOLIDAYS NF'!$B:$DZ,CONCATENATE(LEFT($A79,2),BD$2))<>0),\"Closed\",\"Open\")","v":"Open"},{"$f":"IF((COUNTIF('HOLIDAYS NF'!$B:$DZ,CONCATENATE(LEFT($A79,2),BE$2))<>0),\"Closed\",\"Open\")","v":"Open"},{"$f":"IF((COUNTIF('HOLIDAYS NF'!$B:$DZ,CONCATENATE(LEFT($A79,2),BF$2))<>0),\"Closed\",\"Open\")","v":"Open"},{"$f":"IF((COUNTIF('HOLIDAYS NF'!$B:$DZ,CONCATENATE(LEFT($A79,2),BG$2))<>0),\"Closed\",\"Open\")","v":"Open"},{"$f":"IF((COUNTIF('HOLIDAYS NF'!$B:$DZ,CONCATENATE(LEFT($A79,2),BH$2))<>0),\"Closed\",\"Open\")","v":"Open"},{"$f":"IF((COUNTIF('HOLIDAYS NF'!$B:$DZ,CONCATENATE(LEFT($A79,2),BI$2))<>0),\"Closed\",\"Open\")","v":"Open"},{"$f":"IF((COUNTIF('HOLIDAYS NF'!$B:$DZ,CONCATENATE(LEFT($A79,2),BJ$2))<>0),\"Closed\",\"Open\")","v":"Open"}]
["EC",{"$f":"SUMIF(Holdings!G:G,(CONCATENATE($B$1,\"-\",A80,)),Holdings!H:H)","v":0},"Ecuador",{"$f":"IF((COUNTIF('HOLIDAYS NF'!$B:$DZ,CONCATENATE(LEFT($A80,2),D$2))<>0),\"Closed\",\"Open\")","v":"Open"},{"$f":"IF((COUNTIF('HOLIDAYS NF'!$B:$DZ,CONCATENATE(LEFT($A80,2),E$2))<>0),\"Closed\",\"Open\")","v":"Open"},{"$f":"IF((COUNTIF('HOLIDAYS NF'!$B:$DZ,CONCATENATE(LEFT($A80,2),F$2))<>0),\"Closed\",\"Open\")","v":"Open"},{"$f":"IF((COUNTIF('HOLIDAYS NF'!$B:$DZ,CONCATENATE(LEFT($A80,2),G$2))<>0),\"Closed\",\"Open\")","v":"Open"},{"$f":"IF((COUNTIF('HOLIDAYS NF'!$B:$DZ,CONCATENATE(LEFT($A80,2),H$2))<>0),\"Closed\",\"Open\")","v":"Open"},{"$f":"IF((COUNTIF('HOLIDAYS NF'!$B:$DZ,CONCATENATE(LEFT($A80,2),I$2))<>0),\"Closed\",\"Open\")","v":"Open"},{"$f":"IF((COUNTIF('HOLIDAYS NF'!$B:$DZ,CONCATENATE(LEFT($A80,2),J$2))<>0),\"Closed\",\"Open\")","v":"Open"},{"$f":"IF((COUNTIF('HOLIDAYS NF'!$B:$DZ,CONCATENATE(LEFT($A80,2),K$2))<>0),\"Closed\",\"Open\")","v":"Open"},{"$f":"IF((COUNTIF('HOLIDAYS NF'!$B:$DZ,CONCATENATE(LEFT($A80,2),L$2))<>0),\"Closed\",\"Open\")","v":"Open"},{"$f":"IF((COUNTIF('HOLIDAYS NF'!$B:$DZ,CONCATENATE(LEFT($A80,2),M$2))<>0),\"Closed\",\"Open\")","v":"Open"},{"$f":"IF((COUNTIF('HOLIDAYS NF'!$B:$DZ,CONCATENATE(LEFT($A80,2),N$2))<>0),\"Closed\",\"Open\")","v":"Open"},{"$f":"IF((COUNTIF('HOLIDAYS NF'!$B:$DZ,CONCATENATE(LEFT($A80,2),O$2))<>0),\"Closed\",\"Open\")","v":"Open"},{"$f":"IF((COUNTIF('HOLIDAYS NF'!$B:$DZ,CONCATENATE(LEFT($A80,2),P$2))<>0),\"Closed\",\"Open\")","v":"Open"},{"$f":"IF((COUNTIF('HOLIDAYS NF'!$B:$DZ,CONCATENATE(LEFT($A80,2),Q$2))<>0),\"Closed\",\"Open\")","v":"Open"},{"$f":"IF((COUNTIF('HOLIDAYS NF'!$B:$DZ,CONCATENATE(LEFT($A80,2),R$2))<>0),\"Closed\",\"Open\")","v":"Open"},{"$f":"IF((COUNTIF('HOLIDAYS NF'!$B:$DZ,CONCATENATE(LEFT($A80,2),S$2))<>0),\"Closed\",\"Open\")","v":"Open"},{"$f":"IF((COUNTIF('HOLIDAYS NF'!$B:$DZ,CONCATENATE(LEFT($A80,2),T$2))<>0),\"Closed\",\"Open\")","v":"Open"},{"$f":"IF((COUNTIF('HOLIDAYS NF'!$B:$DZ,CONCATENATE(LEFT($A80,2),U$2))<>0),\"Closed\",\"Open\")","v":"Open"},{"$f":"IF((COUNTIF('HOLIDAYS NF'!$B:$DZ,CONCATENATE(LEFT($A80,2),V$2))<>0),\"Closed\",\"Open\")","v":"Open"},{"$f":"IF((COUNTIF('HOLIDAYS NF'!$B:$DZ,CONCATENATE(LEFT($A80,2),W$2))<>0),\"Closed\",\"Open\")","v":"Open"},{"$f":"IF((COUNTIF('HOLIDAYS NF'!$B:$DZ,CONCATENATE(LEFT($A80,2),X$2))<>0),\"Closed\",\"Open\")","v":"Open"},{"$f":"IF((COUNTIF('HOLIDAYS NF'!$B:$DZ,CONCATENATE(LEFT($A80,2),Y$2))<>0),\"Closed\",\"Open\")","v":"Open"},{"$f":"IF((COUNTIF('HOLIDAYS NF'!$B:$DZ,CONCATENATE(LEFT($A80,2),Z$2))<>0),\"Closed\",\"Open\")","v":"Open"},{"$f":"IF((COUNTIF('HOLIDAYS NF'!$B:$DZ,CONCATENATE(LEFT($A80,2),AA$2))<>0),\"Closed\",\"Open\")","v":"Open"},{"$f":"IF((COUNTIF('HOLIDAYS NF'!$B:$DZ,CONCATENATE(LEFT($A80,2),AB$2))<>0),\"Closed\",\"Open\")","v":"Open"},{"$f":"IF((COUNTIF('HOLIDAYS NF'!$B:$DZ,CONCATENATE(LEFT($A80,2),AC$2))<>0),\"Closed\",\"Open\")","v":"Open"},{"$f":"IF((COUNTIF('HOLIDAYS NF'!$B:$DZ,CONCATENATE(LEFT($A80,2),AD$2))<>0),\"Closed\",\"Open\")","v":"Open"},{"$f":"IF((COUNTIF('HOLIDAYS NF'!$B:$DZ,CONCATENATE(LEFT($A80,2),AE$2))<>0),\"Closed\",\"Open\")","v":"Open"},{"$f":"IF((COUNTIF('HOLIDAYS NF'!$B:$DZ,CONCATENATE(LEFT($A80,2),AF$2))<>0),\"Closed\",\"Open\")","v":"Open"},{"$f":"IF((COUNTIF('HOLIDAYS NF'!$B:$DZ,CONCATENATE(LEFT($A80,2),AG$2))<>0),\"Closed\",\"Open\")","v":"Open"},{"$f":"IF((COUNTIF('HOLIDAYS NF'!$B:$DZ,CONCATENATE(LEFT($A80,2),AH$2))<>0),\"Closed\",\"Open\")","v":"Open"},{"$f":"IF((COUNTIF('HOLIDAYS NF'!$B:$DZ,CONCATENATE(LEFT($A80,2),AI$2))<>0),\"Closed\",\"Open\")","v":"Open"},{"$f":"IF((COUNTIF('HOLIDAYS NF'!$B:$DZ,CONCATENATE(LEFT($A80,2),AJ$2))<>0),\"Closed\",\"Open\")","v":"Open"},{"$f":"IF((COUNTIF('HOLIDAYS NF'!$B:$DZ,CONCATENATE(LEFT($A80,2),AK$2))<>0),\"Closed\",\"Open\")","v":"Open"},{"$f":"IF((COUNTIF('HOLIDAYS NF'!$B:$DZ,CONCATENATE(LEFT($A80,2),AL$2))<>0),\"Closed\",\"Open\")","v":"Open"},{"$f":"IF((COUNTIF('HOLIDAYS NF'!$B:$DZ,CONCATENATE(LEFT($A80,2),AM$2))<>0),\"Closed\",\"Open\")","v":"Open"},{"$f":"IF((COUNTIF('HOLIDAYS NF'!$B:$DZ,CONCATENATE(LEFT($A80,2),AN$2))<>0),\"Closed\",\"Open\")","v":"Open"},{"$f":"IF((COUNTIF('HOLIDAYS NF'!$B:$DZ,CONCATENATE(LEFT($A80,2),AO$2))<>0),\"Closed\",\"Open\")","v":"Open"},{"$f":"IF((COUNTIF('HOLIDAYS NF'!$B:$DZ,CONCATENATE(LEFT($A80,2),AP$2))<>0),\"Closed\",\"Open\")","v":"Open"},{"$f":"IF((COUNTIF('HOLIDAYS NF'!$B:$DZ,CONCATENATE(LEFT($A80,2),AQ$2))<>0),\"Closed\",\"Open\")","v":"Open"},{"$f":"IF((COUNTIF('HOLIDAYS NF'!$B:$DZ,CONCATENATE(LEFT($A80,2),AR$2))<>0),\"Closed\",\"Open\")","v":"Open"},{"$f":"IF((COUNTIF('HOLIDAYS NF'!$B:$DZ,CONCATENATE(LEFT($A80,2),AS$2))<>0),\"Closed\",\"Open\")","v":"Open"},{"$f":"IF((COUNTIF('HOLIDAYS NF'!$B:$DZ,CONCATENATE(LEFT($A80,2),AT$2))<>0),\"Closed\",\"Open\")","v":"Open"},{"$f":"IF((COUNTIF('HOLIDAYS NF'!$B:$DZ,CONCATENATE(LEFT($A80,2),AU$2))<>0),\"Closed\",\"Open\")","v":"Open"},{"$f":"IF((COUNTIF('HOLIDAYS NF'!$B:$DZ,CONCATENATE(LEFT($A80,2),AV$2))<>0),\"Closed\",\"Open\")","v":"Open"},{"$f":"IF((COUNTIF('HOLIDAYS NF'!$B:$DZ,CONCATENATE(LEFT($A80,2),AW$2))<>0),\"Closed\",\"Open\")","v":"Open"},{"$f":"IF((COUNTIF('HOLIDAYS NF'!$B:$DZ,CONCATENATE(LEFT($A80,2),AX$2))<>0),\"Closed\",\"Open\")","v":"Open"},{"$f":"IF((COUNTIF('HOLIDAYS NF'!$B:$DZ,CONCATENATE(LEFT($A80,2),AY$2))<>0),\"Closed\",\"Open\")","v":"Open"},{"$f":"IF((COUNTIF('HOLIDAYS NF'!$B:$DZ,CONCATENATE(LEFT($A80,2),AZ$2))<>0),\"Closed\",\"Open\")","v":"Open"},{"$f":"IF((COUNTIF('HOLIDAYS NF'!$B:$DZ,CONCATENATE(LEFT($A80,2),BA$2))<>0),\"Closed\",\"Open\")","v":"Open"},{"$f":"IF((COUNTIF('HOLIDAYS NF'!$B:$DZ,CONCATENATE(LEFT($A80,2),BB$2))<>0),\"Closed\",\"Open\")","v":"Open"},{"$f":"IF((COUNTIF('HOLIDAYS NF'!$B:$DZ,CONCATENATE(LEFT($A80,2),BC$2))<>0),\"Closed\",\"Open\")","v":"Open"},{"$f":"IF((COUNTIF('HOLIDAYS NF'!$B:$DZ,CONCATENATE(LEFT($A80,2),BD$2))<>0),\"Closed\",\"Open\")","v":"Open"},{"$f":"IF((COUNTIF('HOLIDAYS NF'!$B:$DZ,CONCATENATE(LEFT($A80,2),BE$2))<>0),\"Closed\",\"Open\")","v":"Open"},{"$f":"IF((COUNTIF('HOLIDAYS NF'!$B:$DZ,CONCATENATE(LEFT($A80,2),BF$2))<>0),\"Closed\",\"Open\")","v":"Open"},{"$f":"IF((COUNTIF('HOLIDAYS NF'!$B:$DZ,CONCATENATE(LEFT($A80,2),BG$2))<>0),\"Closed\",\"Open\")","v":"Open"},{"$f":"IF((COUNTIF('HOLIDAYS NF'!$B:$DZ,CONCATENATE(LEFT($A80,2),BH$2))<>0),\"Closed\",\"Open\")","v":"Open"},{"$f":"IF((COUNTIF('HOLIDAYS NF'!$B:$DZ,CONCATENATE(LEFT($A80,2),BI$2))<>0),\"Closed\",\"Open\")","v":"Open"},{"$f":"IF((COUNTIF('HOLIDAYS NF'!$B:$DZ,CONCATENATE(LEFT($A80,2),BJ$2))<>0),\"Closed\",\"Open\")","v":"Open"}]
["KE",{"$f":"SUMIF(Holdings!G:G,(CONCATENATE($B$1,\"-\",A81,)),Holdings!H:H)","v":0},"Kenya",{"$f":"IF((COUNTIF('HOLIDAYS NF'!$B:$DZ,CONCATENATE(LEFT($A81,2),D$2))<>0),\"Closed\",\"Open\")","v":"Open"},{"$f":"IF((COUNTIF('HOLIDAYS NF'!$B:$DZ,CONCATENATE(LEFT($A81,2),E$2))<>0),\"Closed\",\"Open\")","v":"Open"},{"$f":"IF((COUNTIF('HOLIDAYS NF'!$B:$DZ,CONCATENATE(LEFT($A81,2),F$2))<>0),\"Closed\",\"Open\")","v":"Open"},{"$f":"IF((COUNTIF('HOLIDAYS NF'!$B:$DZ,CONCATENATE(LEFT($A81,2),G$2))<>0),\"Closed\",\"Open\")","v":"Open"},{"$f":"IF((COUNTIF('HOLIDAYS NF'!$B:$DZ,CONCATENATE(LEFT($A81,2),H$2))<>0),\"Closed\",\"Open\")","v":"Open"},{"$f":"IF((COUNTIF('HOLIDAYS NF'!$B:$DZ,CONCATENATE(LEFT($A81,2),I$2))<>0),\"Closed\",\"Open\")","v":"Open"},{"$f":"IF((COUNTIF('HOLIDAYS NF'!$B:$DZ,CONCATENATE(LEFT($A81,2),J$2))<>0),\"Closed\",\"Open\")","v":"Open"},{"$f":"IF((COUNTIF('HOLIDAYS NF'!$B:$DZ,CONCATENATE(LEFT($A81,2),K$2))<>0),\"Closed\",\"Open\")","v":"Open"},{"$f":"IF((COUNTIF('HOLIDAYS NF'!$B:$DZ,CONCATENATE(LEFT($A81,2),L$2))<>0),\"Closed\",\"Open\")","v":"Open"},{"$f":"IF((COUNTIF('HOLIDAYS NF'!$B:$DZ,CONCATENATE(LEFT($A81,2),M$2))<>0),\"Closed\",\"Open\")","v":"Open"},{"$f":"IF((COUNTIF('HOLIDAYS NF'!$B:$DZ,CONCATENATE(LEFT($A81,2),N$2))<>0),\"Closed\",\"Open\")","v":"Open"},{"$f":"IF((COUNTIF('HOLIDAYS NF'!$B:$DZ,CONCATENATE(LEFT($A81,2),O$2))<>0),\"Closed\",\"Open\")","v":"Open"},{"$f":"IF((COUNTIF('HOLIDAYS NF'!$B:$DZ,CONCATENATE(LEFT($A81,2),P$2))<>0),\"Closed\",\"Open\")","v":"Open"},{"$f":"IF((COUNTIF('HOLIDAYS NF'!$B:$DZ,CONCATENATE(LEFT($A81,2),Q$2))<>0),\"Closed\",\"Open\")","v":"Open"},{"$f":"IF((COUNTIF('HOLIDAYS NF'!$B:$DZ,CONCATENATE(LEFT($A81,2),R$2))<>0),\"Closed\",\"Open\")","v":"Open"},{"$f":"IF((COUNTIF('HOLIDAYS NF'!$B:$DZ,CONCATENATE(LEFT($A81,2),S$2))<>0),\"Closed\",\"Open\")","v":"Open"},{"$f":"IF((COUNTIF('HOLIDAYS NF'!$B:$DZ,CONCATENATE(LEFT($A81,2),T$2))<>0),\"Closed\",\"Open\")","v":"Open"},{"$f":"IF((COUNTIF('HOLIDAYS NF'!$B:$DZ,CONCATENATE(LEFT($A81,2),U$2))<>0),\"Closed\",\"Open\")","v":"Open"},{"$f":"IF((COUNTIF('HOLIDAYS NF'!$B:$DZ,CONCATENATE(LEFT($A81,2),V$2))<>0),\"Closed\",\"Open\")","v":"Open"},{"$f":"IF((COUNTIF('HOLIDAYS NF'!$B:$DZ,CONCATENATE(LEFT($A81,2),W$2))<>0),\"Closed\",\"Open\")","v":"Open"},{"$f":"IF((COUNTIF('HOLIDAYS NF'!$B:$DZ,CONCATENATE(LEFT($A81,2),X$2))<>0),\"Closed\",\"Open\")","v":"Open"},{"$f":"IF((COUNTIF('HOLIDAYS NF'!$B:$DZ,CONCATENATE(LEFT($A81,2),Y$2))<>0),\"Closed\",\"Open\")","v":"Open"},{"$f":"IF((COUNTIF('HOLIDAYS NF'!$B:$DZ,CONCATENATE(LEFT($A81,2),Z$2))<>0),\"Closed\",\"Open\")","v":"Open"},{"$f":"IF((COUNTIF('HOLIDAYS NF'!$B:$DZ,CONCATENATE(LEFT($A81,2),AA$2))<>0),\"Closed\",\"Open\")","v":"Open"},{"$f":"IF((COUNTIF('HOLIDAYS NF'!$B:$DZ,CONCATENATE(LEFT($A81,2),AB$2))<>0),\"Closed\",\"Open\")","v":"Open"},{"$f":"IF((COUNTIF('HOLIDAYS NF'!$B:$DZ,CONCATENATE(LEFT($A81,2),AC$2))<>0),\"Closed\",\"Open\")","v":"Open"},{"$f":"IF((COUNTIF('HOLIDAYS NF'!$B:$DZ,CONCATENATE(LEFT($A81,2),AD$2))<>0),\"Closed\",\"Open\")","v":"Open"},{"$f":"IF((COUNTIF('HOLIDAYS NF'!$B:$DZ,CONCATENATE(LEFT($A81,2),AE$2))<>0),\"Closed\",\"Open\")","v":"Open"},{"$f":"IF((COUNTIF('HOLIDAYS NF'!$B:$DZ,CONCATENATE(LEFT($A81,2),AF$2))<>0),\"Closed\",\"Open\")","v":"Open"},{"$f":"IF((COUNTIF('HOLIDAYS NF'!$B:$DZ,CONCATENATE(LEFT($A81,2),AG$2))<>0),\"Closed\",\"Open\")","v":"Open"},{"$f":"IF((COUNTIF('HOLIDAYS NF'!$B:$DZ,CONCATENATE(LEFT($A81,2),AH$2))<>0),\"Closed\",\"Open\")","v":"Open"},{"$f":"IF((COUNTIF('HOLIDAYS NF'!$B:$DZ,CONCATENATE(LEFT($A81,2),AI$2))<>0),\"Closed\",\"Open\")","v":"Open"},{"$f":"IF((COUNTIF('HOLIDAYS NF'!$B:$DZ,CONCATENATE(LEFT($A81,2),AJ$2))<>0),\"Closed\",\"Open\")","v":"Open"},{"$f":"IF((COUNTIF('HOLIDAYS NF'!$B:$DZ,CONCATENATE(LEFT($A81,2),AK$2))<>0),\"Closed\",\"Open\")","v":"Open"},{"$f":"IF((COUNTIF('HOLIDAYS NF'!$B:$DZ,CONCATENATE(LEFT($A81,2),AL$2))<>0),\"Closed\",\"Open\")","v":"Open"},{"$f":"IF((COUNTIF('HOLIDAYS NF'!$B:$DZ,CONCATENATE(LEFT($A81,2),AM$2))<>0),\"Closed\",\"Open\")","v":"Open"},{"$f":"IF((COUNTIF('HOLIDAYS NF'!$B:$DZ,CONCATENATE(LEFT($A81,2),AN$2))<>0),\"Closed\",\"Open\")","v":"Open"},{"$f":"IF((COUNTIF('HOLIDAYS NF'!$B:$DZ,CONCATENATE(LEFT($A81,2),AO$2))<>0),\"Closed\",\"Open\")","v":"Open"},{"$f":"IF((COUNTIF('HOLIDAYS NF'!$B:$DZ,CONCATENATE(LEFT($A81,2),AP$2))<>0),\"Closed\",\"Open\")","v":"Open"},{"$f":"IF((COUNTIF('HOLIDAYS NF'!$B:$DZ,CONCATENATE(LEFT($A81,2),AQ$2))<>0),\"Closed\",\"Open\")","v":"Open"},{"$f":"IF((COUNTIF('HOLIDAYS NF'!$B:$DZ,CONCATENATE(LEFT($A81,2),AR$2))<>0),\"Closed\",\"Open\")","v":"Open"},{"$f":"IF((COUNTIF('HOLIDAYS NF'!$B:$DZ,CONCATENATE(LEFT($A81,2),AS$2))<>0),\"Closed\",\"Open\")","v":"Open"},{"$f":"IF((COUNTIF('HOLIDAYS NF'!$B:$DZ,CONCATENATE(LEFT($A81,2),AT$2))<>0),\"Closed\",\"Open\")","v":"Open"},{"$f":"IF((COUNTIF('HOLIDAYS NF'!$B:$DZ,CONCATENATE(LEFT($A81,2),AU$2))<>0),\"Closed\",\"Open\")","v":"Open"},{"$f":"IF((COUNTIF('HOLIDAYS NF'!$B:$DZ,CONCATENATE(LEFT($A81,2),AV$2))<>0),\"Closed\",\"Open\")","v":"Open"},{"$f":"IF((COUNTIF('HOLIDAYS NF'!$B:$DZ,CONCATENATE(LEFT($A81,2),AW$2))<>0),\"Closed\",\"Open\")","v":"Open"},{"$f":"IF((COUNTIF('HOLIDAYS NF'!$B:$DZ,CONCATENATE(LEFT($A81,2),AX$2))<>0),\"Closed\",\"Open\")","v":"Open"},{"$f":"IF((COUNTIF('HOLIDAYS NF'!$B:$DZ,CONCATENATE(LEFT($A81,2),AY$2))<>0),\"Closed\",\"Open\")","v":"Open"},{"$f":"IF((COUNTIF('HOLIDAYS NF'!$B:$DZ,CONCATENATE(LEFT($A81,2),AZ$2))<>0),\"Closed\",\"Open\")","v":"Open"},{"$f":"IF((COUNTIF('HOLIDAYS NF'!$B:$DZ,CONCATENATE(LEFT($A81,2),BA$2))<>0),\"Closed\",\"Open\")","v":"Open"},{"$f":"IF((COUNTIF('HOLIDAYS NF'!$B:$DZ,CONCATENATE(LEFT($A81,2),BB$2))<>0),\"Closed\",\"Open\")","v":"Open"},{"$f":"IF((COUNTIF('HOLIDAYS NF'!$B:$DZ,CONCATENATE(LEFT($A81,2),BC$2))<>0),\"Closed\",\"Open\")","v":"Open"},{"$f":"IF((COUNTIF('HOLIDAYS NF'!$B:$DZ,CONCATENATE(LEFT($A81,2),BD$2))<>0),\"Closed\",\"Open\")","v":"Open"},{"$f":"IF((COUNTIF('HOLIDAYS NF'!$B:$DZ,CONCATENATE(LEFT($A81,2),BE$2))<>0),\"Closed\",\"Open\")","v":"Open"},{"$f":"IF((COUNTIF('HOLIDAYS NF'!$B:$DZ,CONCATENATE(LEFT($A81,2),BF$2))<>0),\"Closed\",\"Open\")","v":"Open"},{"$f":"IF((COUNTIF('HOLIDAYS NF'!$B:$DZ,CONCATENATE(LEFT($A81,2),BG$2))<>0),\"Closed\",\"Open\")","v":"Open"},{"$f":"IF((COUNTIF('HOLIDAYS NF'!$B:$DZ,CONCATENATE(LEFT($A81,2),BH$2))<>0),\"Closed\",\"Open\")","v":"Open"},{"$f":"IF((COUNTIF('HOLIDAYS NF'!$B:$DZ,CONCATENATE(LEFT($A81,2),BI$2))<>0),\"Closed\",\"Open\")","v":"Open"},{"$f":"IF((COUNTIF('HOLIDAYS NF'!$B:$DZ,CONCATENATE(LEFT($A81,2),BJ$2))<>0),\"Closed\",\"Open\")","v":"Open"}]
["PK",{"$f":"SUMIF(Holdings!G:G,(CONCATENATE($B$1,\"-\",A82,)),Holdings!H:H)","v":0},"Pakistan",{"$f":"IF((COUNTIF('HOLIDAYS NF'!$B:$DZ,CONCATENATE(LEFT($A82,2),D$2))<>0),\"Closed\",\"Open\")","v":"Open"},{"$f":"IF((COUNTIF('HOLIDAYS NF'!$B:$DZ,CONCATENATE(LEFT($A82,2),E$2))<>0),\"Closed\",\"Open\")","v":"Open"},{"$f":"IF((COUNTIF('HOLIDAYS NF'!$B:$DZ,CONCATENATE(LEFT($A82,2),F$2))<>0),\"Closed\",\"Open\")","v":"Open"},{"$f":"IF((COUNTIF('HOLIDAYS NF'!$B:$DZ,CONCATENATE(LEFT($A82,2),G$2))<>0),\"Closed\",\"Open\")","v":"Open"},{"$f":"IF((COUNTIF('HOLIDAYS NF'!$B:$DZ,CONCATENATE(LEFT($A82,2),H$2))<>0),\"Closed\",\"Open\")","v":"Open"},{"$f":"IF((COUNTIF('HOLIDAYS NF'!$B:$DZ,CONCATENATE(LEFT($A82,2),I$2))<>0),\"Closed\",\"Open\")","v":"Open"},{"$f":"IF((COUNTIF('HOLIDAYS NF'!$B:$DZ,CONCATENATE(LEFT($A82,2),J$2))<>0),\"Closed\",\"Open\")","v":"Open"},{"$f":"IF((COUNTIF('HOLIDAYS NF'!$B:$DZ,CONCATENATE(LEFT($A82,2),K$2))<>0),\"Closed\",\"Open\")","v":"Open"},{"$f":"IF((COUNTIF('HOLIDAYS NF'!$B:$DZ,CONCATENATE(LEFT($A82,2),L$2))<>0),\"Closed\",\"Open\")","v":"Open"},{"$f":"IF((COUNTIF('HOLIDAYS NF'!$B:$DZ,CONCATENATE(LEFT($A82,2),M$2))<>0),\"Closed\",\"Open\")","v":"Open"},{"$f":"IF((COUNTIF('HOLIDAYS NF'!$B:$DZ,CONCATENATE(LEFT($A82,2),N$2))<>0),\"Closed\",\"Open\")","v":"Open"},{"$f":"IF((COUNTIF('HOLIDAYS NF'!$B:$DZ,CONCATENATE(LEFT($A82,2),O$2))<>0),\"Closed\",\"Open\")","v":"Open"},{"$f":"IF((COUNTIF('HOLIDAYS NF'!$B:$DZ,CONCATENATE(LEFT($A82,2),P$2))<>0),\"Closed\",\"Open\")","v":"Open"},{"$f":"IF((COUNTIF('HOLIDAYS NF'!$B:$DZ,CONCATENATE(LEFT($A82,2),Q$2))<>0),\"Closed\",\"Open\")","v":"Open"},{"$f":"IF((COUNTIF('HOLIDAYS NF'!$B:$DZ,CONCATENATE(LEFT($A82,2),R$2))<>0),\"Closed\",\"Open\")","v":"Open"},{"$f":"IF((COUNTIF('HOLIDAYS NF'!$B:$DZ,CONCATENATE(LEFT($A82,2),S$2))<>0),\"Closed\",\"Open\")","v":"Open"},{"$f":"IF((COUNTIF('HOLIDAYS NF'!$B:$DZ,CONCATENATE(LEFT($A82,2),T$2))<>0),\"Closed\",\"Open\")","v":"Open"},{"$f":"IF((COUNTIF('HOLIDAYS NF'!$B:$DZ,CONCATENATE(LEFT($A82,2),U$2))<>0),\"Closed\",\"Open\")","v":"Open"},{"$f":"IF((COUNTIF('HOLIDAYS NF'!$B:$DZ,CONCATENATE(LEFT($A82,2),V$2))<>0),\"Closed\",\"Open\")","v":"Open"},{"$f":"IF((COUNTIF('HOLIDAYS NF'!$B:$DZ,CONCATENATE(LEFT($A82,2),W$2))<>0),\"Closed\",\"Open\")","v":"Open"},{"$f":"IF((COUNTIF('HOLIDAYS NF'!$B:$DZ,CONCATENATE(LEFT($A82,2),X$2))<>0),\"Closed\",\"Open\")","v":"Open"},{"$f":"IF((COUNTIF('HOLIDAYS NF'!$B:$DZ,CONCATENATE(LEFT($A82,2),Y$2))<>0),\"Closed\",\"Open\")","v":"Open"},{"$f":"IF((COUNTIF('HOLIDAYS NF'!$B:$DZ,CONCATENATE(LEFT($A82,2),Z$2))<>0),\"Closed\",\"Open\")","v":"Open"},{"$f":"IF((COUNTIF('HOLIDAYS NF'!$B:$DZ,CONCATENATE(LEFT($A82,2),AA$2))<>0),\"Closed\",\"Open\")","v":"Open"},{"$f":"IF((COUNTIF('HOLIDAYS NF'!$B:$DZ,CONCATENATE(LEFT($A82,2),AB$2))<>0),\"Closed\",\"Open\")","v":"Open"},{"$f":"IF((COUNTIF('HOLIDAYS NF'!$B:$DZ,CONCATENATE(LEFT($A82,2),AC$2))<>0),\"Closed\",\"Open\")","v":"Open"},{"$f":"IF((COUNTIF('HOLIDAYS NF'!$B:$DZ,CONCATENATE(LEFT($A82,2),AD$2))<>0),\"Closed\",\"Open\")","v":"Open"},{"$f":"IF((COUNTIF('HOLIDAYS NF'!$B:$DZ,CONCATENATE(LEFT($A82,2),AE$2))<>0),\"Closed\",\"Open\")","v":"Open"},{"$f":"IF((COUNTIF('HOLIDAYS NF'!$B:$DZ,CONCATENATE(LEFT($A82,2),AF$2))<>0),\"Closed\",\"Open\")","v":"Open"},{"$f":"IF((COUNTIF('HOLIDAYS NF'!$B:$DZ,CONCATENATE(LEFT($A82,2),AG$2))<>0),\"Closed\",\"Open\")","v":"Open"},{"$f":"IF((COUNTIF('HOLIDAYS NF'!$B:$DZ,CONCATENATE(LEFT($A82,2),AH$2))<>0),\"Closed\",\"Open\")","v":"Open"},{"$f":"IF((COUNTIF('HOLIDAYS NF'!$B:$DZ,CONCATENATE(LEFT($A82,2),AI$2))<>0),\"Closed\",\"Open\")","v":"Open"},{"$f":"IF((COUNTIF('HOLIDAYS NF'!$B:$DZ,CONCATENATE(LEFT($A82,2),AJ$2))<>0),\"Closed\",\"Open\")","v":"Open"},{"$f":"IF((COUNTIF('HOLIDAYS NF'!$B:$DZ,CONCATENATE(LEFT($A82,2),AK$2))<>0),\"Closed\",\"Open\")","v":"Open"},{"$f":"IF((COUNTIF('HOLIDAYS NF'!$B:$DZ,CONCATENATE(LEFT($A82,2),AL$2))<>0),\"Closed\",\"Open\")","v":"Open"},{"$f":"IF((COUNTIF('HOLIDAYS NF'!$B:$DZ,CONCATENATE(LEFT($A82,2),AM$2))<>0),\"Closed\",\"Open\")","v":"Open"},{"$f":"IF((COUNTIF('HOLIDAYS NF'!$B:$DZ,CONCATENATE(LEFT($A82,2),AN$2))<>0),\"Closed\",\"Open\")","v":"Open"},{"$f":"IF((COUNTIF('HOLIDAYS NF'!$B:$DZ,CONCATENATE(LEFT($A82,2),AO$2))<>0),\"Closed\",\"Open\")","v":"Open"},{"$f":"IF((COUNTIF('HOLIDAYS NF'!$B:$DZ,CONCATENATE(LEFT($A82,2),AP$2))<>0),\"Closed\",\"Open\")","v":"Open"},{"$f":"IF((COUNTIF('HOLIDAYS NF'!$B:$DZ,CONCATENATE(LEFT($A82,2),AQ$2))<>0),\"Closed\",\"Open\")","v":"Open"},{"$f":"IF((COUNTIF('HOLIDAYS NF'!$B:$DZ,CONCATENATE(LEFT($A82,2),AR$2))<>0),\"Closed\",\"Open\")","v":"Open"},{"$f":"IF((COUNTIF('HOLIDAYS NF'!$B:$DZ,CONCATENATE(LEFT($A82,2),AS$2))<>0),\"Closed\",\"Open\")","v":"Open"},{"$f":"IF((COUNTIF('HOLIDAYS NF'!$B:$DZ,CONCATENATE(LEFT($A82,2),AT$2))<>0),\"Closed\",\"Open\")","v":"Open"},{"$f":"IF((COUNTIF('HOLIDAYS NF'!$B:$DZ,CONCATENATE(LEFT($A82,2),AU$2))<>0),\"Closed\",\"Open\")","v":"Open"},{"$f":"IF((COUNTIF('HOLIDAYS NF'!$B:$DZ,CONCATENATE(LEFT($A82,2),AV$2))<>0),\"Closed\",\"Open\")","v":"Open"},{"$f":"IF((COUNTIF('HOLIDAYS NF'!$B:$DZ,CONCATENATE(LEFT($A82,2),AW$2))<>0),\"Closed\",\"Open\")","v":"Open"},{"$f":"IF((COUNTIF('HOLIDAYS NF'!$B:$DZ,CONCATENATE(LEFT($A82,2),AX$2))<>0),\"Closed\",\"Open\")","v":"Open"},{"$f":"IF((COUNTIF('HOLIDAYS NF'!$B:$DZ,CONCATENATE(LEFT($A82,2),AY$2))<>0),\"Closed\",\"Open\")","v":"Open"},{"$f":"IF((COUNTIF('HOLIDAYS NF'!$B:$DZ,CONCATENATE(LEFT($A82,2),AZ$2))<>0),\"Closed\",\"Open\")","v":"Open"},{"$f":"IF((COUNTIF('HOLIDAYS NF'!$B:$DZ,CONCATENATE(LEFT($A82,2),BA$2))<>0),\"Closed\",\"Open\")","v":"Open"},{"$f":"IF((COUNTIF('HOLIDAYS NF'!$B:$DZ,CONCATENATE(LEFT($A82,2),BB$2))<>0),\"Closed\",\"Open\")","v":"Open"},{"$f":"IF((COUNTIF('HOLIDAYS NF'!$B:$DZ,CONCATENATE(LEFT($A82,2),BC$2))<>0),\"Closed\",\"Open\")","v":"Open"},{"$f":"IF((COUNTIF('HOLIDAYS NF'!$B:$DZ,CONCATENATE(LEFT($A82,2),BD$2))<>0),\"Closed\",\"Open\")","v":"Open"},{"$f":"IF((COUNTIF('HOLIDAYS NF'!$B:$DZ,CONCATENATE(LEFT($A82,2),BE$2))<>0),\"Closed\",\"Open\")","v":"Open"},{"$f":"IF((COUNTIF('HOLIDAYS NF'!$B:$DZ,CONCATENATE(LEFT($A82,2),BF$2))<>0),\"Closed\",\"Open\")","v":"Open"},{"$f":"IF((COUNTIF('HOLIDAYS NF'!$B:$DZ,CONCATENATE(LEFT($A82,2),BG$2))<>0),\"Closed\",\"Open\")","v":"Open"},{"$f":"IF((COUNTIF('HOLIDAYS NF'!$B:$DZ,CONCATENATE(LEFT($A82,2),BH$2))<>0),\"Closed\",\"Open\")","v":"Open"},{"$f":"IF((COUNTIF('HOLIDAYS NF'!$B:$DZ,CONCATENATE(LEFT($A82,2),BI$2))<>0),\"Closed\",\"Open\")","v":"Open"},{"$f":"IF((COUNTIF('HOLIDAYS NF'!$B:$DZ,CONCATENATE(LEFT($A82,2),BJ$2))<>0),\"Closed\",\"Open\")","v":"Open"}]
["ET",{"$f":"SUMIF(Holdings!G:G,(CONCATENATE($B$1,\"-\",A83,)),Holdings!H:H)","v":0},"Ethiopia",{"$f":"IF((COUNTIF('HOLIDAYS NF'!$B:$DZ,CONCATENATE(LEFT($A83,2),D$2))<>0),\"Closed\",\"Open\")","v":"Open"},{"$f":"IF((COUNTIF('HOLIDAYS NF'!$B:$DZ,CONCATENATE(LEFT($A83,2),E$2))<>0),\"Closed\",\"Open\")","v":"Open"},{"$f":"IF((COUNTIF('HOLIDAYS NF'!$B:$DZ,CONCATENATE(LEFT($A83,2),F$2))<>0),\"Closed\",\"Open\")","v":"Open"},{"$f":"IF((COUNTIF('HOLIDAYS NF'!$B:$DZ,CONCATENATE(LEFT($A83,2),G$2))<>0),\"Closed\",\"Open\")","v":"Open"},{"$f":"IF((COUNTIF('HOLIDAYS NF'!$B:$DZ,CONCATENATE(LEFT($A83,2),H$2))<>0),\"Closed\",\"Open\")","v":"Open"},{"$f":"IF((COUNTIF('HOLIDAYS NF'!$B:$DZ,CONCATENATE(LEFT($A83,2),I$2))<>0),\"Closed\",\"Open\")","v":"Open"},{"$f":"IF((COUNTIF('HOLIDAYS NF'!$B:$DZ,CONCATENATE(LEFT($A83,2),J$2))<>0),\"Closed\",\"Open\")","v":"Open"},{"$f":"IF((COUNTIF('HOLIDAYS NF'!$B:$DZ,CONCATENATE(LEFT($A83,2),K$2))<>0),\"Closed\",\"Open\")","v":"Open"},{"$f":"IF((COUNTIF('HOLIDAYS NF'!$B:$DZ,CONCATENATE(LEFT($A83,2),L$2))<>0),\"Closed\",\"Open\")","v":"Open"},{"$f":"IF((COUNTIF('HOLIDAYS NF'!$B:$DZ,CONCATENATE(LEFT($A83,2),M$2))<>0),\"Closed\",\"Open\")","v":"Open"},{"$f":"IF((COUNTIF('HOLIDAYS NF'!$B:$DZ,CONCATENATE(LEFT($A83,2),N$2))<>0),\"Closed\",\"Open\")","v":"Open"},{"$f":"IF((COUNTIF('HOLIDAYS NF'!$B:$DZ,CONCATENATE(LEFT($A83,2),O$2))<>0),\"Closed\",\"Open\")","v":"Open"},{"$f":"IF((COUNTIF('HOLIDAYS NF'!$B:$DZ,CONCATENATE(LEFT($A83,2),P$2))<>0),\"Closed\",\"Open\")","v":"Open"},{"$f":"IF((COUNTIF('HOLIDAYS NF'!$B:$DZ,CONCATENATE(LEFT($A83,2),Q$2))<>0),\"Closed\",\"Open\")","v":"Open"},{"$f":"IF((COUNTIF('HOLIDAYS NF'!$B:$DZ,CONCATENATE(LEFT($A83,2),R$2))<>0),\"Closed\",\"Open\")","v":"Open"},{"$f":"IF((COUNTIF('HOLIDAYS NF'!$B:$DZ,CONCATENATE(LEFT($A83,2),S$2))<>0),\"Closed\",\"Open\")","v":"Open"},{"$f":"IF((COUNTIF('HOLIDAYS NF'!$B:$DZ,CONCATENATE(LEFT($A83,2),T$2))<>0),\"Closed\",\"Open\")","v":"Open"},{"$f":"IF((COUNTIF('HOLIDAYS NF'!$B:$DZ,CONCATENATE(LEFT($A83,2),U$2))<>0),\"Closed\",\"Open\")","v":"Open"},{"$f":"IF((COUNTIF('HOLIDAYS NF'!$B:$DZ,CONCATENATE(LEFT($A83,2),V$2))<>0),\"Closed\",\"Open\")","v":"Open"},{"$f":"IF((COUNTIF('HOLIDAYS NF'!$B:$DZ,CONCATENATE(LEFT($A83,2),W$2))<>0),\"Closed\",\"Open\")","v":"Open"},{"$f":"IF((COUNTIF('HOLIDAYS NF'!$B:$DZ,CONCATENATE(LEFT($A83,2),X$2))<>0),\"Closed\",\"Open\")","v":"Open"},{"$f":"IF((COUNTIF('HOLIDAYS NF'!$B:$DZ,CONCATENATE(LEFT($A83,2),Y$2))<>0),\"Closed\",\"Open\")","v":"Open"},{"$f":"IF((COUNTIF('HOLIDAYS NF'!$B:$DZ,CONCATENATE(LEFT($A83,2),Z$2))<>0),\"Closed\",\"Open\")","v":"Open"},{"$f":"IF((COUNTIF('HOLIDAYS NF'!$B:$DZ,CONCATENATE(LEFT($A83,2),AA$2))<>0),\"Closed\",\"Open\")","v":"Open"},{"$f":"IF((COUNTIF('HOLIDAYS NF'!$B:$DZ,CONCATENATE(LEFT($A83,2),AB$2))<>0),\"Closed\",\"Open\")","v":"Open"},{"$f":"IF((COUNTIF('HOLIDAYS NF'!$B:$DZ,CONCATENATE(LEFT($A83,2),AC$2))<>0),\"Closed\",\"Open\")","v":"Open"},{"$f":"IF((COUNTIF('HOLIDAYS NF'!$B:$DZ,CONCATENATE(LEFT($A83,2),AD$2))<>0),\"Closed\",\"Open\")","v":"Open"},{"$f":"IF((COUNTIF('HOLIDAYS NF'!$B:$DZ,CONCATENATE(LEFT($A83,2),AE$2))<>0),\"Closed\",\"Open\")","v":"Open"},{"$f":"IF((COUNTIF('HOLIDAYS NF'!$B:$DZ,CONCATENATE(LEFT($A83,2),AF$2))<>0),\"Closed\",\"Open\")","v":"Open"},{"$f":"IF((COUNTIF('HOLIDAYS NF'!$B:$DZ,CONCATENATE(LEFT($A83,2),AG$2))<>0),\"Closed\",\"Open\")","v":"Open"},{"$f":"IF((COUNTIF('HOLIDAYS NF'!$B:$DZ,CONCATENATE(LEFT($A83,2),AH$2))<>0),\"Closed\",\"Open\")","v":"Open"},{"$f":"IF((COUNTIF('HOLIDAYS NF'!$B:$DZ,CONCATENATE(LEFT($A83,2),AI$2))<>0),\"Closed\",\"Open\")","v":"Open"},{"$f":"IF((COUNTIF('HOLIDAYS NF'!$B:$DZ,CONCATENATE(LEFT($A83,2),AJ$2))<>0),\"Closed\",\"Open\")","v":"Open"},{"$f":"IF((COUNTIF('HOLIDAYS NF'!$B:$DZ,CONCATENATE(LEFT($A83,2),AK$2))<>0),\"Closed\",\"Open\")","v":"Open"},{"$f":"IF((COUNTIF('HOLIDAYS NF'!$B:$DZ,CONCATENATE(LEFT($A83,2),AL$2))<>0),\"Closed\",\"Open\")","v":"Open"},{"$f":"IF((COUNTIF('HOLIDAYS NF'!$B:$DZ,CONCATENATE(LEFT($A83,2),AM$2))<>0),\"Closed\",\"Open\")","v":"Open"},{"$f":"IF((COUNTIF('HOLIDAYS NF'!$B:$DZ,CONCATENATE(LEFT($A83,2),AN$2))<>0),\"Closed\",\"Open\")","v":"Open"},{"$f":"IF((COUNTIF('HOLIDAYS NF'!$B:$DZ,CONCATENATE(LEFT($A83,2),AO$2))<>0),\"Closed\",\"Open\")","v":"Open"},{"$f":"IF((COUNTIF('HOLIDAYS NF'!$B:$DZ,CONCATENATE(LEFT($A83,2),AP$2))<>0),\"Closed\",\"Open\")","v":"Open"},{"$f":"IF((COUNTIF('HOLIDAYS NF'!$B:$DZ,CONCATENATE(LEFT($A83,2),AQ$2))<>0),\"Closed\",\"Open\")","v":"Open"},{"$f":"IF((COUNTIF('HOLIDAYS NF'!$B:$DZ,CONCATENATE(LEFT($A83,2),AR$2))<>0),\"Closed\",\"Open\")","v":"Open"},{"$f":"IF((COUNTIF('HOLIDAYS NF'!$B:$DZ,CONCATENATE(LEFT($A83,2),AS$2))<>0),\"Closed\",\"Open\")","v":"Open"},{"$f":"IF((COUNTIF('HOLIDAYS NF'!$B:$DZ,CONCATENATE(LEFT($A83,2),AT$2))<>0),\"Closed\",\"Open\")","v":"Open"},{"$f":"IF((COUNTIF('HOLIDAYS NF'!$B:$DZ,CONCATENATE(LEFT($A83,2),AU$2))<>0),\"Closed\",\"Open\")","v":"Open"},{"$f":"IF((COUNTIF('HOLIDAYS NF'!$B:$DZ,CONCATENATE(LEFT($A83,2),AV$2))<>0),\"Closed\",\"Open\")","v":"Open"},{"$f":"IF((COUNTIF('HOLIDAYS NF'!$B:$DZ,CONCATENATE(LEFT($A83,2),AW$2))<>0),\"Closed\",\"Open\")","v":"Open"},{"$f":"IF((COUNTIF('HOLIDAYS NF'!$B:$DZ,CONCATENATE(LEFT($A83,2),AX$2))<>0),\"Closed\",\"Open\")","v":"Open"},{"$f":"IF((COUNTIF('HOLIDAYS NF'!$B:$DZ,CONCATENATE(LEFT($A83,2),AY$2))<>0),\"Closed\",\"Open\")","v":"Open"},{"$f":"IF((COUNTIF('HOLIDAYS NF'!$B:$DZ,CONCATENATE(LEFT($A83,2),AZ$2))<>0),\"Closed\",\"Open\")","v":"Open"},{"$f":"IF((COUNTIF('HOLIDAYS NF'!$B:$DZ,CONCATENATE(LEFT($A83,2),BA$2))<>0),\"Closed\",\"Open\")","v":"Open"},{"$f":"IF((COUNTIF('HOLIDAYS NF'!$B:$DZ,CONCATENATE(LEFT($A83,2),BB$2))<>0),\"Closed\",\"Open\")","v":"Open"},{"$f":"IF((COUNTIF('HOLIDAYS NF'!$B:$DZ,CONCATENATE(LEFT($A83,2),BC$2))<>0),\"Closed\",\"Open\")","v":"Open"},{"$f":"IF((COUNTIF('HOLIDAYS NF'!$B:$DZ,CONCATENATE(LEFT($A83,2),BD$2))<>0),\"Closed\",\"Open\")","v":"Open"},{"$f":"IF((COUNTIF('HOLIDAYS NF'!$B:$DZ,CONCATENATE(LEFT($A83,2),BE$2))<>0),\"Closed\",\"Open\")","v":"Open"},{"$f":"IF((COUNTIF('HOLIDAYS NF'!$B:$DZ,CONCATENATE(LEFT($A83,2),BF$2))<>0),\"Closed\",\"Open\")","v":"Open"},{"$f":"IF((COUNTIF('HOLIDAYS NF'!$B:$DZ,CONCATENATE(LEFT($A83,2),BG$2))<>0),\"Closed\",\"Open\")","v":"Open"},{"$f":"IF((COUNTIF('HOLIDAYS NF'!$B:$DZ,CONCATENATE(LEFT($A83,2),BH$2))<>0),\"Closed\",\"Open\")","v":"Open"},{"$f":"IF((COUNTIF('HOLIDAYS NF'!$B:$DZ,CONCATENATE(LEFT($A83,2),BI$2))<>0),\"Closed\",\"Open\")","v":"Open"},{"$f":"IF((COUNTIF('HOLIDAYS NF'!$B:$DZ,CONCATENATE(LEFT($A83,2),BJ$2))<>0),\"Closed\",\"Open\")","v":"Open"}]
["AR",{"$f":"SUMIF(Holdings!G:G,(CONCATENATE($B$1,\"-\",A84,)),Holdings!H:H)","v":0},"Argentina",{"$f":"IF((COUNTIF('HOLIDAYS NF'!$B:$DZ,CONCATENATE(LEFT($A84,2),D$2))<>0),\"Closed\",\"Open\")","v":"Open"},{"$f":"IF((COUNTIF('HOLIDAYS NF'!$B:$DZ,CONCATENATE(LEFT($A84,2),E$2))<>0),\"Closed\",\"Open\")","v":"Open"},{"$f":"IF((COUNTIF('HOLIDAYS NF'!$B:$DZ,CONCATENATE(LEFT($A84,2),F$2))<>0),\"Closed\",\"Open\")","v":"Open"},{"$f":"IF((COUNTIF('HOLIDAYS NF'!$B:$DZ,CONCATENATE(LEFT($A84,2),G$2))<>0),\"Closed\",\"Open\")","v":"Open"},{"$f":"IF((COUNTIF('HOLIDAYS NF'!$B:$DZ,CONCATENATE(LEFT($A84,2),H$2))<>0),\"Closed\",\"Open\")","v":"Open"},{"$f":"IF((COUNTIF('HOLIDAYS NF'!$B:$DZ,CONCATENATE(LEFT($A84,2),I$2))<>0),\"Closed\",\"Open\")","v":"Open"},{"$f":"IF((COUNTIF('HOLIDAYS NF'!$B:$DZ,CONCATENATE(LEFT($A84,2),J$2))<>0),\"Closed\",\"Open\")","v":"Open"},{"$f":"IF((COUNTIF('HOLIDAYS NF'!$B:$DZ,CONCATENATE(LEFT($A84,2),K$2))<>0),\"Closed\",\"Open\")","v":"Open"},{"$f":"IF((COUNTIF('HOLIDAYS NF'!$B:$DZ,CONCATENATE(LEFT($A84,2),L$2))<>0),\"Closed\",\"Open\")","v":"Open"},{"$f":"IF((COUNTIF('HOLIDAYS NF'!$B:$DZ,CONCATENATE(LEFT($A84,2),M$2))<>0),\"Closed\",\"Open\")","v":"Open"},{"$f":"IF((COUNTIF('HOLIDAYS NF'!$B:$DZ,CONCATENATE(LEFT($A84,2),N$2))<>0),\"Closed\",\"Open\")","v":"Open"},{"$f":"IF((COUNTIF('HOLIDAYS NF'!$B:$DZ,CONCATENATE(LEFT($A84,2),O$2))<>0),\"Closed\",\"Open\")","v":"Open"},{"$f":"IF((COUNTIF('HOLIDAYS NF'!$B:$DZ,CONCATENATE(LEFT($A84,2),P$2))<>0),\"Closed\",\"Open\")","v":"Open"},{"$f":"IF((COUNTIF('HOLIDAYS NF'!$B:$DZ,CONCATENATE(LEFT($A84,2),Q$2))<>0),\"Closed\",\"Open\")","v":"Open"},{"$f":"IF((COUNTIF('HOLIDAYS NF'!$B:$DZ,CONCATENATE(LEFT($A84,2),R$2))<>0),\"Closed\",\"Open\")","v":"Open"},{"$f":"IF((COUNTIF('HOLIDAYS NF'!$B:$DZ,CONCATENATE(LEFT($A84,2),S$2))<>0),\"Closed\",\"Open\")","v":"Open"},{"$f":"IF((COUNTIF('HOLIDAYS NF'!$B:$DZ,CONCATENATE(LEFT($A84,2),T$2))<>0),\"Closed\",\"Open\")","v":"Open"},{"$f":"IF((COUNTIF('HOLIDAYS NF'!$B:$DZ,CONCATENATE(LEFT($A84,2),U$2))<>0),\"Closed\",\"Open\")","v":"Open"},{"$f":"IF((COUNTIF('HOLIDAYS NF'!$B:$DZ,CONCATENATE(LEFT($A84,2),V$2))<>0),\"Closed\",\"Open\")","v":"Open"},{"$f":"IF((COUNTIF('HOLIDAYS NF'!$B:$DZ,CONCATENATE(LEFT($A84,2),W$2))<>0),\"Closed\",\"Open\")","v":"Open"},{"$f":"IF((COUNTIF('HOLIDAYS NF'!$B:$DZ,CONCATENATE(LEFT($A84,2),X$2))<>0),\"Closed\",\"Open\")","v":"Open"},{"$f":"IF((COUNTIF('HOLIDAYS NF'!$B:$DZ,CONCATENATE(LEFT($A84,2),Y$2))<>0),\"Closed\",\"Open\")","v":"Open"},{"$f":"IF((COUNTIF('HOLIDAYS NF'!$B:$DZ,CONCATENATE(LEFT($A84,2),Z$2))<>0),\"Closed\",\"Open\")","v":"Open"},{"$f":"IF((COUNTIF('HOLIDAYS NF'!$B:$DZ,CONCATENATE(LEFT($A84,2),AA$2))<>0),\"Closed\",\"Open\")","v":"Open"},{"$f":"IF((COUNTIF('HOLIDAYS NF'!$B:$DZ,CONCATENATE(LEFT($A84,2),AB$2))<>0),\"Closed\",\"Open\")","v":"Open"},{"$f":"IF((COUNTIF('HOLIDAYS NF'!$B:$DZ,CONCATENATE(LEFT($A84,2),AC$2))<>0),\"Closed\",\"Open\")","v":"Open"},{"$f":"IF((COUNTIF('HOLIDAYS NF'!$B:$DZ,CONCATENATE(LEFT($A84,2),AD$2))<>0),\"Closed\",\"Open\")","v":"Open"},{"$f":"IF((COUNTIF('HOLIDAYS NF'!$B:$DZ,CONCATENATE(LEFT($A84,2),AE$2))<>0),\"Closed\",\"Open\")","v":"Open"},{"$f":"IF((COUNTIF('HOLIDAYS NF'!$B:$DZ,CONCATENATE(LEFT($A84,2),AF$2))<>0),\"Closed\",\"Open\")","v":"Open"},{"$f":"IF((COUNTIF('HOLIDAYS NF'!$B:$DZ,CONCATENATE(LEFT($A84,2),AG$2))<>0),\"Closed\",\"Open\")","v":"Open"},{"$f":"IF((COUNTIF('HOLIDAYS NF'!$B:$DZ,CONCATENATE(LEFT($A84,2),AH$2))<>0),\"Closed\",\"Open\")","v":"Open"},{"$f":"IF((COUNTIF('HOLIDAYS NF'!$B:$DZ,CONCATENATE(LEFT($A84,2),AI$2))<>0),\"Closed\",\"Open\")","v":"Open"},{"$f":"IF((COUNTIF('HOLIDAYS NF'!$B:$DZ,CONCATENATE(LEFT($A84,2),AJ$2))<>0),\"Closed\",\"Open\")","v":"Open"},{"$f":"IF((COUNTIF('HOLIDAYS NF'!$B:$DZ,CONCATENATE(LEFT($A84,2),AK$2))<>0),\"Closed\",\"Open\")","v":"Open"},{"$f":"IF((COUNTIF('HOLIDAYS NF'!$B:$DZ,CONCATENATE(LEFT($A84,2),AL$2))<>0),\"Closed\",\"Open\")","v":"Open"},{"$f":"IF((COUNTIF('HOLIDAYS NF'!$B:$DZ,CONCATENATE(LEFT($A84,2),AM$2))<>0),\"Closed\",\"Open\")","v":"Open"},{"$f":"IF((COUNTIF('HOLIDAYS NF'!$B:$DZ,CONCATENATE(LEFT($A84,2),AN$2))<>0),\"Closed\",\"Open\")","v":"Open"},{"$f":"IF((COUNTIF('HOLIDAYS NF'!$B:$DZ,CONCATENATE(LEFT($A84,2),AO$2))<>0),\"Closed\",\"Open\")","v":"Open"},{"$f":"IF((COUNTIF('HOLIDAYS NF'!$B:$DZ,CONCATENATE(LEFT($A84,2),AP$2))<>0),\"Closed\",\"Open\")","v":"Open"},{"$f":"IF((COUNTIF('HOLIDAYS NF'!$B:$DZ,CONCATENATE(LEFT($A84,2),AQ$2))<>0),\"Closed\",\"Open\")","v":"Open"},{"$f":"IF((COUNTIF('HOLIDAYS NF'!$B:$DZ,CONCATENATE(LEFT($A84,2),AR$2))<>0),\"Closed\",\"Open\")","v":"Open"},{"$f":"IF((COUNTIF('HOLIDAYS NF'!$B:$DZ,CONCATENATE(LEFT($A84,2),AS$2))<>0),\"Closed\",\"Open\")","v":"Open"},{"$f":"IF((COUNTIF('HOLIDAYS NF'!$B:$DZ,CONCATENATE(LEFT($A84,2),AT$2))<>0),\"Closed\",\"Open\")","v":"Open"},{"$f":"IF((COUNTIF('HOLIDAYS NF'!$B:$DZ,CONCATENATE(LEFT($A84,2),AU$2))<>0),\"Closed\",\"Open\")","v":"Open"},{"$f":"IF((COUNTIF('HOLIDAYS NF'!$B:$DZ,CONCATENATE(LEFT($A84,2),AV$2))<>0),\"Closed\",\"Open\")","v":"Open"},{"$f":"IF((COUNTIF('HOLIDAYS NF'!$B:$DZ,CONCATENATE(LEFT($A84,2),AW$2))<>0),\"Closed\",\"Open\")","v":"Open"},{"$f":"IF((COUNTIF('HOLIDAYS NF'!$B:$DZ,CONCATENATE(LEFT($A84,2),AX$2))<>0),\"Closed\",\"Open\")","v":"Open"},{"$f":"IF((COUNTIF('HOLIDAYS NF'!$B:$DZ,CONCATENATE(LEFT($A84,2),AY$2))<>0),\"Closed\",\"Open\")","v":"Open"},{"$f":"IF((COUNTIF('HOLIDAYS NF'!$B:$DZ,CONCATENATE(LEFT($A84,2),AZ$2))<>0),\"Closed\",\"Open\")","v":"Open"},{"$f":"IF((COUNTIF('HOLIDAYS NF'!$B:$DZ,CONCATENATE(LEFT($A84,2),BA$2))<>0),\"Closed\",\"Open\")","v":"Open"},{"$f":"IF((COUNTIF('HOLIDAYS NF'!$B:$DZ,CONCATENATE(LEFT($A84,2),BB$2))<>0),\"Closed\",\"Open\")","v":"Open"},{"$f":"IF((COUNTIF('HOLIDAYS NF'!$B:$DZ,CONCATENATE(LEFT($A84,2),BC$2))<>0),\"Closed\",\"Open\")","v":"Open"},{"$f":"IF((COUNTIF('HOLIDAYS NF'!$B:$DZ,CONCATENATE(LEFT($A84,2),BD$2))<>0),\"Closed\",\"Open\")","v":"Open"},{"$f":"IF((COUNTIF('HOLIDAYS NF'!$B:$DZ,CONCATENATE(LEFT($A84,2),BE$2))<>0),\"Closed\",\"Open\")","v":"Open"},{"$f":"IF((COUNTIF('HOLIDAYS NF'!$B:$DZ,CONCATENATE(LEFT($A84,2),BF$2))<>0),\"Closed\",\"Open\")","v":"Open"},{"$f":"IF((COUNTIF('HOLIDAYS NF'!$B:$DZ,CONCATENATE(LEFT($A84,2),BG$2))<>0),\"Closed\",\"Open\")","v":"Open"},{"$f":"IF((COUNTIF('HOLIDAYS NF'!$B:$DZ,CONCATENATE(LEFT($A84,2),BH$2))<>0),\"Closed\",\"Open\")","v":"Open"},{"$f":"IF((COUNTIF('HOLIDAYS NF'!$B:$DZ,CONCATENATE(LEFT($A84,2),BI$2))<>0),\"Closed\",\"Open\")","v":"Open"},{"$f":"IF((COUNTIF('HOLIDAYS NF'!$B:$DZ,CONCATENATE(LEFT($A84,2),BJ$2))<>0),\"Closed\",\"Open\")","v":"Open"}]
["CR",{"$f":"SUMIF(Holdings!G:G,(CONCATENATE($B$1,\"-\",A85,)),Holdings!H:H)","v":0},"Costa Rica",{"$f":"IF((COUNTIF('HOLIDAYS NF'!$B:$DZ,CONCATENATE(LEFT($A85,2),D$2))<>0),\"Closed\",\"Open\")","v":"Open"},{"$f":"IF((COUNTIF('HOLIDAYS NF'!$B:$DZ,CONCATENATE(LEFT($A85,2),E$2))<>0),\"Closed\",\"Open\")","v":"Open"},{"$f":"IF((COUNTIF('HOLIDAYS NF'!$B:$DZ,CONCATENATE(LEFT($A85,2),F$2))<>0),\"Closed\",\"Open\")","v":"Open"},{"$f":"IF((COUNTIF('HOLIDAYS NF'!$B:$DZ,CONCATENATE(LEFT($A85,2),G$2))<>0),\"Closed\",\"Open\")","v":"Open"},{"$f":"IF((COUNTIF('HOLIDAYS NF'!$B:$DZ,CONCATENATE(LEFT($A85,2),H$2))<>0),\"Closed\",\"Open\")","v":"Open"},{"$f":"IF((COUNTIF('HOLIDAYS NF'!$B:$DZ,CONCATENATE(LEFT($A85,2),I$2))<>0),\"Closed\",\"Open\")","v":"Open"},{"$f":"IF((COUNTIF('HOLIDAYS NF'!$B:$DZ,CONCATENATE(LEFT($A85,2),J$2))<>0),\"Closed\",\"Open\")","v":"Open"},{"$f":"IF((COUNTIF('HOLIDAYS NF'!$B:$DZ,CONCATENATE(LEFT($A85,2),K$2))<>0),\"Closed\",\"Open\")","v":"Open"},{"$f":"IF((COUNTIF('HOLIDAYS NF'!$B:$DZ,CONCATENATE(LEFT($A85,2),L$2))<>0),\"Closed\",\"Open\")","v":"Open"},{"$f":"IF((COUNTIF('HOLIDAYS NF'!$B:$DZ,CONCATENATE(LEFT($A85,2),M$2))<>0),\"Closed\",\"Open\")","v":"Open"},{"$f":"IF((COUNTIF('HOLIDAYS NF'!$B:$DZ,CONCATENATE(LEFT($A85,2),N$2))<>0),\"Closed\",\"Open\")","v":"Open"},{"$f":"IF((COUNTIF('HOLIDAYS NF'!$B:$DZ,CONCATENATE(LEFT($A85,2),O$2))<>0),\"Closed\",\"Open\")","v":"Open"},{"$f":"IF((COUNTIF('HOLIDAYS NF'!$B:$DZ,CONCATENATE(LEFT($A85,2),P$2))<>0),\"Closed\",\"Open\")","v":"Open"},{"$f":"IF((COUNTIF('HOLIDAYS NF'!$B:$DZ,CONCATENATE(LEFT($A85,2),Q$2))<>0),\"Closed\",\"Open\")","v":"Open"},{"$f":"IF((COUNTIF('HOLIDAYS NF'!$B:$DZ,CONCATENATE(LEFT($A85,2),R$2))<>0),\"Closed\",\"Open\")","v":"Open"},{"$f":"IF((COUNTIF('HOLIDAYS NF'!$B:$DZ,CONCATENATE(LEFT($A85,2),S$2))<>0),\"Closed\",\"Open\")","v":"Open"},{"$f":"IF((COUNTIF('HOLIDAYS NF'!$B:$DZ,CONCATENATE(LEFT($A85,2),T$2))<>0),\"Closed\",\"Open\")","v":"Open"},{"$f":"IF((COUNTIF('HOLIDAYS NF'!$B:$DZ,CONCATENATE(LEFT($A85,2),U$2))<>0),\"Closed\",\"Open\")","v":"Open"},{"$f":"IF((COUNTIF('HOLIDAYS NF'!$B:$DZ,CONCATENATE(LEFT($A85,2),V$2))<>0),\"Closed\",\"Open\")","v":"Open"},{"$f":"IF((COUNTIF('HOLIDAYS NF'!$B:$DZ,CONCATENATE(LEFT($A85,2),W$2))<>0),\"Closed\",\"Open\")","v":"Open"},{"$f":"IF((COUNTIF('HOLIDAYS NF'!$B:$DZ,CONCATENATE(LEFT($A85,2),X$2))<>0),\"Closed\",\"Open\")","v":"Open"},{"$f":"IF((COUNTIF('HOLIDAYS NF'!$B:$DZ,CONCATENATE(LEFT($A85,2),Y$2))<>0),\"Closed\",\"Open\")","v":"Open"},{"$f":"IF((COUNTIF('HOLIDAYS NF'!$B:$DZ,CONCATENATE(LEFT($A85,2),Z$2))<>0),\"Closed\",\"Open\")","v":"Open"},{"$f":"IF((COUNTIF('HOLIDAYS NF'!$B:$DZ,CONCATENATE(LEFT($A85,2),AA$2))<>0),\"Closed\",\"Open\")","v":"Open"},{"$f":"IF((COUNTIF('HOLIDAYS NF'!$B:$DZ,CONCATENATE(LEFT($A85,2),AB$2))<>0),\"Closed\",\"Open\")","v":"Open"},{"$f":"IF((COUNTIF('HOLIDAYS NF'!$B:$DZ,CONCATENATE(LEFT($A85,2),AC$2))<>0),\"Closed\",\"Open\")","v":"Open"},{"$f":"IF((COUNTIF('HOLIDAYS NF'!$B:$DZ,CONCATENATE(LEFT($A85,2),AD$2))<>0),\"Closed\",\"Open\")","v":"Open"},{"$f":"IF((COUNTIF('HOLIDAYS NF'!$B:$DZ,CONCATENATE(LEFT($A85,2),AE$2))<>0),\"Closed\",\"Open\")","v":"Open"},{"$f":"IF((COUNTIF('HOLIDAYS NF'!$B:$DZ,CONCATENATE(LEFT($A85,2),AF$2))<>0),\"Closed\",\"Open\")","v":"Open"},{"$f":"IF((COUNTIF('HOLIDAYS NF'!$B:$DZ,CONCATENATE(LEFT($A85,2),AG$2))<>0),\"Closed\",\"Open\")","v":"Open"},{"$f":"IF((COUNTIF('HOLIDAYS NF'!$B:$DZ,CONCATENATE(LEFT($A85,2),AH$2))<>0),\"Closed\",\"Open\")","v":"Open"},{"$f":"IF((COUNTIF('HOLIDAYS NF'!$B:$DZ,CONCATENATE(LEFT($A85,2),AI$2))<>0),\"Closed\",\"Open\")","v":"Open"},{"$f":"IF((COUNTIF('HOLIDAYS NF'!$B:$DZ,CONCATENATE(LEFT($A85,2),AJ$2))<>0),\"Closed\",\"Open\")","v":"Open"},{"$f":"IF((COUNTIF('HOLIDAYS NF'!$B:$DZ,CONCATENATE(LEFT($A85,2),AK$2))<>0),\"Closed\",\"Open\")","v":"Open"},{"$f":"IF((COUNTIF('HOLIDAYS NF'!$B:$DZ,CONCATENATE(LEFT($A85,2),AL$2))<>0),\"Closed\",\"Open\")","v":"Open"},{"$f":"IF((COUNTIF('HOLIDAYS NF'!$B:$DZ,CONCATENATE(LEFT($A85,2),AM$2))<>0),\"Closed\",\"Open\")","v":"Open"},{"$f":"IF((COUNTIF('HOLIDAYS NF'!$B:$DZ,CONCATENATE(LEFT($A85,2),AN$2))<>0),\"Closed\",\"Open\")","v":"Open"},{"$f":"IF((COUNTIF('HOLIDAYS NF'!$B:$DZ,CONCATENATE(LEFT($A85,2),AO$2))<>0),\"Closed\",\"Open\")","v":"Open"},{"$f":"IF((COUNTIF('HOLIDAYS NF'!$B:$DZ,CONCATENATE(LEFT($A85,2),AP$2))<>0),\"Closed\",\"Open\")","v":"Open"},{"$f":"IF((COUNTIF('HOLIDAYS NF'!$B:$DZ,CONCATENATE(LEFT($A85,2),AQ$2))<>0),\"Closed\",\"Open\")","v":"Open"},{"$f":"IF((COUNTIF('HOLIDAYS NF'!$B:$DZ,CONCATENATE(LEFT($A85,2),AR$2))<>0),\"Closed\",\"Open\")","v":"Open"},{"$f":"IF((COUNTIF('HOLIDAYS NF'!$B:$DZ,CONCATENATE(LEFT($A85,2),AS$2))<>0),\"Closed\",\"Open\")","v":"Open"},{"$f":"IF((COUNTIF('HOLIDAYS NF'!$B:$DZ,CONCATENATE(LEFT($A85,2),AT$2))<>0),\"Closed\",\"Open\")","v":"Open"},{"$f":"IF((COUNTIF('HOLIDAYS NF'!$B:$DZ,CONCATENATE(LEFT($A85,2),AU$2))<>0),\"Closed\",\"Open\")","v":"Open"},{"$f":"IF((COUNTIF('HOLIDAYS NF'!$B:$DZ,CONCATENATE(LEFT($A85,2),AV$2))<>0),\"Closed\",\"Open\")","v":"Open"},{"$f":"IF((COUNTIF('HOLIDAYS NF'!$B:$DZ,CONCATENATE(LEFT($A85,2),AW$2))<>0),\"Closed\",\"Open\")","v":"Open"},{"$f":"IF((COUNTIF('HOLIDAYS NF'!$B:$DZ,CONCATENATE(LEFT($A85,2),AX$2))<>0),\"Closed\",\"Open\")","v":"Open"},{"$f":"IF((COUNTIF('HOLIDAYS NF'!$B:$DZ,CONCATENATE(LEFT($A85,2),AY$2))<>0),\"Closed\",\"Open\")","v":"Open"},{"$f":"IF((COUNTIF('HOLIDAYS NF'!$B:$DZ,CONCATENATE(LEFT($A85,2),AZ$2))<>0),\"Closed\",\"Open\")","v":"Open"},{"$f":"IF((COUNTIF('HOLIDAYS NF'!$B:$DZ,CONCATENATE(LEFT($A85,2),BA$2))<>0),\"Closed\",\"Open\")","v":"Open"},{"$f":"IF((COUNTIF('HOLIDAYS NF'!$B:$DZ,CONCATENATE(LEFT($A85,2),BB$2))<>0),\"Closed\",\"Open\")","v":"Open"},{"$f":"IF((COUNTIF('HOLIDAYS NF'!$B:$DZ,CONCATENATE(LEFT($A85,2),BC$2))<>0),\"Closed\",\"Open\")","v":"Open"},{"$f":"IF((COUNTIF('HOLIDAYS NF'!$B:$DZ,CONCATENATE(LEFT($A85,2),BD$2))<>0),\"Closed\",\"Open\")","v":"Open"},{"$f":"IF((COUNTIF('HOLIDAYS NF'!$B:$DZ,CONCATENATE(LEFT($A85,2),BE$2))<>0),\"Closed\",\"Open\")","v":"Open"},{"$f":"IF((COUNTIF('HOLIDAYS NF'!$B:$DZ,CONCATENATE(LEFT($A85,2),BF$2))<>0),\"Closed\",\"Open\")","v":"Open"},{"$f":"IF((COUNTIF('HOLIDAYS NF'!$B:$DZ,CONCATENATE(LEFT($A85,2),BG$2))<>0),\"Closed\",\"Open\")","v":"Open"},{"$f":"IF((COUNTIF('HOLIDAYS NF'!$B:$DZ,CONCATENATE(LEFT($A85,2),BH$2))<>0),\"Closed\",\"Open\")","v":"Open"},{"$f":"IF((COUNTIF('HOLIDAYS NF'!$B:$DZ,CONCATENATE(LEFT($A85,2),BI$2))<>0),\"Closed\",\"Open\")","v":"Open"},{"$f":"IF((COUNTIF('HOLIDAYS NF'!$B:$DZ,CONCATENATE(LEFT($A85,2),BJ$2))<>0),\"Closed\",\"Open\")","v":"Open"}]
["DO",{"$f":"SUMIF(Holdings!G:G,(CONCATENATE($B$1,\"-\",A86,)),Holdings!H:H)","v":0},"Dominican Republic",{"$f":"IF((COUNTIF('HOLIDAYS NF'!$B:$DZ,CONCATENATE(LEFT($A86,2),D$2))<>0),\"Closed\",\"Open\")","v":"Open"},{"$f":"IF((COUNTIF('HOLIDAYS NF'!$B:$DZ,CONCATENATE(LEFT($A86,2),E$2))<>0),\"Closed\",\"Open\")","v":"Open"},{"$f":"IF((COUNTIF('HOLIDAYS NF'!$B:$DZ,CONCATENATE(LEFT($A86,2),F$2))<>0),\"Closed\",\"Open\")","v":"Open"},{"$f":"IF((COUNTIF('HOLIDAYS NF'!$B:$DZ,CONCATENATE(LEFT($A86,2),G$2))<>0),\"Closed\",\"Open\")","v":"Open"},{"$f":"IF((COUNTIF('HOLIDAYS NF'!$B:$DZ,CONCATENATE(LEFT($A86,2),H$2))<>0),\"Closed\",\"Open\")","v":"Open"},{"$f":"IF((COUNTIF('HOLIDAYS NF'!$B:$DZ,CONCATENATE(LEFT($A86,2),I$2))<>0),\"Closed\",\"Open\")","v":"Open"},{"$f":"IF((COUNTIF('HOLIDAYS NF'!$B:$DZ,CONCATENATE(LEFT($A86,2),J$2))<>0),\"Closed\",\"Open\")","v":"Open"},{"$f":"IF((COUNTIF('HOLIDAYS NF'!$B:$DZ,CONCATENATE(LEFT($A86,2),K$2))<>0),\"Closed\",\"Open\")","v":"Open"},{"$f":"IF((COUNTIF('HOLIDAYS NF'!$B:$DZ,CONCATENATE(LEFT($A86,2),L$2))<>0),\"Closed\",\"Open\")","v":"Open"},{"$f":"IF((COUNTIF('HOLIDAYS NF'!$B:$DZ,CONCATENATE(LEFT($A86,2),M$2))<>0),\"Closed\",\"Open\")","v":"Open"},{"$f":"IF((COUNTIF('HOLIDAYS NF'!$B:$DZ,CONCATENATE(LEFT($A86,2),N$2))<>0),\"Closed\",\"Open\")","v":"Open"},{"$f":"IF((COUNTIF('HOLIDAYS NF'!$B:$DZ,CONCATENATE(LEFT($A86,2),O$2))<>0),\"Closed\",\"Open\")","v":"Open"},{"$f":"IF((COUNTIF('HOLIDAYS NF'!$B:$DZ,CONCATENATE(LEFT($A86,2),P$2))<>0),\"Closed\",\"Open\")","v":"Open"},{"$f":"IF((COUNTIF('HOLIDAYS NF'!$B:$DZ,CONCATENATE(LEFT($A86,2),Q$2))<>0),\"Closed\",\"Open\")","v":"Open"},{"$f":"IF((COUNTIF('HOLIDAYS NF'!$B:$DZ,CONCATENATE(LEFT($A86,2),R$2))<>0),\"Closed\",\"Open\")","v":"Open"},{"$f":"IF((COUNTIF('HOLIDAYS NF'!$B:$DZ,CONCATENATE(LEFT($A86,2),S$2))<>0),\"Closed\",\"Open\")","v":"Open"},{"$f":"IF((COUNTIF('HOLIDAYS NF'!$B:$DZ,CONCATENATE(LEFT($A86,2),T$2))<>0),\"Closed\",\"Open\")","v":"Open"},{"$f":"IF((COUNTIF('HOLIDAYS NF'!$B:$DZ,CONCATENATE(LEFT($A86,2),U$2))<>0),\"Closed\",\"Open\")","v":"Open"},{"$f":"IF((COUNTIF('HOLIDAYS NF'!$B:$DZ,CONCATENATE(LEFT($A86,2),V$2))<>0),\"Closed\",\"Open\")","v":"Open"},{"$f":"IF((COUNTIF('HOLIDAYS NF'!$B:$DZ,CONCATENATE(LEFT($A86,2),W$2))<>0),\"Closed\",\"Open\")","v":"Open"},{"$f":"IF((COUNTIF('HOLIDAYS NF'!$B:$DZ,CONCATENATE(LEFT($A86,2),X$2))<>0),\"Closed\",\"Open\")","v":"Open"},{"$f":"IF((COUNTIF('HOLIDAYS NF'!$B:$DZ,CONCATENATE(LEFT($A86,2),Y$2))<>0),\"Closed\",\"Open\")","v":"Open"},{"$f":"IF((COUNTIF('HOLIDAYS NF'!$B:$DZ,CONCATENATE(LEFT($A86,2),Z$2))<>0),\"Closed\",\"Open\")","v":"Open"},{"$f":"IF((COUNTIF('HOLIDAYS NF'!$B:$DZ,CONCATENATE(LEFT($A86,2),AA$2))<>0),\"Closed\",\"Open\")","v":"Open"},{"$f":"IF((COUNTIF('HOLIDAYS NF'!$B:$DZ,CONCATENATE(LEFT($A86,2),AB$2))<>0),\"Closed\",\"Open\")","v":"Open"},{"$f":"IF((COUNTIF('HOLIDAYS NF'!$B:$DZ,CONCATENATE(LEFT($A86,2),AC$2))<>0),\"Closed\",\"Open\")","v":"Open"},{"$f":"IF((COUNTIF('HOLIDAYS NF'!$B:$DZ,CONCATENATE(LEFT($A86,2),AD$2))<>0),\"Closed\",\"Open\")","v":"Open"},{"$f":"IF((COUNTIF('HOLIDAYS NF'!$B:$DZ,CONCATENATE(LEFT($A86,2),AE$2))<>0),\"Closed\",\"Open\")","v":"Open"},{"$f":"IF((COUNTIF('HOLIDAYS NF'!$B:$DZ,CONCATENATE(LEFT($A86,2),AF$2))<>0),\"Closed\",\"Open\")","v":"Open"},{"$f":"IF((COUNTIF('HOLIDAYS NF'!$B:$DZ,CONCATENATE(LEFT($A86,2),AG$2))<>0),\"Closed\",\"Open\")","v":"Open"},{"$f":"IF((COUNTIF('HOLIDAYS NF'!$B:$DZ,CONCATENATE(LEFT($A86,2),AH$2))<>0),\"Closed\",\"Open\")","v":"Open"},{"$f":"IF((COUNTIF('HOLIDAYS NF'!$B:$DZ,CONCATENATE(LEFT($A86,2),AI$2))<>0),\"Closed\",\"Open\")","v":"Open"},{"$f":"IF((COUNTIF('HOLIDAYS NF'!$B:$DZ,CONCATENATE(LEFT($A86,2),AJ$2))<>0),\"Closed\",\"Open\")","v":"Open"},{"$f":"IF((COUNTIF('HOLIDAYS NF'!$B:$DZ,CONCATENATE(LEFT($A86,2),AK$2))<>0),\"Closed\",\"Open\")","v":"Open"},{"$f":"IF((COUNTIF('HOLIDAYS NF'!$B:$DZ,CONCATENATE(LEFT($A86,2),AL$2))<>0),\"Closed\",\"Open\")","v":"Open"},{"$f":"IF((COUNTIF('HOLIDAYS NF'!$B:$DZ,CONCATENATE(LEFT($A86,2),AM$2))<>0),\"Closed\",\"Open\")","v":"Open"},{"$f":"IF((COUNTIF('HOLIDAYS NF'!$B:$DZ,CONCATENATE(LEFT($A86,2),AN$2))<>0),\"Closed\",\"Open\")","v":"Open"},{"$f":"IF((COUNTIF('HOLIDAYS NF'!$B:$DZ,CONCATENATE(LEFT($A86,2),AO$2))<>0),\"Closed\",\"Open\")","v":"Open"},{"$f":"IF((COUNTIF('HOLIDAYS NF'!$B:$DZ,CONCATENATE(LEFT($A86,2),AP$2))<>0),\"Closed\",\"Open\")","v":"Open"},{"$f":"IF((COUNTIF('HOLIDAYS NF'!$B:$DZ,CONCATENATE(LEFT($A86,2),AQ$2))<>0),\"Closed\",\"Open\")","v":"Open"},{"$f":"IF((COUNTIF('HOLIDAYS NF'!$B:$DZ,CONCATENATE(LEFT($A86,2),AR$2))<>0),\"Closed\",\"Open\")","v":"Open"},{"$f":"IF((COUNTIF('HOLIDAYS NF'!$B:$DZ,CONCATENATE(LEFT($A86,2),AS$2))<>0),\"Closed\",\"Open\")","v":"Open"},{"$f":"IF((COUNTIF('HOLIDAYS NF'!$B:$DZ,CONCATENATE(LEFT($A86,2),AT$2))<>0),\"Closed\",\"Open\")","v":"Open"},{"$f":"IF((COUNTIF('HOLIDAYS NF'!$B:$DZ,CONCATENATE(LEFT($A86,2),AU$2))<>0),\"Closed\",\"Open\")","v":"Open"},{"$f":"IF((COUNTIF('HOLIDAYS NF'!$B:$DZ,CONCATENATE(LEFT($A86,2),AV$2))<>0),\"Closed\",\"Open\")","v":"Open"},{"$f":"IF((COUNTIF('HOLIDAYS NF'!$B:$DZ,CONCATENATE(LEFT($A86,2),AW$2))<>0),\"Closed\",\"Open\")","v":"Open"},{"$f":"IF((COUNTIF('HOLIDAYS NF'!$B:$DZ,CONCATENATE(LEFT($A86,2),AX$2))<>0),\"Closed\",\"Open\")","v":"Open"},{"$f":"IF((COUNTIF('HOLIDAYS NF'!$B:$DZ,CONCATENATE(LEFT($A86,2),AY$2))<>0),\"Closed\",\"Open\")","v":"Open"},{"$f":"IF((COUNTIF('HOLIDAYS NF'!$B:$DZ,CONCATENATE(LEFT($A86,2),AZ$2))<>0),\"Closed\",\"Open\")","v":"Open"},{"$f":"IF((COUNTIF('HOLIDAYS NF'!$B:$DZ,CONCATENATE(LEFT($A86,2),BA$2))<>0),\"Closed\",\"Open\")","v":"Open"},{"$f":"IF((COUNTIF('HOLIDAYS NF'!$B:$DZ,CONCATENATE(LEFT($A86,2),BB$2))<>0),\"Closed\",\"Open\")","v":"Open"},{"$f":"IF((COUNTIF('HOLIDAYS NF'!$B:$DZ,CONCATENATE(LEFT($A86,2),BC$2))<>0),\"Closed\",\"Open\")","v":"Open"},{"$f":"IF((COUNTIF('HOLIDAYS NF'!$B:$DZ,CONCATENATE(LEFT($A86,2),BD$2))<>0),\"Closed\",\"Open\")","v":"Open"},{"$f":"IF((COUNTIF('HOLIDAYS NF'!$B:$DZ,CONCATENATE(LEFT($A86,2),BE$2))<>0),\"Closed\",\"Open\")","v":"Open"},{"$f":"IF((COUNTIF('HOLIDAYS NF'!$B:$DZ,CONCATENATE(LEFT($A86,2),BF$2))<>0),\"Closed\",\"Open\")","v":"Open"},{"$f":"IF((COUNTIF('HOLIDAYS NF'!$B:$DZ,CONCATENATE(LEFT($A86,2),BG$2))<>0),\"Closed\",\"Open\")","v":"Open"},{"$f":"IF((COUNTIF('HOLIDAYS NF'!$B:$DZ,CONCATENATE(LEFT($A86,2),BH$2))<>0),\"Closed\",\"Open\")","v":"Open"},{"$f":"IF((COUNTIF('HOLIDAYS NF'!$B:$DZ,CONCATENATE(LEFT($A86,2),BI$2))<>0),\"Closed\",\"Open\")","v":"Open"},{"$f":"IF((COUNTIF('HOLIDAYS NF'!$B:$DZ,CONCATENATE(LEFT($A86,2),BJ$2))<>0),\"Closed\",\"Open\")","v":"Open"}]
["JO",{"$f":"SUMIF(Holdings!G:G,(CONCATENATE($B$1,\"-\",A87,)),Holdings!H:H)","v":0},"Jordon",{"$f":"IF((COUNTIF('HOLIDAYS NF'!$B:$DZ,CONCATENATE(LEFT($A87,2),D$2))<>0),\"Closed\",\"Open\")","v":"Open"},{"$f":"IF((COUNTIF('HOLIDAYS NF'!$B:$DZ,CONCATENATE(LEFT($A87,2),E$2))<>0),\"Closed\",\"Open\")","v":"Open"},{"$f":"IF((COUNTIF('HOLIDAYS NF'!$B:$DZ,CONCATENATE(LEFT($A87,2),F$2))<>0),\"Closed\",\"Open\")","v":"Open"},{"$f":"IF((COUNTIF('HOLIDAYS NF'!$B:$DZ,CONCATENATE(LEFT($A87,2),G$2))<>0),\"Closed\",\"Open\")","v":"Open"},{"$f":"IF((COUNTIF('HOLIDAYS NF'!$B:$DZ,CONCATENATE(LEFT($A87,2),H$2))<>0),\"Closed\",\"Open\")","v":"Open"},{"$f":"IF((COUNTIF('HOLIDAYS NF'!$B:$DZ,CONCATENATE(LEFT($A87,2),I$2))<>0),\"Closed\",\"Open\")","v":"Open"},{"$f":"IF((COUNTIF('HOLIDAYS NF'!$B:$DZ,CONCATENATE(LEFT($A87,2),J$2))<>0),\"Closed\",\"Open\")","v":"Open"},{"$f":"IF((COUNTIF('HOLIDAYS NF'!$B:$DZ,CONCATENATE(LEFT($A87,2),K$2))<>0),\"Closed\",\"Open\")","v":"Open"},{"$f":"IF((COUNTIF('HOLIDAYS NF'!$B:$DZ,CONCATENATE(LEFT($A87,2),L$2))<>0),\"Closed\",\"Open\")","v":"Open"},{"$f":"IF((COUNTIF('HOLIDAYS NF'!$B:$DZ,CONCATENATE(LEFT($A87,2),M$2))<>0),\"Closed\",\"Open\")","v":"Open"},{"$f":"IF((COUNTIF('HOLIDAYS NF'!$B:$DZ,CONCATENATE(LEFT($A87,2),N$2))<>0),\"Closed\",\"Open\")","v":"Open"},{"$f":"IF((COUNTIF('HOLIDAYS NF'!$B:$DZ,CONCATENATE(LEFT($A87,2),O$2))<>0),\"Closed\",\"Open\")","v":"Open"},{"$f":"IF((COUNTIF('HOLIDAYS NF'!$B:$DZ,CONCATENATE(LEFT($A87,2),P$2))<>0),\"Closed\",\"Open\")","v":"Open"},{"$f":"IF((COUNTIF('HOLIDAYS NF'!$B:$DZ,CONCATENATE(LEFT($A87,2),Q$2))<>0),\"Closed\",\"Open\")","v":"Open"},{"$f":"IF((COUNTIF('HOLIDAYS NF'!$B:$DZ,CONCATENATE(LEFT($A87,2),R$2))<>0),\"Closed\",\"Open\")","v":"Open"},{"$f":"IF((COUNTIF('HOLIDAYS NF'!$B:$DZ,CONCATENATE(LEFT($A87,2),S$2))<>0),\"Closed\",\"Open\")","v":"Open"},{"$f":"IF((COUNTIF('HOLIDAYS NF'!$B:$DZ,CONCATENATE(LEFT($A87,2),T$2))<>0),\"Closed\",\"Open\")","v":"Open"},{"$f":"IF((COUNTIF('HOLIDAYS NF'!$B:$DZ,CONCATENATE(LEFT($A87,2),U$2))<>0),\"Closed\",\"Open\")","v":"Open"},{"$f":"IF((COUNTIF('HOLIDAYS NF'!$B:$DZ,CONCATENATE(LEFT($A87,2),V$2))<>0),\"Closed\",\"Open\")","v":"Open"},{"$f":"IF((COUNTIF('HOLIDAYS NF'!$B:$DZ,CONCATENATE(LEFT($A87,2),W$2))<>0),\"Closed\",\"Open\")","v":"Open"},{"$f":"IF((COUNTIF('HOLIDAYS NF'!$B:$DZ,CONCATENATE(LEFT($A87,2),X$2))<>0),\"Closed\",\"Open\")","v":"Open"},{"$f":"IF((COUNTIF('HOLIDAYS NF'!$B:$DZ,CONCATENATE(LEFT($A87,2),Y$2))<>0),\"Closed\",\"Open\")","v":"Open"},{"$f":"IF((COUNTIF('HOLIDAYS NF'!$B:$DZ,CONCATENATE(LEFT($A87,2),Z$2))<>0),\"Closed\",\"Open\")","v":"Open"},{"$f":"IF((COUNTIF('HOLIDAYS NF'!$B:$DZ,CONCATENATE(LEFT($A87,2),AA$2))<>0),\"Closed\",\"Open\")","v":"Open"},{"$f":"IF((COUNTIF('HOLIDAYS NF'!$B:$DZ,CONCATENATE(LEFT($A87,2),AB$2))<>0),\"Closed\",\"Open\")","v":"Open"},{"$f":"IF((COUNTIF('HOLIDAYS NF'!$B:$DZ,CONCATENATE(LEFT($A87,2),AC$2))<>0),\"Closed\",\"Open\")","v":"Open"},{"$f":"IF((COUNTIF('HOLIDAYS NF'!$B:$DZ,CONCATENATE(LEFT($A87,2),AD$2))<>0),\"Closed\",\"Open\")","v":"Open"},{"$f":"IF((COUNTIF('HOLIDAYS NF'!$B:$DZ,CONCATENATE(LEFT($A87,2),AE$2))<>0),\"Closed\",\"Open\")","v":"Open"},{"$f":"IF((COUNTIF('HOLIDAYS NF'!$B:$DZ,CONCATENATE(LEFT($A87,2),AF$2))<>0),\"Closed\",\"Open\")","v":"Open"},{"$f":"IF((COUNTIF('HOLIDAYS NF'!$B:$DZ,CONCATENATE(LEFT($A87,2),AG$2))<>0),\"Closed\",\"Open\")","v":"Open"},{"$f":"IF((COUNTIF('HOLIDAYS NF'!$B:$DZ,CONCATENATE(LEFT($A87,2),AH$2))<>0),\"Closed\",\"Open\")","v":"Open"},{"$f":"IF((COUNTIF('HOLIDAYS NF'!$B:$DZ,CONCATENATE(LEFT($A87,2),AI$2))<>0),\"Closed\",\"Open\")","v":"Open"},{"$f":"IF((COUNTIF('HOLIDAYS NF'!$B:$DZ,CONCATENATE(LEFT($A87,2),AJ$2))<>0),\"Closed\",\"Open\")","v":"Open"},{"$f":"IF((COUNTIF('HOLIDAYS NF'!$B:$DZ,CONCATENATE(LEFT($A87,2),AK$2))<>0),\"Closed\",\"Open\")","v":"Open"},{"$f":"IF((COUNTIF('HOLIDAYS NF'!$B:$DZ,CONCATENATE(LEFT($A87,2),AL$2))<>0),\"Closed\",\"Open\")","v":"Open"},{"$f":"IF((COUNTIF('HOLIDAYS NF'!$B:$DZ,CONCATENATE(LEFT($A87,2),AM$2))<>0),\"Closed\",\"Open\")","v":"Open"},{"$f":"IF((COUNTIF('HOLIDAYS NF'!$B:$DZ,CONCATENATE(LEFT($A87,2),AN$2))<>0),\"Closed\",\"Open\")","v":"Open"},{"$f":"IF((COUNTIF('HOLIDAYS NF'!$B:$DZ,CONCATENATE(LEFT($A87,2),AO$2))<>0),\"Closed\",\"Open\")","v":"Open"},{"$f":"IF((COUNTIF('HOLIDAYS NF'!$B:$DZ,CONCATENATE(LEFT($A87,2),AP$2))<>0),\"Closed\",\"Open\")","v":"Open"},{"$f":"IF((COUNTIF('HOLIDAYS NF'!$B:$DZ,CONCATENATE(LEFT($A87,2),AQ$2))<>0),\"Closed\",\"Open\")","v":"Open"},{"$f":"IF((COUNTIF('HOLIDAYS NF'!$B:$DZ,CONCATENATE(LEFT($A87,2),AR$2))<>0),\"Closed\",\"Open\")","v":"Open"},{"$f":"IF((COUNTIF('HOLIDAYS NF'!$B:$DZ,CONCATENATE(LEFT($A87,2),AS$2))<>0),\"Closed\",\"Open\")","v":"Open"},{"$f":"IF((COUNTIF('HOLIDAYS NF'!$B:$DZ,CONCATENATE(LEFT($A87,2),AT$2))<>0),\"Closed\",\"Open\")","v":"Open"},{"$f":"IF((COUNTIF('HOLIDAYS NF'!$B:$DZ,CONCATENATE(LEFT($A87,2),AU$2))<>0),\"Closed\",\"Open\")","v":"Open"},{"$f":"IF((COUNTIF('HOLIDAYS NF'!$B:$DZ,CONCATENATE(LEFT($A87,2),AV$2))<>0),\"Closed\",\"Open\")","v":"Open"},{"$f":"IF((COUNTIF('HOLIDAYS NF'!$B:$DZ,CONCATENATE(LEFT($A87,2),AW$2))<>0),\"Closed\",\"Open\")","v":"Open"},{"$f":"IF((COUNTIF('HOLIDAYS NF'!$B:$DZ,CONCATENATE(LEFT($A87,2),AX$2))<>0),\"Closed\",\"Open\")","v":"Open"},{"$f":"IF((COUNTIF('HOLIDAYS NF'!$B:$DZ,CONCATENATE(LEFT($A87,2),AY$2))<>0),\"Closed\",\"Open\")","v":"Open"},{"$f":"IF((COUNTIF('HOLIDAYS NF'!$B:$DZ,CONCATENATE(LEFT($A87,2),AZ$2))<>0),\"Closed\",\"Open\")","v":"Open"},{"$f":"IF((COUNTIF('HOLIDAYS NF'!$B:$DZ,CONCATENATE(LEFT($A87,2),BA$2))<>0),\"Closed\",\"Open\")","v":"Open"},{"$f":"IF((COUNTIF('HOLIDAYS NF'!$B:$DZ,CONCATENATE(LEFT($A87,2),BB$2))<>0),\"Closed\",\"Open\")","v":"Open"},{"$f":"IF((COUNTIF('HOLIDAYS NF'!$B:$DZ,CONCATENATE(LEFT($A87,2),BC$2))<>0),\"Closed\",\"Open\")","v":"Open"},{"$f":"IF((COUNTIF('HOLIDAYS NF'!$B:$DZ,CONCATENATE(LEFT($A87,2),BD$2))<>0),\"Closed\",\"Open\")","v":"Open"},{"$f":"IF((COUNTIF('HOLIDAYS NF'!$B:$DZ,CONCATENATE(LEFT($A87,2),BE$2))<>0),\"Closed\",\"Open\")","v":"Open"},{"$f":"IF((COUNTIF('HOLIDAYS NF'!$B:$DZ,CONCATENATE(LEFT($A87,2),BF$2))<>0),\"Closed\",\"Open\")","v":"Open"},{"$f":"IF((COUNTIF('HOLIDAYS NF'!$B:$DZ,CONCATENATE(LEFT($A87,2),BG$2))<>0),\"Closed\",\"Open\")","v":"Open"},{"$f":"IF((COUNTIF('HOLIDAYS NF'!$B:$DZ,CONCATENATE(LEFT($A87,2),BH$2))<>0),\"Closed\",\"Open\")","v":"Open"},{"$f":"IF((COUNTIF('HOLIDAYS NF'!$B:$DZ,CONCATENATE(LEFT($A87,2),BI$2))<>0),\"Closed\",\"Open\")","v":"Open"},{"$f":"IF((COUNTIF('HOLIDAYS NF'!$B:$DZ,CONCATENATE(LEFT($A87,2),BJ$2))<>0),\"Closed\",\"Open\")","v":"Open"}]
["NG",{"$f":"SUMIF(Holdings!G:G,(CONCATENATE($B$1,\"-\",A88,)),Holdings!H:H)","v":0},"Nigeria",{"$f":"IF((COUNTIF('HOLIDAYS NF'!$B:$DZ,CONCATENATE(LEFT($A88,2),D$2))<>0),\"Closed\",\"Open\")","v":"Open"},{"$f":"IF((COUNTIF('HOLIDAYS NF'!$B:$DZ,CONCATENATE(LEFT($A88,2),E$2))<>0),\"Closed\",\"Open\")","v":"Open"},{"$f":"IF((COUNTIF('HOLIDAYS NF'!$B:$DZ,CONCATENATE(LEFT($A88,2),F$2))<>0),\"Closed\",\"Open\")","v":"Open"},{"$f":"IF((COUNTIF('HOLIDAYS NF'!$B:$DZ,CONCATENATE(LEFT($A88,2),G$2))<>0),\"Closed\",\"Open\")","v":"Open"},{"$f":"IF((COUNTIF('HOLIDAYS NF'!$B:$DZ,CONCATENATE(LEFT($A88,2),H$2))<>0),\"Closed\",\"Open\")","v":"Open"},{"$f":"IF((COUNTIF('HOLIDAYS NF'!$B:$DZ,CONCATENATE(LEFT($A88,2),I$2))<>0),\"Closed\",\"Open\")","v":"Open"},{"$f":"IF((COUNTIF('HOLIDAYS NF'!$B:$DZ,CONCATENATE(LEFT($A88,2),J$2))<>0),\"Closed\",\"Open\")","v":"Open"},{"$f":"IF((COUNTIF('HOLIDAYS NF'!$B:$DZ,CONCATENATE(LEFT($A88,2),K$2))<>0),\"Closed\",\"Open\")","v":"Open"},{"$f":"IF((COUNTIF('HOLIDAYS NF'!$B:$DZ,CONCATENATE(LEFT($A88,2),L$2))<>0),\"Closed\",\"Open\")","v":"Open"},{"$f":"IF((COUNTIF('HOLIDAYS NF'!$B:$DZ,CONCATENATE(LEFT($A88,2),M$2))<>0),\"Closed\",\"Open\")","v":"Open"},{"$f":"IF((COUNTIF('HOLIDAYS NF'!$B:$DZ,CONCATENATE(LEFT($A88,2),N$2))<>0),\"Closed\",\"Open\")","v":"Open"},{"$f":"IF((COUNTIF('HOLIDAYS NF'!$B:$DZ,CONCATENATE(LEFT($A88,2),O$2))<>0),\"Closed\",\"Open\")","v":"Open"},{"$f":"IF((COUNTIF('HOLIDAYS NF'!$B:$DZ,CONCATENATE(LEFT($A88,2),P$2))<>0),\"Closed\",\"Open\")","v":"Open"},{"$f":"IF((COUNTIF('HOLIDAYS NF'!$B:$DZ,CONCATENATE(LEFT($A88,2),Q$2))<>0),\"Closed\",\"Open\")","v":"Open"},{"$f":"IF((COUNTIF('HOLIDAYS NF'!$B:$DZ,CONCATENATE(LEFT($A88,2),R$2))<>0),\"Closed\",\"Open\")","v":"Open"},{"$f":"IF((COUNTIF('HOLIDAYS NF'!$B:$DZ,CONCATENATE(LEFT($A88,2),S$2))<>0),\"Closed\",\"Open\")","v":"Open"},{"$f":"IF((COUNTIF('HOLIDAYS NF'!$B:$DZ,CONCATENATE(LEFT($A88,2),T$2))<>0),\"Closed\",\"Open\")","v":"Open"},{"$f":"IF((COUNTIF('HOLIDAYS NF'!$B:$DZ,CONCATENATE(LEFT($A88,2),U$2))<>0),\"Closed\",\"Open\")","v":"Open"},{"$f":"IF((COUNTIF('HOLIDAYS NF'!$B:$DZ,CONCATENATE(LEFT($A88,2),V$2))<>0),\"Closed\",\"Open\")","v":"Open"},{"$f":"IF((COUNTIF('HOLIDAYS NF'!$B:$DZ,CONCATENATE(LEFT($A88,2),W$2))<>0),\"Closed\",\"Open\")","v":"Open"},{"$f":"IF((COUNTIF('HOLIDAYS NF'!$B:$DZ,CONCATENATE(LEFT($A88,2),X$2))<>0),\"Closed\",\"Open\")","v":"Open"},{"$f":"IF((COUNTIF('HOLIDAYS NF'!$B:$DZ,CONCATENATE(LEFT($A88,2),Y$2))<>0),\"Closed\",\"Open\")","v":"Open"},{"$f":"IF((COUNTIF('HOLIDAYS NF'!$B:$DZ,CONCATENATE(LEFT($A88,2),Z$2))<>0),\"Closed\",\"Open\")","v":"Open"},{"$f":"IF((COUNTIF('HOLIDAYS NF'!$B:$DZ,CONCATENATE(LEFT($A88,2),AA$2))<>0),\"Closed\",\"Open\")","v":"Open"},{"$f":"IF((COUNTIF('HOLIDAYS NF'!$B:$DZ,CONCATENATE(LEFT($A88,2),AB$2))<>0),\"Closed\",\"Open\")","v":"Open"},{"$f":"IF((COUNTIF('HOLIDAYS NF'!$B:$DZ,CONCATENATE(LEFT($A88,2),AC$2))<>0),\"Closed\",\"Open\")","v":"Open"},{"$f":"IF((COUNTIF('HOLIDAYS NF'!$B:$DZ,CONCATENATE(LEFT($A88,2),AD$2))<>0),\"Closed\",\"Open\")","v":"Open"},{"$f":"IF((COUNTIF('HOLIDAYS NF'!$B:$DZ,CONCATENATE(LEFT($A88,2),AE$2))<>0),\"Closed\",\"Open\")","v":"Open"},{"$f":"IF((COUNTIF('HOLIDAYS NF'!$B:$DZ,CONCATENATE(LEFT($A88,2),AF$2))<>0),\"Closed\",\"Open\")","v":"Open"},{"$f":"IF((COUNTIF('HOLIDAYS NF'!$B:$DZ,CONCATENATE(LEFT($A88,2),AG$2))<>0),\"Closed\",\"Open\")","v":"Open"},{"$f":"IF((COUNTIF('HOLIDAYS NF'!$B:$DZ,CONCATENATE(LEFT($A88,2),AH$2))<>0),\"Closed\",\"Open\")","v":"Open"},{"$f":"IF((COUNTIF('HOLIDAYS NF'!$B:$DZ,CONCATENATE(LEFT($A88,2),AI$2))<>0),\"Closed\",\"Open\")","v":"Open"},{"$f":"IF((COUNTIF('HOLIDAYS NF'!$B:$DZ,CONCATENATE(LEFT($A88,2),AJ$2))<>0),\"Closed\",\"Open\")","v":"Open"},{"$f":"IF((COUNTIF('HOLIDAYS NF'!$B:$DZ,CONCATENATE(LEFT($A88,2),AK$2))<>0),\"Closed\",\"Open\")","v":"Open"},{"$f":"IF((COUNTIF('HOLIDAYS NF'!$B:$DZ,CONCATENATE(LEFT($A88,2),AL$2))<>0),\"Closed\",\"Open\")","v":"Open"},{"$f":"IF((COUNTIF('HOLIDAYS NF'!$B:$DZ,CONCATENATE(LEFT($A88,2),AM$2))<>0),\"Closed\",\"Open\")","v":"Open"},{"$f":"IF((COUNTIF('HOLIDAYS NF'!$B:$DZ,CONCATENATE(LEFT($A88,2),AN$2))<>0),\"Closed\",\"Open\")","v":"Open"},{"$f":"IF((COUNTIF('HOLIDAYS NF'!$B:$DZ,CONCATENATE(LEFT($A88,2),AO$2))<>0),\"Closed\",\"Open\")","v":"Open"},{"$f":"IF((COUNTIF('HOLIDAYS NF'!$B:$DZ,CONCATENATE(LEFT($A88,2),AP$2))<>0),\"Closed\",\"Open\")","v":"Open"},{"$f":"IF((COUNTIF('HOLIDAYS NF'!$B:$DZ,CONCATENATE(LEFT($A88,2),AQ$2))<>0),\"Closed\",\"Open\")","v":"Open"},{"$f":"IF((COUNTIF('HOLIDAYS NF'!$B:$DZ,CONCATENATE(LEFT($A88,2),AR$2))<>0),\"Closed\",\"Open\")","v":"Open"},{"$f":"IF((COUNTIF('HOLIDAYS NF'!$B:$DZ,CONCATENATE(LEFT($A88,2),AS$2))<>0),\"Closed\",\"Open\")","v":"Open"},{"$f":"IF((COUNTIF('HOLIDAYS NF'!$B:$DZ,CONCATENATE(LEFT($A88,2),AT$2))<>0),\"Closed\",\"Open\")","v":"Open"},{"$f":"IF((COUNTIF('HOLIDAYS NF'!$B:$DZ,CONCATENATE(LEFT($A88,2),AU$2))<>0),\"Closed\",\"Open\")","v":"Open"},{"$f":"IF((COUNTIF('HOLIDAYS NF'!$B:$DZ,CONCATENATE(LEFT($A88,2),AV$2))<>0),\"Closed\",\"Open\")","v":"Open"},{"$f":"IF((COUNTIF('HOLIDAYS NF'!$B:$DZ,CONCATENATE(LEFT($A88,2),AW$2))<>0),\"Closed\",\"Open\")","v":"Open"},{"$f":"IF((COUNTIF('HOLIDAYS NF'!$B:$DZ,CONCATENATE(LEFT($A88,2),AX$2))<>0),\"Closed\",\"Open\")","v":"Open"},{"$f":"IF((COUNTIF('HOLIDAYS NF'!$B:$DZ,CONCATENATE(LEFT($A88,2),AY$2))<>0),\"Closed\",\"Open\")","v":"Open"},{"$f":"IF((COUNTIF('HOLIDAYS NF'!$B:$DZ,CONCATENATE(LEFT($A88,2),AZ$2))<>0),\"Closed\",\"Open\")","v":"Open"},{"$f":"IF((COUNTIF('HOLIDAYS NF'!$B:$DZ,CONCATENATE(LEFT($A88,2),BA$2))<>0),\"Closed\",\"Open\")","v":"Open"},{"$f":"IF((COUNTIF('HOLIDAYS NF'!$B:$DZ,CONCATENATE(LEFT($A88,2),BB$2))<>0),\"Closed\",\"Open\")","v":"Open"},{"$f":"IF((COUNTIF('HOLIDAYS NF'!$B:$DZ,CONCATENATE(LEFT($A88,2),BC$2))<>0),\"Closed\",\"Open\")","v":"Open"},{"$f":"IF((COUNTIF('HOLIDAYS NF'!$B:$DZ,CONCATENATE(LEFT($A88,2),BD$2))<>0),\"Closed\",\"Open\")","v":"Open"},{"$f":"IF((COUNTIF('HOLIDAYS NF'!$B:$DZ,CONCATENATE(LEFT($A88,2),BE$2))<>0),\"Closed\",\"Open\")","v":"Open"},{"$f":"IF((COUNTIF('HOLIDAYS NF'!$B:$DZ,CONCATENATE(LEFT($A88,2),BF$2))<>0),\"Closed\",\"Open\")","v":"Open"},{"$f":"IF((COUNTIF('HOLIDAYS NF'!$B:$DZ,CONCATENATE(LEFT($A88,2),BG$2))<>0),\"Closed\",\"Open\")","v":"Open"},{"$f":"IF((COUNTIF('HOLIDAYS NF'!$B:$DZ,CONCATENATE(LEFT($A88,2),BH$2))<>0),\"Closed\",\"Open\")","v":"Open"},{"$f":"IF((COUNTIF('HOLIDAYS NF'!$B:$DZ,CONCATENATE(LEFT($A88,2),BI$2))<>0),\"Closed\",\"Open\")","v":"Open"},{"$f":"IF((COUNTIF('HOLIDAYS NF'!$B:$DZ,CONCATENATE(LEFT($A88,2),BJ$2))<>0),\"Closed\",\"Open\")","v":"Open"}]
["SA",{"$f":"SUMIF(Holdings!G:G,(CONCATENATE($B$1,\"-\",A89,)),Holdings!H:H)","v":0},"Saudi Arabia",{"$f":"IF((COUNTIF('HOLIDAYS NF'!$B:$DZ,CONCATENATE(LEFT($A89,2),D$2))<>0),\"Closed\",\"Open\")","v":"Open"},{"$f":"IF((COUNTIF('HOLIDAYS NF'!$B:$DZ,CONCATENATE(LEFT($A89,2),E$2))<>0),\"Closed\",\"Open\")","v":"Open"},{"$f":"IF((COUNTIF('HOLIDAYS NF'!$B:$DZ,CONCATENATE(LEFT($A89,2),F$2))<>0),\"Closed\",\"Open\")","v":"Open"},{"$f":"IF((COUNTIF('HOLIDAYS NF'!$B:$DZ,CONCATENATE(LEFT($A89,2),G$2))<>0),\"Closed\",\"Open\")","v":"Open"},{"$f":"IF((COUNTIF('HOLIDAYS NF'!$B:$DZ,CONCATENATE(LEFT($A89,2),H$2))<>0),\"Closed\",\"Open\")","v":"Open"},{"$f":"IF((COUNTIF('HOLIDAYS NF'!$B:$DZ,CONCATENATE(LEFT($A89,2),I$2))<>0),\"Closed\",\"Open\")","v":"Open"},{"$f":"IF((COUNTIF('HOLIDAYS NF'!$B:$DZ,CONCATENATE(LEFT($A89,2),J$2))<>0),\"Closed\",\"Open\")","v":"Open"},{"$f":"IF((COUNTIF('HOLIDAYS NF'!$B:$DZ,CONCATENATE(LEFT($A89,2),K$2))<>0),\"Closed\",\"Open\")","v":"Open"},{"$f":"IF((COUNTIF('HOLIDAYS NF'!$B:$DZ,CONCATENATE(LEFT($A89,2),L$2))<>0),\"Closed\",\"Open\")","v":"Open"},{"$f":"IF((COUNTIF('HOLIDAYS NF'!$B:$DZ,CONCATENATE(LEFT($A89,2),M$2))<>0),\"Closed\",\"Open\")","v":"Open"},{"$f":"IF((COUNTIF('HOLIDAYS NF'!$B:$DZ,CONCATENATE(LEFT($A89,2),N$2))<>0),\"Closed\",\"Open\")","v":"Open"},{"$f":"IF((COUNTIF('HOLIDAYS NF'!$B:$DZ,CONCATENATE(LEFT($A89,2),O$2))<>0),\"Closed\",\"Open\")","v":"Open"},{"$f":"IF((COUNTIF('HOLIDAYS NF'!$B:$DZ,CONCATENATE(LEFT($A89,2),P$2))<>0),\"Closed\",\"Open\")","v":"Open"},{"$f":"IF((COUNTIF('HOLIDAYS NF'!$B:$DZ,CONCATENATE(LEFT($A89,2),Q$2))<>0),\"Closed\",\"Open\")","v":"Open"},{"$f":"IF((COUNTIF('HOLIDAYS NF'!$B:$DZ,CONCATENATE(LEFT($A89,2),R$2))<>0),\"Closed\",\"Open\")","v":"Open"},{"$f":"IF((COUNTIF('HOLIDAYS NF'!$B:$DZ,CONCATENATE(LEFT($A89,2),S$2))<>0),\"Closed\",\"Open\")","v":"Open"},{"$f":"IF((COUNTIF('HOLIDAYS NF'!$B:$DZ,CONCATENATE(LEFT($A89,2),T$2))<>0),\"Closed\",\"Open\")","v":"Open"},{"$f":"IF((COUNTIF('HOLIDAYS NF'!$B:$DZ,CONCATENATE(LEFT($A89,2),U$2))<>0),\"Closed\",\"Open\")","v":"Open"},{"$f":"IF((COUNTIF('HOLIDAYS NF'!$B:$DZ,CONCATENATE(LEFT($A89,2),V$2))<>0),\"Closed\",\"Open\")","v":"Open"},{"$f":"IF((COUNTIF('HOLIDAYS NF'!$B:$DZ,CONCATENATE(LEFT($A89,2),W$2))<>0),\"Closed\",\"Open\")","v":"Open"},{"$f":"IF((COUNTIF('HOLIDAYS NF'!$B:$DZ,CONCATENATE(LEFT($A89,2),X$2))<>0),\"Closed\",\"Open\")","v":"Open"},{"$f":"IF((COUNTIF('HOLIDAYS NF'!$B:$DZ,CONCATENATE(LEFT($A89,2),Y$2))<>0),\"Closed\",\"Open\")","v":"Open"},{"$f":"IF((COUNTIF('HOLIDAYS NF'!$B:$DZ,CONCATENATE(LEFT($A89,2),Z$2))<>0),\"Closed\",\"Open\")","v":"Open"},{"$f":"IF((COUNTIF('HOLIDAYS NF'!$B:$DZ,CONCATENATE(LEFT($A89,2),AA$2))<>0),\"Closed\",\"Open\")","v":"Open"},{"$f":"IF((COUNTIF('HOLIDAYS NF'!$B:$DZ,CONCATENATE(LEFT($A89,2),AB$2))<>0),\"Closed\",\"Open\")","v":"Open"},{"$f":"IF((COUNTIF('HOLIDAYS NF'!$B:$DZ,CONCATENATE(LEFT($A89,2),AC$2))<>0),\"Closed\",\"Open\")","v":"Open"},{"$f":"IF((COUNTIF('HOLIDAYS NF'!$B:$DZ,CONCATENATE(LEFT($A89,2),AD$2))<>0),\"Closed\",\"Open\")","v":"Open"},{"$f":"IF((COUNTIF('HOLIDAYS NF'!$B:$DZ,CONCATENATE(LEFT($A89,2),AE$2))<>0),\"Closed\",\"Open\")","v":"Open"},{"$f":"IF((COUNTIF('HOLIDAYS NF'!$B:$DZ,CONCATENATE(LEFT($A89,2),AF$2))<>0),\"Closed\",\"Open\")","v":"Open"},{"$f":"IF((COUNTIF('HOLIDAYS NF'!$B:$DZ,CONCATENATE(LEFT($A89,2),AG$2))<>0),\"Closed\",\"Open\")","v":"Open"},{"$f":"IF((COUNTIF('HOLIDAYS NF'!$B:$DZ,CONCATENATE(LEFT($A89,2),AH$2))<>0),\"Closed\",\"Open\")","v":"Open"},{"$f":"IF((COUNTIF('HOLIDAYS NF'!$B:$DZ,CONCATENATE(LEFT($A89,2),AI$2))<>0),\"Closed\",\"Open\")","v":"Open"},{"$f":"IF((COUNTIF('HOLIDAYS NF'!$B:$DZ,CONCATENATE(LEFT($A89,2),AJ$2))<>0),\"Closed\",\"Open\")","v":"Open"},{"$f":"IF((COUNTIF('HOLIDAYS NF'!$B:$DZ,CONCATENATE(LEFT($A89,2),AK$2))<>0),\"Closed\",\"Open\")","v":"Open"},{"$f":"IF((COUNTIF('HOLIDAYS NF'!$B:$DZ,CONCATENATE(LEFT($A89,2),AL$2))<>0),\"Closed\",\"Open\")","v":"Open"},{"$f":"IF((COUNTIF('HOLIDAYS NF'!$B:$DZ,CONCATENATE(LEFT($A89,2),AM$2))<>0),\"Closed\",\"Open\")","v":"Open"},{"$f":"IF((COUNTIF('HOLIDAYS NF'!$B:$DZ,CONCATENATE(LEFT($A89,2),AN$2))<>0),\"Closed\",\"Open\")","v":"Open"},{"$f":"IF((COUNTIF('HOLIDAYS NF'!$B:$DZ,CONCATENATE(LEFT($A89,2),AO$2))<>0),\"Closed\",\"Open\")","v":"Open"},{"$f":"IF((COUNTIF('HOLIDAYS NF'!$B:$DZ,CONCATENATE(LEFT($A89,2),AP$2))<>0),\"Closed\",\"Open\")","v":"Open"},{"$f":"IF((COUNTIF('HOLIDAYS NF'!$B:$DZ,CONCATENATE(LEFT($A89,2),AQ$2))<>0),\"Closed\",\"Open\")","v":"Open"},{"$f":"IF((COUNTIF('HOLIDAYS NF'!$B:$DZ,CONCATENATE(LEFT($A89,2),AR$2))<>0),\"Closed\",\"Open\")","v":"Open"},{"$f":"IF((COUNTIF('HOLIDAYS NF'!$B:$DZ,CONCATENATE(LEFT($A89,2),AS$2))<>0),\"Closed\",\"Open\")","v":"Open"},{"$f":"IF((COUNTIF('HOLIDAYS NF'!$B:$DZ,CONCATENATE(LEFT($A89,2),AT$2))<>0),\"Closed\",\"Open\")","v":"Open"},{"$f":"IF((COUNTIF('HOLIDAYS NF'!$B:$DZ,CONCATENATE(LEFT($A89,2),AU$2))<>0),\"Closed\",\"Open\")","v":"Open"},{"$f":"IF((COUNTIF('HOLIDAYS NF'!$B:$DZ,CONCATENATE(LEFT($A89,2),AV$2))<>0),\"Closed\",\"Open\")","v":"Open"},{"$f":"IF((COUNTIF('HOLIDAYS NF'!$B:$DZ,CONCATENATE(LEFT($A89,2),AW$2))<>0),\"Closed\",\"Open\")","v":"Open"},{"$f":"IF((COUNTIF('HOLIDAYS NF'!$B:$DZ,CONCATENATE(LEFT($A89,2),AX$2))<>0),\"Closed\",\"Open\")","v":"Open"},{"$f":"IF((COUNTIF('HOLIDAYS NF'!$B:$DZ,CONCATENATE(LEFT($A89,2),AY$2))<>0),\"Closed\",\"Open\")","v":"Open"},{"$f":"IF((COUNTIF('HOLIDAYS NF'!$B:$DZ,CONCATENATE(LEFT($A89,2),AZ$2))<>0),\"Closed\",\"Open\")","v":"Open"},{"$f":"IF((COUNTIF('HOLIDAYS NF'!$B:$DZ,CONCATENATE(LEFT($A89,2),BA$2))<>0),\"Closed\",\"Open\")","v":"Open"},{"$f":"IF((COUNTIF('HOLIDAYS NF'!$B:$DZ,CONCATENATE(LEFT($A89,2),BB$2))<>0),\"Closed\",\"Open\")","v":"Open"},{"$f":"IF((COUNTIF('HOLIDAYS NF'!$B:$DZ,CONCATENATE(LEFT($A89,2),BC$2))<>0),\"Closed\",\"Open\")","v":"Open"},{"$f":"IF((COUNTIF('HOLIDAYS NF'!$B:$DZ,CONCATENATE(LEFT($A89,2),BD$2))<>0),\"Closed\",\"Open\")","v":"Open"},{"$f":"IF((COUNTIF('HOLIDAYS NF'!$B:$DZ,CONCATENATE(LEFT($A89,2),BE$2))<>0),\"Closed\",\"Open\")","v":"Open"},{"$f":"IF((COUNTIF('HOLIDAYS NF'!$B:$DZ,CONCATENATE(LEFT($A89,2),BF$2))<>0),\"Closed\",\"Open\")","v":"Open"},{"$f":"IF((COUNTIF('HOLIDAYS NF'!$B:$DZ,CONCATENATE(LEFT($A89,2),BG$2))<>0),\"Closed\",\"Open\")","v":"Open"},{"$f":"IF((COUNTIF('HOLIDAYS NF'!$B:$DZ,CONCATENATE(LEFT($A89,2),BH$2))<>0),\"Closed\",\"Open\")","v":"Open"},{"$f":"IF((COUNTIF('HOLIDAYS NF'!$B:$DZ,CONCATENATE(LEFT($A89,2),BI$2))<>0),\"Closed\",\"Open\")","v":"Open"},{"$f":"IF((COUNTIF('HOLIDAYS NF'!$B:$DZ,CONCATENATE(LEFT($A89,2),BJ$2))<>0),\"Closed\",\"Open\")","v":"Open"}]
["MN",{"$f":"SUMIF(Holdings!G:G,(CONCATENATE($B$1,\"-\",A90,)),Holdings!H:H)","v":0},"Mongolia",{"$f":"IF((COUNTIF('HOLIDAYS NF'!$B:$DZ,CONCATENATE(LEFT($A90,2),D$2))<>0),\"Closed\",\"Open\")","v":"Open"},{"$f":"IF((COUNTIF('HOLIDAYS NF'!$B:$DZ,CONCATENATE(LEFT($A90,2),E$2))<>0),\"Closed\",\"Open\")","v":"Open"},{"$f":"IF((COUNTIF('HOLIDAYS NF'!$B:$DZ,CONCATENATE(LEFT($A90,2),F$2))<>0),\"Closed\",\"Open\")","v":"Open"},{"$f":"IF((COUNTIF('HOLIDAYS NF'!$B:$DZ,CONCATENATE(LEFT($A90,2),G$2))<>0),\"Closed\",\"Open\")","v":"Open"},{"$f":"IF((COUNTIF('HOLIDAYS NF'!$B:$DZ,CONCATENATE(LEFT($A90,2),H$2))<>0),\"Closed\",\"Open\")","v":"Open"},{"$f":"IF((COUNTIF('HOLIDAYS NF'!$B:$DZ,CONCATENATE(LEFT($A90,2),I$2))<>0),\"Closed\",\"Open\")","v":"Open"},{"$f":"IF((COUNTIF('HOLIDAYS NF'!$B:$DZ,CONCATENATE(LEFT($A90,2),J$2))<>0),\"Closed\",\"Open\")","v":"Open"},{"$f":"IF((COUNTIF('HOLIDAYS NF'!$B:$DZ,CONCATENATE(LEFT($A90,2),K$2))<>0),\"Closed\",\"Open\")","v":"Open"},{"$f":"IF((COUNTIF('HOLIDAYS NF'!$B:$DZ,CONCATENATE(LEFT($A90,2),L$2))<>0),\"Closed\",\"Open\")","v":"Open"},{"$f":"IF((COUNTIF('HOLIDAYS NF'!$B:$DZ,CONCATENATE(LEFT($A90,2),M$2))<>0),\"Closed\",\"Open\")","v":"Open"},{"$f":"IF((COUNTIF('HOLIDAYS NF'!$B:$DZ,CONCATENATE(LEFT($A90,2),N$2))<>0),\"Closed\",\"Open\")","v":"Open"},{"$f":"IF((COUNTIF('HOLIDAYS NF'!$B:$DZ,CONCATENATE(LEFT($A90,2),O$2))<>0),\"Closed\",\"Open\")","v":"Open"},{"$f":"IF((COUNTIF('HOLIDAYS NF'!$B:$DZ,CONCATENATE(LEFT($A90,2),P$2))<>0),\"Closed\",\"Open\")","v":"Open"},{"$f":"IF((COUNTIF('HOLIDAYS NF'!$B:$DZ,CONCATENATE(LEFT($A90,2),Q$2))<>0),\"Closed\",\"Open\")","v":"Open"},{"$f":"IF((COUNTIF('HOLIDAYS NF'!$B:$DZ,CONCATENATE(LEFT($A90,2),R$2))<>0),\"Closed\",\"Open\")","v":"Open"},{"$f":"IF((COUNTIF('HOLIDAYS NF'!$B:$DZ,CONCATENATE(LEFT($A90,2),S$2))<>0),\"Closed\",\"Open\")","v":"Open"},{"$f":"IF((COUNTIF('HOLIDAYS NF'!$B:$DZ,CONCATENATE(LEFT($A90,2),T$2))<>0),\"Closed\",\"Open\")","v":"Open"},{"$f":"IF((COUNTIF('HOLIDAYS NF'!$B:$DZ,CONCATENATE(LEFT($A90,2),U$2))<>0),\"Closed\",\"Open\")","v":"Open"},{"$f":"IF((COUNTIF('HOLIDAYS NF'!$B:$DZ,CONCATENATE(LEFT($A90,2),V$2))<>0),\"Closed\",\"Open\")","v":"Open"},{"$f":"IF((COUNTIF('HOLIDAYS NF'!$B:$DZ,CONCATENATE(LEFT($A90,2),W$2))<>0),\"Closed\",\"Open\")","v":"Open"},{"$f":"IF((COUNTIF('HOLIDAYS NF'!$B:$DZ,CONCATENATE(LEFT($A90,2),X$2))<>0),\"Closed\",\"Open\")","v":"Open"},{"$f":"IF((COUNTIF('HOLIDAYS NF'!$B:$DZ,CONCATENATE(LEFT($A90,2),Y$2))<>0),\"Closed\",\"Open\")","v":"Open"},{"$f":"IF((COUNTIF('HOLIDAYS NF'!$B:$DZ,CONCATENATE(LEFT($A90,2),Z$2))<>0),\"Closed\",\"Open\")","v":"Open"},{"$f":"IF((COUNTIF('HOLIDAYS NF'!$B:$DZ,CONCATENATE(LEFT($A90,2),AA$2))<>0),\"Closed\",\"Open\")","v":"Open"},{"$f":"IF((COUNTIF('HOLIDAYS NF'!$B:$DZ,CONCATENATE(LEFT($A90,2),AB$2))<>0),\"Closed\",\"Open\")","v":"Open"},{"$f":"IF((COUNTIF('HOLIDAYS NF'!$B:$DZ,CONCATENATE(LEFT($A90,2),AC$2))<>0),\"Closed\",\"Open\")","v":"Open"},{"$f":"IF((COUNTIF('HOLIDAYS NF'!$B:$DZ,CONCATENATE(LEFT($A90,2),AD$2))<>0),\"Closed\",\"Open\")","v":"Open"},{"$f":"IF((COUNTIF('HOLIDAYS NF'!$B:$DZ,CONCATENATE(LEFT($A90,2),AE$2))<>0),\"Closed\",\"Open\")","v":"Open"},{"$f":"IF((COUNTIF('HOLIDAYS NF'!$B:$DZ,CONCATENATE(LEFT($A90,2),AF$2))<>0),\"Closed\",\"Open\")","v":"Open"},{"$f":"IF((COUNTIF('HOLIDAYS NF'!$B:$DZ,CONCATENATE(LEFT($A90,2),AG$2))<>0),\"Closed\",\"Open\")","v":"Open"},{"$f":"IF((COUNTIF('HOLIDAYS NF'!$B:$DZ,CONCATENATE(LEFT($A90,2),AH$2))<>0),\"Closed\",\"Open\")","v":"Open"},{"$f":"IF((COUNTIF('HOLIDAYS NF'!$B:$DZ,CONCATENATE(LEFT($A90,2),AI$2))<>0),\"Closed\",\"Open\")","v":"Open"},{"$f":"IF((COUNTIF('HOLIDAYS NF'!$B:$DZ,CONCATENATE(LEFT($A90,2),AJ$2))<>0),\"Closed\",\"Open\")","v":"Open"},{"$f":"IF((COUNTIF('HOLIDAYS NF'!$B:$DZ,CONCATENATE(LEFT($A90,2),AK$2))<>0),\"Closed\",\"Open\")","v":"Open"},{"$f":"IF((COUNTIF('HOLIDAYS NF'!$B:$DZ,CONCATENATE(LEFT($A90,2),AL$2))<>0),\"Closed\",\"Open\")","v":"Open"},{"$f":"IF((COUNTIF('HOLIDAYS NF'!$B:$DZ,CONCATENATE(LEFT($A90,2),AM$2))<>0),\"Closed\",\"Open\")","v":"Open"},{"$f":"IF((COUNTIF('HOLIDAYS NF'!$B:$DZ,CONCATENATE(LEFT($A90,2),AN$2))<>0),\"Closed\",\"Open\")","v":"Open"},{"$f":"IF((COUNTIF('HOLIDAYS NF'!$B:$DZ,CONCATENATE(LEFT($A90,2),AO$2))<>0),\"Closed\",\"Open\")","v":"Open"},{"$f":"IF((COUNTIF('HOLIDAYS NF'!$B:$DZ,CONCATENATE(LEFT($A90,2),AP$2))<>0),\"Closed\",\"Open\")","v":"Open"},{"$f":"IF((COUNTIF('HOLIDAYS NF'!$B:$DZ,CONCATENATE(LEFT($A90,2),AQ$2))<>0),\"Closed\",\"Open\")","v":"Open"},{"$f":"IF((COUNTIF('HOLIDAYS NF'!$B:$DZ,CONCATENATE(LEFT($A90,2),AR$2))<>0),\"Closed\",\"Open\")","v":"Open"},{"$f":"IF((COUNTIF('HOLIDAYS NF'!$B:$DZ,CONCATENATE(LEFT($A90,2),AS$2))<>0),\"Closed\",\"Open\")","v":"Open"},{"$f":"IF((COUNTIF('HOLIDAYS NF'!$B:$DZ,CONCATENATE(LEFT($A90,2),AT$2))<>0),\"Closed\",\"Open\")","v":"Open"},{"$f":"IF((COUNTIF('HOLIDAYS NF'!$B:$DZ,CONCATENATE(LEFT($A90,2),AU$2))<>0),\"Closed\",\"Open\")","v":"Open"},{"$f":"IF((COUNTIF('HOLIDAYS NF'!$B:$DZ,CONCATENATE(LEFT($A90,2),AV$2))<>0),\"Closed\",\"Open\")","v":"Open"},{"$f":"IF((COUNTIF('HOLIDAYS NF'!$B:$DZ,CONCATENATE(LEFT($A90,2),AW$2))<>0),\"Closed\",\"Open\")","v":"Open"},{"$f":"IF((COUNTIF('HOLIDAYS NF'!$B:$DZ,CONCATENATE(LEFT($A90,2),AX$2))<>0),\"Closed\",\"Open\")","v":"Open"},{"$f":"IF((COUNTIF('HOLIDAYS NF'!$B:$DZ,CONCATENATE(LEFT($A90,2),AY$2))<>0),\"Closed\",\"Open\")","v":"Open"},{"$f":"IF((COUNTIF('HOLIDAYS NF'!$B:$DZ,CONCATENATE(LEFT($A90,2),AZ$2))<>0),\"Closed\",\"Open\")","v":"Open"},{"$f":"IF((COUNTIF('HOLIDAYS NF'!$B:$DZ,CONCATENATE(LEFT($A90,2),BA$2))<>0),\"Closed\",\"Open\")","v":"Open"},{"$f":"IF((COUNTIF('HOLIDAYS NF'!$B:$DZ,CONCATENATE(LEFT($A90,2),BB$2))<>0),\"Closed\",\"Open\")","v":"Open"},{"$f":"IF((COUNTIF('HOLIDAYS NF'!$B:$DZ,CONCATENATE(LEFT($A90,2),BC$2))<>0),\"Closed\",\"Open\")","v":"Open"},{"$f":"IF((COUNTIF('HOLIDAYS NF'!$B:$DZ,CONCATENATE(LEFT($A90,2),BD$2))<>0),\"Closed\",\"Open\")","v":"Open"},{"$f":"IF((COUNTIF('HOLIDAYS NF'!$B:$DZ,CONCATENATE(LEFT($A90,2),BE$2))<>0),\"Closed\",\"Open\")","v":"Open"},{"$f":"IF((COUNTIF('HOLIDAYS NF'!$B:$DZ,CONCATENATE(LEFT($A90,2),BF$2))<>0),\"Closed\",\"Open\")","v":"Open"},{"$f":"IF((COUNTIF('HOLIDAYS NF'!$B:$DZ,CONCATENATE(LEFT($A90,2),BG$2))<>0),\"Closed\",\"Open\")","v":"Open"},{"$f":"IF((COUNTIF('HOLIDAYS NF'!$B:$DZ,CONCATENATE(LEFT($A90,2),BH$2))<>0),\"Closed\",\"Open\")","v":"Open"},{"$f":"IF((COUNTIF('HOLIDAYS NF'!$B:$DZ,CONCATENATE(LEFT($A90,2),BI$2))<>0),\"Closed\",\"Open\")","v":"Open"},{"$f":"IF((COUNTIF('HOLIDAYS NF'!$B:$DZ,CONCATENATE(LEFT($A90,2),BJ$2))<>0),\"Closed\",\"Open\")","v":"Open"}]
[]
[null,null,"Fund Open/Closed",{"$f":"IF((OR(WEEKDAY(D$1,2)=7,WEEKDAY(D$1,2)=6)),\"Weekend\",IF((SUMIF(D$3:D$66,\"Closed\",$B$3:$B66)>30%),\"Closed\",\"Open\"))","v":"Open"},{"$f":"IF((OR(WEEKDAY(E$1,2)=7,WEEKDAY(E$1,2)=6)),\"Weekend\",IF((SUMIF(E$3:E$66,\"Closed\",$B$3:$B66)>30%),\"Closed\",\"Open\"))","v":"Weekend"},{"$f":"IF((OR(WEEKDAY(F$1,2)=7,WEEKDAY(F$1,2)=6)),\"Weekend\",IF((SUMIF(F$3:F$66,\"Closed\",$B$3:$B66)>30%),\"Closed\",\"Open\"))","v":"Weekend"},{"$f":"IF((OR(WEEKDAY(G$1,2)=7,WEEKDAY(G$1,2)=6)),\"Weekend\",IF((SUMIF(G$3:G$66,\"Closed\",$B$3:$B66)>30%),\"Closed\",\"Open\"))","v":"Open"},{"$f":"IF((OR(WEEKDAY(H$1,2)=7,WEEKDAY(H$1,2)=6)),\"Weekend\",IF((SUMIF(H$3:H$66,\"Closed\",$B$3:$B66)>30%),\"Closed\",\"Open\"))","v":"Open"},{"$f":"IF((OR(WEEKDAY(I$1,2)=7,WEEKDAY(I$1,2)=6)),\"Weekend\",IF((SUMIF(I$3:I$66,\"Closed\",$B$3:$B66)>30%),\"Closed\",\"Open\"))","v":"Open"},{"$f":"IF((OR(WEEKDAY(J$1,2)=7,WEEKDAY(J$1,2)=6)),\"Weekend\",IF((SUMIF(J$3:J$66,\"Closed\",$B$3:$B66)>30%),\"Closed\",\"Open\"))","v":"Open"},{"$f":"IF((OR(WEEKDAY(K$1,2)=7,WEEKDAY(K$1,2)=6)),\"Weekend\",IF((SUMIF(K$3:K$66,\"Closed\",$B$3:$B66)>30%),\"Closed\",\"Open\"))","v":"Open"},{"$f":"IF((OR(WEEKDAY(L$1,2)=7,WEEKDAY(L$1,2)=6)),\"Weekend\",IF((SUMIF(L$3:L$66,\"Closed\",$B$3:$B66)>30%),\"Closed\",\"Open\"))","v":"Weekend"},{"$f":"IF((OR(WEEKDAY(M$1,2)=7,WEEKDAY(M$1,2)=6)),\"Weekend\",IF((SUMIF(M$3:M$66,\"Closed\",$B$3:$B66)>30%),\"Closed\",\"Open\"))","v":"Weekend"},{"$f":"IF((OR(WEEKDAY(N$1,2)=7,WEEKDAY(N$1,2)=6)),\"Weekend\",IF((SUMIF(N$3:N$66,\"Closed\",$B$3:$B66)>30%),\"Closed\",\"Open\"))","v":"Open"},{"$f":"IF((OR(WEEKDAY(O$1,2)=7,WEEKDAY(O$1,2)=6)),\"Weekend\",IF((SUMIF(O$3:O$66,\"Closed\",$B$3:$B66)>30%),\"Closed\",\"Open\"))","v":"Open"},{"$f":"IF((OR(WEEKDAY(P$1,2)=7,WEEKDAY(P$1,2)=6)),\"Weekend\",IF((SUMIF(P$3:P$66,\"Closed\",$B$3:$B66)>30%),\"Closed\",\"Open\"))","v":"Open"},{"$f":"IF((OR(WEEKDAY(Q$1,2)=7,WEEKDAY(Q$1,2)=6)),\"Weekend\",IF((SUMIF(Q$3:Q$66,\"Closed\",$B$3:$B66)>30%),\"Closed\",\"Open\"))","v":"Open"},{"$f":"IF((OR(WEEKDAY(R$1,2)=7,WEEKDAY(R$1,2)=6)),\"Weekend\",IF((SUMIF(R$3:R$66,\"Closed\",$B$3:$B66)>30%),\"Closed\",\"Open\"))","v":"Open"},{"$f":"IF((OR(WEEKDAY(S$1,2)=7,WEEKDAY(S$1,2)=6)),\"Weekend\",IF((SUMIF(S$3:S$66,\"Closed\",$B$3:$B66)>30%),\"Closed\",\"Open\"))","v":"Weekend"},{"$f":"IF((OR(WEEKDAY(T$1,2)=7,WEEKDAY(T$1,2)=6)),\"Weekend\",IF((SUMIF(T$3:T$66,\"Closed\",$B$3:$B66)>30%),\"Closed\",\"Open\"))","v":"Weekend"},{"$f":"IF((OR(WEEKDAY(U$1,2)=7,WEEKDAY(U$1,2)=6)),\"Weekend\",IF((SUMIF(U$3:U$66,\"Closed\",$B$3:$B66)>30%),\"Closed\",\"Open\"))","v":"Open"},{"$f":"IF((OR(WEEKDAY(V$1,2)=7,WEEKDAY(V$1,2)=6)),\"Weekend\",IF((SUMIF(V$3:V$66,\"Closed\",$B$3:$B66)>30%),\"Closed\",\"Open\"))","v":"Open"},{"$f":"IF((OR(WEEKDAY(W$1,2)=7,WEEKDAY(W$1,2)=6)),\"Weekend\",IF((SUMIF(W$3:W$66,\"Closed\",$B$3:$B66)>30%),\"Closed\",\"Open\"))","v":"Open"},{"$f":"IF((OR(WEEKDAY(X$1,2)=7,WEEKDAY(X$1,2)=6)),\"Weekend\",IF((SUMIF(X$3:X$66,\"Closed\",$B$3:$B66)>30%),\"Closed\",\"Open\"))","v":"Open"},{"$f":"IF((OR(WEEKDAY(Y$1,2)=7,WEEKDAY(Y$1,2)=6)),\"Weekend\",IF((SUMIF(Y$3:Y$66,\"Closed\",$B$3:$B66)>30%),\"Closed\",\"Open\"))","v":"Open"},{"$f":"IF((OR(WEEKDAY(Z$1,2)=7,WEEKDAY(Z$1,2)=6)),\"Weekend\",IF((SUMIF(Z$3:Z$66,\"Closed\",$B$3:$B66)>30%),\"Closed\",\"Open\"))","v":"Weekend"},{"$f":"IF((OR(WEEKDAY(AA$1,2)=7,WEEKDAY(AA$1,2)=6)),\"Weekend\",IF((SUMIF(AA$3:AA$66,\"Closed\",$B$3:$B66)>30%),\"Closed\",\"Open\"))","v":"Weekend"},{"$f":"IF((OR(WEEKDAY(AB$1,2)=7,WEEKDAY(AB$1,2)=6)),\"Weekend\",IF((SUMIF(AB$3:AB$66,\"Closed\",$B$3:$B66)>30%),\"Closed\",\"Open\"))","v":"Open"},{"$f":"IF((OR(WEEKDAY(AC$1,2)=7,WEEKDAY(AC$1,2)=6)),\"Weekend\",IF((SUMIF(AC$3:AC$66,\"Closed\",$B$3:$B66)>30%),\"Closed\",\"Open\"))","v":"Open"},{"$f":"IF((OR(WEEKDAY(AD$1,2)=7,WEEKDAY(AD$1,2)=6)),\"Weekend\",IF((SUMIF(AD$3:AD$66,\"Closed\",$B$3:$B66)>30%),\"Closed\",\"Open\"))","v":"Open"},{"$f":"IF((OR(WEEKDAY(AE$1,2)=7,WEEKDAY(AE$1,2)=6)),\"Weekend\",IF((SUMIF(AE$3:AE$66,\"Closed\",$B$3:$B66)>30%),\"Closed\",\"Open\"))","v":"Open"},{"$f":"IF((OR(WEEKDAY(AF$1,2)=7,WEEKDAY(AF$1,2)=6)),\"Weekend\",IF((SUMIF(AF$3:AF$66,\"Closed\",$B$3:$B66)>30%),\"Closed\",\"Open\"))","v":"Open"},{"$f":"IF((OR(WEEKDAY(AG$1,2)=7,WEEKDAY(AG$1,2)=6)),\"Weekend\",IF((SUMIF(AG$3:AG$66,\"Closed\",$B$3:$B66)>30%),\"Closed\",\"Open\"))","v":"Weekend"},{"$f":"IF((OR(WEEKDAY(AH$1,2)=7,WEEKDAY(AH$1,2)=6)),\"Weekend\",IF((SUMIF(AH$3:AH$66,\"Closed\",$B$3:$B66)>30%),\"Closed\",\"Open\"))","v":"Weekend"},{"$f":"IF((OR(WEEKDAY(AI$1,2)=7,WEEKDAY(AI$1,2)=6)),\"Weekend\",IF((SUMIF(AI$3:AI$66,\"Closed\",$B$3:$B66)>30%),\"Closed\",\"Open\"))","v":"Open"},{"$f":"IF((OR(WEEKDAY(AJ$1,2)=7,WEEKDAY(AJ$1,2)=6)),\"Weekend\",IF((SUMIF(AJ$3:AJ$66,\"Closed\",$B$3:$B66)>30%),\"Closed\",\"Open\"))","v":"Open"},{"$f":"IF((OR(WEEKDAY(AK$1,2)=7,WEEKDAY(AK$1,2)=6)),\"Weekend\",IF((SUMIF(AK$3:AK$66,\"Closed\",$B$3:$B66)>30%),\"Closed\",\"Open\"))","v":"Open"},{"$f":"IF((OR(WEEKDAY(AL$1,2)=7,WEEKDAY(AL$1,2)=6)),\"Weekend\",IF((SUMIF(AL$3:AL$66,\"Closed\",$B$3:$B66)>30%),\"Closed\",\"Open\"))","v":"Open"},{"$f":"IF((OR(WEEKDAY(AM$1,2)=7,WEEKDAY(AM$1,2)=6)),\"Weekend\",IF((SUMIF(AM$3:AM$66,\"Closed\",$B$3:$B66)>30%),\"Closed\",\"Open\"))","v":"Open"},{"$f":"IF((OR(WEEKDAY(AN$1,2)=7,WEEKDAY(AN$1,2)=6)),\"Weekend\",IF((SUMIF(AN$3:AN$66,\"Closed\",$B$3:$B66)>30%),\"Closed\",\"Open\"))","v":"Weekend"},{"$f":"IF((OR(WEEKDAY(AO$1,2)=7,WEEKDAY(AO$1,2)=6)),\"Weekend\",IF((SUMIF(AO$3:AO$66,\"Closed\",$B$3:$B66)>30%),\"Closed\",\"Open\"))","v":"Weekend"},{"$f":"IF((OR(WEEKDAY(AP$1,2)=7,WEEKDAY(AP$1,2)=6)),\"Weekend\",IF((SUMIF(AP$3:AP$66,\"Closed\",$B$3:$B66)>30%),\"Closed\",\"Open\"))","v":"Open"},{"$f":"IF((OR(WEEKDAY(AQ$1,2)=7,WEEKDAY(AQ$1,2)=6)),\"Weekend\",IF((SUMIF(AQ$3:AQ$66,\"Closed\",$B$3:$B66)>30%),\"Closed\",\"Open\"))","v":"Open"},{"$f":"IF((OR(WEEKDAY(AR$1,2)=7,WEEKDAY(AR$1,2)=6)),\"Weekend\",IF((SUMIF(AR$3:AR$66,\"Closed\",$B$3:$B66)>30%),\"Closed\",\"Open\"))","v":"Open"},{"$f":"IF((OR(WEEKDAY(AS$1,2)=7,WEEKDAY(AS$1,2)=6)),\"Weekend\",IF((SUMIF(AS$3:AS$66,\"Closed\",$B$3:$B66)>30%),\"Closed\",\"Open\"))","v":"Open"},{"$f":"IF((OR(WEEKDAY(AT$1,2)=7,WEEKDAY(AT$1,2)=6)),\"Weekend\",IF((SUMIF(AT$3:AT$66,\"Closed\",$B$3:$B66)>30%),\"Closed\",\"Open\"))","v":"Open"},{"$f":"IF((OR(WEEKDAY(AU$1,2)=7,WEEKDAY(AU$1,2)=6)),\"Weekend\",IF((SUMIF(AU$3:AU$66,\"Closed\",$B$3:$B66)>30%),\"Closed\",\"Open\"))","v":"Weekend"},{"$f":"IF((OR(WEEKDAY(AV$1,2)=7,WEEKDAY(AV$1,2)=6)),\"Weekend\",IF((SUMIF(AV$3:AV$66,\"Closed\",$B$3:$B66)>30%),\"Closed\",\"Open\"))","v":"Weekend"},{"$f":"IF((OR(WEEKDAY(AW$1,2)=7,WEEKDAY(AW$1,2)=6)),\"Weekend\",IF((SUMIF(AW$3:AW$66,\"Closed\",$B$3:$B66)>30%),\"Closed\",\"Open\"))","v":"Open"},{"$f":"IF((OR(WEEKDAY(AX$1,2)=7,WEEKDAY(AX$1,2)=6)),\"Weekend\",IF((SUMIF(AX$3:AX$66,\"Closed\",$B$3:$B66)>30%),\"Closed\",\"Open\"))","v":"Open"},{"$f":"IF((OR(WEEKDAY(AY$1,2)=7,WEEKDAY(AY$1,2)=6)),\"Weekend\",IF((SUMIF(AY$3:AY$66,\"Closed\",$B$3:$B66)>30%),\"Closed\",\"Open\"))","v":"Open"},{"$f":"IF((OR(WEEKDAY(AZ$1,2)=7,WEEKDAY(AZ$1,2)=6)),\"Weekend\",IF((SUMIF(AZ$3:AZ$66,\"Closed\",$B$3:$B66)>30%),\"Closed\",\"Open\"))","v":"Open"},{"$f":"IF((OR(WEEKDAY(BA$1,2)=7,WEEKDAY(BA$1,2)=6)),\"Weekend\",IF((SUMIF(BA$3:BA$66,\"Closed\",$B$3:$B66)>30%),\"Closed\",\"Open\"))","v":"Open"},{"$f":"IF((OR(WEEKDAY(BB$1,2)=7,WEEKDAY(BB$1,2)=6)),\"Weekend\",IF((SUMIF(BB$3:BB$66,\"Closed\",$B$3:$B66)>30%),\"Closed\",\"Open\"))","v":"Weekend"},{"$f":"IF((OR(WEEKDAY(BC$1,2)=7,WEEKDAY(BC$1,2)=6)),\"Weekend\",IF((SUMIF(BC$3:BC$66,\"Closed\",$B$3:$B66)>30%),\"Closed\",\"Open\"))","v":"Weekend"},{"$f":"IF((OR(WEEKDAY(BD$1,2)=7,WEEKDAY(BD$1,2)=6)),\"Weekend\",IF((SUMIF(BD$3:BD$66,\"Closed\",$B$3:$B66)>30%),\"Closed\",\"Open\"))","v":"Open"},{"$f":"IF((OR(WEEKDAY(BE$1,2)=7,WEEKDAY(BE$1,2)=6)),\"Weekend\",IF((SUMIF(BE$3:BE$66,\"Closed\",$B$3:$B66)>30%),\"Closed\",\"Open\"))","v":"Open"},{"$f":"IF((OR(WEEKDAY(BF$1,2)=7,WEEKDAY(BF$1,2)=6)),\"Weekend\",IF((SUMIF(BF$3:BF$66,\"Closed\",$B$3:$B66)>30%),\"Closed\",\"Open\"))","v":"Open"},{"$f":"IF((OR(WEEKDAY(BG$1,2)=7,WEEKDAY(BG$1,2)=6)),\"Weekend\",IF((SUMIF(BG$3:BG$66,\"Closed\",$B$3:$B66)>30%),\"Closed\",\"Open\"))","v":"Open"},{"$f":"IF((OR(WEEKDAY(BH$1,2)=7,WEEKDAY(BH$1,2)=6)),\"Weekend\",IF((SUMIF(BH$3:BH$66,\"Closed\",$B$3:$B66)>30%),\"Closed\",\"Open\"))","v":"Open"},{"$f":"IF((OR(WEEKDAY(BI$1,2)=7,WEEKDAY(BI$1,2)=6)),\"Weekend\",IF((SUMIF(BI$3:BI$66,\"Closed\",$B$3:$B66)>30%),\"Closed\",\"Open\"))","v":"Weekend"},{"$f":"IF((OR(WEEKDAY(BJ$1,2)=7,WEEKDAY(BJ$1,2)=6)),\"Weekend\",IF((SUMIF(BJ$3:BJ$66,\"Closed\",$B$3:$B66)>30%),\"Closed\",\"Open\"))","v":"Weekend"}]
[]
["Total MV %",{"$f":"(SUM(B3:B90))","v":0},{"$f":"IF(B94>99.5%,\"No Country Missing\",\"Error Missing Country\")","v":"Error Missing Country"}]

{"sheet":"Market Closure","index":3,"n_rows":3,"n_cols":106,"rows_kept":3,"cut":false,"hidden":false,"merged":[]}
[null,"DLAD",null,null,"",null,null,{"$f":"H2","v":"2021-01-01"},{"$f":"I2","v":"2021-01-02"},"2021-01-03","2021-01-04","2021-01-05","2021-01-06","2021-01-07","2021-01-08","2021-01-09","2021-01-10","2021-01-11","2021-01-12","2021-01-13","2021-01-14","2021-01-15","2021-01-16","2021-01-17","2021-01-18","2021-01-19","2021-01-20","2021-01-21","2021-01-22","2021-01-23","2021-01-24","2021-01-25","2021-01-26","2021-01-27","2021-01-28","2021-01-29","2021-01-30","2021-01-31","2021-02-01","2021-02-02","2021-02-03","2021-02-04","2021-02-05","2021-02-06","2021-02-07","2021-02-08","2021-02-09","2021-02-10","2021-02-11","2021-02-12","2021-02-13","2021-02-14","2021-02-15","2021-02-16","2021-02-17","2021-02-18","2021-02-19","2021-02-20","2021-02-21","2021-02-22","2021-02-23","2021-02-24","2021-02-25","2021-02-26","2021-02-27","2021-02-28","2021-03-01","2021-03-02","2021-03-03","2021-03-04","2021-03-05","2021-03-06",{"$f":"BU2","v":"2021-03-07"},"2021-03-08","2021-03-09","2021-03-10","2021-03-11","2021-03-12","2021-03-13","2021-03-14","2021-03-15","2021-03-16","2021-03-17","2021-03-18","2021-03-19","2021-03-20","2021-03-21","2021-03-22","2021-03-23","2021-03-24","2021-03-25","2021-03-26","2021-03-27","2021-03-28","2021-03-29","2021-03-30","2021-03-31","2021-04-01","00:00:00","00:00:00","00:00:00","00:00:00","00:00:00","00:00:00","00:00:00","00:00:00"]
["Fund","Client ","ISIN","Fund Type","Deal Type","Region","Fund Name",{"$f":"'FUND CLOSURE'!D2","v":"2021-01-01"},{"$f":"'FUND CLOSURE'!E2","v":"2021-01-02"},{"$f":"'FUND CLOSURE'!F2","v":"2021-01-03"},{"$f":"'FUND CLOSURE'!G2","v":"2021-01-04"},{"$f":"'FUND CLOSURE'!H2","v":"2021-01-05"},{"$f":"'FUND CLOSURE'!I2","v":"2021-01-06"},{"$f":"'FUND CLOSURE'!J2","v":"2021-01-07"},{"$f":"'FUND CLOSURE'!K2","v":"2021-01-08"},{"$f":"'FUND CLOSURE'!L2","v":"2021-01-09"},{"$f":"'FUND CLOSURE'!M2","v":"2021-01-10"},{"$f":"'FUND CLOSURE'!N2","v":"2021-01-11"},{"$f":"'FUND CLOSURE'!O2","v":"2021-01-12"},{"$f":"'FUND CLOSURE'!P2","v":"2021-01-13"},{"$f":"'FUND CLOSURE'!Q2","v":"2021-01-14"},{"$f":"'FUND CLOSURE'!R2","v":"2021-01-15"},{"$f":"'FUND CLOSURE'!S2","v":"2021-01-16"},{"$f":"'FUND CLOSURE'!T2","v":"2021-01-17"},{"$f":"'FUND CLOSURE'!U2","v":"2021-01-18"},{"$f":"'FUND CLOSURE'!V2","v":"2021-01-19"},{"$f":"'FUND CLOSURE'!W2","v":"2021-01-20"},{"$f":"'FUND CLOSURE'!X2","v":"2021-01-21"},{"$f":"'FUND CLOSURE'!Y2","v":"2021-01-22"},{"$f":"'FUND CLOSURE'!Z2","v":"2021-01-23"},{"$f":"'FUND CLOSURE'!AA2","v":"2021-01-24"},{"$f":"'FUND CLOSURE'!AB2","v":"2021-01-25"},{"$f":"'FUND CLOSURE'!AC2","v":"2021-01-26"},{"$f":"'FUND CLOSURE'!AD2","v":"2021-01-27"},{"$f":"'FUND CLOSURE'!AE2","v":"2021-01-28"},{"$f":"'FUND CLOSURE'!AF2","v":"2021-01-29"},{"$f":"'FUND CLOSURE'!AG2","v":"2021-01-30"},{"$f":"'FUND CLOSURE'!AH2","v":"2021-01-31"},{"$f":"'FUND CLOSURE'!AI2","v":"2021-02-01"},{"$f":"'FUND CLOSURE'!AJ2","v":"2021-02-02"},{"$f":"'FUND CLOSURE'!AK2","v":"2021-02-03"},{"$f":"'FUND CLOSURE'!AL2","v":"2021-02-04"},{"$f":"'FUND CLOSURE'!AM2","v":"2021-02-05"},{"$f":"'FUND CLOSURE'!AN2","v":"2021-02-06"},{"$f":"'FUND CLOSURE'!AO2","v":"2021-02-07"},{"$f":"'FUND CLOSURE'!AP2","v":"2021-02-08"},{"$f":"'FUND CLOSURE'!AQ2","v":"2021-02-09"},{"$f":"'FUND CLOSURE'!AR2","v":"2021-02-10"},{"$f":"'FUND CLOSURE'!AS2","v":"2021-02-11"},{"$f":"'FUND CLOSURE'!AT2","v":"2021-02-12"},{"$f":"'FUND CLOSURE'!AU2","v":"2021-02-13"},{"$f":"'FUND CLOSURE'!AV2","v":"2021-02-14"},{"$f":"'FUND CLOSURE'!AW2","v":"2021-02-15"},{"$f":"'FUND CLOSURE'!AX2","v":"2021-02-16"},{"$f":"'FUND CLOSURE'!AY2","v":"2021-02-17"},{"$f":"'FUND CLOSURE'!AZ2","v":"2021-02-18"},{"$f":"'FUND CLOSURE'!BA2","v":"2021-02-19"},{"$f":"'FUND CLOSURE'!BB2","v":"2021-02-20"},{"$f":"'FUND CLOSURE'!BC2","v":"2021-02-21"},{"$f":"'FUND CLOSURE'!BD2","v":"2021-02-22"},{"$f":"'FUND CLOSURE'!BE2","v":"2021-02-23"},{"$f":"'FUND CLOSURE'!BF2","v":"2021-02-24"},{"$f":"'FUND CLOSURE'!BG2","v":"2021-02-25"},{"$f":"'FUND CLOSURE'!BH2","v":"2021-02-26"},{"$f":"'FUND CLOSURE'!BI2","v":"2021-02-27"},{"$f":"'FUND CLOSURE'!BJ2","v":"2021-02-28"},{"$f":"'FUND CLOSURE'!BK2","v":"2021-03-01"},{"$f":"'FUND CLOSURE'!BL2","v":"2021-03-02"},{"$f":"'FUND CLOSURE'!BM2","v":"2021-03-03"},{"$f":"'FUND CLOSURE'!BN2","v":"2021-03-04"},{"$f":"'FUND CLOSURE'!BO2","v":"2021-03-05"},{"$f":"'FUND CLOSURE'!BP2","v":"2021-03-06"},{"$f":"'FUND CLOSURE'!BQ2","v":"2021-03-07"},{"$f":"'FUND CLOSURE'!BR2","v":"2021-03-08"},{"$f":"'FUND CLOSURE'!BS2","v":"2021-03-09"},{"$f":"'FUND CLOSURE'!BT2","v":"2021-03-10"},{"$f":"'FUND CLOSURE'!BU2","v":"2021-03-11"},{"$f":"'FUND CLOSURE'!BV2","v":"2021-03-12"},{"$f":"'FUND CLOSURE'!BW2","v":"2021-03-13"},{"$f":"'FUND CLOSURE'!BX2","v":"2021-03-14"},{"$f":"'FUND CLOSURE'!BY2","v":"2021-03-15"},{"$f":"'FUND CLOSURE'!BZ2","v":"2021-03-16"},{"$f":"'FUND CLOSURE'!CA2","v":"2021-03-17"},{"$f":"'FUND CLOSURE'!CB2","v":"2021-03-18"},{"$f":"'FUND CLOSURE'!CC2","v":"2021-03-19"},{"$f":"'FUND CLOSURE'!CD2","v":"2021-03-20"},{"$f":"'FUND CLOSURE'!CE2","v":"2021-03-21"},{"$f":"'FUND CLOSURE'!CF2","v":"2021-03-22"},{"$f":"'FUND CLOSURE'!CG2","v":"2021-03-23"},{"$f":"'FUND CLOSURE'!CH2","v":"2021-03-24"},{"$f":"'FUND CLOSURE'!CI2","v":"2021-03-25"},{"$f":"'FUND CLOSURE'!CJ2","v":"2021-03-26"},{"$f":"'FUND CLOSURE'!CK2","v":"2021-03-27"},{"$f":"'FUND CLOSURE'!CL2","v":"2021-03-28"},{"$f":"'FUND CLOSURE'!CM2","v":"2021-03-29"},{"$f":"'FUND CLOSURE'!CN2","v":"2021-03-30"},{"$f":"'FUND CLOSURE'!CO2","v":"2021-03-31"},{"$f":"'FUND CLOSURE'!CP2","v":"2021-04-01"},{"$f":"'FUND CLOSURE'!CQ2","v":"00:00:00"},{"$f":"'FUND CLOSURE'!CR2","v":"00:00:00"},{"$f":"'FUND CLOSURE'!CS2","v":"00:00:00"},{"$f":"'FUND CLOSURE'!CT2","v":"00:00:00"},{"$f":"'FUND CLOSURE'!CU2","v":"00:00:00"},{"$f":"'FUND CLOSURE'!CV2","v":"00:00:00"},{"$f":"'FUND CLOSURE'!CW2","v":"00:00:00"},{"$f":"'FUND CLOSURE'!CX2","v":"00:00:00"}]
["ICEC","ICBC Credit Suisse","LU1440654330","Equity",null,"ASIA","ICBCCS WISDOM TREE S&P China 500 UCITS ETF ","Closed","Weekend","Weekend","Open","Open","Open","Open","Open","Weekend","Weekend","Open","Open","Open","Open","Open","Weekend","Weekend","Closed","Open","Open","Open","Open","Weekend","Weekend","Open","Open","Open","Open","Open","Weekend","Weekend","Open","Open","Open","Open","Open","Weekend","Weekend","Open","Open","Open","Closed","Closed","Weekend","Weekend","Closed","Closed","Closed","Open","Open","Weekend","Weekend","Open","Open","Open","Open","Open","Weekend","Weekend","Open","Open","Open","Open","Open","Weekend","Weekend","Open","Open","Open","Open","Open","Weekend","Weekend","Open","Open","Open","Open","Open","Weekend","Weekend","Open","Open","Open","Open","Open","Weekend","Weekend","Open","Open","Open","Open","Open","Weekend","Weekend","Weekend","Weekend","Weekend","Weekend","Weekend"]

{"sheet":"Close for Dealingsettlement","index":4,"n_rows":3,"n_cols":98,"rows_kept":3,"cut":false,"hidden":false,"merged":[]}
[null,"DLAD",null,null,"",null,null,{"$f":"H2","v":"2021-01-01"},{"$f":"I2","v":"2021-01-02"},"2021-01-03","2021-01-04","2021-01-05","2021-01-06","2021-01-07","2021-01-08","2021-01-09","2021-01-10","2021-01-11","2021-01-12","2021-01-13","2021-01-14","2021-01-15","2021-01-16","2021-01-17","2021-01-18","2021-01-19","2021-01-20","2021-01-21","2021-01-22","2021-01-23","2021-01-24","2021-01-25","2021-01-26","2021-01-27","2021-01-28","2021-01-29","2021-01-30","2021-01-31","2021-02-01","2021-02-02","2021-02-03"]
["Fund","Client ","ISIN","Fund Type","Deal Type","Region","Fund Name",{"$f":"'FUND CLOSURE'!D2","v":"2021-01-01"},{"$f":"'FUND CLOSURE'!E2","v":"2021-01-02"},{"$f":"'FUND CLOSURE'!F2","v":"2021-01-03"},{"$f":"'FUND CLOSURE'!G2","v":"2021-01-04"},{"$f":"'FUND CLOSURE'!H2","v":"2021-01-05"},{"$f":"'FUND CLOSURE'!I2","v":"2021-01-06"},{"$f":"'FUND CLOSURE'!J2","v":"2021-01-07"},{"$f":"'FUND CLOSURE'!K2","v":"2021-01-08"},{"$f":"'FUND CLOSURE'!L2","v":"2021-01-09"},{"$f":"'FUND CLOSURE'!M2","v":"2021-01-10"},{"$f":"'FUND CLOSURE'!N2","v":"2021-01-11"},{"$f":"'FUND CLOSURE'!O2","v":"2021-01-12"},{"$f":"'FUND CLOSURE'!P2","v":"2021-01-13"},{"$f":"'FUND CLOSURE'!Q2","v":"2021-01-14"},{"$f":"'FUND CLOSURE'!R2","v":"2021-01-15"},{"$f":"'FUND CLOSURE'!S2","v":"2021-01-16"},{"$f":"'FUND CLOSURE'!T2","v":"2021-01-17"},{"$f":"'FUND CLOSURE'!U2","v":"2021-01-18"},{"$f":"'FUND CLOSURE'!V2","v":"2021-01-19"},{"$f":"'FUND CLOSURE'!W2","v":"2021-01-20"},{"$f":"'FUND CLOSURE'!X2","v":"2021-01-21"},{"$f":"'FUND CLOSURE'!Y2","v":"2021-01-22"},{"$f":"'FUND CLOSURE'!Z2","v":"2021-01-23"},{"$f":"'FUND CLOSURE'!AA2","v":"2021-01-24"},{"$f":"'FUND CLOSURE'!AB2","v":"2021-01-25"},{"$f":"'FUND CLOSURE'!AC2","v":"2021-01-26"},{"$f":"'FUND CLOSURE'!AD2","v":"2021-01-27"},{"$f":"'FUND CLOSURE'!AE2","v":"2021-01-28"},{"$f":"'FUND CLOSURE'!AF2","v":"2021-01-29"},{"$f":"'FUND CLOSURE'!AG2","v":"2021-01-30"},{"$f":"'FUND CLOSURE'!AH2","v":"2021-01-31"},{"$f":"'FUND CLOSURE'!AI2","v":"2021-02-01"},{"$f":"'FUND CLOSURE'!AJ2","v":"2021-02-02"},{"$f":"'FUND CLOSURE'!AK2","v":"2021-02-03"},{"$f":"'FUND CLOSURE'!AL2","v":"2021-02-04"},{"$f":"'FUND CLOSURE'!AM2","v":"2021-02-05"},{"$f":"'FUND CLOSURE'!AN2","v":"2021-02-06"},{"$f":"'FUND CLOSURE'!AO2","v":"2021-02-07"},{"$f":"'FUND CLOSURE'!AP2","v":"2021-02-08"},{"$f":"'FUND CLOSURE'!AQ2","v":"2021-02-09"},{"$f":"'FUND CLOSURE'!AR2","v":"2021-02-10"},{"$f":"'FUND CLOSURE'!AS2","v":"2021-02-11"},{"$f":"'FUND CLOSURE'!AT2","v":"2021-02-12"},{"$f":"'FUND CLOSURE'!AU2","v":"2021-02-13"},{"$f":"'FUND CLOSURE'!AV2","v":"2021-02-14"},{"$f":"'FUND CLOSURE'!AW2","v":"2021-02-15"},{"$f":"'FUND CLOSURE'!AX2","v":"2021-02-16"},{"$f":"'FUND CLOSURE'!AY2","v":"2021-02-17"},{"$f":"'FUND CLOSURE'!AZ2","v":"2021-02-18"},{"$f":"'FUND CLOSURE'!BA2","v":"2021-02-19"},{"$f":"'FUND CLOSURE'!BB2","v":"2021-02-20"},{"$f":"'FUND CLOSURE'!BC2","v":"2021-02-21"},{"$f":"'FUND CLOSURE'!BD2","v":"2021-02-22"},{"$f":"'FUND CLOSURE'!BE2","v":"2021-02-23"},{"$f":"'FUND CLOSURE'!BF2","v":"2021-02-24"},{"$f":"'FUND CLOSURE'!BG2","v":"2021-02-25"},{"$f":"'FUND CLOSURE'!BH2","v":"2021-02-26"},{"$f":"'FUND CLOSURE'!BI2","v":"2021-02-27"},{"$f":"'FUND CLOSURE'!BJ2","v":"2021-02-28"},{"$f":"'FUND CLOSURE'!BK2","v":"2021-03-01"},{"$f":"'FUND CLOSURE'!BL2","v":"2021-03-02"},{"$f":"'FUND CLOSURE'!BM2","v":"2021-03-03"},{"$f":"'FUND CLOSURE'!BN2","v":"2021-03-04"},{"$f":"'FUND CLOSURE'!BO2","v":"2021-03-05"},{"$f":"'FUND CLOSURE'!BP2","v":"2021-03-06"},{"$f":"'FUND CLOSURE'!BQ2","v":"2021-03-07"},{"$f":"'FUND CLOSURE'!BR2","v":"2021-03-08"},{"$f":"'FUND CLOSURE'!BS2","v":"2021-03-09"},{"$f":"'FUND CLOSURE'!BT2","v":"2021-03-10"},{"$f":"'FUND CLOSURE'!BU2","v":"2021-03-11"},{"$f":"'FUND CLOSURE'!BV2","v":"2021-03-12"},{"$f":"'FUND CLOSURE'!BW2","v":"2021-03-13"},{"$f":"'FUND CLOSURE'!BX2","v":"2021-03-14"},{"$f":"'FUND CLOSURE'!BY2","v":"2021-03-15"},{"$f":"'FUND CLOSURE'!BZ2","v":"2021-03-16"},{"$f":"'FUND CLOSURE'!CA2","v":"2021-03-17"},{"$f":"'FUND CLOSURE'!CB2","v":"2021-03-18"},{"$f":"'FUND CLOSURE'!CC2","v":"2021-03-19"},{"$f":"'FUND CLOSURE'!CD2","v":"2021-03-20"},{"$f":"'FUND CLOSURE'!CE2","v":"2021-03-21"},{"$f":"'FUND CLOSURE'!CF2","v":"2021-03-22"},{"$f":"'FUND CLOSURE'!CG2","v":"2021-03-23"},{"$f":"'FUND CLOSURE'!CH2","v":"2021-03-24"},{"$f":"'FUND CLOSURE'!CI2","v":"2021-03-25"},{"$f":"'FUND CLOSURE'!CJ2","v":"2021-03-26"},{"$f":"'FUND CLOSURE'!CK2","v":"2021-03-27"},{"$f":"'FUND CLOSURE'!CL2","v":"2021-03-28"},{"$f":"'FUND CLOSURE'!CM2","v":"2021-03-29"},{"$f":"'FUND CLOSURE'!CN2","v":"2021-03-30"},{"$f":"'FUND CLOSURE'!CO2","v":"2021-03-31"},{"$f":"'FUND CLOSURE'!CP2","v":"2021-04-01"}]
["ICEC","ICBC Credit Suisse","LU1440654330","Equity",null,"ASIA","ICBCCS WISDOM TREE S&P China 500 UCITS ETF ","Closed","Weekend","Weekend","Open","Open","Open","Open","Open","Weekend","Weekend","Open","Open","Open","Open","Open","Weekend","Weekend","Closed","Open","Open","Open","Open","Weekend","Weekend","Open","Open","Open","Open","Open","Weekend","Weekend","Open","Open","Open","Open","Open","Weekend","Weekend","Open","Open","Open","Closed","Closed","Weekend","Weekend","Closed","Closed","Closed","Open","Open","Weekend","Weekend","Open","Open","Open","Open","Open","Weekend","Weekend","Open","Open","Open","Open","Open","Weekend","Weekend","Open","Open","Open","Open","Open","Weekend","Weekend","Open","Open","Open","Open","Open","Weekend","Weekend","Open","Open","Open","Open","Open","Weekend","Weekend","Open","Open","Open","Open"]

{"sheet":"HOLIDAYS NF","index":5,"n_rows":49,"n_cols":105,"rows_kept":49,"cut":false,"hidden":false,"merged":[]}
[null,"GB","AE","AT","AU","BE","BM","BH","BR","CA","CH","CL","CN","CY","CZ","DE","DK","EG","ES","FI","FR","GB","GG","GI","GR","HK","HU","ID","IE","IL","IN","IT","JE","JP","KR","KY","KW","LU","MX","MY","NL","NO","NZ","PE","PH","PL","PT","RU","SE","SG","TH","TR","QA","BD","SV","TW","US","ZA","BG","CI","CO","IQ","LT","PA","RS","GE","SI","SZ","PN","MT","SK","MA","GH","HR","KZ","LB","LV","MA","RO","SK","SI","UA","VE","VG","AO","AZ","EC","KE","PK","ET","AR","CR","DO","MN","IS","TN","ZM","CW","GA","JO","TM","SN","NG","MU","SA"]
["SETTLEMENT_CALENDAR_CODE","LS","DB","WV","#C","BU","BD","B!","B2","#J","V1","CL","CH","Cy","P1","#D","CP","E8","P5","HE","PA","LS","GS","GI","AT","#F","B8","JA","IE","#I","IN","MI","JE","TK","K1","CI","KW","LX","ME","KL","AM","OS","ND","PE","MN","WR","LB","RU","ST","#E","TS","I1","QD","D1","EL","#G","#A","JH","BP","CI","CO","I3","L2","P3","YZ","GG","SV","z4","P3","M8","LJ","C9","G2","Z3","K4","B6","R5","C9","R3","S9","LJ","UE","VB","#A","AO","KJ","E7","N4","KA","ET","VD","C8","DR","MJ","IL","T5","L1","CT",null,"JR","TT","SN","NG","MU","SR"]
["CALENDAR_START_DATE",20190101,20190101,20190101,20190101,20190101,20190101,20190101,20190101,20190101,20190101,20190101,20190101,20190101,20190101,20190101,20190101,20190101,20190101,20190101,20190101,20190101,20190101,20190101,20190101,20190101,20190101,20190101,20190101,20190101,20190101,20190101,20190101,20190101,20190101,20190101,20190101,20190101,20190101,20190101,20190101,20190101,20190101,20190101,20190101,20190101,20190101,20190101,20190101,20190101,20190101,20190101,20190101,20190101,20190101,20190101,20190101,20190101,20190101,20190101,20190101,20190101,20190101,20190101,20190101,20190101,20190101,20190101,20190101,20190101,20190101,20190101,20190101,20190101,20190101,20190101,20190101,20190101,20190101,20190101,20190101,20190101,20190101,20190101,20190101,20190101,20190101,20190101,20190101,20190101,20190101,20190101,20190101,20190101,20190101,20190101,20190101,20190101,20190101,20190101,20190101,20190101,20190101,20190101,20190101]
["CALENDAR_END_DATE",20191231,20191231,20191231,20191231,20191231,20191231,20191231,20191231,20191231,20191231,20191231,20191231,20191231,20191231,20191231,20191231,20191231,20191231,20191231,20191231,20191231,20191231,20191231,20191231,20191231,20191231,20191231,20191231,20191231,20191231,20191231,20191231,20191231,20191231,20191231,20191231,20191231,20191231,20191231,20191231,20191231,20191231,20191231,20191231,20191231,20191231,20191231,20191231,20191231,20191231,20191231,20191231,20191231,20191231,20191231,20191231,20191231,20191231,20191231,20191231,20191231,20191231,20191231,20191231,20191231,20191231,20191231,20191231,20191231,20191231,20191231,20191231,20191231,20191231,20191231,20191231,20191231,20191231,20191231,20191231,20191231,20191231,20191231,20191231,20191231,20191231,20191231,20191231,20191231,20191231,20191231,20191231,20191231,20191231,20191231,20191231,20191231,20191231,20191231,20191231,20191231,20191231,20191231,20191231]
[null,"GBP curncy","AED curncy","EUR curncy","AUD curncy","EUR curncy","BMD curncy","BSD curncy","BRL curncy","CAD curncy","CHF curncy","CLP curncy","CNY curncy","EUR curncy","CZK curncy","EUR curncy","DKK curncy","EGP curncy","EUR curncy","EUR curncy","EUR curncy","GBP curncy","GBP curncy","GIP curncy","EUR curncy","HKD curncy","HUF curncy","IDR curncy","EUR curncy","ILS curncy","INR curncy","EUR curncy","GBP curncy","JPY curncy","KRW curncy","KYD curncy","KWD curncy","EUR curncy","MXN curncy","MYR curncy","EUR curncy","NOK curncy","NZD curncy","PEN curncy","PHP curncy","PLN curncy","EUR curncy","RUB curncy","SEK curncy","SGD curncy","THB curncy","TRY curncy","QAR curncy","BDT curncy","SVC curncy","TWD curncy","USD curncy","ZAR curncy","BGN curncy","XOF curncy","COP curncy","IQD curncy","LTL curncy","PAB curncy","RSD curncy","GEL curncy","EUR curncy","SZL curncy","PAB curncy","EUR curncy","EUR curncy","MAD curncy","GHS curncy","HRK curncy","KZT curncy","LBP curncy","LVL curncy","MAD curncy","RON curncy","EUR curncy","EUR curncy","UAH curncy","VEF curncy","USD curncy","AOA curncy","AZN curncy","USD curncy","KES curncy","PKR curncy","ETB curncy","ARS curncy","CRC curncy","DOP curncy","MNT curncy","ISK curncy","TND curncy","ZMK curncy","ANG curncy","GMB curncy","JOD curncy","TMT curncy","CFA curncy","NGN curncy","MUR curncy","SAR curncy"]
[null,"United Kingdom","United Arab Emirates","Austria","Australia","Belgium","Bermuda","Bahamas","Brazil","Canada","Switzerland","Chile","China","Cyprus","Czech Republic","Germany","Denmark","Egypt","Spain","Finland","France","United Kingdom","Guernsey","Gibraltar","Greece","Hong Kong","Hungary","Indonesia","Ireland","Israel","India","Italy","Jersey","Japan","Korea, Republic of","Cayman Islands","Kuwait","Luxembourg","Mexico","Malaysia","Netherlands","Norway","New Zealand","Peru","Philippines","Poland","Portugal","Russian Federation","Sweden","Singapore","Thailand","Turkey","Qatar","Bangladesh","El Salvador","Taiwan, Province of China","United States","South Africa","Bulgaria","CÔTE D'IVOIRE","Colombia","Iraq","Lithuania","Panama","Serbia","Georgia","Slovenia","Swaziland","Panama","Malta","Slovakia","Morocco","Ghana","Croatia","kazakhstan","Lebanon","Latvia","Morocco","Romania","Slovakia","Slovenia","Ukraine","Venezuela","Bristich Virgin Islands","Angola","Azerbaijan","Ecuador","Kenya","Pakistan","Ethiopia","Argentina","Costa Rica","Dominican Republic","Mongolia","Iceland","Tunisia","Zambia","Curaçao","Gambia","Jordan","Turkmenistan","Senegal","Nigeria","Mauritius","Saudi Arabia"]
["CALENDAR_HOLIDAYS",null,null,null,null,null,null,null,null,"2019-02-18",null,null,"2019-02-04",null,null,null,null,null,null,null,null,null,null,null,null,"2019-02-05",null,null,null,null,null,null,null,"2019-02-11","2019-02-04",null,null,null,"2019-02-04","2019-02-01",null,null,null,null,"2019-02-05",null,null,null,null,"2019-02-05","2019-02-19",null,null,null,null,"2019-02-01","2019-02-18"]
[null,null,null,null,null,null,null,null,null,null,null,null,"2019-02-05",null,null,null,null,null,null,null,null,null,null,null,null,"2019-02-06",null,null,null,null,null,null,null,null,"2019-02-05",null,null,null,null,"2019-02-05",null,null,null,null,"2019-02-25",null,null,null,null,"2019-02-06",null,null,null,null,null,"2019-02-04"]
[null,null,null,null,null,null,null,null,null,null,null,null,"2019-02-06",null,null,null,null,null,null,null,null,null,null,null,null,"2019-02-07",null,null,null,null,null,null,null,null,"2019-02-06",null,null,null,null,"2019-02-06",null,null,null,null,null,null,null,null,null,null,null,null,null,null,null,"2019-02-05"]
[null,null,null,null,null,null,null,null,null,null,null,null,"2019-02-07",null,null,null,null,null,null,null,null,null,null,null,null,null,null,null,null,null,null,null,null,null,null,null,null,null,null,null,null,null,null,null,null,null,null,null,null,null,null,null,null,null,null,"2019-02-06"]
[null,null,null,null,null,null,null,null,null,null,null,null,"2019-02-08",null,null,null,null,null,null,null,null,null,null,null,null,null,null,null,null,null,null,null,null,null,null,null,null,null,null,null,null,null,null,null,null,null,null,null,null,null,null,null,null,null,null,"2019-02-07"]
[null,null,null,null,null,null,null,null,null,null,null,null,null,null,null,null,null,null,null,null,null,null,null,null,null,null,null,null,null,null,null,null,null,null,null,null,null,null,null,null,null,null,null,null,null,null,null,null,null,null,null,null,null,null,null,"2019-02-08"]
[null,null,null,null,null,null,null,null,null,null,null,null,null,null,null,null,null,null,null,null,null,null,null,null,null,null,null,null,null,null,null,null,null,null,null,null,null,null,null,null,null,null,null,null,null,null,null,null,null,null,null,null,null,null,null,"2019-02-28"]
[]
[]
[]
[]
[]
[]
[]
[]
[]
[]
[]
[]
[]
[null,{"$f":"CONCATENATE(B$1,B7)","v":"GB"},{"$f":"CONCATENATE(C$1,C7)","v":"AE"},"AT","AU","BE","BM","BH","BR","CA43514","CH","CL","CN43500","CY","CZ","DE","DK","EG","ES","FI","FR","GB","GG","GI","GR","HK43501","HU","ID","IE","IL","IN","IT","JE","JP43507","KR43500","KY","KW","LU","MX43500","MY43497","NL","NO","NZ","PE","PH43501","PL","PT","RU","SE","SG43501","TH43515","TR","QA","BD","SV","TW43497","US43514","ZA","BG","CI","CO","IQ","LT","PA","RS","GE",{"$f":"CONCATENATE(BO$1,BO7)","v":"SI"},"SZ","PN","MT","SK","MA","GH","HR","KZ","LB","LV","MA","RO","SK","SI","UA","VE","VG","AO","AZ","EC","KE","PK","ET","AR","CR","DO","MN","IS","TN","ZM","CW","GA","JO","TM","SN","NG","MU","SA"]
[null,{"$f":"CONCATENATE(B$1,B8)","v":"GB"},"AE","AT","AU","BE","BM","BH","BR","CA","CH","CL","CN43501","CY","CZ","DE","DK","EG","ES","FI","FR","GB","GG","GI","GR","HK43502","HU","ID","IE","IL","IN","IT","JE","JP","KR43501","KY","KW","LU","MX","MY43501","NL","NO","NZ","PE","PH43521","PL","PT","RU","SE","SG43502","TH","TR","QA","BD","SV","TW43500","US","ZA","BG","CI","CO","IQ","LT","PA","RS",{"$f":"CONCATENATE(BN$1,BN8)","v":"GE"},"SI","SZ","PN","MT","SK","MA","GH","HR","KZ","LB","LV","MA","RO","SK","SI","UA","VE","VG","AO","AZ","EC","KE","PK","ET","AR","CR","DO","MN","IS","TN","ZM","CW","GA","JO","TM","SN","NG","MU","SA"]
[null,{"$f":"CONCATENATE(B$1,B9)","v":"GB"},"AE","AT","AU","BE","BM","BH","BR","CA","CH","CL","CN43502","CY","CZ","DE","DK","EG","ES","FI","FR","GB","GG","GI","GR","HK43503","HU","ID","IE","IL","IN","IT","JE","JP","KR43502","KY","KW","LU","MX","MY43502","NL","NO","NZ","PE","PH","PL","PT","RU","SE","SG","TH","TR","QA","BD","SV","TW43501","US","ZA","BG","CI","CO","IQ","LT","PA","RS",{"$f":"CONCATENATE(BN$1,BN9)","v":"GE"},"SI","SZ","PN","MT","SK","MA","GH","HR","KZ","LB","LV","MA","RO","SK","SI","UA","VE","VG","AO","AZ","EC","KE","PK","ET","AR","CR","DO","MN","IS","TN","ZM","CW","GA","JO","TM","SN","NG","MU","SA"]
[null,{"$f":"CONCATENATE(B$1,B10)","v":"GB"},"AE","AT","AU","BE","BM","BH","BR","CA","CH","CL","CN43503","CY","CZ","DE","DK","EG","ES","FI","FR","GB","GG","GI","GR","HK","HU","ID","IE","IL","IN","IT","JE","JP","KR","KY","KW","LU","MX","MY","NL","NO","NZ","PE","PH","PL","PT","RU","SE","SG","TH","TR","QA","BD","SV","TW43502","US","ZA","BG","CI","CO","IQ","LT","PA","RS",{"$f":"CONCATENATE(BN$1,BN10)","v":"GE"},"SI","SZ","PN","MT","SK","MA","GH","HR","KZ","LB","LV","MA","RO","SK","SI","UA","VE","VG","AO","AZ","EC","KE","PK","ET","AR","CR","DO","MN","IS","TN","ZM","CW","GA","JO","TM","SN","NG","MU","SA"]
[null,{"$f":"CONCATENATE(B$1,B11)","v":"GB"},"AE","AT","AU","BE","BM","BH","BR","CA","CH","CL","CN43504","CY","CZ","DE","DK","EG","ES","FI","FR","GB","GG","GI","GR","HK","HU","ID","IE","IL","IN","IT","JE","JP","KR","KY","KW","LU","MX","MY","NL","NO","NZ","PE","PH","PL","PT","RU","SE","SG","TH","TR","QA","BD","SV","TW43503","US","ZA","BG","CI","CO","IQ","LT","PA","RS",{"$f":"CONCATENATE(BN$1,BN11)","v":"GE"},"SI","SZ","PN","MT","SK","MA","GH","HR","KZ","LB","LV","MA","RO","SK","SI","UA","VE","VG","AO","AZ","EC","KE","PK","ET","AR","CR","DO","MN","IS","TN","ZM","CW","GA","JO","TM","SN","NG","MU","SA"]
[null,{"$f":"CONCATENATE(B$1,B12)","v":"GB"},"AE","AT","AU","BE","BM","BH","BR","CA","CH","CL","CN","CY","CZ","DE","DK","EG","ES","FI","FR","GB","GG","GI","GR","HK","HU","ID","IE","IL","IN","IT","JE","JP","KR","KY","KW","LU","MX","MY","NL","NO","NZ","PE","PH","PL","PT","RU","SE","SG","TH","TR","QA","BD","SV","TW43504","US","ZA","BG","CI","CO","IQ","LT","PA","RS",{"$f":"CONCATENATE(BN$1,BN12)","v":"GE"},"SI","SZ","PN","MT","SK","MA","GH","HR","KZ","LB","LV","MA","RO","SK","SI","UA","VE","VG","AO","AZ","EC","KE","PK","ET","AR","CR","DO","MN","IS","TN","ZM","CW","GA","JO","TM","SN","NG","MU","SA"]
[null,{"$f":"CONCATENATE(B$1,B13)","v":"GB"},"AE","AT","AU","BE","BM","BH","BR","CA","CH","CL","CN","CY","CZ","DE","DK","EG","ES","FI","FR","GB","GG","GI","GR","HK","HU","ID","IE","IL","IN","IT","JE","JP","KR","KY","KW","LU","MX","MY","NL","NO","NZ","PE","PH","PL","PT","RU","SE","SG","TH","TR","QA","BD","SV","TW43524","US","ZA","BG","CI","CO","IQ","LT","PA","RS",{"$f":"CONCATENATE(BN$1,BN13)","v":"GE"},"SI","SZ","PN","MT","SK","MA","GH","HR","KZ","LB","LV","MA","RO","SK","SI","UA","VE","VG","AO","AZ","EC","KE","PK","ET","AR","CR","DO","MN","IS","TN","ZM","CW","GA","JO","TM","SN","NG","MU","SA"]
[null,{"$f":"CONCATENATE(B$1,B14)","v":"GB"},"AE","AT","AU","BE","BM","BH","BR","CA","CH","CL","CN","CY","CZ","DE","DK","EG","ES","FI","FR","GB","GG","GI","GR","HK","HU","ID","IE","IL","IN","IT","JE","JP","KR","KY","KW","LU","MX","MY","NL","NO","NZ","PE","PH","PL","PT","RU","SE","SG","TH","TR","QA","BD","SV","TW","US","ZA","BG","CI","CO","IQ","LT","PA","RS",{"$f":"CONCATENATE(BN$1,BN14)","v":"GE"},"SI","SZ","PN","MT","SK","MA","GH","HR","KZ","LB","LV","MA","RO","SK","SI","UA","VE","VG","AO","AZ","EC","KE","PK","ET","AR","CR","DO","MN","IS","TN","ZM","CW","GA","JO","TM","SN","NG","MU","SA"]
[null,{"$f":"CONCATENATE(B$1,B15)","v":"GB"},"AE","AT","AU","BE","BM","BH","BR","CA","CH","CL","CN","CY","CZ","DE","DK","EG","ES","FI","FR","GB","GG","GI","GR","HK","HU","ID","IE","IL","IN","IT","JE","JP","KR","KY","KW","LU","MX","MY","NL","NO","NZ","PE","PH","PL","PT","RU","SE","SG","TH","TR","QA","BD","SV","TW","US","ZA","BG","CI","CO","IQ","LT","PA","RS",{"$f":"CONCATENATE(BN$1,BN15)","v":"GE"},"SI","SZ","PN","MT","SK","MA","GH","HR","KZ","LB","LV","MA","RO","SK","SI","UA","VE","VG","AO","AZ","EC","KE","PK","ET","AR","CR","DO","MN","IS","TN","ZM","CW","GA","JO","TM","SN","NG","MU","SA"]
[null,{"$f":"CONCATENATE(B$1,B16)","v":"GB"},"AE","AT","AU","BE","BM","BH","BR","CA","CH","CL","CN","CY","CZ","DE","DK","EG","ES","FI","FR","GB","GG","GI","GR","HK","HU","ID","IE","IL","IN","IT","JE","JP","KR","KY","KW","LU","MX","MY","NL","NO","NZ","PE","PH","PL","PT","RU","SE","SG","TH","TR","QA","BD","SV","TW","US","ZA","BG","CI","CO","IQ","LT","PA","RS",{"$f":"CONCATENATE(BN$1,BN16)","v":"GE"},"SI","SZ","PN","MT","SK","MA","GH","HR","KZ","LB","LV","MA","RO","SK","SI","UA","VE","VG","AO","AZ","EC","KE","PK","ET","AR","CR","DO","MN","IS","TN","ZM","CW","GA","JO","TM","SN","NG","MU","SA"]
[null,{"$f":"CONCATENATE(B$1,B17)","v":"GB"},"AE","AT","AU","BE","BM","BH","BR","CA","CH","CL","CN","CY","CZ","DE","DK","EG","ES","FI","FR","GB","GG","GI","GR","HK","HU","ID","IE","IL","IN","IT","JE","JP","KR","KY","KW","LU","MX","MY","NL","NO","NZ","PE","PH","PL","PT","RU","SE","SG","TH","TR","QA","BD","SV","TW","US","ZA","BG","CI","CO","IQ","LT","PA","RS",{"$f":"CONCATENATE(BN$1,BN17)","v":"GE"},"SI","SZ","PN","MT","SK","MA","GH","HR","KZ","LB","LV","MA","RO","SK","SI","UA","VE","VG","AO","AZ","EC","KE","PK","ET","AR","CR","DO","MN","IS","TN","ZM","CW","GA","JO","TM","SN","NG","MU","SA"]
[null,{"$f":"CONCATENATE(B$1,B18)","v":"GB"},"AE","AT","AU","BE","BM","BH","BR","CA","CH","CL","CN","CY","CZ","DE","DK","EG","ES","FI","FR","GB","GG","GI","GR","HK","HU","ID","IE","IL","IN","IT","JE","JP","KR","KY","KW","LU","MX","MY","NL","NO","NZ","PE","PH","PL","PT","RU","SE","SG","TH","TR","QA","BD","SV","TW","US","ZA","BG","CI","CO","IQ","LT","PA","RS",{"$f":"CONCATENATE(BN$1,BN18)","v":"GE"},"SI","SZ","PN","MT","SK","MA","GH","HR","KZ","LB","LV","MA","RO","SK","SI","UA","VE","VG","AO","AZ","EC","KE","PK","ET","AR","CR","DO","MN","IS","TN","ZM","CW","GA","JO","TM","SN","NG","MU","SA"]
[null,{"$f":"CONCATENATE(B$1,B19)","v":"GB"},"AE","AT","AU","BE","BM","BH","BR","CA","CH","CL","CN","CY","CZ","DE","DK","EG","ES","FI","FR","GB","GG","GI","GR","HK","HU","ID","IE","IL","IN","IT","JE","JP","KR","KY","KW","LU","MX","MY","NL","NO","NZ","PE","PH","PL","PT","RU","SE","SG","TH","TR","QA","BD","SV","TW","US","ZA","BG","CI","CO","IQ","LT","PA","RS",{"$f":"CONCATENATE(BN$1,BN19)","v":"GE"},"SI","SZ","PN","MT","SK","MA","GH","HR","KZ","LB","LV","MA","RO","SK","SI","UA","VE","VG","AO","AZ","EC","KE","PK","ET","AR","CR","DO","MN","IS","TN","ZM","CW","GA","JO","TM","SN","NG","MU","SA"]
[null,{"$f":"CONCATENATE(B$1,B20)","v":"GB"},"AE","AT","AU","BE","BM","BH","BR","CA","CH","CL","CN","CY","CZ","DE","DK","EG","ES","FI","FR","GB","GG","GI","GR","HK","HU","ID","IE","IL","IN","IT","JE","JP","KR","KY","KW","LU","MX","MY","NL","NO","NZ","PE","PH","PL","PT","RU","SE","SG","TH","TR","QA","BD","SV","TW","US","ZA","BG","CI","CO","IQ","LT","PA","RS",{"$f":"CONCATENATE(BN$1,BN20)","v":"GE"},"SI","SZ","PN","MT","SK","MA","GH","HR","KZ","LB","LV","MA","RO","SK","SI","UA","VE","VG","AO","AZ","EC","KE","PK","ET","AR","CR","DO","MN","IS","TN","ZM","CW","GA","JO","TM","SN","NG","MU","SA"]
[null,{"$f":"CONCATENATE(B$1,B21)","v":"GB"},"AE","AT","AU","BE","BM","BH","BR","CA","CH","CL","CN","CY","CZ","DE","DK","EG","ES","FI","FR","GB","GG","GI","GR","HK","HU","ID","IE","IL","IN","IT","JE","JP","KR","KY","KW","LU","MX","MY","NL","NO","NZ","PE","PH","PL","PT","RU","SE","SG","TH","TR","QA","BD","SV","TW","US","ZA","BG","CI","CO","IQ","LT","PA","RS",{"$f":"CONCATENATE(BN$1,BN21)","v":"GE"},"SI","SZ","PN","MT","SK","MA","GH","HR","KZ","LB","LV","MA","RO","SK","SI","UA","VE","VG","AO","AZ","EC","KE","PK","ET","AR","CR","DO","MN","IS","TN","ZM","CW","GA","JO","TM","SN","NG","MU","SA"]
[null,{"$f":"CONCATENATE(B$1,B22)","v":"GB"},"AE","AT","AU","BE","BM","BH","BR","CA","CH","CL","CN","CY","CZ","DE","DK","EG","ES","FI","FR","GB","GG","GI","GR","HK","HU","ID","IE","IL","IN","IT","JE","JP","KR","KY","KW","LU","MX","MY","NL","NO","NZ","PE","PH","PL","PT","RU","SE","SG","TH","TR","QA","BD","SV","TW","US","ZA","BG","CI","CO","IQ","LT","PA","RS",{"$f":"CONCATENATE(BN$1,BN22)","v":"GE"},"SI","SZ","PN","MT","SK","MA","GH","HR","KZ","LB","LV","MA","RO","SK","SI","UA","VE","VG","AO","AZ","EC","KE","PK","ET","AR","CR","DO","MN","IS","TN","ZM","CW","GA","JO","TM","SN","NG","MU","SA"]
[null,{"$f":"CONCATENATE(B$1,B23)","v":"GB"},"AE","AT","AU","BE","BM","BH","BR","CA","CH","CL","CN","CY","CZ","DE","DK","EG","ES","FI","FR","GB","GG","GI","GR","HK","HU","ID","IE","IL","IN","IT","JE","JP","KR","KY","KW","LU","MX","MY","NL","NO","NZ","PE","PH","PL","PT","RU","SE","SG","TH","TR","QA","BD","SV","TW","US","ZA","BG","CI","CO","IQ","LT","PA","RS",{"$f":"CONCATENATE(BN$1,BN23)","v":"GE"},"SI","SZ","PN","MT","SK","MA","GH","HR","KZ","LB","LV","MA","RO","SK","SI","UA","VE","VG","AO","AZ","EC","KE","PK","ET","AR","CR","DO","MN","IS","TN","ZM","CW","GA","JO","TM","SN","NG","MU","SA"]
[null,{"$f":"CONCATENATE(B$1,B24)","v":"GB"},"AE","AT","AU","BE","BM","BH","BR","CA","CH","CL","CN","CY","CZ","DE","DK","EG","ES","FI","FR","GB","GG","GI","GR","HK","HU","ID","IE","IL","IN","IT","JE","JP","KR","KY","KW","LU","MX","MY","NL","NO","NZ","PE","PH","PL","PT","RU","SE","SG","TH","TR","QA","BD","SV","TW","US","ZA","BG","CI","CO","IQ","LT","PA","RS",{"$f":"CONCATENATE(BN$1,BN24)","v":"GE"},"SI","SZ","PN","MT","SK","MA","GH","HR","KZ","LB","LV","MA","RO","SK","SI","UA","VE","VG","AO","AZ","EC","KE","PK","ET","AR","CR","DO","MN","IS","TN","ZM","CW","GA","JO","TM","SN","NG","MU","SA"]
[null,{"$f":"CONCATENATE(B$1,B25)","v":"GB"},"AE","AT","AU","BE","BM","BH","BR","CA","CH","CL","CN","CY","CZ","DE","DK","EG","ES","FI","FR","GB","GG","GI","GR","HK","HU","ID","IE","IL","IN","IT","JE","JP","KR","KY","KW","LU","MX","MY","NL","NO","NZ","PE","PH","PL","PT","RU","SE","SG","TH","TR","QA","BD","SV","TW","US","ZA","BG","CI","CO","IQ","LT","PA","RS",{"$f":"CONCATENATE(BN$1,BN25)","v":"GE"},"SI","SZ","PN","MT","SK","MA","GH","HR","KZ","LB","LV","MA","RO","SK","SI","UA","VE","VG","AO","AZ","EC","KE","PK","ET","AR","CR","DO","MN","IS","TN","ZM","CW","GA","JO","TM","SN","NG","MU","SA"]
[null,{"$f":"CONCATENATE(B$1,B26)","v":"GB"},"AE","AT","AU","BE","BM","BH","BR","CA","CH","CL","CN","CY","CZ","DE","DK","EG","ES","FI","FR","GB","GG","GI","GR","HK","HU","ID","IE","IL","IN","IT","JE","JP","KR","KY","KW","LU","MX","MY","NL","NO","NZ","PE","PH","PL","PT","RU","SE","SG","TH","TR","QA","BD","SV","TW","US","ZA","BG","CI","CO","IQ","LT","PA","RS",{"$f":"CONCATENATE(BN$1,BN26)","v":"GE"},"SI","SZ","PN","MT","SK","MA","GH","HR","KZ","LB","LV","MA","RO","SK","SI","UA","VE","VG","AO","AZ","EC","KE","PK","ET","AR","CR","DO","MN","IS","TN","ZM","CW","GA","JO","TM","SN","NG","MU","SA"]
[null,{"$f":"CONCATENATE(B$1,B27)","v":"GBGB"},"AEAE","ATAT","AUAU","BEBE","BMBM","BHBH","BRBR","CACA43514","CHCH","CLCL","CNCN43500","CYCY","CZCZ","DEDE","DKDK","EGEG","ESES","FIFI","FRFR","GBGB","GGGG","GIGI","GRGR","HKHK43501","HUHU","IDID","IEIE","ILIL","ININ","ITIT","JEJE","JPJP43507","KRKR43500","KYKY","KWKW","LULU","MXMX43500","MYMY43497","NLNL","NONO","NZNZ","PEPE","PHPH43501","PLPL","PTPT","RURU","SESE","SGSG43501","THTH43515","TRTR","QAQA","BDBD","SVSV","TWTW43497","USUS43514","ZAZA","BGBG","CICI","COCO","IQIQ","LTLT","PAPA","RSRS",{"$f":"CONCATENATE(BN$1,BN27)","v":"GEGE"},"SISI","SZSZ","PNPN","MTMT","SKSK","MAMA","GHGH","HRHR","KZKZ","LBLB","LVLV","MAMA","RORO","SKSK","SISI","UAUA","VEVE","VGVG","AOAO","AZAZ","ECEC","KEKE","PKPK","ETET","ARAR","CRCR","DODO","MNMN","ISIS","TNTN","ZMZM","CWCW","GAGA","JOJO","TMTM","SNSN","NGNG","MUMU","SASA"]
[null,{"$f":"CONCATENATE(B$1,B28)","v":"GBGB"},"AEAE","ATAT","AUAU","BEBE","BMBM","BHBH","BRBR","CACA","CHCH","CLCL","CNCN43501","CYCY","CZCZ","DEDE","DKDK","EGEG","ESES","FIFI","FRFR","GBGB","GGGG","GIGI","GRGR","HKHK43502","HUHU","IDID","IEIE","ILIL","ININ","ITIT","JEJE","JPJP","KRKR43501","KYKY","KWKW","LULU","MXMX","MYMY43501","NLNL","NONO","NZNZ","PEPE","PHPH43521","PLPL","PTPT","RURU","SESE","SGSG43502","THTH","TRTR","QAQA","BDBD","SVSV","TWTW43500","USUS","ZAZA","BGBG","CICI","COCO","IQIQ","LTLT","PAPA","RSRS",{"$f":"CONCATENATE(BN$1,BN28)","v":"GEGE"},"SISI","SZSZ","PNPN","MTMT","SKSK","MAMA","GHGH","HRHR","KZKZ","LBLB","LVLV","MAMA","RORO","SKSK","SISI","UAUA","VEVE","VGVG","AOAO","AZAZ","ECEC","KEKE","PKPK","ETET","ARAR","CRCR","DODO","MNMN","ISIS","TNTN","ZMZM","CWCW","GAGA","JOJO","TMTM","SNSN","NGNG","MUMU","SASA"]
[null,{"$f":"CONCATENATE(B$1,B29)","v":"GBGB"},"AEAE","ATAT","AUAU","BEBE","BMBM","BHBH","BRBR","CACA","CHCH","CLCL","CNCN43502","CYCY","CZCZ","DEDE","DKDK","EGEG","ESES","FIFI","FRFR","GBGB","GGGG","GIGI","GRGR","HKHK43503","HUHU","IDID","IEIE","ILIL","ININ","ITIT","JEJE","JPJP","KRKR43502","KYKY","KWKW","LULU","MXMX","MYMY43502","NLNL","NONO","NZNZ","PEPE","PHPH","PLPL","PTPT","RURU","SESE","SGSG","THTH","TRTR","QAQA","BDBD","SVSV","TWTW43501","USUS","ZAZA","BGBG","CICI","COCO","IQIQ","LTLT","PAPA","RSRS",{"$f":"CONCATENATE(BN$1,BN29)","v":"GEGE"},"SISI","SZSZ","PNPN","MTMT","SKSK","MAMA","GHGH","HRHR","KZKZ","LBLB","LVLV","MAMA","RORO","SKSK","SISI","UAUA","VEVE","VGVG","AOAO","AZAZ","ECEC","KEKE","PKPK","ETET","ARAR","CRCR","DODO","MNMN","ISIS","TNTN","ZMZM","CWCW","GAGA","JOJO","TMTM","SNSN","NGNG","MUMU","SASA"]